Workbook

Sheet calculation
N1: Counterfactual
D2: expected | F2: actual | G2: natural | H2: Gap | J2: actual | O2: expected | Q2: actual | R2: natural | S2: Gap | U2: actual
A3: Time | B3: theta | C3: pibar | D3: inflation | E3: sacrifice ratio | F3: U | G3: U | H3: U | I3: shock | J3: inflation | L3: Time | M3: theta | N3: pibar | O3: inflation | P3: sacrifice ratio | Q3: U | R3: U | S3: U | T3: shock | U3: inflation
A4: t | B4: 0 | C4: 0.02 | D4: =(1-B4)*C4 -> 0.02 | E4: -0.7 | F4: 0.03 | G4: 0.05 | H4: =F4-G4 -> -0.02 | I4: 0 | J4: =D4+E4*H4+I4 -> 0.034 | L4: t | M4: 0 | N4: 0.02 | O4: =(1-M4)*N4 -> 0.02 | P4: -0.7 | Q4: 0.03 | R4: 0.05 | S4: =Q4-R4 -> -0.02 | T4: 0 | U4: =O4+P4*S4+T4 -> 0.034
A5: t+1 | B5: 0 | C5: 0.02 | D5: =(1-B5)*C5 -> 0.02 | E5: -0.7 | F5: 0.03 | G5: 0.05 | H5: =F5-G5 -> -0.02 | I5: 0 | J5: =D5+E5*H5+I5 -> 0.034 | L5: t+1 | M5: 0 | N5: 0.02 | O5: =(1-M5)*N5 -> 0.02 | P5: -0.7 | Q5: 0.03 | R5: 0.05 | S5: =Q5-R5 -> -0.02 | T5: 0 | U5: =O5+P5*S5+T5 -> 0.034
A6: t+2 | B6: 0 | C6: 0.02 | D6: =(1-B6)*C6 -> 0.02 | E6: -0.7 | F6: 0.03 | G6: 0.05 | H6: =F6-G6 -> -0.02 | I6: 0 | J6: =D6+E6*H6+I6 -> 0.034 | L6: t+2 | M6: 0 | N6: 0.02 | O6: =(1-M6)*N6 -> 0.02 | P6: -0.7 | Q6: 0.03 | R6: 0.05 | S6: =Q6-R6 -> -0.02 | T6: 0 | U6: =O6+P6*S6+T6 -> 0.034
A7: t+3 | B7: 0 | C7: 0.02 | D7: =(1-B7)*C7 -> 0.02 | E7: -0.7 | F7: 0.03 | G7: 0.05 | H7: =F7-G7 -> -0.02 | I7: 0 | J7: =D7+E7*H7+I7 -> 0.034 | L7: t+3 | M7: 0 | N7: 0.02 | O7: =(1-M7)*N7 -> 0.02 | P7: -0.7 | Q7: 0.03 | R7: 0.05 | S7: =Q7-R7 -> -0.02 | T7: 0 | U7: =O7+P7*S7+T7 -> 0.034
A8: t+4 | B8: 0 | C8: 0.02 | D8: =(1-B8)*C8 -> 0.02 | E8: -0.7 | F8: 0.03 | G8: 0.05 | H8: =F8-G8 -> -0.02 | I8: 0 | J8: =D8+E8*H8+I8 -> 0.034 | L8: t+4 | M8: 0 | N8: 0.02 | O8: =(1-M8)*N8 -> 0.02 | P8: -0.7 | Q8: 0.03 | R8: 0.05 | S8: =Q8-R8 -> -0.02 | T8: 0 | U8: =O8+P8*S8+T8 -> 0.034
A9: t+5 | B9: 0 | C9: 0.02 | D9: =(1-B9)*C9 -> 0.02 | E9: -0.7 | F9: 0.03 | G9: 0.05 | H9: =F9-G9 -> -0.02 | I9: 0 | J9: =D9+E9*H9+I9 -> 0.034 | L9: t+5 | M9: 0 | N9: 0.02 | O9: =(1-M9)*N9 -> 0.02 | P9: -0.7 | Q9: 0.03 | R9: 0.05 | S9: =Q9-R9 -> -0.02 | T9: 0 | U9: =O9+P9*S9+T9 -> 0.034
A10: t+6 | B10: 1 | C10: 0.02 | D10: =(1-B10)*C10+B10*J9 -> 0.034 | E10: -0.7 | F10: 0.03 | G10: 0.05 | H10: =F10-G10 -> -0.02 | I10: 0 | J10: =D10+E10*H10+I10 -> 0.048 | L10: t+6 | M10: 1 | N10: 0.02 | O10: =(1-M10)*N10+M10*U9 -> 0.034 | P10: -0.7 | Q10: 0.03 | R10: 0.05 | S10: =Q10-R10 -> -0.02 | T10: 0 | U10: =O10+P10*S10+T10 -> 0.048
A11: t+7 | B11: 1 | C11: 0.02 | D11: =(1-B11)*C11+B11*J10 -> 0.048 | E11: -0.7 | F11: 0.03 | G11: 0.05 | H11: =F11-G11 -> -0.02 | I11: 0 | J11: =D11+E11*H11+I11 -> 0.062 | L11: t+7 | M11: 1 | N11: 0.02 | O11: =(1-M11)*N11+M11*U10 -> 0.048 | P11: -0.7 | Q11: 0.03 | R11: 0.05 | S11: =Q11-R11 -> -0.02 | T11: 0 | U11: =O11+P11*S11+T11 -> 0.062
A12: t+8 | B12: 1 | C12: 0.02 | D12: =(1-B12)*C12+B12*J11 -> 0.062 | E12: -0.7 | F12: 0.03 | G12: 0.05 | H12: =F12-G12 -> -0.02 | I12: 0 | J12: =D12+E12*H12+I12 -> 0.076 | L12: t+8 | M12: 1 | N12: 0.02 | O12: =(1-M12)*N12+M12*U11 -> 0.062 | P12: -0.7 | Q12: 0.03 | R12: 0.05 | S12: =Q12-R12 -> -0.02 | T12: 0 | U12: =O12+P12*S12+T12 -> 0.076
A13: t+9 | B13: 1 | C13: 0.02 | D13: =(1-B13)*C13+B13*J12 -> 0.076 | E13: -0.7 | F13: 0.03 | G13: 0.05 | H13: =F13-G13 -> -0.02 | I13: 0 | J13: =D13+E13*H13+I13 -> 0.09 | L13: t+9 | M13: 1 | N13: 0.02 | O13: =(1-M13)*N13+M13*U12 -> 0.076 | P13: -0.7 | Q13: 0.03 | R13: 0.05 | S13: =Q13-R13 -> -0.02 | T13: 0 | U13: =O13+P13*S13+T13 -> 0.09
A14: t+10 | B14: 1 | C14: 0.02 | D14: =(1-B14)*C14+B14*J13 -> 0.09 | E14: -0.7 | F14: 0.05 | G14: 0.05 | H14: =F14-G14 -> 0 | I14: 0 | J14: =D14+E14*H14+I14 -> 0.09 | L14: t+10 | M14: 1 | N14: 0.02 | O14: =(1-M14)*N14+M14*U13 -> 0.09 | P14: -0.7 | Q14: 0.05 | R14: 0.05 | S14: =Q14-R14 -> 0 | T14: 0 | U14: =O14+P14*S14+T14 -> 0.09
A15: t+11 | B15: 1 | C15: 0.02 | D15: =(1-B15)*C15+B15*J14 -> 0.09 | E15: -0.7 | F15: =G15++H15 -> 0.15 | G15: 0.05 | H15: =(J15-D15)/E15 -> 0.1 | I15: 0 | J15: 0.02 | L15: t+11 | M15: 1 | N15: 0.02 | O15: =(1-M15)*N15+M15*U14 -> 0.09 | P15: -0.7 | Q15: =R15++S15 -> 0.15 | R15: 0.05 | S15: =(U15-O15)/P15 -> 0.1 | T15: 0 | U15: 0.02
A16: t+12 | B16: 1 | C16: 0.02 | D16: =(1-B16)*C16+B16*J15 -> 0.02 | E16: -0.7 | F16: 0.05 | G16: 0.05 | H16: =F16-G16 -> 0 | I16: 0 | J16: =D16+E16*H16+I16 -> 0.02 | L16: t+12 | M16: 1 | N16: 0.02 | O16: =(1-M16)*N16+M16*U15 -> 0.02 | P16: -0.7 | Q16: 0.05 | R16: 0.05 | S16: =Q16-R16 -> 0 | T16: 0 | U16: =O16+P16*S16+T16 -> 0.02
A17: t+13 | B17: 1 | C17: 0.02 | D17: =(1-B17)*C17+B17*J16 -> 0.02 | E17: -0.7 | F17: 0.05 | G17: 0.05 | H17: =F17-G17 -> 0 | I17: 0 | J17: =D17+E17*H17+I17 -> 0.02 | L17: t+13 | M17: 1 | N17: 0.02 | O17: =(1-M17)*N17+M17*U16 -> 0.02 | P17: -0.7 | Q17: 0.05 | R17: 0.05 | S17: =Q17-R17 -> 0 | T17: 0 | U17: =O17+P17*S17+T17 -> 0.02
A18: t+14 | B18: 1 | C18: 0.02 | D18: =(1-B18)*C18+B18*J17 -> 0.02 | E18: -0.7 | F18: 0.05 | G18: 0.05 | H18: =F18-G18 -> 0 | I18: 0 | J18: =D18+E18*H18+I18 -> 0.02 | L18: t+14 | M18: 1 | N18: 0.02 | O18: =(1-M18)*N18+M18*U17 -> 0.02 | P18: -0.7 | Q18: 0.05 | R18: 0.05 | S18: =Q18-R18 -> 0 | T18: 0 | U18: =O18+P18*S18+T18 -> 0.02
A19: t+15 | B19: 1 | C19: 0.02 | D19: =(1-B19)*C19+B19*J18 -> 0.02 | E19: -0.7 | F19: 0.05 | G19: 0.05 | H19: =F19-G19 -> 0 | I19: 0 | J19: =D19+E19*H19+I19 -> 0.02 | L19: t+15 | M19: 1 | N19: 0.02 | O19: =(1-M19)*N19+M19*U18 -> 0.02 | P19: -0.7 | Q19: 0.05 | R19: 0.05 | S19: =Q19-R19 -> 0 | T19: 0 | U19: =O19+P19*S19+T19 -> 0.02
A20: t+16 | B20: 0 | C20: 0.02 | D20: =(1-B20)*C20+B20*J18 -> 0.02 | E20: -0.7 | F20: 0.05 | G20: 0.05 | H20: =F20-G20 -> 0 | I20: 0 | J20: =D20+E20*H20+I20 -> 0.02 | L20: t+16 | M20: 1 | N20: 0.02 | O20: =(1-M20)*N20+M20*U18 -> 0.02 | P20: -0.7 | Q20: 0.05 | R20: 0.05 | S20: =Q20-R20 -> 0 | T20: 0 | U20: =O20+P20*S20+T20 -> 0.02
A21: t+17 | B21: 0 | C21: 0.02 | D21: =(1-B21)*C21+B21*J19 -> 0.02 | E21: -0.7 | F21: 0.05 | G21: 0.05 | H21: =F21-G21 -> 0 | I21: 0.01 | J21: =D21+E21*H21+I21 -> 0.03 | L21: t+17 | M21: 1 | N21: 0.02 | O21: =(1-M21)*N21+M21*U19 -> 0.02 | P21: -0.7 | Q21: 0.05 | R21: 0.05 | S21: =Q21-R21 -> 0 | T21: 0.01 | U21: =O21+P21*S21+T21 -> 0.03
A22: t+18 | B22: 0 | C22: 0.02 | D22: =(1-B22)*C22+B22*J21 -> 0.02 | E22: -0.7 | F22: 0.05 | G22: 0.05 | H22: =F22-G22 -> 0 | I22: 0 | J22: =D22+E22*H22+I22 -> 0.02 | L22: t+18 | M22: 1 | N22: 0.02 | O22: =(1-M22)*N22+M22*U21 -> 0.03 | P22: -0.7 | Q22: 0.05 | R22: 0.05 | S22: =Q22-R22 -> 0 | T22: 0 | U22: =O22+P22*S22+T22 -> 0.03
A23: t+19 | B23: 0 | C23: 0.02 | D23: =(1-B23)*C23+B23*J22 -> 0.02 | E23: -0.7 | F23: 0.05 | G23: 0.05 | H23: =F23-G23 -> 0 | I23: 0 | J23: =D23+E23*H23+I23 -> 0.02 | L23: t+19 | M23: 1 | N23: 0.02 | O23: =(1-M23)*N23+M23*U22 -> 0.03 | P23: -0.7 | Q23: =R23++S23 -> 0.064285714 | R23: 0.05 | S23: =(U23-O23)/P23 -> 0.014285714 | T23: 0 | U23: 0.02
A24: t+20 | B24: 0 | C24: 0.02 | D24: =(1-B24)*C24+B24*J23 -> 0.02 | E24: -0.7 | F24: 0.05 | G24: 0.05 | H24: =F24-G24 -> 0 | I24: 0 | J24: =D24+E24*H24+I24 -> 0.02 | L24: t+20 | M24: 1 | N24: 0.02 | O24: =(1-M24)*N24+M24*U23 -> 0.02 | P24: -0.7 | Q24: =5% -> 0.05 | R24: 0.05 | S24: =S22 -> 0 | T24: 0 | U24: 0.02
A26: SD
A27: Inflation
A28: Unemployment

Sheet response to shock
A1: Period | B1: Shock | C1: U_theta0 | D1: Pi_theta0 | E1: U_theta1 | F1: Pi_theta1
A2: t+16 | B2: 0 | C2: =calculation!F20 -> 0.05 | D2: =calculation!J20 -> 0.02 | E2: =calculation!Q20 -> 0.05 | F2: =calculation!U20 -> 0.02
A3: t+17 | B3: 0.01 | C3: =calculation!F21 -> 0.05 | D3: =calculation!J21 -> 0.03 | E3: =calculation!Q21 -> 0.05 | F3: =calculation!U21 -> 0.03
A4: t+18 | B4: 0 | C4: =calculation!F22 -> 0.05 | D4: =calculation!J22 -> 0.02 | E4: =calculation!Q22 -> 0.05 | F4: =calculation!U22 -> 0.03
A5: t+19 | B5: 0 | C5: =calculation!F23 -> 0.05 | D5: =calculation!J23 -> 0.02 | E5: =calculation!Q23 -> 0.064285714 | F5: =calculation!U23 -> 0.02
A6: t+20 | B6: 0 | C6: =calculation!F24 -> 0.05 | D6: =calculation!J24 -> 0.02 | E6: =calculation!Q24 -> 0.05 | F6: =calculation!U24 -> 0.02
A7: S.D. | C7: =STDEV(C3:C6) -> 0 | D7: =STDEV(D3:D6) -> 0.005 | E7: =STDEV(E3:E6) -> 0.0071428571 | F7: =STDEV(F3:F6) -> 0.0057735027
