Workbook
Name COL_CORR: 'Correlation Matrix'!$A$1:$A$45
Name COL_COV: 'Covariance Matrix'!$A$1:$A$45
Name COL_FINDATA: 'Financial Data'!$A$2:$A$46
Name eee: [1]Client!$C$13
Name FACTOR: 'Estimating Beta'!$H$81
Name MARKET: 'Estimating Beta'!$B$39:$B$41
Name MARKET_SP500: 'Estimating Beta'!$C$124:$C$171
Name mue_1: 'Single Asset Return&Risk'!$C$28
Name mue_2: 'Single Asset Return&Risk'!$E$28
Name mVCM: Matrix!$C$3:$I$9
Name NO_OBS_EA: Data!$B$182
Name NO_OBS_SA: Data!$B$169
Name Rf: Matrix!$V$10
Name Rm: Matrix!$AB$18
Name RP_EP: Matrix!$G$37
Name RP_EP_C: Matrix!$S$116
Name RP_MVP: Matrix!$G$18
Name RP_MVP_C: Matrix!$S$104
Name Rq: 'Security Analysis'!$Z$12
Name SELECTIONS: Data!$A$163:$A$167
Name SELECTIONS_NO: Data!$A$163:$B$167
Name sigma_1: 'Single Asset Return&Risk'!$C$29
Name sigma_2: 'Single Asset Return&Risk'!$E$29
Name STD_EP: Matrix!$G$38
Name STD_EP_C: Matrix!$S$117
Name STD_MVP: Matrix!$G$19
Name STD_MVP_C: Matrix!$S$105
Name STOCK_A: 'Estimating Beta'!$D$39:$D$41
Name STOCK_GE: 'Estimating Beta'!$E$124:$E$171
Name STOCK_H: 'Estimating Beta'!$C$39:$C$41
Name STOCK_L: 'Estimating Beta'!$E$39:$E$41
Name STOCK_LISTS: Data!$C$110:$AS$110
Name SYMBOLS: 'Financial Data'!$A$3:$A$45
Name TAB_CORR: 'Correlation Matrix'!$A$1:$AS$45
Name TAB_COV: 'Covariance Matrix'!$A$1:$AS$45
Name TAB_EA: Data!$C$183:$AT$184
Name TAB_FINDATA: 'Financial Data'!$A$2:$AE$45
Name TAB_MCAPS: Data!$C$2:$AT$52
Name TAB_PORT: Data!$C$176:$AT$179
Name TAB_PRICES: Data!$C$56:$AT$106
Name TAB_RETURNS: Data!$C$110:$AT$160
Name TAB_SA: Data!$C$170:$AT$172
Name W_EP: Matrix!$D$32:$D$38
Name W_EP_C: Matrix!$Q$108:$Q$114
Name W_MVP: Matrix!$D$13:$D$19
Name W_MVP_C: Matrix!$Q$97:$Q$103

Sheet Data
B1: Market Cap | C1: 3 | D1: 5 | E1: 7 | F1: 9 | G1: 11 | H1: 13 | I1: 15 | J1: 17 | K1: 19 | L1: 21 | M1: 23 | N1: 25 | O1: 27 | P1: 29 | Q1: 31 | R1: 33 | S1: 35 | T1: 37 | U1: 39 | V1: 41 | W1: 43 | X1: 45 | Y1: 47 | Z1: 49 | AA1: 51 | AB1: 53 | AC1: 55 | AD1: 57 | AE1: 61 | AF1: 63 | AG1: 65 | AH1: 67 | AI1: 71 | AJ1: 73 | AK1: 75 | AL1: 77 | AM1: 79 | AN1: 81 | AO1: 83 | AP1: 85 | AQ1: 87 | AR1: 89 | AS1: 91 | AT1: 93
A2: 1 | B2: Date | C2: ADVANC | D2: AOT | E2: BBL | F2: BGH | G2: BECL | H2: BAY | I2: BANPU | J2: BEC | K2: BIGC | L2: BH | M2: CCET | N2: CPN | O2: CPF | P2: CPALL | Q2: DELTA | R2: EGCO | S2: GLOW | T2: HANA | U2: IRPC | V2: ITD | W2: KBANK | X2: KSL | Y2: KTB | Z2: LH | AA2: MCOT | AB2: MINT | AC2: PSL | AD2: PS | AE2: PTTEP | AF2: PTT | AG2: RATCH | AH2: SCC | AI2: SCCC | AJ2: SCB | AK2: MAKRO | AL2: TSTH | AM2: THAI | AN2: TOP | AO2: TPC | AP2: TUF | AQ2: TCAP | AR2: TTA | AS2: TMB | AT2: SET50
A3: 2 | B3: 39719 | C3: 238420.03 | D3: 44285.672 | E3: 194701.97 | F3: 37649.461 | G3: 12166 | H3: 98401.133 | I3: 79893.883 | J3: 42600 | K3: 33858.582 | L3: 23304.623 | M3: 12779.219 | N3: 35950.465 | O3: 30530.947 | P3: 48526 | Q3: 19833.352 | R3: 33167.297 | S3: 40960.223 | T3: 11045.317 | U3: 79754.078 | V3: 15852.103 | W3: 148382.12 | X3: 12710 | Y3: 67637.484 | Z3: 61654.91 | AA3: 13604.564 | AB3: 40116.797 | AC3: 15696.762 | AD3: 15558.898 | AE3: 419960.19 | AF3: 643882.88 | AG3: 50750 | AH3: 153600 | AI3: 38475 | AJ3: 130419.8 | AK3: 19680 | AL3: 12089.776 | AM3: 20216.916 | AN3: 84661.156 | AO3: 15487.501 | AP3: 17310.15 | AQ3: 14131.265 | AR3: 16574.873 | AS3: 41536.742 | AT3: 3448095.2
A4: 3 | B4: 39749 | C4: 216206.98 | D4: 26999.973 | E4: 132664.58 | F4: 24289.975 | G4: 9317 | H4: 61348.855 | I4: 43751.41 | J4: 33200 | K4: 24442.291 | L4: 16021.929 | M4: 7191.9194 | N4: 20154.049 | O4: 22860.611 | P4: 34597.238 | Q4: 12972.758 | R4: 31061.435 | S4: 29257.301 | T4: 8553.8926 | U4: 44534.59 | V4: 10316.448 | W4: 119663.01 | X4: 7827.5005 | Y4: 43824.617 | Z4: 36694.07 | AA4: 8588.7402 | AB4: 27287.416 | AC4: 8004.3086 | AD4: 10080.413 | AE4: 284382.5 | AF4: 449025 | AG4: 44950 | AH4: 122400 | AI4: 25412.5 | AJ4: 132834.33 | AK4: 14400 | AL4: 5636.4497 | AM4: 12911.644 | AN4: 42024.574 | AO4: 9100 | AP4: 14572.32 | AQ4: 9465.2803 | AR4: 7724.2129 | AS4: 23260.576 | AT4: 2416867.5
A5: 4 | B5: 39780 | C5: 228053.94 | D5: 25428.545 | E5: 125029.21 | F5: 19067.631 | G5: 9702 | H5: 58008.074 | I5: 50816.855 | J5: 35200 | K5: 24041.598 | L5: 13691.466 | M5: 6052.2158 | N5: 20916.635 | O5: 21055.826 | P5: 47627.371 | Q5: 12972.758 | R5: 28165.877 | S5: 29842.445 | T5: 7059.0371 | U5: 36849.418 | V5: 7548.6206 | W5: 101713.55 | X5: 8835 | Y5: 36893.172 | Z5: 31079.678 | AA5: 7008.4116 | AB5: 23312.002 | AC5: 9615.5654 | AD5: 7713.7075 | AE5: 309212.41 | AF5: 415136.31 | AG5: 44587.5 | AH5: 108000 | AI5: 25887.5 | AJ5: 119178.46 | AK5: 14880 | AL5: 5391.3867 | AM5: 12826.699 | AN5: 38760.531 | AO5: 9362.5 | AP5: 15808.76 | AQ5: 9065.3398 | AR5: 8303.5283 | AS5: 22845.209 | AT5: 2342146.5
A6: 5 | B6: 39810 | C6: 235458.3 | D6: 25857.117 | E6: 131710.16 | F6: 21860.977 | G6: 13320.999 | H6: 56489.539 | I6: 61958.52 | J6: 39600 | K6: 30653.037 | L6: 15439.314 | M6: 6564.6416 | N6: 31157.068 | O6: 23913.402 | P6: 55265.723 | Q6: 15218.044 | R6: 36062.852 | S6: 32914.465 | T6: 8304.75 | U6: 42564.035 | V6: 9393.8389 | W6: 107696.71 | X6: 9145 | Y6: 42483.047 | Z6: 37696.641 | AA6: 8794.8701 | AB6: 28552.685 | AC6: 11330.774 | AD6: 9598.3066 | AE6: 353858.03 | AF6: 494209.91 | AG6: 61987.5 | AH6: 123600 | AI6: 31825 | AJ6: 119799.18 | AK6: 16200 | AL6: 11027.837 | AM6: 13166.478 | AN6: 48144.66 | AO6: 10762.5 | AP6: 17045.199 | AQ6: 9398.624 | AR6: 10813.897 | AS6: 24506.676 | AT6: 2648651.5
A7: 6 | B7: 39841 | C7: 222130.47 | D7: 26142.83 | E7: 138391.11 | F7: 20646.479 | G7: 12474.001 | H7: 53756.176 | I7: 60871.531 | J7: 37800 | K7: 30051.996 | L7: 16021.929 | M7: 6092.9307 | N7: 28542.49 | O7: 24815.795 | P7: 50323.258 | Q7: 11912.485 | R7: 36589.316 | S7: 33645.895 | T7: 9135.2246 | U7: 38031.75 | V7: 10819.69 | W7: 107696.71 | X7: 9377.5 | Y7: 44495.402 | Z7: 32283.258 | AA7: 8382.6104 | AB7: 26022.701 | AC7: 11018.919 | AD7: 9379.168 | AE7: 327401.34 | AF7: 451849.06 | AG7: 57637.5 | AH7: 120000 | AI7: 30637.5 | AJ7: 129308.07 | AK7: 16800 | AL7: 7760.3291 | AM7: 11892.304 | AN7: 49980.684 | AO7: 11375 | AP7: 17221.834 | AQ7: 9931.8789 | AR7: 11264.478 | AS7: 23260.576 | AT7: 2589690.5
A8: 7 | B8: 39872 | C8: 238420.03 | D8: 22999.977 | E8: 142208.8 | F8: 20767.928 | G8: 12166 | H8: 53756.176 | I8: 57610.555 | J8: 38600 | K8: 31053.731 | L8: 15439.314 | M8: 4795.7261 | N8: 27017.318 | O8: 25417.391 | P8: 54367.094 | Q8: 13222.235 | R8: 37379.016 | S8: 30427.592 | T8: 9384.3672 | U8: 36849.418 | V8: 9729.333 | W8: 106500.08 | X8: 9687.5 | Y8: 46284.16 | Z8: 27069.812 | AA8: 9138.4199 | AB8: 25671.414 | AC8: 11018.919 | AD8: 7929.5962 | AE8: 294352.72 | AF8: 440552.84 | AG8: 55100 | AH8: 120000 | AI8: 31825 | AJ8: 139254.84 | AK8: 16680 | AL8: 6698.3892 | AM8: 12996.589 | AN8: 48960.668 | AO8: 10937.5 | AP8: 17045.199 | AQ8: 10731.763 | AR8: 9700.3242 | AS8: 20353.004 | AT8: 2561465.8
A9: 8 | B9: 39900 | C9: 245084.7 | D9: 22857.119 | E9: 142208.8 | F9: 20646.479 | G9: 12320 | H9: 53148.758 | I9: 58425.801 | J9: 37200 | K9: 33257.543 | L9: 13036.022 | M9: 5071.6841 | N9: 27235.199 | O9: 24364.6 | P9: 56613.668 | Q9: 11475.901 | R9: 34878.309 | S9: 30720.166 | T9: 8387.7979 | U9: 37243.531 | V9: 8387.3564 | W9: 107098.4 | X9: 10075 | Y9: 50756.062 | Z9: 29877.246 | AA9: 8176.48 | AB9: 23329.176 | AC9: 10707.062 | AD9: 8786.2568 | AE9: 321638.22 | AF9: 430668.62 | AG9: 55825 | AH9: 118200 | AI9: 29687.5 | AJ9: 135524.8 | AK9: 16080 | AL9: 6780.0767 | AM9: 16224.5 | AN9: 52020.707 | AO9: 11200 | AP9: 18016.688 | AQ9: 12798.127 | AR9: 8921.4668 | AS9: 18276.166 | AT9: 2566740.8
A10: 9 | B10: 39931 | C10: 235501.8 | D10: 26714.26 | E10: 162251.64 | F10: 24047.074 | G10: 11935 | H10: 69245.234 | I10: 77176.406 | J10: 39600 | K10: 33457.891 | L10: 17114.332 | M10: 8570.7539 | N10: 31157.068 | O10: 24966.193 | P10: 56164.352 | Q10: 14843.829 | R10: 35931.238 | S10: 34669.902 | T10: 10048.748 | U10: 55963.82 | V10: 10568.069 | W10: 125646.16 | X10: 12090 | Y10: 59252.672 | Z10: 38499.539 | AA10: 9756.8086 | AB10: 23150.133 | AC10: 13201.912 | AD10: 12520.415 | AE10: 342309.06 | AF10: 535158.75 | AG10: 55100 | AH10: 145200 | AI10: 34081.25 | AJ10: 156703.61 | AK10: 16500 | AL10: 8822.2695 | AM10: 20386.807 | AN10: 65790.898 | AO10: 14787.5 | AP10: 19429.762 | AQ10: 14931.147 | AR10: 11612.066 | AS10: 23260.576 | AT10: 2972127.5
A11: 10 | B11: 39961 | C11: 239949.42 | D11: 31428.539 | E11: 167978.17 | F11: 24897.225 | G11: 12089 | H11: 71067.484 | I11: 86415.82 | J11: 38800 | K11: 31855.117 | L11: 20028.373 | M11: 9694.6602 | N11: 36168.348 | O11: 31884.535 | P11: 65150.645 | Q11: 18211.758 | R11: 36720.934 | S11: 39131.641 | T11: 13287.6 | U11: 72910.609 | V11: 12245.541 | W11: 134022.58 | X11: 13562.5 | Y11: 81053.18 | Z11: 51132.199 | AA11: 12230.365 | AB11: 2730.595 | AC11: 17775.803 | AD11: 16803.715 | AE11: 431636.25 | AF11: 621292.44 | AG11: 54375 | AH11: 157200 | AI11: 38356.25 | AJ11: 174909.84 | AK11: 17280 | AL11: 11844.714 | AM11: 25313.623 | AN11: 83131.133 | AO11: 15662.5 | AP11: 20754.518 | AQ11: 17197.482 | AR11: 15576.097 | AS11: 30737.19 | AT11: 3407526.2
A12: 11 | B12: 39992 | C12: 268102.78 | D12: 38214.246 | E12: 206155.03 | F12: 27569.121 | G12: 12859.001 | H12: 88075.086 | I12: 91035.531 | J12: 41800 | K12: 34659.969 | L12: 18935.916 | M12: 8591.2734 | N12: 42704.793 | O12: 35945.305 | P12: 76832.836 | Q12: 15966.473 | R12: 39221.641 | S12: 49737.41 | T12: 13453.695 | U12: 63846.047 | V12: 11742.299 | W12: 158553.48 | X12: 15267.501 | Y12: 97822.805 | Z12: 51132.199 | AA12: 12436.496 | AB12: 25763.121 | AC12: 17256.043 | AD12: 18451.137 | AE12: 441558.94 | AF12: 660972.5 | AG12: 55100 | AH12: 186000 | AI12: 39900 | AJ12: 190515.17 | AK12: 17400 | AL12: 12661.59 | AM12: 24124.393 | AN12: 72420.992 | AO12: 14787.5 | AP12: 20931.152 | AQ12: 18263.992 | AR12: 15576.097 | AS12: 35721.598 | AT12: 3685584.5
A13: 12 | B13: 40022 | C13: 256266.11 | D13: 45714.238 | E13: 211881.56 | F13: 28176.371 | G13: 13244.001 | H13: 109942.01 | I13: 101905.45 | J13: 39600 | K13: 38466.555 | L13: 18753.84 | M13: 11665.215 | N13: 40308.098 | O13: 39479.672 | P13: 75035.578 | Q13: 19459.139 | R13: 38958.41 | S13: 43520.234 | T13: 15695.977 | U13: 67439.078 | V13: 11322.932 | W13: 173511.36 | X13: 16430 | Y13: 93909.891 | Z13: 51633.496 | AA13: 12917.465 | AB13: 27387.44 | AC13: 16840.234 | AD13: 21087.016 | AE13: 456442.94 | AF13: 675106.56 | AG13: 55825 | AH13: 220800 | AI13: 43462.5 | AJ13: 261953.56 | AK13: 17220 | AL13: 14295.344 | AM13: 23105.053 | AN13: 76501.047 | AO13: 16275 | AP13: 22962.445 | AQ13: 18397.307 | AR13: 16000.9 | AS13: 33644.762 | AT13: 3905743.2
A14: 13 | B14: 40053 | C14: 255583.88 | D14: 52142.805 | E14: 209972.72 | F14: 30119.568 | G14: 14168 | H14: 108119.76 | I14: 108427.39 | J14: 37400 | K14: 36663.438 | L14: 19300.068 | M14: 13478.052 | N14: 45537.254 | O14: 45119.629 | P14: 75934.203 | Q14: 21829.16 | R14: 41327.504 | S14: 44983.102 | T14: 16443.404 | U14: 75721.07 | V14: 11910.046 | W14: 173511.36 | X14: 22165 | Y14: 96145.844 | Z14: 60155.527 | AA14: 13604.564 | AB14: 34358.086 | AC14: 17256.043 | AD14: 21796.34 | AE14: 458584.56 | AF14: 689230.12 | AG14: 54737.5 | AH14: 232800 | AI14: 49875 | AJ14: 261105.81 | AK14: 16860 | AL14: 14458.719 | AM14: 33128.57 | AN14: 82621.125 | AO14: 15750 | AP14: 22962.445 | AQ14: 19597.131 | AR14: 16354.902 | AS14: 44028.945 | AT14: 4057038.8
... A52: 51 | B52: 41210 | C52: 587186.31 | D52: 117142.74 | E52: 337865.19 | F52: 164591.38 | G52: 21367.5 | H52: 180705.78 | I52: 106525.16 | J52: 118000 | K52: 154687.5 | L52: 55175.789 | M52: 10846.3 | N52: 154695.94 | O52: 272938.69 | P52: 357078.28 | Q52: 36485.914 | R52: 68966.914 | S52: 104594.85 | T52: 17707.334 | U52: 87868.008 | V52: 16942.459 | W52: 428393.56 | X52: 21272.869 | Y52: 252966.72 | Z52: 86222.93 | AA52: 23017.824 | AB52: 67034.18 | AC52: 13929.575 | AD52: 43339.363 | AE52: 551117.56 | AF52: 908303.25 | AG52: 78300 | AH52: 448800 | AI52: 97980 | AJ52: 546391.56 | AK52: 110400 | AL52: 6535.0142 | AM52: 50422.031 | AN52: 136171.86 | AO52: 27562.5 | AP52: 82626.758 | AQ52: 47279.207 | AR52: 11328.07 | AS52: 80131.852 | AT52: 8383180.5
B55: Month End Prices | C55: 2 | D55: 4 | E55: 6 | F55: 8 | G55: 10 | H55: 12 | I55: 14 | J55: 16 | K55: 18 | L55: 20 | M55: 22 | N55: 24 | O55: 26 | P55: 28 | Q55: 30 | R55: 32 | S55: 34 | T55: 36 | U55: 38 | V55: 40 | W55: 42 | X55: 44 | Y55: 46 | Z55: 48 | AA55: 50 | AB55: 52 | AC55: 54 | AD55: 56 | AE55: 60 | AF55: 62 | AG55: 64 | AH55: 66 | AI55: 70 | AJ55: 72 | AK55: 74 | AL55: 76 | AM55: 78 | AN55: 80 | AO55: 82 | AP55: 84 | AQ55: 86 | AR55: 88 | AS55: 90 | AT55: 92
A56: 1 | B56: Date | C56: ADVANC | D56: AOT | E56: BBL | F56: BGH | G56: BECL | H56: BAY | I56: BANPU | J56: BEC | K56: BIGC | L56: BH | M56: CCET | N56: CPN | O56: CPF | P56: CPALL | Q56: DELTA | R56: EGCO | S56: GLOW | T56: HANA | U56: IRPC | V56: ITD | W56: KBANK | X56: KSL | Y56: KTB | Z56: LH | AA56: MCOT | AB56: MINT | AC56: PSL | AD56: PS | AE56: PTTEP | AF56: PTT | AG56: RATCH | AH56: SCC | AI56: SCCC | AJ56: SCB | AK56: MAKRO | AL56: TSTH | AM56: THAI | AN56: TOP | AO56: TPC | AP56: TUF | AQ56: TCAP | AR56: TTA | AS56: TMB | AT56: SET50
A57: 2 | B57: 39719 | C57: 74 | D57: 33.25 | E57: 106 | F57: 32 | G57: 16.8 | H57: 17.4 | I57: 328.61 | J57: 20.8 | K57: 44 | L57: 33 | M57: 3.5 | N57: 17.3 | O57: 4.08 | P57: 5.4 | Q57: 15.8 | R57: 65 | S57: 28.25 | T57: 15 | U57: 4.12 | V57: 4.06 | W57: 64.5 | X57: 9.15 | Y57: 6.02 | Z57: 6.4 | AA57: 20.7 | AB57: 10.27 | AC57: 15.6 | AD57: 7.25 | AE57: 136 | AF57: 236 | AG57: 36 | AH57: 134 | AI57: 167 | AJ57: 70.5 | AK57: 83 | AL57: 1.61 | AM57: 12.5 | AN57: 43.75 | AO57: 18.1 | AP57: 18.23 | AQ57: 10.9 | AR57: 24.55 | AS57: 1.04 | AT57: 435.25
A58: 3 | B58: 39749 | C58: 62.79 | D58: 16 | E58: 63.5 | F58: 18.2 | G58: 11.8 | H58: 9.8 | I58: 147.48 | J58: 16.1 | K58: 34.75 | L58: 23.7 | M58: 1.81 | N58: 7.85 | O58: 2.98 | P58: 3.98 | Q58: 11 | R58: 58 | S58: 19.5 | T58: 10 | U58: 2.22 | V58: 2.26 | W58: 48.75 | X58: 5.2 | Y58: 3.63 | Z58: 2.92 | AA58: 12.3 | AB58: 6.18 | AC58: 8 | AD58: 4.14 | AE58: 81 | AF58: 148 | AG58: 28.75 | AH58: 99.5 | AI58: 108 | AJ58: 49.75 | AK58: 57.5 | AL58: 0.6 | AM58: 7.55 | AN58: 19.8 | AO58: 10.2 | AP58: 15.61 | AQ58: 5.25 | AR58: 9.45 | AS58: 0.52 | AT58: 273.52
A59: 4 | B59: 39780 | C59: 69.07 | D59: 17.8 | E59: 65.5 | F59: 15.7 | G59: 12.6 | H59: 9.55 | I59: 185.09 | J59: 17.6 | K59: 30 | L59: 18.8 | M59: 1.54 | N59: 9.6 | O59: 2.8 | P59: 5.3 | Q59: 10.4 | R59: 53.5 | S59: 20.4 | T59: 8.5 | U59: 1.87 | V59: 1.8 | W59: 42.5 | X59: 5.7 | Y59: 3.1 | Z59: 3.1 | AA59: 10.2 | AB59: 5.86 | AC59: 9.25 | AD59: 3.52 | AE59: 93.5 | AF59: 147 | AG59: 30.75 | AH59: 90 | AI59: 109 | AJ59: 48 | AK59: 62 | AL59: 0.66 | AM59: 7.55 | AN59: 19 | AO59: 10.7 | AP59: 16.73 | AQ59: 6.8 | AR59: 11.73 | AS59: 0.55 | AT59: 279.83
A60: 5 | B60: 39810 | C60: 69.96 | D60: 20.6 | E60: 68.5 | F60: 17.6 | G60: 17 | H60: 9.3 | I60: 223.69 | J60: 19.6 | K60: 36.75 | L60: 20.7 | M60: 1.71 | N60: 14.6 | O60: 3.08 | P60: 6.1 | Q60: 12 | R60: 66.5 | S60: 22.2 | T60: 10.7 | U60: 2.16 | V60: 2.2 | W60: 45.75 | X60: 5.8 | Y60: 3.67 | Z60: 3.84 | AA60: 13 | AB60: 7.14 | AC60: 11.3 | AD60: 4.6 | AE60: 102 | AF60: 172 | AG60: 43.25 | AH60: 104 | AI60: 130 | AJ60: 49 | AK60: 68 | AL60: 1.12 | AM60: 7.85 | AN60: 23.5 | AO60: 11.9 | AP60: 18.04 | AQ60: 7.05 | AR60: 15.27 | AS60: 0.61 | AT60: 313.79
A61: 6 | B61: 39841 | C61: 67.72 | D61: 18.5 | E61: 74.5 | F61: 17.5 | G61: 16.3 | H61: 9.15 | I61: 229.63 | J61: 20 | K61: 39.5 | L61: 21.5 | M61: 1.58 | N61: 13.5 | O61: 3.34 | P61: 5.65 | Q61: 9.6 | R61: 69 | S61: 23.6 | T61: 11 | U61: 2.02 | V61: 2.7 | W61: 47 | X61: 6.1 | Y61: 3.89 | Z61: 3.32 | AA61: 12.5 | AB61: 6.5 | AC61: 11 | AD61: 4.5 | AE61: 101 | AF61: 167 | AG61: 39.75 | AH61: 105 | AI61: 132 | AJ61: 54 | AK61: 69 | AL61: 1.07 | AM61: 7.1 | AN61: 25.5 | AO61: 13.1 | AP61: 18.32 | AQ61: 7.2 | AR61: 16.18 | AS61: 0.57 | AT61: 312.51
A62: 7 | B62: 39872 | C62: 72.21 | D62: 16.1 | E62: 74.5 | F62: 17.1 | G62: 15.8 | H62: 8.85 | I62: 209.83 | J62: 19.3 | K62: 38.75 | L62: 21.2 | M62: 1.22 | N62: 12.4 | O62: 3.38 | P62: 6.05 | Q62: 10.6 | R62: 71 | S62: 20.8 | T62: 11.3 | U62: 1.87 | V62: 2.32 | W62: 44.5 | X62: 6.25 | Y62: 3.89 | Z62: 2.7 | AA62: 13.3 | AB62: 5.91 | AC62: 10.6 | AD62: 3.94 | AE62: 89 | AF62: 156 | AG62: 38 | AH62: 100 | AI62: 134 | AJ62: 56 | AK62: 69.5 | AL62: 0.82 | AM62: 7.65 | AN62: 24 | AO62: 12.5 | AP62: 18.04 | AQ62: 8.05 | AR62: 13.7 | AS62: 0.49 | AT62: 299.58
A63: 8 | B63: 39900 | C63: 74.9 | D63: 15.8 | E63: 76.5 | F63: 16.9 | G63: 15.9 | H63: 8.95 | I63: 221.71 | J63: 18.5 | K63: 41.25 | L63: 17.9 | M63: 1.32 | N63: 12.8 | O63: 3.36 | P63: 6.25 | Q63: 9.4 | R63: 67.5 | S63: 21 | T63: 9.95 | U63: 1.92 | V63: 2.06 | W63: 46.5 | X63: 6.55 | Y63: 4.25 | Z63: 3.06 | AA63: 13.1 | AB63: 5.82 | AC63: 10.3 | AD63: 4.16 | AE63: 100 | AF63: 160 | AG63: 40 | AH63: 101 | AI63: 128 | AJ63: 55.5 | AK63: 67 | AL63: 0.87 | AM63: 9.15 | AN63: 26.5 | AO63: 12.7 | AP63: 18.88 | AQ63: 9.8 | AR63: 13.1 | AS63: 0.45 | AT63: 307.96
A64: 9 | B64: 39931 | C64: 69.74 | D64: 18.1 | E64: 78.75 | F64: 19.6 | G64: 15.4 | H64: 10.1 | I64: 265.26 | J64: 18.7 | K64: 40 | L64: 23.6 | M64: 1.93 | N64: 13.5 | O64: 3.22 | P64: 6.05 | Q64: 11.3 | R64: 66.25 | S64: 23.2 | T64: 11.8 | U64: 2.84 | V64: 2.34 | W64: 51.25 | X64: 7.5 | Y64: 4.99 | Z64: 3.7 | AA64: 13.8 | AB64: 5.82 | AC64: 12.4 | AD64: 4.92 | AE64: 98.25 | AF64: 181 | AG64: 37.5 | AH64: 108.5 | AI64: 136.5 | AJ64: 58.5 | AK64: 67 | AL64: 1.05 | AM64: 11.5 | AN64: 30.75 | AO64: 15.9 | AP64: 19.63 | AQ64: 10.7 | AR64: 15.8 | AS64: 0.52 | AT64: 331.76
A65: 10 | B65: 39961 | C65: 72.43 | D65: 23.1 | E65: 88.75 | F65: 20.4 | G65: 15.8 | H65: 11.8 | I65: 307.82 | J65: 19.7 | K65: 40.25 | L65: 27.75 | M65: 2.42 | N65: 17.5 | O65: 4.24 | P65: 7.45 | Q65: 14.6 | R65: 69.5 | S65: 28 | T65: 14.9 | U65: 3.72 | V65: 2.9 | W65: 55.75 | X65: 8.8 | Y65: 6.73 | Z65: 5.05 | AA65: 17.7 | AB65: 7.14 | AC65: 16.8 | AD65: 7.4 | AE65: 125 | AF65: 217 | AG65: 37.75 | AH65: 131.5 | AI65: 161 | AJ65: 67 | AK65: 72 | AL65: 1.34 | AM65: 15 | AN65: 40.25 | AO65: 18 | AP65: 21.87 | AQ65: 12.9 | AR65: 20.8 | AS65: 0.75 | AT65: 394.84
A66: 11 | B66: 39992 | C66: 79.83 | D66: 28.25 | E66: 106 | F66: 22.4 | G66: 16.7 | H66: 15 | I66: 334.55 | J66: 20.8 | K66: 41.25 | L66: 26.25 | M66: 2.22 | N66: 19.3 | O66: 4.68 | P66: 8.65 | Q66: 13.1 | R66: 76.25 | S66: 32.25 | T66: 16 | U66: 3.26 | V66: 2.8 | W66: 66.25 | X66: 9.8 | Y66: 7.9 | Z66: 5.25 | AA66: 18.2 | AB66: 7.27 | AC66: 15.8 | AD66: 8.45 | AE66: 133 | AF66: 237 | AG66: 37.5 | AH66: 152 | AI66: 171 | AJ66: 74 | AK66: 72.75 | AL66: 1.56 | AM66: 14.6 | AN66: 35 | AO66: 17.1 | AP66: 22.34 | AQ66: 13.3 | AR66: 21.6 | AS66: 0.84 | AT66: 429.43
A67: 12 | B67: 40022 | C67: 79.83 | D67: 31.5 | E67: 115 | F67: 23.6 | G67: 17.1 | H67: 18.3 | I67: 337.52 | J67: 20 | K67: 46.5 | L67: 26 | M67: 2.56 | N67: 18.3 | O67: 5.1 | P67: 8.1 | Q67: 14.5 | R67: 75.25 | S67: 30 | T67: 17.7 | U67: 3.44 | V67: 2.74 | W67: 72 | X67: 9.95 | Y67: 8 | Z67: 5.4 | AA67: 19 | AB67: 7.59 | AC67: 16.4 | AD67: 9.8 | AE67: 139.5 | AF67: 238 | AG67: 37.5 | AH67: 174 | AI67: 177 | AJ67: 78 | AK67: 73 | AL67: 1.74 | AM67: 13.8 | AN67: 38 | AO67: 18.6 | AP67: 22.99 | AQ67: 13.7 | AR67: 22.9 | AS67: 0.82 | AT67: 448.58
A68: 13 | B68: 40053 | C68: 77.59 | D68: 37.5 | E68: 112 | F68: 24.7 | G68: 18.6 | H68: 18.1 | I68: 401.85 | J68: 18.7 | K68: 45 | L68: 26.75 | M68: 3.52 | N68: 20.8 | O68: 5.85 | P68: 8.35 | Q68: 17.7 | R68: 78 | S68: 31.5 | T68: 19.7 | U68: 3.9 | V68: 2.86 | W68: 73 | X68: 12.7 | Y68: 7.9 | Z68: 6.05 | AA68: 19.4 | AB68: 9.64 | AC68: 16.6 | AD68: 9.9 | AE68: 142 | AF68: 247 | AG68: 37.25 | AH68: 194.5 | AI68: 213 | AJ68: 76.75 | AK68: 70.5 | AL68: 1.79 | AM68: 20.1 | AN68: 40.75 | AO68: 18 | AP68: 24.54 | AQ68: 14.3 | AR68: 23.1 | AS68: 1.06 | AT68: 470.69
... A106: 51 | B106: 41210 | C106: 198 | D106: 83 | E106: 175 | F106: 107 | G106: 28 | H106: 29 | I106: 389 | J106: 59.75 | K106: 186.5 | L106: 77 | M106: 2.66 | N106: 72 | O106: 35.25 | P106: 40 | Q106: 28.25 | R106: 134 | S106: 70.25 | T106: 22 | U106: 4.18 | V106: 4 | W106: 175 | X106: 13.2 | Y106: 18.1 | Z106: 8.65 | AA106: 32.5 | AB106: 17.5 | AC106: 13.4 | AD106: 19.6 | AE106: 156 | AF106: 313 | AG106: 54 | AH106: 363 | AI106: 420 | AJ106: 158.5 | AK106: 452 | AL106: 0.82 | AM106: 22.7 | AN106: 65.5 | AO106: 29.5 | AP106: 70.5 | AQ106: 36 | AR106: 18.2 | AS106: 1.83 | AT106: 866.98
B109: Monthly Returns | C109: 2 | D109: 4 | E109: 6 | F109: 8 | G109: 10 | H109: 12 | I109: 14 | J109: 16 | K109: 18 | L109: 20 | M109: 22 | N109: 24 | O109: 26 | P109: 28 | Q109: 30 | R109: 32 | S109: 34 | T109: 36 | U109: 38 | V109: 40 | W109: 42 | X109: 44 | Y109: 46 | Z109: 48 | AA109: 50 | AB109: 52 | AC109: 54 | AD109: 56 | AE109: 60 | AF109: 62 | AG109: 64 | AH109: 66 | AI109: 70 | AJ109: 72 | AK109: 74 | AL109: 76 | AM109: 78 | AN109: 80 | AO109: 82 | AP109: 84 | AQ109: 86 | AR109: 88 | AS109: 90 | AT109: 92
A110: 1 | B110: Date | C110: ADVANC | D110: AOT | E110: BBL | F110: BGH | G110: BECL | H110: BAY | I110: BANPU | J110: BEC | K110: BIGC | L110: BH | M110: CCET | N110: CPN | O110: CPF | P110: CPALL | Q110: DELTA | R110: EGCO | S110: GLOW | T110: HANA | U110: IRPC | V110: ITD | W110: KBANK | X110: KSL | Y110: KTB | Z110: LH | AA110: MCOT | AB110: MINT | AC110: PSL | AD110: PS | AE110: PTTEP | AF110: PTT | AG110: RATCH | AH110: SCC | AI110: SCCC | AJ110: SCB | AK110: MAKRO | AL110: TSTH | AM110: THAI | AN110: TOP | AO110: TPC | AP110: TUF | AQ110: TCAP | AR110: TTA | AS110: TMB | AT110: SET50
A111: 2 | B111: 39719
A112: 3 | B112: 39749 | C112: =LN(C58/C57) -> -0.16426927 | D112: =LN(D58/D57) -> -0.73146604 | E112: =LN(E58/E57) -> -0.51239919 | F112: =LN(F58/F57) -> -0.56431431 | G112: =LN(G58/G57) -> -0.35327935 | H112: =LN(H58/H57) -> -0.57408782 | I112: =LN(I58/I57) -> -0.80117906 | J112: =LN(J58/J57) -> -0.25613371 | ... AT112: =LN(AT58/AT57) -> -0.46454583
A113: 4 | B113: 39780 | C113: =LN(C59/C58) -> 0.095324658 | D113: =LN(D59/D58) -> 0.10660974 | E113: =LN(E59/E58) -> 0.031010237 | F113: =LN(F59/F58) -> -0.14776088 | G113: =LN(G59/G58) -> 0.065597282 | H113: =LN(H59/H58) -> -0.025841231 | I113: =LN(I59/I58) -> 0.22714962 | J113: =LN(J59/J58) -> 0.08907963 | ... AT113: =LN(AT59/AT58) -> 0.022807531
A114: 5 | B114: 39810 | C114: =LN(C60/C59) -> 0.012803167 | D114: =LN(D60/D59) -> 0.14609262 | E114: =LN(E60/E59) -> 0.044783603 | F114: =LN(F60/F59) -> 0.11423819 | G114: =LN(G60/G59) -> 0.29951653 | H114: =LN(H60/H59) -> -0.026526754 | I114: =LN(I60/I59) -> 0.18941897 | J114: =LN(J60/J59) -> 0.10763066 | ... AT114: =LN(AT60/AT59) -> 0.1145417
A115: 6 | B115: 39841 | C115: =LN(C61/C60) -> -0.032542093 | D115: =LN(D61/D60) -> -0.10752034 | E115: =LN(E61/E60) -> 0.08396538 | F115: =LN(F61/F60) -> -0.0056980211 | G115: =LN(G61/G60) -> -0.042048236 | H115: =LN(H61/H60) -> -0.016260521 | I115: =LN(I61/I60) -> 0.026208153 | J115: =LN(J61/J60) -> 0.020202707 | ... AT115: =LN(AT61/AT60) -> -0.0040875037
A116: 7 | B116: 39872 | C116: =LN(C62/C61) -> 0.064196983 | D116: =LN(D62/D61) -> -0.13895146 | E116: =LN(E62/E61) -> 0 | F116: =LN(F62/F61) -> -0.023122417 | G116: =LN(G62/G61) -> -0.031155168 | H116: =LN(H62/H61) -> -0.03333642 | I116: =LN(I62/I61) -> -0.090171639 | J116: =LN(J62/J61) -> -0.035627178 | ... AT116: =LN(AT62/AT61) -> -0.042254975
A117: 8 | B117: 39900 | C117: =LN(C63/C62) -> 0.03657535 | D117: =LN(D63/D62) -> -0.018809332 | E117: =LN(E63/E62) -> 0.026491615 | F117: =LN(F63/F62) -> -0.011764842 | G117: =LN(G63/G62) -> 0.0063091692 | H117: =LN(H63/H62) -> 0.011236073 | I117: =LN(I63/I62) -> 0.055072543 | J117: =LN(J63/J62) -> -0.042334364 | ... AT117: =LN(AT63/AT62) -> 0.027588411
A118: 9 | B118: 39931 | C118: =LN(C64/C63) -> -0.071379849 | D118: =LN(D64/D63) -> 0.135902 | E118: =LN(E64/E63) -> 0.028987537 | F118: =LN(F64/F63) -> 0.14821594 | G118: =LN(G64/G63) -> -0.0319516 | H118: =LN(H64/H63) -> 0.12088189 | I118: =LN(I64/I63) -> 0.17934026 | J118: =LN(J64/J63) -> 0.010752792 | ... AT118: =LN(AT64/AT63) -> 0.074441912
...

Sheet Financial Data
A1: 1 | B1: 2 | C1: 3 | D1: 4 | E1: 5 | F1: 6 | G1: 7 | H1: 8 | I1: 9 | J1: 10 | K1: 11 | L1: 12 | M1: 13 | N1: 14 | O1: 15 | P1: 16 | Q1: 17 | R1: 18 | S1: 19 | T1: 20 | U1: 21 | V1: 22 | W1: 23 | X1: 24 | Y1: 25 | Z1: 26 | AA1: 27 | AB1: 28 | AC1: 29 | AD1: 30 | AE1: 31
A2: Symbol | B2: Name | C2: WebURL | D2: Industry | E2: Last Price | F2: 52 Wk High | G2: 52 Wk Low | H2: Volume | I2: 3M Avg Daily Vol | J2: 50 Day MovAvg | K2: 200 Day MovAvg | L2: Beta | M2: Analyst Consensus (1-5) | N2: Institutional Ownership | O2: Debt/ Equity Ratio | P2: Gross Margin | Q2: Profit Margin | R2: Total Shares Outstanding (Mil) | S2: Market Cap (Bil) | T2: TTM Earn/ Share | U2: Qtr EPS Estimate | V2: FY EPS Estimate | W2: Current PE | X2: FY PE Estimate | Y2: Price/ Sales Ratio | Z2: Price/ Book Value | AA2: Price/ Cash Flow Ratio | AB2: ROE | AC2: ROA | AD2: ROC | AE2: Health Grade
A3: ADVANC | B3: ADVANCED INFO SERVICE PCL | C3: http://www.ais.co.th | D3: Telecommunications | E3: 189.5 | F3: 227 | G3: 132 | H3: 13982500 | I3: 4832285 | J3: 208.52 | K3: 185.76 | L3: 0.6334205 | M3: 4.117647 | N3: 0.4498019 | O3: 0.56060607 | P3: 0.39717164 | Q3: 0.17572126 | R3: 2973.095 | S3: 563.40156 | T3: 9.244 | U3: 3.157 | V3: 12.083 | W3: 20.499784 | X3: 15.683191 | Y3: 4.2071221 | Z3: 12.737549 | AA3: 11.122639 | AB3: 63.85362 | AC3: 27.527391 | AD3: 38.944415 | AE3: A
A4: AOT | B4: AIRPORTS OF THAILAND PCL | C4: http://www.airportthai.co.th | D4: Engineering&Construction | E4: 82.5 | F4: 88.25 | G4: 35.75 | H4: 2076800 | I4: 3434030 | J4: 77.83 | K4: 63.06875 | L4: 0.9770615 | M4: 3.95 | N4: 0.7474064 | O4: 0.89004506 | P4: #VALUE! | Q4: 0.088276476 | R4: 1428.57 | S4: 117.85702 | T4: 3.582 | U4: 1.63 | V4: 4.373 | W4: 23.031826 | X4: 18.865767 | Y4: 3.9349568 | Z4: 1.5503296 | AA4: 8.4440244 | AB4: 6.7483941 | AC4: 3.4526643 | AD4: 4.7309384 | AE4: C+
A5: BBL | B5: BANGKOK BANK PUBLIC CO LTD | C5: http://www.bangkokbank.com | D5: Banks | E5: 178 | F5: 203 | G5: 136 | H5: 6640300 | I5: 5056697 | J5: 189.71 | K5: 183.5525 | L5: 1.122179 | M5: 4.555555 | N5: 0.236508 | O5: 0.88146437 | P5: #VALUE! | Q5: 0.31736818 | R5: 1908.843 | S5: 339.77403 | T5: 16.07 | U5: 4.97 | V5: 17.255 | W5: 11.07654 | X5: 10.31585 | Y5: 2.6823927 | Z5: 1.3018923 | AA5: #N/A N/A | AB5: 12.402937 | AC5: 1.4024607 | AD5: 6.5456594 | AE5: #N/A N/A
A6: BGH | B6: BANGKOK DUSIT MED SERVICE | C6: http://www.bangkokhospital.com | D6: Healthcare-Services | E6: 107 | F6: 113 | G6: 66.5 | H6: 1013800 | I6: 2873719 | J6: 106.72 | K6: 93.1625 | L6: 0.6116548 | M6: 4.217391 | N6: 0.1469117 | O6: 0.52482409 | P6: 0.34659342 | Q6: 0.12104643 | R6: 1545.459 | S6: 165.36409 | T6: 4.34 | U6: 0.82 | V6: 4.006 | W6: 24.654378 | X6: 26.709935 | Y6: 3.9565815 | Z6: 4.9390043 | AA6: 21.694365 | AB6: 21.44574 | AC6: 11.067345 | AD6: 14.56225 | AE6: A
A7: BECL | B7: BANGKOK EXPRESSWAY PUB CO | C7: http://www.becl.co.th | D7: Commercial Services | E7: 29 | F7: 30.5 | G7: 16.6 | H7: 3381200 | I7: 1785303 | J7: 28.935 | K7: 24.30975 | L7: 0.5694013 | M7: 4.733333 | N7: 0.3222031 | O7: 1.0178905 | P7: #VALUE! | Q7: 0.19262688 | R7: 770 | S7: 22.33 | T7: 2.7009 | U7: 0.44 | V7: 1.974 | W7: 10.737162 | X7: 14.690983 | Y7: 3.0287216 | Z7: 1.1049069 | AA7: 6.0122917 | AB7: 10.646855 | AC7: 5.0443428 | AD7: 6.7529561 | AE7: C
A8: BAY | B8: BANK OF AYUDHYA PCL | C8: http://www.krungsri.com | D8: Banks | E8: 29.5 | F8: 37 | G8: 17.8 | H8: 4986800 | I8: 14774830 | J8: 31.64 | K8: 28.52075 | L8: 1.174226 | M8: 4.212121 | N8: 0.09444683 | O8: 2.2797978 | P8: #VALUE! | Q8: 0.16511763 | R8: 6074.144 | S8: 179.18723 | T8: 1.8686 | U8: 0.75 | V8: 2.501 | W8: 15.78722 | X8: 11.795282 | Y8: 2.3207178 | Z8: 1.6421693 | AA8: 27.390628 | AB8: 10.796901 | AC8: 1.1610876 | AD8: 3.4664814 | AE8: #N/A N/A
A9: BANPU | B9: BANPU PUBLIC CO LTD | C9: http://www.banpu.co.th | D9: Coal | E9: 389 | F9: 688 | G9: 388 | H9: 872100 | I9: 1616331 | J9: 413.44 | K9: 501.6651 | L9: 1.111976 | M9: 3.875 | N9: 0.2097117 | O9: 1.2493118 | P9: 0.33872132 | Q9: 0.17846174 | R9: 271.7479 | S9: 105.70991 | T9: 48.774 | U9: 11 | V9: 39.549 | W9: 7.9755607 | X9: 9.8358998 | Y9: 0.87153235 | Z9: 1.3466181 | AA9: 4.964551 | AB9: 17.790777 | AC9: 6.1156224 | AD9: 12.267947 | AE9: C+
A10: BEC | B10: BEC WORLD PUBLIC CO LTD | C10: http://www.becworld.com | D10: Media | E10: 58 | F10: 76.5 | G10: 35.25 | H10: 2483900 | I10: 1812031 | J10: 57.475 | K10: 51.785 | L10: 0.8421156 | M10: 3.375 | N10: 0.08910461 | O10: 0.001079245 | P10: 0.52607288 | Q10: 0.27573077 | R10: 2000 | S10: 116 | T10: 2.01 | U10: 0.59 | V10: 2.338 | W10: 28.855721 | X10: 24.807528 | Y10: 8.4887645 | Z10: 15.246619 | AA10: 18.551933 | AB10: 54.131185 | AC10: 39.718442 | AD10: 54.365227 | AE10: A
A11: BIGC | B11: BIG C SUPERCENTER PCL | C11: http://www.bigc.co.th | D11: Retail | E11: 186.5 | F11: 238 | G11: 104 | H11: 854500 | I11: 810350 | J11: 188.19 | K11: 180.2675 | L11: 1.112769 | M11: 2.555556 | N11: 0.4062747 | O11: 1.5533317 | P11: 0.20286399 | Q11: 0.047848822 | R11: 825 | S11: 153.8625 | T11: 8.27 | U11: 2.46 | V11: 7.52 | W11: 22.551391 | X11: 24.800532 | Y11: 1.3132034 | Z11: 5.1180848 | AA11: 15.998195 | AB11: 26.085094 | AC11: 7.757034 | AD11: 13.113253 | AE11: A
A12: BH | B12: BUMRUNGRAD HOSPITAL PUB CO | C12: http://www.bumrungrad.com | D12: Healthcare-Services | E12: 76.75 | F12: 85.5 | G12: 39.5 | H12: 239200 | I12: 1012145 | J12: 78.775 | K12: 65.34125 | L12: 0.773914 | M12: 3.043478 | N12: 0.2639736 | O12: 0.73623679 | P12: 0.40092091 | Q12: 0.14417215 | R12: 728.3932 | S12: 55.90418 | T12: 2.63 | U12: 0.5 | V12: 2.93 | W12: 29.18251 | X12: 26.194539 | Y12: 4.728832 | Z12: 7.6351306 | AA12: 23.861238 | AB12: 28.204662 | AC12: 13.729873 | AD12: 17.886967 | AE12: A
A13: CCET | B13: CALCOMP ELECTRONICS (THAI) | C13: http://www.calcomp.co.th | D13: Computers | E13: 2.6 | F13: 2.98 | G13: 2.18 | H13: 7739500 | I13: 2552547 | J13: 2.7032 | K13: 2.7011 | L13: 0.8152083 | M13: 1.555556 | N13: 0.2089641 | O13: 0.89687875 | P13: 0.029197439 | Q13: 0.0038913973 | R13: 4077.556 | S13: 10.601646 | T13: 0.176 | U13: #N/A N/A | V13: 0.304 | W13: 14.772727 | X13: 8.5526316 | Y13: 0.075843774 | Z13: 0.70338405 | AA13: #N/A N/A | AB13: 4.4604442 | AC13: 1.1792656 | AD13: 3.1678631 | AE13: B
A14: CPN | B14: CENTRAL PATTANA PUB CO LTD | C14: http://www.centralpattana.co.th | D14: Real Estate | E14: 69.75 | F14: 77.25 | G14: 31.75 | H14: 1715700 | I14: 2842725 | J14: 61.53 | K14: 49.37875 | L14: 0.8899142 | M14: 4.352941 | N14: 0.0943149 | O14: 1.2647782 | P14: 0.34870539 | Q14: 0.17221737 | R14: 2178.816 | S14: 151.97242 | T14: 1.52 | U14: 0.447 | V14: 1.959 | W14: 45.888158 | X14: 35.6049 | Y14: 10.600762 | Z14: 7.1049354 | AA14: 16.48 | AB14: 16.46006 | AC14: 5.4141664 | AD14: 9.4215261 | AE14: C+
A15: CPF | B15: CHAROEN POKPHAND FOODS PUB | C15: http://www.cpfworldwide.com | D15: Food | E15: 35.5 | F15: 42.25 | G15: 29.5 | H15: 25385200 | I15: 25920370 | J15: 33.64 | K15: 35.785 | L15: 0.8582324 | M15: 4.172414 | N15: 0.5366158 | O15: 1.0920229 | P15: 0.16308493 | Q15: 0.076841572 | R15: 7742.942 | S15: 274.87444 | T15: 3.44 | U15: -0.11 | V15: 2.33 | W15: 10.319767 | X15: 15.236052 | Y15: 0.90489731 | Z15: 2.6673227 | AA15: 30.84638 | AB15: 28.883968 | AC15: 11.097807 | AD15: 15.857317 | AE15: B+
A16: CPALL | B16: CP ALL PCL | C16: http://www.7eleven.co.th | D16: Retail | E16: 40.75 | F16: 44.75 | G16: 22.5 | H16: 38643500 | I16: 20390210 | J16: 36.675 | K16: 34.19812 | L16: 0.9246077 | M16: 3.6875 | N16: 0.6219209 | O16: 0.00010113582 | P16: 0.24779436 | Q16: 0.051542067 | R16: 8983.101 | S16: 366.06137 | T16: 1.015 | U16: 0.255 | V16: 1.172 | W16: 40.147783 | X16: 34.769625 | Y16: 2.1815705 | Z16: 17.231358 | AA16: 20.696575 | AB16: 46.920064 | AC16: 17.315585 | AD16: 46.452829 | AE16: A
A17: DELTA | B17: DELTA ELECTRONICS THAI PCL | C17: http://www.deltathailand.com | D17: Electronics | E17: 29.5 | F17: 30 | G17: 18.2 | H17: 2396800 | I17: 1027267 | J17: 26.269 | K17: 23.7595 | L17: 0.812852 | M17: 4 | N17: 0.6860667 | O17: 0.051469856 | P17: 0.23524374 | Q17: 0.074526804 | R17: 1247.382 | S17: 36.797758 | T17: 2.41 | U17: 0.69 | V17: 2.701 | W17: 12.240664 | X17: 10.921881 | Y17: 0.95569281 | Z17: 1.8526065 | AA17: 6.4475153 | AB17: 15.527193 | AC17: 9.8705351 | AD17: 15.181447 | AE17: A
A18: EGCO | B18: ELECTRICITY GENERATING PCL | C18: http://www.egco.com | D18: Electric | E18: 129.5 | F18: 138 | G18: 85.75 | H18: 721400 | I18: 642867.2 | J18: 127.34 | K18: 107.8875 | L18: 0.4530518 | M18: 3.947368 | N18: 0.0652411 | O18: 0.2079601 | P18: 0.27049432 | Q18: 0.65128724 | R18: 526.465 | S18: 68.177219 | T18: 18.97 | U18: 3.897 | V18: 13.703 | W18: 6.8265683 | X18: 9.4504853 | Y18: 8.203912 | Z18: 1.0323805 | AA18: 7.0036623 | AB18: 16.309801 | AC18: 11.407245 | AD18: 12.813734 | AE18: C+
A19: GLOW | B19: GLOW ENERGY PCL | C19: http://www.glow.co.th | D19: Electric | E19: 71.25 | F19: 73 | G19: 50 | H19: 598500 | I19: 774328.1 | J19: 66.925 | K19: 61.00125 | L19: 0.7230711 | M19: 3.555556 | N19: 0.5650435 | O19: 2.1515138 | P19: 0.16404505 | Q19: 0.086582219 | R19: 1462.865 | S19: 104.22913 | T19: 3.17 | U19: 1.565 | V19: 3.804 | W19: 22.476341 | X19: 18.730284 | Y19: 2.0453487 | Z19: 2.9603244 | AA19: 41.314387 | AB19: 13.500836 | AC19: 3.713404 | AD19: 6.0835344 | AE19: C+
A20: HANA | B20: HANA MICROELECTRONICS PCL | C20: http://www.hanagroup.com | D20: Electronics | E20: 21.9 | F20: 23.2 | G20: 17.1 | H20: 87000 | I20: 307550 | J20: 21.222 | K20: 20.5675 | L20: 0.6575844 | M20: 3.4375 | N20: 0.3376681 | O20: 0.002665408 | P20: 0.12586942 | Q20: 0.099177184 | R20: 804.8789 | S20: 17.626848 | T20: 1.65 | U20: 0.49 | V20: 1.985 | W20: 13.272727 | X20: 11.032746 | Y20: 1.0465552 | Z20: 1.2065783 | AA20: 6.4507427 | AB20: 9.3964738 | AC20: 7.4950338 | AD20: 9.4477426 | AE20: A
A21: IRPC | B21: IRPC PCL | C21: http://www.irpc.co.th | D21: Chemicals | E21: 4.26 | F21: 4.92 | G21: 3.46 | H21: 56708500 | I21: 70622100 | J21: 4.1584 | K21: 4.1647 | L21: 1.547618 | M21: 3.695652 | N21: 0.6109509 | O21: 0.40649156 | P21: 0.046161938 | Q21: 0.016634139 | R21: 20434.42 | S21: 87.050633 | T21: -0.158 | U21: 0.1 | V21: 0.15 | W21: #N/A N/A | X21: 28.4 | Y21: 0.31641181 | Z21: 1.1750137 | AA21: 7.0747414 | AB21: -4.1669938 | AC21: -2.2254306 | AD21: #N/A N/A | AE21: A
A22: ITD | B22: ITALIAN-THAI DEVELOPMENT PCL | C22: http://www.itd.co.th | D22: Engineering&Construction | E22: 4.06 | F22: 4.14 | G22: 3.04 | H22: 46874500 | I22: 44400490 | J22: 3.7216 | K22: 3.5108 | L22: 1.252907 | M22: 2.941176 | N22: 0.02735545 | O22: 3.0044251 | P22: 0.071366374 | Q22: -0.038385615 | R22: 4193.678 | S22: 17.026334 | T22: -0.32298 | U22: #N/A N/A | V22: 0.11 | W22: #N/A N/A | X22: 36.909091 | Y22: 0.38811378 | Z22: 2.1714414 | AA22: #N/A N/A | AB22: -15.771488 | AC22: -2.5016504 | AD22: #N/A N/A | AE22: C
A23: KBANK | B23: KASIKORNBANK PCL | C23: http://www.kasikornbank.com | D23: Banks | E23: 177.5 | F23: 188 | G23: 109 | H23: 3154600 | I23: 4425166 | J23: 177.85 | K23: 159.035 | L23: 1.146595 | M23: 4.764706 | N23: 0.1889084 | O23: 0.88731153 | P23: #VALUE! | Q23: 0.18971981 | R23: 2393.26 | S23: 424.80369 | T23: 12.79 | U23: 4.54 | V23: 14.759 | W23: 13.87803 | X23: 12.02656 | Y23: 2.4061005 | Z23: 2.3785395 | AA23: 5.976459 | AB23: 18.641024 | AC23: 1.6176408 | AD23: 8.6893192 | AE23: #N/A N/A
A24: KSL | B24: KHON KAEN SUGAR INDUSTRY PCL | C24: http://www.kslsugar.com | D24: Food | E24: 13.4 | F24: 14.9 | G24: 11.3 | H24: 622500 | I24: 1629078 | J24: 13.01 | K24: 13.226 | L24: 0.9663599 | M24: 4.764706 | N24: 0.4021153 | O24: 1.2379263 | P24: 0.29547212 | Q24: 0.11481863 | R24: 1575.768 | S24: 21.115291 | T24: 1.486 | U24: #N/A N/A | V24: 1.287 | W24: 9.0174964 | X24: 10.41181 | Y24: 0.94270163 | Z24: 2.0150751 | AA24: 5.4764647 | AB24: 23.517995 | AC24: 8.27799 | AD24: 11.569936 | AE24: B
A25: KTB | B25: KRUNG THAI BANK PUB CO LTD | C25: http://www.ktb.co.th | D25: Banks | E25: 18.4 | F25: 19.3 | G25: 13.17095 | H25: 21206700 | I25: 38054720 | J25: 17.8828 | K25: 16.12934 | L25: 1.285527 | M25: 4.388889 | N25: 0.533018 | O25: 3.6518747 | P25: #VALUE! | Q25: 0.24095949 | R25: 13976.06 | S25: 257.15952 | T25: 2.0230166 | U25: 0.56 | V25: 2.074 | W25: 9.095328 | X25: 8.8717454 | Y25: 1.998153 | Z25: 1.5888882 | AA25: #N/A N/A | AB25: 15.461459 | AC25: 1.0042968 | AD25: 4.1137477 | AE25: #N/A N/A
A26: LH | B26: LAND & HOUSES PUB CO LTD | C26: http://www.lh.co.th | D26: Home Builders | E26: 8.7 | F26: 9.2 | G26: 5.55 | H26: 20229100 | I26: 15905880 | J26: 8.557 | K26: 7.60575 | L26: 1.205836 | M26: 3.9 | N26: 0.245641 | O26: 0.90837866 | P26: 0.32490561 | Q26: 0.29167071 | R26: 10025.92 | S26: 87.225516 | T26: 0.52 | U26: 0.115 | V26: 0.463 | W26: 16.730769 | X26: 18.790497 | Y26: 4.1169767 | Z26: 2.8044761 | AA26: 45.557852 | AB26: 17.234179 | AC26: 8.37453 | AD26: 9.778726 | AE26: B+
A27: MCOT | B27: MCOT PCL | C27: http://www.mcot.net | D27: Media | E27: 34.75 | F27: 35 | G27: 25 | H27: 5178500 | I27: 974900 | J27: 30.93 | K27: 29.245 | L27: 0.6703543 | M27: 3.8 | N27: 0.8362009 | O27: 0.00170255 | P27: 0.57531013 | Q27: 0.26483922 | R27: 687.0992 | S27: 23.876697 | T27: 1.904006 | U27: 0.69 | V27: 2.356 | W27: 18.250993 | X27: 14.749576 | Y27: 4.7002241 | Z27: 3.098428 | AA27: 8.9208741 | AB27: 16.659744 | AC27: 12.060514 | AD27: 16.818231 | AE27: A
A28: MINT | B28: MINOR INTERNATIONAL PCL | C28: http://www.minorinternational.com | D28: Retail | E28: 18.7 | F28: 18.9 | G28: 9.181818 | H28: 7282700 | I28: 9550177 | J28: 16.49 | K28: 13.99273 | L28: 1.098739 | M28: 4.272727 | N28: 0.192147 | O28: 1.3798026 | P28: 0.5689096 | Q28: 0.11019495 | R28: 3663.07 | S28: 68.499414 | T28: 0.91568184 | U28: 0.3 | V28: 0.806 | W28: 20.421941 | X28: 23.200993 | Y28: 2.343071 | Z28: 4.3364152 | AA28: 16.008807 | AB28: 23.371488 | AC28: 8.1209898 | AD28: 12.223834 | AE28: B+
A29: PSL | B29: PRECIOUS SHIPPING PCL | C29: http://www.preciousshipping.com | D29: Transportation | E29: 13.5 | F29: 17.6 | G29: 13.1 | H29: 806900 | I29: 995118.8 | J29: 13.436 | K29: 14.894 | L29: 0.8872173 | M29: 2.714286 | N29: 0.4004428 | O29: 0.45853978 | P29: 0.56582875 | Q29: 0.23300278 | R29: 1039.521 | S29: 14.033528 | T29: 0.188494 | U29: 0.32 | V29: 0.126 | W29: 71.620317 | X29: 107.14286 | Y29: 4.1245133 | Z29: 0.9522602 | AA29: 22.924361 | AB29: 1.3364672 | AC29: 0.9390067 | AD29: 3.3306162 | AE29: B
A30: PS | B30: PRUKSA REAL ESTATE PCL | C30: http://www.pruksa.com | D30: Real Estate | E30: 19.5 | F30: 20.8 | G30: 10.4 | H30: 2966500 | I30: 7554242 | J30: 18.536 | K30: 16.0935 | L30: 1.24423 | M30: 4.096774 | N30: 0.04554742 | O30: 1.1948076 | P30: 0.36704193 | Q30: 0.12185952 | R30: 2211.192 | S30: 43.118242 | T30: 1.241 | U30: 0.47 | V30: 1.653 | W30: 15.713135 | X30: 11.796733 | Y30: 1.9073646 | Z30: 2.4252728 | AA30: 53.782462 | AB30: 16.350265 | AC30: 6.6107619 | AD30: 8.1881964 | AE30: B+
A31: PTTEP | B31: PTT EXPLOR & PROD PUBLIC CO | C31: http://www.pttep.com | D31: Oil&Gas | E31: 169 | F31: 187 | G31: 147.5 | H31: 5814600 | I31: 3838036 | J31: 156.5 | K31: 166.7825 | L31: 1.021007 | M31: 4.026316 | N31: 0.7795659 | O31: 0.61365193 | P31: 0.77156858 | Q31: 0.26377341 | R31: 3319.985 | S31: 561.07756 | T31: 17.66 | U31: 4.325 | V31: 16.521 | W31: 9.5696489 | X31: 10.229405 | Y31: 2.7775122 | Z31: 2.4988552 | AA31: 6.375399 | AB31: 28.870403 | AC31: 12.391681 | AD31: 17.60567 | AE31: A
A32: PTT | B32: PTT PCL | C32: http://www.pttplc.com | D32: Oil&Gas | E32: 322 | F32: 369 | G32: 290 | H32: 5968100 | I32: 3499692 | J32: 325.24 | K32: 334.155 | L32: 1.140053 | M32: 4.53125 | N32: 0.711581 | O32: 0.73378003 | P32: 0.081229817 | Q32: 0.043364608 | R32: 2856.3 | S32: 919.7285 | T32: 29.464 | U32: 9.693 | V32: 37.501 | W32: 10.928591 | X32: 8.5864377 | Y32: 0.35121076 | Z32: 1.5787006 | AA32: 5.6919058 | AB32: 15.190167 | AC32: 5.8977764 | AD32: 10.812569 | AE32: A
A33: RATCH | B33: RATCHABURI ELEC GEN HODG PUB | C33: http://www.ratch.co.th/en | D33: Electric | E33: 54.75 | F33: 55 | G33: 40 | H33: 786500 | I33: 1219617 | J33: 50.24 | K33: 44.87125 | L33: 0.5326509 | M33: 3.777778 | N33: 0.1259081 | O33: 0.80684896 | P33: 0.17585889 | Q33: 0.1113896 | R33: 1450 | S33: 79.3875 | T33: 4.57 | U33: 0.6 | V33: 3.948 | W33: 11.980306 | X33: 13.867781 | Y33: 1.4937954 | Z33: 1.5482096 | AA33: 9.3333786 | AB33: 13.269087 | AC33: 7.5424961 | AD33: 11.943358 | AE33: B+
A34: SCC | B34: SIAM CEMENT PUBLIC CO LTD | C34: http://www.siamcement.com | D34: Holding Companies-Divers | E34: 390 | F34: 402 | G34: 310 | H34: 4618700 | I34: 1819842 | J34: 350.92 | K34: 340.92 | L34: 1.108802 | M34: 4.344828 | N34: 0.4344634 | O34: 1.1574126 | P34: 0.14316653 | Q34: 0.074015828 | R34: 1200 | S34: 468 | T34: 16.56 | U34: 7.55 | V34: 20.76 | W34: 23.550725 | X34: 18.786127 | Y34: 1.1828488 | Z34: 3.4146155 | AA34: 21.413161 | AB34: 14.567307 | AC34: 5.2386974 | AD34: 5.7511397 | AE34: B+
A35: SCCC | B35: SIAM CITY CEMENT PUB CO LTD | C35: http://www.siamcitycement.com | D35: Building Materials | E35: 456 | F35: 456 | G35: 236 | H35: 75600 | I35: 102520.3 | J35: 385.46 | K35: 328.175 | L35: 0.9575662 | M35: 2.642857 | N35: 0.4158682 | O35: 0.26393519 | P35: 0.44432214 | Q35: 0.14226542 | R35: 230 | S35: 104.88 | T35: 13.96 | U35: 4.16 | V35: 17.791 | W35: 32.664756 | X35: 25.630937 | Y35: 4.2587925 | Z35: 5.9236791 | AA35: 25.354413 | AB35: 18.232803 | AC35: 11.818049 | AD35: 15.180919 | AE35: A
A36: SCB | B36: SIAM COMMERCIAL BANK PUB CO | C36: http://www.scb.co.th/ | D36: Banks | E36: 160 | F36: 172 | G36: 102 | H36: 4772800 | I36: 4830403 | J36: 160.94 | K36: 146.1625 | L36: 1.153906 | M36: 4.666667 | N36: 0.6398847 | O36: 1.7018369 | P36: #VALUE! | Q36: 0.3129666 | R36: 3393.736 | S36: 542.99781 | T36: 10.930239 | U36: 3.395 | V36: 12.096 | W36: 14.638289 | X36: 13.227513 | Y36: 3.5376725 | Z36: 2.6315511 | AA36: #N/A N/A | AB36: 19.360301 | AC36: 1.8795898 | AD36: 7.7445845 | AE36: #N/A N/A
A37: MAKRO | B37: SIAM MAKRO PUBLIC CO LTD | C37: http://www.siammakro.co.th | D37: Retail | E37: 462 | F37: 474 | G37: 205 | H37: 275000 | I37: 291034.4 | J37: 407.44 | K37: 349.695 | L37: 0.9820426 | M37: 4 | N37: 0.7480632 | O37: 0.22743755 | P37: 0.097870794 | Q37: 0.026280485 | R37: 240 | S37: 110.88 | T37: 12.79 | U37: #N/A N/A | V37: 14.818 | W37: 36.12197 | X37: 31.178297 | Y37: 1.000793 | Z37: 11.095584 | AA37: 19.191256 | AB37: 30.515781 | AC37: 10.838152 | AD37: 25.156891 | AE37: A
A38: TSTH | B38: TATA STEEL THAILAND PCL | C38: http://www.millenniumsteel.com | D38: Iron/Steel | E38: 0.79 | F38: 0.95 | G38: 0.75 | H38: 1321400 | I38: 2930638 | J38: 0.8014 | K38: 0.827 | L38: 0.918144 | M38: 2.222222 | N38: 0.05863593 | O38: 0.48395729 | P38: -0.015482651 | Q38: -0.060275048 | R38: 8168.768 | S38: 6.4533267 | T38: -0.20022 | U38: #N/A N/A | V38: 0.015 | W38: #N/A N/A | X38: 52.666667 | Y38: 0.27028666 | Z38: 0.5102688 | AA38: #N/A N/A | AB38: -12.487866 | AC38: -7.499468 | AD38: #N/A N/A | AE38: C
A39: THAI | B39: THAI AIRWAYS INTERNATIONAL | C39: http://www.thaiairways.com | D39: Airlines | E39: 23 | F39: 27.75 | G39: 18.1 | H39: 7058200 | I39: 8522569 | J39: 21.802 | K39: 22.871 | L39: 1.211199 | M39: 3.84 | N39: 0.7328037 | O39: 2.2526852 | P39: 0.49309975 | Q39: -0.053388079 | R39: 2182.772 | S39: 50.203754 | T39: -0.378 | U39: 0.67 | V39: 1.902 | W39: #N/A N/A | X39: 12.092534 | Y39: 0.25475944 | Z39: 0.76820748 | AA39: 4.7767072 | AB39: -1.2516442 | AC39: -0.29361599 | AD39: -1.3491667 | AE39: F
A40: TOP | B40: THAI OIL PCL | C40: http://www.thaioil.co.th/ | D40: Oil&Gas | E40: 67.5 | F40: 77 | G40: 53 | H40: 4760200 | I40: 8698450 | J40: 65.9 | K40: 65.1525 | L40: 1.294643 | M40: 3.823529 | N40: 0.5558756 | O40: 0.574911 | P40: 0.051392513 | Q40: 0.03328508 | R40: 2040.028 | S40: 137.70188 | T40: 2.303 | U40: 2.21 | V40: 5.885 | W40: 29.309596 | X40: 11.469839 | Y40: 0.30283333 | Z40: 1.8185946 | AA40: 9.7874419 | AB40: 6.1313034 | AC40: 2.850642 | AD40: 5.0447863 | AE40: A
...

Sheet Security Analysis
I3: Last 3 Years | X3: Stock | Y3: Name | Z3: Beta | AA3: Current PE | AB3: ROE | AC3: ROA | AD3: ROC | AE3: WebURL | AF3: =IF(Y14="NO_CONS","MVP","MVP_C") -> MVP_C | AG3: =IF(Y14="NO_CONS","EP","EP_C") -> EP_C
H4: =IF(T4<0,REPT("n",ABS(T4)),"") | I4: ADVANC | J4: =IF(T4>0,REPT("n",T4),"") -> nnnnnnnnnnnnn | T4: =ROUND(U4*500,0) -> 13 | U4: =HLOOKUP(I4,TAB_EA,2,FALSE) -> 0.025389461 | X4: ADVANC | Y4: =HLOOKUP(Y$3,TAB_FINDATA,MATCH($X4,COL_FINDATA,0),0) -> ADVANCED INFO SERVICE PCL | Z4: =HLOOKUP(Z$3,TAB_FINDATA,MATCH($X4,COL_FINDATA,0),0) -> 0.6334205 | AA4: =HLOOKUP(AA$3,TAB_FINDATA,MATCH($X4,COL_FINDATA,0),0) -> 20.499784 | AB4: =HLOOKUP(AB$3,TAB_FINDATA,MATCH($X4,COL_FINDATA,0),0) -> 63.85362 | AC4: =HLOOKUP(AC$3,TAB_FINDATA,MATCH($X4,COL_FINDATA,0),0) -> 27.527391 | AD4: =HLOOKUP(AD$3,TAB_FINDATA,MATCH($X4,COL_FINDATA,0),0) -> 38.944415 | AE4: =HYPERLINK(HLOOKUP(AE$3,TAB_FINDATA,MATCH($X4,COL_FINDATA,0),0),Y4) -> ADVANCED INFO SERVICE PCL | AF4: {=IF(Y14="NO_CONS",W_MVP,W_MVP_C)} -> 0.70554977 | AG4: {=IF(Y14="NO_CONS",W_EP,W_EP_C)} -> 0.6997567
H5: =IF(T5<0,REPT("n",ABS(T5)),"") | I5: AOT | J5: =IF(T5>0,REPT("n",T5),"") -> nnnnnnnnnn | T5: =ROUND(U5*500,0) -> 10 | U5: =HLOOKUP(I5,TAB_EA,2,FALSE) -> 0.020979971 | X5: AOT | Y5: =HLOOKUP(Y$3,TAB_FINDATA,MATCH($X5,COL_FINDATA,0),0) -> AIRPORTS OF THAILAND PCL | Z5: =HLOOKUP(Z$3,TAB_FINDATA,MATCH($X5,COL_FINDATA,0),0) -> 0.9770615 | AA5: =HLOOKUP(AA$3,TAB_FINDATA,MATCH($X5,COL_FINDATA,0),0) -> 23.031826 | AB5: =HLOOKUP(AB$3,TAB_FINDATA,MATCH($X5,COL_FINDATA,0),0) -> 6.7483941 | AC5: =HLOOKUP(AC$3,TAB_FINDATA,MATCH($X5,COL_FINDATA,0),0) -> 3.4526643 | AD5: =HLOOKUP(AD$3,TAB_FINDATA,MATCH($X5,COL_FINDATA,0),0) -> 4.7309384 | AE5: =HYPERLINK(HLOOKUP(AE$3,TAB_FINDATA,MATCH($X5,COL_FINDATA,0),0),Y5) -> AIRPORTS OF THAILAND PCL | AF5: -0.28405183 | AG5: 0.16709106
H6: =IF(T6<0,REPT("n",ABS(T6)),"") | I6: BBL | J6: =IF(T6>0,REPT("n",T6),"") -> nnnnnn | T6: =ROUND(U6*500,0) -> 6 | U6: =HLOOKUP(I6,TAB_EA,2,FALSE) -> 0.012149949 | X6: BBL | Y6: =HLOOKUP(Y$3,TAB_FINDATA,MATCH($X6,COL_FINDATA,0),0) -> BANGKOK BANK PUBLIC CO LTD | Z6: =HLOOKUP(Z$3,TAB_FINDATA,MATCH($X6,COL_FINDATA,0),0) -> 1.122179 | AA6: =HLOOKUP(AA$3,TAB_FINDATA,MATCH($X6,COL_FINDATA,0),0) -> 11.07654 | AB6: =HLOOKUP(AB$3,TAB_FINDATA,MATCH($X6,COL_FINDATA,0),0) -> 12.402937 | AC6: =HLOOKUP(AC$3,TAB_FINDATA,MATCH($X6,COL_FINDATA,0),0) -> 1.4024607 | AD6: =HLOOKUP(AD$3,TAB_FINDATA,MATCH($X6,COL_FINDATA,0),0) -> 6.5456594 | AE6: =HYPERLINK(HLOOKUP(AE$3,TAB_FINDATA,MATCH($X6,COL_FINDATA,0),0),Y6) -> BANGKOK BANK PUBLIC CO LTD | AF6: 0.15 | AG6: 0.15
H7: =IF(T7<0,REPT("n",ABS(T7)),"") | I7: KBANK | J7: =IF(T7>0,REPT("n",T7),"") -> nnnnnnnnnnn | T7: =ROUND(U7*500,0) -> 11 | U7: =HLOOKUP(I7,TAB_EA,2,FALSE) -> 0.021142227 | X7: KBANK | Y7: =HLOOKUP(Y$3,TAB_FINDATA,MATCH($X7,COL_FINDATA,0),0) -> KASIKORNBANK PCL | Z7: =HLOOKUP(Z$3,TAB_FINDATA,MATCH($X7,COL_FINDATA,0),0) -> 1.146595 | AA7: =HLOOKUP(AA$3,TAB_FINDATA,MATCH($X7,COL_FINDATA,0),0) -> 13.87803 | AB7: =HLOOKUP(AB$3,TAB_FINDATA,MATCH($X7,COL_FINDATA,0),0) -> 18.641024 | AC7: =HLOOKUP(AC$3,TAB_FINDATA,MATCH($X7,COL_FINDATA,0),0) -> 1.6176408 | AD7: =HLOOKUP(AD$3,TAB_FINDATA,MATCH($X7,COL_FINDATA,0),0) -> 8.6893192 | AE7: =HYPERLINK(HLOOKUP(AE$3,TAB_FINDATA,MATCH($X7,COL_FINDATA,0),0),Y7) -> KASIKORNBANK PCL | AF7: 0.52558224 | AG7: 1.4238151
H8: =IF(T8<0,REPT("n",ABS(T8)),"") | I8: SCB | J8: =IF(T8>0,REPT("n",T8),"") -> nnnnnnnnn | T8: =ROUND(U8*500,0) -> 9 | U8: =HLOOKUP(I8,TAB_EA,2,FALSE) -> 0.018819372 | X8: SCB | Y8: =HLOOKUP(Y$3,TAB_FINDATA,MATCH($X8,COL_FINDATA,0),0) -> SIAM COMMERCIAL BANK PUB CO | Z8: =HLOOKUP(Z$3,TAB_FINDATA,MATCH($X8,COL_FINDATA,0),0) -> 1.153906 | AA8: =HLOOKUP(AA$3,TAB_FINDATA,MATCH($X8,COL_FINDATA,0),0) -> 14.638289 | AB8: =HLOOKUP(AB$3,TAB_FINDATA,MATCH($X8,COL_FINDATA,0),0) -> 19.360301 | AC8: =HLOOKUP(AC$3,TAB_FINDATA,MATCH($X8,COL_FINDATA,0),0) -> 1.8795898 | AD8: =HLOOKUP(AD$3,TAB_FINDATA,MATCH($X8,COL_FINDATA,0),0) -> 7.7445845 | AE8: =HYPERLINK(HLOOKUP(AE$3,TAB_FINDATA,MATCH($X8,COL_FINDATA,0),0),Y8) -> SIAM COMMERCIAL BANK PUB CO | AF8: -0.058271846 | AG8: -0.38468894
H9: =IF(T9<0,REPT("n",ABS(T9)),"") | I9: BAY | J9: =IF(T9>0,REPT("n",T9),"") -> nnnnnn | T9: =ROUND(U9*500,0) -> 6 | U9: =HLOOKUP(I9,TAB_EA,2,FALSE) -> 0.012337062 | X9: BAY | Y9: =HLOOKUP(Y$3,TAB_FINDATA,MATCH($X9,COL_FINDATA,0),0) -> BANK OF AYUDHYA PCL | Z9: =HLOOKUP(Z$3,TAB_FINDATA,MATCH($X9,COL_FINDATA,0),0) -> 1.174226 | AA9: =HLOOKUP(AA$3,TAB_FINDATA,MATCH($X9,COL_FINDATA,0),0) -> 15.78722 | AB9: =HLOOKUP(AB$3,TAB_FINDATA,MATCH($X9,COL_FINDATA,0),0) -> 10.796901 | AC9: =HLOOKUP(AC$3,TAB_FINDATA,MATCH($X9,COL_FINDATA,0),0) -> 1.1610876 | AD9: =HLOOKUP(AD$3,TAB_FINDATA,MATCH($X9,COL_FINDATA,0),0) -> 3.4664814 | AE9: =HYPERLINK(HLOOKUP(AE$3,TAB_FINDATA,MATCH($X9,COL_FINDATA,0),0),Y9) -> BANK OF AYUDHYA PCL | AF9: -0.041779969 | AG9: -0.74595291
H10: =IF(T10<0,REPT("n",ABS(T10)),"") -> nn | I10: BANPU | J10: =IF(T10>0,REPT("n",T10),"") | T10: =ROUND(U10*500,0) -> -2 | U10: =HLOOKUP(I10,TAB_EA,2,FALSE) -> -0.0031365404 | X10: TMB | Y10: =HLOOKUP(Y$3,TAB_FINDATA,MATCH($X10,COL_FINDATA,0),0) -> TMB BANK PCL | Z10: =HLOOKUP(Z$3,TAB_FINDATA,MATCH($X10,COL_FINDATA,0),0) -> 1.096784 | AA10: =HLOOKUP(AA$3,TAB_FINDATA,MATCH($X10,COL_FINDATA,0),0) -> 20.777778 | AB10: =HLOOKUP(AB$3,TAB_FINDATA,MATCH($X10,COL_FINDATA,0),0) -> 8.8917345 | AC10: =HLOOKUP(AC$3,TAB_FINDATA,MATCH($X10,COL_FINDATA,0),0) -> 0.71071525 | AD10: =HLOOKUP(AD$3,TAB_FINDATA,MATCH($X10,COL_FINDATA,0),0) -> 3.066263 | AE10: =HYPERLINK(HLOOKUP(AE$3,TAB_FINDATA,MATCH($X10,COL_FINDATA,0),0),Y10) -> TMB BANK PCL | AF10: 0.0029716377 | AG10: -0.31002106
X11: NO_CONS
I12: Select Data | Y12: Require Rate of Return | Z12: 0.03 | AE12: E(Rp) | AF12: =IF(Y14="NO_CONS",RP_MVP,RP_MVP_C) -> 0.019744529
Y13: Risk | Z13: =IF(Y14="NO_CONS",STD_EP,STD_EP_C) -> 0.083524657 | AE13: Std(p) | AF13: =IF(Y14="NO_CONS",STD_MVP,STD_MVP_C) -> 0.054696863
Y14: BBL | Z14: 0.15
A15: 1 | B15: Date | C15: KBANK | D15: BBL | E15: SCB | I15: TAB_PRICES
A16: 2 | B16: 39719 | C16: =HLOOKUP(C$15,INDIRECT($I$15),$A16) -> 64.5 | D16: =HLOOKUP(D$15,INDIRECT($I$15),$A16) -> 106 | E16: =HLOOKUP(E$15,INDIRECT($I$15),$A16) -> 36
A17: 3 | B17: 39749 | C17: =HLOOKUP(C$15,INDIRECT($I$15),$A17) -> 48.75 | D17: =HLOOKUP(D$15,INDIRECT($I$15),$A17) -> 63.5 | E17: =HLOOKUP(E$15,INDIRECT($I$15),$A17) -> 28.75
A18: 4 | B18: 39780 | C18: =HLOOKUP(C$15,INDIRECT($I$15),$A18) -> 42.5 | D18: =HLOOKUP(D$15,INDIRECT($I$15),$A18) -> 65.5 | E18: =HLOOKUP(E$15,INDIRECT($I$15),$A18) -> 30.75
A19: 5 | B19: 39810 | C19: =HLOOKUP(C$15,INDIRECT($I$15),$A19) -> 45.75 | D19: =HLOOKUP(D$15,INDIRECT($I$15),$A19) -> 68.5 | E19: =HLOOKUP(E$15,INDIRECT($I$15),$A19) -> 43.25
A20: 6 | B20: 39841 | C20: =HLOOKUP(C$15,INDIRECT($I$15),$A20) -> 47 | D20: =HLOOKUP(D$15,INDIRECT($I$15),$A20) -> 74.5 | E20: =HLOOKUP(E$15,INDIRECT($I$15),$A20) -> 39.75
A21: 7 | B21: 39872 | C21: =HLOOKUP(C$15,INDIRECT($I$15),$A21) -> 44.5 | D21: =HLOOKUP(D$15,INDIRECT($I$15),$A21) -> 74.5 | E21: =HLOOKUP(E$15,INDIRECT($I$15),$A21) -> 38
A22: 8 | B22: 39900 | C22: =HLOOKUP(C$15,INDIRECT($I$15),$A22) -> 46.5 | D22: =HLOOKUP(D$15,INDIRECT($I$15),$A22) -> 76.5 | E22: =HLOOKUP(E$15,INDIRECT($I$15),$A22) -> 40
A23: 9 | B23: 39931 | C23: =HLOOKUP(C$15,INDIRECT($I$15),$A23) -> 51.25 | D23: =HLOOKUP(D$15,INDIRECT($I$15),$A23) -> 78.75 | E23: =HLOOKUP(E$15,INDIRECT($I$15),$A23) -> 37.5
A24: 10 | B24: 39961 | C24: =HLOOKUP(C$15,INDIRECT($I$15),$A24) -> 55.75 | D24: =HLOOKUP(D$15,INDIRECT($I$15),$A24) -> 88.75 | E24: =HLOOKUP(E$15,INDIRECT($I$15),$A24) -> 37.75
A25: 11 | B25: 39992 | C25: =HLOOKUP(C$15,INDIRECT($I$15),$A25) -> 66.25 | D25: =HLOOKUP(D$15,INDIRECT($I$15),$A25) -> 106 | E25: =HLOOKUP(E$15,INDIRECT($I$15),$A25) -> 37.5
A26: 12 | B26: 40022 | C26: =HLOOKUP(C$15,INDIRECT($I$15),$A26) -> 72 | D26: =HLOOKUP(D$15,INDIRECT($I$15),$A26) -> 115 | E26: =HLOOKUP(E$15,INDIRECT($I$15),$A26) -> 37.5
A27: 13 | B27: 40053 | C27: =HLOOKUP(C$15,INDIRECT($I$15),$A27) -> 73 | D27: =HLOOKUP(D$15,INDIRECT($I$15),$A27) -> 112 | E27: =HLOOKUP(E$15,INDIRECT($I$15),$A27) -> 37.25
... A65: 51 | B65: 41210 | C65: =HLOOKUP(C$15,INDIRECT($I$15),$A65) -> 175 | D65: =HLOOKUP(D$15,INDIRECT($I$15),$A65) -> 175 | E65: =HLOOKUP(E$15,INDIRECT($I$15),$A65) -> 54

Sheet Matrix
B2: VCM | C2: {=TRANSPOSE(C13:C19)} -> ADVANC | D2: AOT | E2: BBL | F2: KBANK | G2: SCB | H2: BAY | I2: TMB
B3: {=C13:C19} -> ADVANC | C3: =MAX(HLOOKUP(C$2,TAB_COV,MATCH($B3,COL_COV,0),0),HLOOKUP($B3,TAB_COV,MATCH(C$2,COL_COV,0),0)) -> 0.0043484083 | D3: =MAX(HLOOKUP(D$2,TAB_COV,MATCH($B3,COL_COV,0),0),HLOOKUP($B3,TAB_COV,MATCH(D$2,COL_COV,0),0)) -> 0.0054843868 | E3: =MAX(HLOOKUP(E$2,TAB_COV,MATCH($B3,COL_COV,0),0),HLOOKUP($B3,TAB_COV,MATCH(E$2,COL_COV,0),0)) -> 0.0036687308 | F3: =MAX(HLOOKUP(F$2,TAB_COV,MATCH($B3,COL_COV,0),0),HLOOKUP($B3,TAB_COV,MATCH(F$2,COL_COV,0),0)) -> 0.0021004443 | G3: =MAX(HLOOKUP(G$2,TAB_COV,MATCH($B3,COL_COV,0),0),HLOOKUP($B3,TAB_COV,MATCH(G$2,COL_COV,0),0)) -> 0.0029934701 | H3: =MAX(HLOOKUP(H$2,TAB_COV,MATCH($B3,COL_COV,0),0),HLOOKUP($B3,TAB_COV,MATCH(H$2,COL_COV,0),0)) -> 0.0031896038 | I3: =MAX(HLOOKUP(I$2,TAB_COV,MATCH($B3,COL_COV,0),0),HLOOKUP($B3,TAB_COV,MATCH(I$2,COL_COV,0),0)) -> 0.0040480912
B4: AOT | C4: =MAX(HLOOKUP(C$2,TAB_COV,MATCH($B4,COL_COV,0),0),HLOOKUP($B4,TAB_COV,MATCH(C$2,COL_COV,0),0)) -> 0.0054843868 | D4: =MAX(HLOOKUP(D$2,TAB_COV,MATCH($B4,COL_COV,0),0),HLOOKUP($B4,TAB_COV,MATCH(D$2,COL_COV,0),0)) -> 0.022211201 | E4: =MAX(HLOOKUP(E$2,TAB_COV,MATCH($B4,COL_COV,0),0),HLOOKUP($B4,TAB_COV,MATCH(E$2,COL_COV,0),0)) -> 0.011536268 | F4: =MAX(HLOOKUP(F$2,TAB_COV,MATCH($B4,COL_COV,0),0),HLOOKUP($B4,TAB_COV,MATCH(F$2,COL_COV,0),0)) -> 0.0088835385 | G4: =MAX(HLOOKUP(G$2,TAB_COV,MATCH($B4,COL_COV,0),0),HLOOKUP($B4,TAB_COV,MATCH(G$2,COL_COV,0),0)) -> 0.0099076454 | H4: =MAX(HLOOKUP(H$2,TAB_COV,MATCH($B4,COL_COV,0),0),HLOOKUP($B4,TAB_COV,MATCH(H$2,COL_COV,0),0)) -> 0.013624594 | I4: =MAX(HLOOKUP(I$2,TAB_COV,MATCH($B4,COL_COV,0),0),HLOOKUP($B4,TAB_COV,MATCH(I$2,COL_COV,0),0)) -> 0.018674247
B5: BBL | C5: =MAX(HLOOKUP(C$2,TAB_COV,MATCH($B5,COL_COV,0),0),HLOOKUP($B5,TAB_COV,MATCH(C$2,COL_COV,0),0)) -> 0.0036687308 | D5: =MAX(HLOOKUP(D$2,TAB_COV,MATCH($B5,COL_COV,0),0),HLOOKUP($B5,TAB_COV,MATCH(D$2,COL_COV,0),0)) -> 0.011536268 | E5: =MAX(HLOOKUP(E$2,TAB_COV,MATCH($B5,COL_COV,0),0),HLOOKUP($B5,TAB_COV,MATCH(E$2,COL_COV,0),0)) -> 0.010457729 | F5: =MAX(HLOOKUP(F$2,TAB_COV,MATCH($B5,COL_COV,0),0),HLOOKUP($B5,TAB_COV,MATCH(F$2,COL_COV,0),0)) -> 0.0069724136 | G5: =MAX(HLOOKUP(G$2,TAB_COV,MATCH($B5,COL_COV,0),0),HLOOKUP($B5,TAB_COV,MATCH(G$2,COL_COV,0),0)) -> 0.0078451136 | H5: =MAX(HLOOKUP(H$2,TAB_COV,MATCH($B5,COL_COV,0),0),HLOOKUP($B5,TAB_COV,MATCH(H$2,COL_COV,0),0)) -> 0.010379309 | I5: =MAX(HLOOKUP(I$2,TAB_COV,MATCH($B5,COL_COV,0),0),HLOOKUP($B5,TAB_COV,MATCH(I$2,COL_COV,0),0)) -> 0.011649516
B6: KBANK | C6: =MAX(HLOOKUP(C$2,TAB_COV,MATCH($B6,COL_COV,0),0),HLOOKUP($B6,TAB_COV,MATCH(C$2,COL_COV,0),0)) -> 0.0021004443 | D6: =MAX(HLOOKUP(D$2,TAB_COV,MATCH($B6,COL_COV,0),0),HLOOKUP($B6,TAB_COV,MATCH(D$2,COL_COV,0),0)) -> 0.0088835385 | E6: =MAX(HLOOKUP(E$2,TAB_COV,MATCH($B6,COL_COV,0),0),HLOOKUP($B6,TAB_COV,MATCH(E$2,COL_COV,0),0)) -> 0.0069724136 | F6: =MAX(HLOOKUP(F$2,TAB_COV,MATCH($B6,COL_COV,0),0),HLOOKUP($B6,TAB_COV,MATCH(F$2,COL_COV,0),0)) -> 0.0066740017 | G6: =MAX(HLOOKUP(G$2,TAB_COV,MATCH($B6,COL_COV,0),0),HLOOKUP($B6,TAB_COV,MATCH(G$2,COL_COV,0),0)) -> 0.0060421043 | H6: =MAX(HLOOKUP(H$2,TAB_COV,MATCH($B6,COL_COV,0),0),HLOOKUP($B6,TAB_COV,MATCH(H$2,COL_COV,0),0)) -> 0.0075904299 | I6: =MAX(HLOOKUP(I$2,TAB_COV,MATCH($B6,COL_COV,0),0),HLOOKUP($B6,TAB_COV,MATCH(I$2,COL_COV,0),0)) -> 0.0086814577 | W6: R2, Page 100-103
B7: SCB | C7: =MAX(HLOOKUP(C$2,TAB_COV,MATCH($B7,COL_COV,0),0),HLOOKUP($B7,TAB_COV,MATCH(C$2,COL_COV,0),0)) -> 0.0029934701 | D7: =MAX(HLOOKUP(D$2,TAB_COV,MATCH($B7,COL_COV,0),0),HLOOKUP($B7,TAB_COV,MATCH(D$2,COL_COV,0),0)) -> 0.0099076454 | E7: =MAX(HLOOKUP(E$2,TAB_COV,MATCH($B7,COL_COV,0),0),HLOOKUP($B7,TAB_COV,MATCH(E$2,COL_COV,0),0)) -> 0.0078451136 | F7: =MAX(HLOOKUP(F$2,TAB_COV,MATCH($B7,COL_COV,0),0),HLOOKUP($B7,TAB_COV,MATCH(F$2,COL_COV,0),0)) -> 0.0060421043 | G7: =MAX(HLOOKUP(G$2,TAB_COV,MATCH($B7,COL_COV,0),0),HLOOKUP($B7,TAB_COV,MATCH(G$2,COL_COV,0),0)) -> 0.0078288219 | H7: =MAX(HLOOKUP(H$2,TAB_COV,MATCH($B7,COL_COV,0),0),HLOOKUP($B7,TAB_COV,MATCH(H$2,COL_COV,0),0)) -> 0.0084449197 | I7: =MAX(HLOOKUP(I$2,TAB_COV,MATCH($B7,COL_COV,0),0),HLOOKUP($B7,TAB_COV,MATCH(I$2,COL_COV,0),0)) -> 0.0093040704
B8: BAY | C8: =MAX(HLOOKUP(C$2,TAB_COV,MATCH($B8,COL_COV,0),0),HLOOKUP($B8,TAB_COV,MATCH(C$2,COL_COV,0),0)) -> 0.0031896038 | D8: =MAX(HLOOKUP(D$2,TAB_COV,MATCH($B8,COL_COV,0),0),HLOOKUP($B8,TAB_COV,MATCH(D$2,COL_COV,0),0)) -> 0.013624594 | E8: =MAX(HLOOKUP(E$2,TAB_COV,MATCH($B8,COL_COV,0),0),HLOOKUP($B8,TAB_COV,MATCH(E$2,COL_COV,0),0)) -> 0.010379309 | F8: =MAX(HLOOKUP(F$2,TAB_COV,MATCH($B8,COL_COV,0),0),HLOOKUP($B8,TAB_COV,MATCH(F$2,COL_COV,0),0)) -> 0.0075904299 | G8: =MAX(HLOOKUP(G$2,TAB_COV,MATCH($B8,COL_COV,0),0),HLOOKUP($B8,TAB_COV,MATCH(G$2,COL_COV,0),0)) -> 0.0084449197 | H8: =MAX(HLOOKUP(H$2,TAB_COV,MATCH($B8,COL_COV,0),0),HLOOKUP($B8,TAB_COV,MATCH(H$2,COL_COV,0),0)) -> 0.014435044 | I8: =MAX(HLOOKUP(I$2,TAB_COV,MATCH($B8,COL_COV,0),0),HLOOKUP($B8,TAB_COV,MATCH(I$2,COL_COV,0),0)) -> 0.012565101
B9: TMB | C9: =MAX(HLOOKUP(C$2,TAB_COV,MATCH($B9,COL_COV,0),0),HLOOKUP($B9,TAB_COV,MATCH(C$2,COL_COV,0),0)) -> 0.0040480912 | D9: =MAX(HLOOKUP(D$2,TAB_COV,MATCH($B9,COL_COV,0),0),HLOOKUP($B9,TAB_COV,MATCH(D$2,COL_COV,0),0)) -> 0.018674247 | E9: =MAX(HLOOKUP(E$2,TAB_COV,MATCH($B9,COL_COV,0),0),HLOOKUP($B9,TAB_COV,MATCH(E$2,COL_COV,0),0)) -> 0.011649516 | F9: =MAX(HLOOKUP(F$2,TAB_COV,MATCH($B9,COL_COV,0),0),HLOOKUP($B9,TAB_COV,MATCH(F$2,COL_COV,0),0)) -> 0.0086814577 | G9: =MAX(HLOOKUP(G$2,TAB_COV,MATCH($B9,COL_COV,0),0),HLOOKUP($B9,TAB_COV,MATCH(G$2,COL_COV,0),0)) -> 0.0093040704 | H9: =MAX(HLOOKUP(H$2,TAB_COV,MATCH($B9,COL_COV,0),0),HLOOKUP($B9,TAB_COV,MATCH(H$2,COL_COV,0),0)) -> 0.012565101 | I9: =MAX(HLOOKUP(I$2,TAB_COV,MATCH($B9,COL_COV,0),0),HLOOKUP($B9,TAB_COV,MATCH(I$2,COL_COV,0),0)) -> 0.024894909 | V9: Rf
V10: 0.005
C11: MVP
C12: Stock | D12: Weigth | E12: E(Ri) | V12: Ri-Rf | X12: Zi | Z12: Xi | AB12: =SUM(Z12:Z19) -> 1
C13: ='Security Analysis'!X4 -> ADVANC | D13: {=O21:O27} -> 0.76318993 | E13: =HLOOKUP(C13,TAB_PORT,2,0) -> 0.020085754 | V13: =E13-Rf -> 0.015085754 | X13: {=MMULT(MINVERSE(mVCM),V13:V19)} -> 5.4797663 | Z13: =X13/$X$22 -> 0.81230359
C14: ='Security Analysis'!X5 -> AOT | D14: -0.30046697 | E14: =HLOOKUP(C14,TAB_PORT,2,0) -> 0.018669099 | V14: =E14-Rf -> 0.013669099 | X14: -0.96440428 | Z14: =X14/$X$22 -> -0.1429603 | AB14: Required
C15: ='Security Analysis'!X6 -> BBL | D15: -0.37007858 | E15: =HLOOKUP(C15,TAB_PORT,2,0) -> 0.010231569 | V15: =E15-Rf -> 0.005231569 | X15: -5.620504 | Z15: =X15/$X$22 -> -0.83316611 | AB15: 0.02
C16: ='Security Analysis'!X7 -> KBANK | D16: 0.61789344 | E16: =HLOOKUP(C16,TAB_PORT,2,0) -> 0.020369811 | V16: =E16-Rf -> 0.015369811 | X16: 7.03461 | Z16: =X16/$X$22 -> 1.0427888
C17: ='Security Analysis'!X8 -> SCB | D17: 0.1144727 | E17: =HLOOKUP(C17,TAB_PORT,2,0) -> 0.016533508 | G17: MVP | V17: =E17-Rf -> 0.011533508 | X17: 0.96973707 | Z17: =X17/$X$22 -> 0.14375082 | AB17: Port M
C18: ='Security Analysis'!X9 -> BAY | D18: 0.11253251 | E18: =HLOOKUP(C18,TAB_PORT,2,0) -> 0.010425013 | F18: E(Rp) | G18: {=MMULT(TRANSPOSE(D13:D19),E13:E19)} -> 0.022305762 | V18: =E18-Rf -> 0.0054250127 | X18: -0.12632174 | Z18: =X18/$X$22 -> -0.018725543 | AA18: E(Rp) | AB18: {=MMULT(TRANSPOSE(Z13:Z19),E13:E19)} -> 0.028499066
