Workbook

Sheet Risk and return
A1: Year | B1: Stocks | C1: Deviation | D1: Dev squared | E1: Corporate bonds | F1: Deviation | G1: Dev squared | H1: Stock dev x Bond dev
A2: 2002 | B2: 0.20267 | C2: =B2-B$21 -> 0.027426241 | D2: =C2^2 -> 0.00075219867 | E2: 0.096112978 | F2: =E2-E$21 -> 0.048890394 | G2: =F2^2 -> 0.0023902707 | H2: =C2*F2 -> 0.0013408797
A3: 2003 | B3: 1.2635386 | C3: =B3-B$21 -> 1.0882949 | D3: =C3^2 -> 1.1843857 | E3: 0.022118006 | F3: =E3-E$21 -> -0.025104577 | G3: =F3^2 -> 0.00063023981 | H3: =C3*F3 -> -0.027321183
A4: 2004 | B4: -0.10641776 | C4: =B4-B$21 -> -0.28166152 | D4: =C4^2 -> 0.079333211 | E4: 0.040423636 | F4: =E4-E$21 -> -0.0067989475 | G4: =F4^2 -> 4.6225687e-05 | H4: =C4*F4 -> 0.0019150019
A5: 2005 | B5: 0.11219318 | C5: =B5-B$21 -> -0.063050583 | D5: =C5^2 -> 0.003975376 | E5: 0.011708545 | F5: =E5-E$21 -> -0.035514038 | G5: =F5^2 -> 0.0012612469 | H5: =C5*F5 -> 0.0022391808
A6: 2006 | B6: -0.0025799202 | C6: =B6-B$21 -> -0.17782368 | D6: =C6^2 -> 0.031621261 | E6: 0.06576389 | F6: =E6-E$21 -> 0.018541307 | G6: =F6^2 -> 0.00034378005 | H6: =C6*F6 -> -0.0032970834
A7: 2007 | B7: 0.31371895 | C7: =B7-B$21 -> 0.13847519 | D7: =C7^2 -> 0.019175379 | E7: 0.07318128 | F7: =E7-E$21 -> 0.025958697 | G7: =F7^2 -> 0.00067385394 | H7: =C7*F7 -> 0.0035946355
A8: 2008 | B8: -0.45096767 | C8: =B8-B$21 -> -0.62621143 | D8: =C8^2 -> 0.39214076 | E8: 0.080530356 | F8: =E8-E$21 -> 0.033307773 | G8: =F8^2 -> 0.0011094077 | H8: =C8*F8 -> -0.020857708
A9: 2009 | B9: 0.7134578 | C9: =B9-B$21 -> 0.53821404 | D9: =C9^2 -> 0.28967436 | E9: 0.040751744 | F9: =E9-E$21 -> -0.0064708395 | G9: =F9^2 -> 4.1871763e-05 | H9: =C9*F9 -> -0.0034826967
A10: 2010 | B10: 0.47803924 | C10: =B10-B$21 -> 0.30279548 | D10: =C10^2 -> 0.091685105 | E10: 0.052559727 | F10: =E10-E$21 -> 0.0053371438 | G10: =F10^2 -> 2.8485103e-05 | H10: =C10*F10 -> 0.001616063
A11: 2011 | B11: 0.036915842 | C11: =B11-B$21 -> -0.13832792 | D11: =C11^2 -> 0.019134613 | E11: 0.039676925 | F11: =E11-E$21 -> -0.0075456583 | G11: =F11^2 -> 5.6936959e-05 | H11: =C11*F11 -> 0.0010437752
A12: 2012 | B12: 0.40533016 | C12: =B12-B$21 -> 0.2300864 | D12: =C12^2 -> 0.052939752 | E12: 0.045591154 | F12: =E12-E$21 -> -0.0016314293 | G12: =F12^2 -> 2.6615614e-06 | H12: =C12*F12 -> -0.00037536969
A13: 2013 | B13: -0.036296559 | C13: =B13-B$21 -> -0.21154032 | D13: =C13^2 -> 0.044749306 | E13: 0.039047671 | F13: =E13-E$21 -> -0.0081749125 | G13: =F13^2 -> 6.6829195e-05 | H13: =C13*F13 -> 0.0017293236
... A20: 2020 | B20: -0.052412709 | C20: =B20-B$21 -> -0.22765647 | D20: =C20^2 -> 0.051827468 | E20: 0.030848433 | F20: =E20-E$21 -> -0.01637415 | G20: =F20^2 -> 0.00026811279 | H20: =C20*F20 -> 0.0037276812
B21: =AVERAGE(B2:B20) -> 0.17524376 | C21: Sum | D21: =SUM(D2:D20) -> 2.431431 | E21: =AVERAGE(E2:E20) -> 0.047222583 | F21: Sum | G21: =SUM(G2:G20) -> 0.0085636157 | H21: =SUM(H2:H20) -> -0.03470654 | I21: =_xlfn.FORMULATEXT(H21) -> =SUM(H2:H20)
C22: Variance | D22: =D21/(A20-A2) -> 0.1350795 | F22: Variance | G22: =G21/(A20-A2) -> 0.00047575643
C23: SD | D23: =SQRT(D22) -> 0.36753163 | F23: SD | G23: =SQRT(G22) -> 0.021811842
G24: Covariance | H24: =H21/(A20-A2) -> -0.0019281411 | I24: =_xlfn.FORMULATEXT(H24) -> =H21/(A20-A2)
G25: Correlation | H25: =H24/D23/G23 -> -0.24052032 | I25: =_xlfn.FORMULATEXT(H25) -> =H24/D23/G23
H26: =CORREL(B2:B20,E2:E20) -> -0.24052032 | I26: =_xlfn.FORMULATEXT(H26) -> =CORREL(B2:B20,E2:E20)
B29: Stock allocation | C29: 0.7
B30: Bond allocation | C30: =1-C29 -> 0.3 | D30: =_xlfn.FORMULATEXT(C30) -> =1-C29
B31: Portfolio return | C31: =C29*B21+C30*E21 -> 0.13683741 | D31: =_xlfn.FORMULATEXT(C31) -> =C29*B21+C30*E21
B32: Portfolio var | C32: =C29^2*D23^2+C30^2*G23^2+2*C29*C30*H24 -> 0.065421953 | D32: =_xlfn.FORMULATEXT(C32) -> =C29^2*D23^2+C30^2*G23^2+2*C29*C30*H24
B33: Portfolio SD | C33: =SQRT(C32) -> 0.25577715 | D33: =_xlfn.FORMULATEXT(C33) -> =SQRT(C32)
B34: Portfolio SD (no diversification benefits) | C34: =C29*D23+C30*G23 -> 0.26381569 | D34: =_xlfn.FORMULATEXT(C34) -> =C29*D23+C30*G23

Sheet Port risk-return
A1: The investment opportunity set with the stock and bond funds
C2: Input Data
A3: E(rS) | B3: E(rB) | C3: sS | D3: sB | E3: rBS
A4: ='Risk and return'!B21 -> 0.17524376 | B4: ='Risk and return'!E21 -> 0.047222583 | C4: ='Risk and return'!D23 -> 0.36753163 | D4: ='Risk and return'!G23 -> 0.021811842 | E4: ='Risk and return'!H25 -> -0.24052032
A5: Portfolio Weights | C5: Expected Return, E(rP) | E5: Std Dev
A6: wS = 1–wB | B6: wB
A7: -0.2 | B7: =1-A7 -> 1.2 | C7: =A7*$A$4+B7*$B$4 -> 0.021618348 | E7: =SQRT((A7*$C$4)^2+(B7*$D$4)^2+2*A7*B7*$C$4*$D$4*$E$4) -> 0.083748295 | F7: =_xlfn.FORMULATEXT(E7) -> =SQRT((A7*$C$4)^2+(B7*$D$4)^2+2*A7*B7*$C$4*$D$4*$E$4)
A8: -0.1 | B8: =1-A8 -> 1.1 | C8: =A8*$A$4+B8*$B$4 -> 0.034420466 | E8: =SQRT((A8*$C$4)^2+(B8*$D$4)^2+2*A8*B8*$C$4*$D$4*$E$4) -> 0.048483516
A9: 0 | B9: =1-A9 -> 1 | C9: =A9*$A$4+B9*$B$4 -> 0.047222583 | E9: =SQRT((A9*$C$4)^2+(B9*$D$4)^2+2*A9*B9*$C$4*$D$4*$E$4) -> 0.021811842
A10: 0.1 | B10: =1-A10 -> 0.9 | C10: =A10*$A$4+B10*$B$4 -> 0.060024701 | E10: =SQRT((A10*$C$4)^2+(B10*$D$4)^2+2*A10*B10*$C$4*$D$4*$E$4) -> 0.037270528
A11: 0.2 | B11: =1-A11 -> 0.8 | C11: =A11*$A$4+B11*$B$4 -> 0.072826818 | E11: =SQRT((A11*$C$4)^2+(B11*$D$4)^2+2*A11*B11*$C$4*$D$4*$E$4) -> 0.071348853
A12: 0.3 | B12: =1-A12 -> 0.7 | C12: =A12*$A$4+B12*$B$4 -> 0.085628936 | E12: =SQRT((A12*$C$4)^2+(B12*$D$4)^2+2*A12*B12*$C$4*$D$4*$E$4) -> 0.10761253
A13: 0.4 | B13: =1-A13 -> 0.6 | C13: =A13*$A$4+B13*$B$4 -> 0.098431054 | E13: =SQRT((A13*$C$4)^2+(B13*$D$4)^2+2*A13*B13*$C$4*$D$4*$E$4) -> 0.14442467
A14: 0.5 | B14: =1-A14 -> 0.5 | C14: =A14*$A$4+B14*$B$4 -> 0.11123317 | E14: =SQRT((A14*$C$4)^2+(B14*$D$4)^2+2*A14*B14*$C$4*$D$4*$E$4) -> 0.18145176
A15: 0.6 | B15: =1-A15 -> 0.4 | C15: =A15*$A$4+B15*$B$4 -> 0.12403529 | E15: =SQRT((A15*$C$4)^2+(B15*$D$4)^2+2*A15*B15*$C$4*$D$4*$E$4) -> 0.21858461
A16: 0.7 | B16: =1-A16 -> 0.3 | C16: =A16*$A$4+B16*$B$4 -> 0.13683741 | E16: =SQRT((A16*$C$4)^2+(B16*$D$4)^2+2*A16*B16*$C$4*$D$4*$E$4) -> 0.25577715
A17: 0.8 | B17: =1-A17 -> 0.2 | C17: =A17*$A$4+B17*$B$4 -> 0.14963952 | E17: =SQRT((A17*$C$4)^2+(B17*$D$4)^2+2*A17*B17*$C$4*$D$4*$E$4) -> 0.29300666
A18: 0.9 | B18: =1-A18 -> 0.1 | C18: =A18*$A$4+B18*$B$4 -> 0.16244164 | E18: =SQRT((A18*$C$4)^2+(B18*$D$4)^2+2*A18*B18*$C$4*$D$4*$E$4) -> 0.33026063
A19: 1 | B19: =1-A19 -> 0 | C19: =A19*$A$4+B19*$B$4 -> 0.17524376 | E19: =SQRT((A19*$C$4)^2+(B19*$D$4)^2+2*A19*B19*$C$4*$D$4*$E$4) -> 0.36753163
... A21: 1.2 | B21: =1-A21 -> -0.2 | C21: =A21*$A$4+B21*$B$4 -> 0.20084799 | E21: =SQRT((A21*$C$4)^2+(B21*$D$4)^2+2*A21*B21*$C$4*$D$4*$E$4) -> 0.44210747
A22: Notes:
A23: 1. Negative weights indicate short positions
A24: 2. The weights of the minimum-variance portfolio are
A25: computed using the formula in footnote 1.

Sheet Various correlation
A1: E(rS) | B1: E(rB) | C1: sS | D1: sB
A2: 0.17524376 | B2: 0.047222583 | C2: 0.36753163 | D2: 0.021811842
B3: Portoflio
A4: Weight in stocks | B4: Expected return | C4: Portfolio Standard Deviation for Given Correlation, r
A5: wS | C5: -1 | D5: 0 | E5: 0.2 | F5: 0.5 | G5: 1
A6: 0 | B6: =A6*$A$2+(1-A6)*$B$2 -> 0.047222583 | C6: =SQRT($A6^2*$C$2^2+(1-$A6)^2*$D$2^2+2*$A6*(1-$A6)*$C$2*$D$2*C$5) -> 0.021811842 | D6: =SQRT($A6^2*$C$2^2+(1-$A6)^2*$D$2^2+2*$A6*(1-$A6)*$C$2*$D$2*D$5) -> 0.021811842 | E6: =SQRT($A6^2*$C$2^2+(1-$A6)^2*$D$2^2+2*$A6*(1-$A6)*$C$2*$D$2*E$5) -> 0.021811842 | F6: =SQRT($A6^2*$C$2^2+(1-$A6)^2*$D$2^2+2*$A6*(1-$A6)*$C$2*$D$2*F$5) -> 0.021811842 | G6: =SQRT($A6^2*$C$2^2+(1-$A6)^2*$D$2^2+2*$A6*(1-$A6)*$C$2*$D$2*G$5) -> 0.021811842 | H6: =_xlfn.FORMULATEXT(G6) -> =SQRT($A6^2*$C$2^2+(1-$A6)^2*$D$2^2+2*$A6*(1-$A6)*$C$2*$D$2*G$5)
A7: 0.05 | B7: =A7*$A$2+(1-A7)*$B$2 -> 0.053623642 | C7: =SQRT($A7^2*$C$2^2+(1-$A7)^2*$D$2^2+2*$A7*(1-$A7)*$C$2*$D$2*C$5) -> 0.002344668 | D7: =SQRT($A7^2*$C$2^2+(1-$A7)^2*$D$2^2+2*$A7*(1-$A7)*$C$2*$D$2*D$5) -> 0.027696009 | E7: =SQRT($A7^2*$C$2^2+(1-$A7)^2*$D$2^2+2*$A7*(1-$A7)*$C$2*$D$2*E$5) -> 0.030321333 | F7: =SQRT($A7^2*$C$2^2+(1-$A7)^2*$D$2^2+2*$A7*(1-$A7)*$C$2*$D$2*F$5) -> 0.033880004 | G7: =SQRT($A7^2*$C$2^2+(1-$A7)^2*$D$2^2+2*$A7*(1-$A7)*$C$2*$D$2*G$5) -> 0.039097831
A8: 0.1 | B8: =A8*$A$2+(1-A8)*$B$2 -> 0.060024701 | C8: =SQRT($A8^2*$C$2^2+(1-$A8)^2*$D$2^2+2*$A8*(1-$A8)*$C$2*$D$2*C$5) -> 0.017122505 | D8: =SQRT($A8^2*$C$2^2+(1-$A8)^2*$D$2^2+2*$A8*(1-$A8)*$C$2*$D$2*D$5) -> 0.041667226 | E8: =SQRT($A8^2*$C$2^2+(1-$A8)^2*$D$2^2+2*$A8*(1-$A8)*$C$2*$D$2*E$5) -> 0.044997258 | F8: =SQRT($A8^2*$C$2^2+(1-$A8)^2*$D$2^2+2*$A8*(1-$A8)*$C$2*$D$2*F$5) -> 0.049574655 | G8: =SQRT($A8^2*$C$2^2+(1-$A8)^2*$D$2^2+2*$A8*(1-$A8)*$C$2*$D$2*G$5) -> 0.05638382
A9: 0.2 | B9: =A9*$A$2+(1-A9)*$B$2 -> 0.072826818 | C9: =SQRT($A9^2*$C$2^2+(1-$A9)^2*$D$2^2+2*$A9*(1-$A9)*$C$2*$D$2*C$5) -> 0.056056852 | D9: =SQRT($A9^2*$C$2^2+(1-$A9)^2*$D$2^2+2*$A9*(1-$A9)*$C$2*$D$2*D$5) -> 0.075549084 | E9: =SQRT($A9^2*$C$2^2+(1-$A9)^2*$D$2^2+2*$A9*(1-$A9)*$C$2*$D$2*E$5) -> 0.078871558 | F9: =SQRT($A9^2*$C$2^2+(1-$A9)^2*$D$2^2+2*$A9*(1-$A9)*$C$2*$D$2*F$5) -> 0.083608078 | G9: =SQRT($A9^2*$C$2^2+(1-$A9)^2*$D$2^2+2*$A9*(1-$A9)*$C$2*$D$2*G$5) -> 0.090955799
A10: 0.3 | B10: =A10*$A$2+(1-A10)*$B$2 -> 0.085628936 | C10: =SQRT($A10^2*$C$2^2+(1-$A10)^2*$D$2^2+2*$A10*(1-$A10)*$C$2*$D$2*C$5) -> 0.094991199 | D10: =SQRT($A10^2*$C$2^2+(1-$A10)^2*$D$2^2+2*$A10*(1-$A10)*$C$2*$D$2*D$5) -> 0.11131161 | E10: =SQRT($A10^2*$C$2^2+(1-$A10)^2*$D$2^2+2*$A10*(1-$A10)*$C$2*$D$2*E$5) -> 0.11429639 | F10: =SQRT($A10^2*$C$2^2+(1-$A10)^2*$D$2^2+2*$A10*(1-$A10)*$C$2*$D$2*F$5) -> 0.11863283 | G10: =SQRT($A10^2*$C$2^2+(1-$A10)^2*$D$2^2+2*$A10*(1-$A10)*$C$2*$D$2*G$5) -> 0.12552778
A11: 0.4 | B11: =A11*$A$2+(1-A11)*$B$2 -> 0.098431054 | C11: =SQRT($A11^2*$C$2^2+(1-$A11)^2*$D$2^2+2*$A11*(1-$A11)*$C$2*$D$2*C$5) -> 0.13392555 | D11: =SQRT($A11^2*$C$2^2+(1-$A11)^2*$D$2^2+2*$A11*(1-$A11)*$C$2*$D$2*D$5) -> 0.14759401 | E11: =SQRT($A11^2*$C$2^2+(1-$A11)^2*$D$2^2+2*$A11*(1-$A11)*$C$2*$D$2*E$5) -> 0.15017849 | F11: =SQRT($A11^2*$C$2^2+(1-$A11)^2*$D$2^2+2*$A11*(1-$A11)*$C$2*$D$2*F$5) -> 0.1539739 | G11: =SQRT($A11^2*$C$2^2+(1-$A11)^2*$D$2^2+2*$A11*(1-$A11)*$C$2*$D$2*G$5) -> 0.16009976
A12: 0.5 | B12: =A12*$A$2+(1-A12)*$B$2 -> 0.11123317 | C12: =SQRT($A12^2*$C$2^2+(1-$A12)^2*$D$2^2+2*$A12*(1-$A12)*$C$2*$D$2*C$5) -> 0.17285989 | D12: =SQRT($A12^2*$C$2^2+(1-$A12)^2*$D$2^2+2*$A12*(1-$A12)*$C$2*$D$2*D$5) -> 0.18408915 | E12: =SQRT($A12^2*$C$2^2+(1-$A12)^2*$D$2^2+2*$A12*(1-$A12)*$C$2*$D$2*E$5) -> 0.18625377 | F12: =SQRT($A12^2*$C$2^2+(1-$A12)^2*$D$2^2+2*$A12*(1-$A12)*$C$2*$D$2*F$5) -> 0.18945435 | G12: =SQRT($A12^2*$C$2^2+(1-$A12)^2*$D$2^2+2*$A12*(1-$A12)*$C$2*$D$2*G$5) -> 0.19467173
A13: 0.6 | B13: =A13*$A$2+(1-A13)*$B$2 -> 0.12403529 | C13: =SQRT($A13^2*$C$2^2+(1-$A13)^2*$D$2^2+2*$A13*(1-$A13)*$C$2*$D$2*C$5) -> 0.21179424 | D13: =SQRT($A13^2*$C$2^2+(1-$A13)^2*$D$2^2+2*$A13*(1-$A13)*$C$2*$D$2*D$5) -> 0.2206915 | E13: =SQRT($A13^2*$C$2^2+(1-$A13)^2*$D$2^2+2*$A13*(1-$A13)*$C$2*$D$2*E$5) -> 0.22242825 | F13: =SQRT($A13^2*$C$2^2+(1-$A13)^2*$D$2^2+2*$A13*(1-$A13)*$C$2*$D$2*F$5) -> 0.22500824 | G13: =SQRT($A13^2*$C$2^2+(1-$A13)^2*$D$2^2+2*$A13*(1-$A13)*$C$2*$D$2*G$5) -> 0.22924371
A14: 0.7 | B14: =A14*$A$2+(1-A14)*$B$2 -> 0.13683741 | C14: =SQRT($A14^2*$C$2^2+(1-$A14)^2*$D$2^2+2*$A14*(1-$A14)*$C$2*$D$2*C$5) -> 0.25072859 | D14: =SQRT($A14^2*$C$2^2+(1-$A14)^2*$D$2^2+2*$A14*(1-$A14)*$C$2*$D$2*D$5) -> 0.25735534 | E14: =SQRT($A14^2*$C$2^2+(1-$A14)^2*$D$2^2+2*$A14*(1-$A14)*$C$2*$D$2*E$5) -> 0.25866032 | F14: =SQRT($A14^2*$C$2^2+(1-$A14)^2*$D$2^2+2*$A14*(1-$A14)*$C$2*$D$2*F$5) -> 0.26060554 | G14: =SQRT($A14^2*$C$2^2+(1-$A14)^2*$D$2^2+2*$A14*(1-$A14)*$C$2*$D$2*G$5) -> 0.26381569
A15: 0.8 | B15: =A15*$A$2+(1-A15)*$B$2 -> 0.14963952 | C15: =SQRT($A15^2*$C$2^2+(1-$A15)^2*$D$2^2+2*$A15*(1-$A15)*$C$2*$D$2*C$5) -> 0.28966293 | D15: =SQRT($A15^2*$C$2^2+(1-$A15)^2*$D$2^2+2*$A15*(1-$A15)*$C$2*$D$2*D$5) -> 0.29405766 | E15: =SQRT($A15^2*$C$2^2+(1-$A15)^2*$D$2^2+2*$A15*(1-$A15)*$C$2*$D$2*E$5) -> 0.29492875 | F15: =SQRT($A15^2*$C$2^2+(1-$A15)^2*$D$2^2+2*$A15*(1-$A15)*$C$2*$D$2*F$5) -> 0.29623058 | G15: =SQRT($A15^2*$C$2^2+(1-$A15)^2*$D$2^2+2*$A15*(1-$A15)*$C$2*$D$2*G$5) -> 0.29838767
A16: 0.9 | B16: =A16*$A$2+(1-A16)*$B$2 -> 0.16244164 | C16: =SQRT($A16^2*$C$2^2+(1-$A16)^2*$D$2^2+2*$A16*(1-$A16)*$C$2*$D$2*C$5) -> 0.32859728 | D16: =SQRT($A16^2*$C$2^2+(1-$A16)^2*$D$2^2+2*$A16*(1-$A16)*$C$2*$D$2*D$5) -> 0.33078566 | E16: =SQRT($A16^2*$C$2^2+(1-$A16)^2*$D$2^2+2*$A16*(1-$A16)*$C$2*$D$2*E$5) -> 0.3312216 | F16: =SQRT($A16^2*$C$2^2+(1-$A16)^2*$D$2^2+2*$A16*(1-$A16)*$C$2*$D$2*F$5) -> 0.33187443 | G16: =SQRT($A16^2*$C$2^2+(1-$A16)^2*$D$2^2+2*$A16*(1-$A16)*$C$2*$D$2*G$5) -> 0.33295965
A17: 1 | B17: =A17*$A$2+(1-A17)*$B$2 -> 0.17524376 | C17: =SQRT($A17^2*$C$2^2+(1-$A17)^2*$D$2^2+2*$A17*(1-$A17)*$C$2*$D$2*C$5) -> 0.36753163 | D17: =SQRT($A17^2*$C$2^2+(1-$A17)^2*$D$2^2+2*$A17*(1-$A17)*$C$2*$D$2*D$5) -> 0.36753163 | E17: =SQRT($A17^2*$C$2^2+(1-$A17)^2*$D$2^2+2*$A17*(1-$A17)*$C$2*$D$2*E$5) -> 0.36753163 | F17: =SQRT($A17^2*$C$2^2+(1-$A17)^2*$D$2^2+2*$A17*(1-$A17)*$C$2*$D$2*F$5) -> 0.36753163 | G17: =SQRT($A17^2*$C$2^2+(1-$A17)^2*$D$2^2+2*$A17*(1-$A17)*$C$2*$D$2*G$5) -> 0.36753163
D18: Minimum Variance Portfolio
B19: Stock weight | C19: =($D$2^2-$C$2*$D$2*C$5)/($C$2^2+$D$2^2-2*$C$2*$D$2*C$5) -> 0.056022107 | D19: =($D$2^2-$C$2*$D$2*D$5)/($C$2^2+$D$2^2-2*$C$2*$D$2*D$5) -> 0.0035096864 | E19: =($D$2^2-$C$2*$D$2*E$5)/($C$2^2+$D$2^2-2*$C$2*$D$2*E$5) -> -0.008519558 | F19: =($D$2^2-$C$2*$D$2*F$5)/($C$2^2+$D$2^2-2*$C$2*$D$2*F$5) -> -0.027697585 | G19: =($D$2^2-$C$2*$D$2*G$5)/($C$2^2+$D$2^2-2*$C$2*$D$2*G$5) -> -0.0630911 | H19: =_xlfn.FORMULATEXT(G19) -> =($D$2^2-$C$2*$D$2*G$5)/($C$2^2+$D$2^2-2*$C$2*$D$2*G$5)
B20: Expected return | C20: =C$19*$A$2+(1-C$19)*$B$2 -> 0.054394599 | D20: =D$19*$A$2+(1-D$19)*$B$2 -> 0.047671897 | E20: =E$19*$A$2+(1-E$19)*$B$2 -> 0.046131899 | F20: =F$19*$A$2+(1-F$19)*$B$2 -> 0.043676706 | G20: =G$19*$A$2+(1-G$19)*$B$2 -> 0.039145586 | H20: =_xlfn.FORMULATEXT(G20) -> =G$19*$A$2+(1-G$19)*$B$2
B21: Standard deviation | C21: =IFERROR(SQRT(C$19^2*$C$2^2+(1-C$19)^2*$D$2^2+2*C$19*(1-C$19)*$C$2*$D$2*C$5),0) -> 0 | D21: =SQRT(D$19^2*$C$2^2+(1-D$19)^2*$D$2^2+2*D$19*(1-D$19)*$C$2*$D$2*D$5) -> 0.021773532 | E21: =SQRT(E$19^2*$C$2^2+(1-E$19)^2*$D$2^2+2*E$19*(1-E$19)*$C$2*$D$2*E$5) -> 0.021590511 | F21: =SQRT(F$19^2*$C$2^2+(1-F$19)^2*$D$2^2+2*F$19*(1-F$19)*$C$2*$D$2*F$5) -> 0.019440018 | G21: =SQRT(G$19^2*$C$2^2+(1-G$19)^2*$D$2^2+2*G$19*(1-G$19)*$C$2*$D$2*G$5) -> 0 | H21: =_xlfn.FORMULATEXT(G21) -> =SQRT(G$19^2*$C$2^2+(1-G$19)^2*$D$2^2+2*G$19*(1-G$19)*$C$2*$D$2*G$5)

Sheet Optimal portfolio
A1: E(rS) | B1: E(rB) | C1: sS | D1: sB | E1: rBS
A2: 0.1 | B2: 0.05 | C2: 0.1863062 | D2: 0.082704293 | E2: 0.2
A4: Objective | B4: Max | C4: Utility
C5: Risk aversion
C7: Stock | D7: Bond
A8: Variables | B8: Weight
A10: Constraints | B10: Port weight
C12: Port return | D12: Port risk
A13: Where
A15: Target | B15: Weight | D15: Portfolio | F15: Utility
A16: risk aversion | B16: Stock | C16: Bond | D16: Return | E16: Risk
A17: 0.1
A18: 0.5
A19: 0.75
A20: 1.5
A21: 2
A22: 3
A23: 4
A24: 8
A25: 16

Sheet Mail list
A1: 1 | B1: 6002031174 | C1: นางสาว | D1: วรรณรัตน์ ส่งเสริมสุขเจริญ | E1: Ry.wannarat@gmail.com | F1: 66 | G1: 45 | H1: 3.6 | I1: - | J1: Hidden
A2: 2 | B2: 6102031413 | C2: นาย | D2: ธนพัฒน์ พัฒนเสรีเสถียร | E2: dbrittannia6@gmail.com | F2: 34.5 | G2: 18 | H2: 3.33 | I2: - | J2: Hidden
A3: 3 | B3: 6102031421 | C3: นางสาว | D3: สิริมา จุติโชติ | E3: diffi1@hotmail.com | F3: 34.5 | G3: 18 | H3: 3.89 | I3: - | J3: Hidden
A4: 4 | B4: 6102031520 | C4: นางสาว | D4: พิชามญชุ์ ดีดอม | E4: plawan_p@hotmail.com | F4: 37.5 | G4: 18 | H4: 3.22 | I4: - | J4: Hidden
A5: 5 | B5: 6102031538 | C5: นางสาว | D5: ภัทรา เปี่ยมสุขวัฒน์ | E5: pattar1610@hotmail.com | F5: 37.5 | G5: 18 | H5: 3.45 | I5: - | J5: Hidden
A6: 6 | B6: 6102031561 | C6: นางสาว | D6: ปวีณา มงคลสุขวัฒน์ | E6: Fahpavee.m@gmail.com | F6: 37.5 | G6: 18 | H6: 3.28 | I6: - | J6: Hidden
A7: 7 | B7: 6102031629 | C7: นางสาว | D7: วรัทยา เชี่ยววัฒนะกุล | E7: Varattaya.chi@gmail.com | F7: 37.5 | G7: 18 | H7: 3.5 | I7: - | J7: Hidden
A8: 8 | B8: 6102031637 | C8: นาย | D8: นครา วรรณรส | E8: nakara.wanna@gmail.com | F8: 34.5 | G8: 18 | H8: 3.33 | I8: - | J8: Hidden
A9: 9 | B9: 6102031645 | C9: นางสาว | D9: ชลิดา สาธิตวุฒิ | E9: cheryberrylemon@hotmail.com | F9: 37.5 | G9: 18 | H9: 3.56 | I9: - | J9: Hidden
A10: 10 | B10: 6102031702 | C10: นาย | D10: กรณัฐ แสงพุ่มพงษ์ | E10: koranat.arm@gmail.com | F10: 31.5 | G10: 18 | H10: 3.17 | I10: - | J10: Hidden
A11: 11 | B11: 6102031801 | C11: นางสาว | D11: พีระญาณ์ รุ่งสินเฉลิมรัฐ | E11: peraya.rsclr@gmail.com | F11: 37.5 | G11: 18 | H11: 3.33 | I11: - | J11: Hidden
A12: 12 | B12: 6102031819 | C12: นาย | D12: อิทธิวัฒน์ จีนจรรยา | E12: j.ittiwat216@gmail.com | F12: 37.5 | G12: 18 | H12: 3.28 | I12: - | J12: Hidden
... A19: 19 | B19: 6102032106 | C19: นาย | D19: ชัยณรงค์ วงศ์กระจ่าง | E19: Chaina.wj@gmail.com | F19: 37.5 | G19: 24 | H19: 3.63 | I19: - | J19: Hidden
