Workbook

Sheet TH_COVID19_Adjusted
C1: 43831 | D1: 43862 | E1: 43891 | F1: 43922 | G1: 43952 | H1: 43983 | I1: 44013 | J1: 44044 | K1: 44075 | L1: 44105 | M1: 44136 | N1: 44166 | O1: 44197 | P1: 44228 | Q1: 44256 | R1: 44287 | S1: 44317 | T1: 44348 | U1: 44378 | V1: 44409 | W1: 44440 | X1: 44470
A2: กระบี่ | B2: Krabi | C2: 1 | D2: 2 | E2: 8 | F2: 13 | G2: 1 | H2: 1 | I2: 1 | J2: 1 | K2: 1 | L2: 1 | M2: 2 | N2: 7 | O2: 1 | P2: 1 | Q2: 1 | R2: 67 | S2: 202 | T2: 96 | U2: 414 | V2: 509 | W2: 1513 | X2: 2232
A3: กรุงเทพมหานคร | B3: Bangkok | C3: 14 | D3: 13 | E3: 953 | F3: 545 | G3: 29 | H3: 44 | I3: 45 | J3: 31 | K3: 96 | L3: 104 | M3: 98 | N3: 340 | O3: 806 | P3: 363 | Q3: 1075 | R3: 11243 | S3: 41150 | T3: 33331 | U3: 72606 | V3: 125540 | W3: 84086 | X3: 27819
A4: กาญจนบุรี | B4: Kanchanaburi | C4: 1 | D4: 1 | E4: 9 | F4: 2 | G4: 1 | H4: 1 | I4: 1 | J4: 1 | K4: 1 | L4: 1 | M4: 1 | N4: 2 | O4: 7 | P4: 1 | Q4: 1 | R4: 120 | S4: 172 | T4: 253 | U4: 3173 | V4: 7953 | W4: 4805 | X4: 3272
A5: กาฬสินธุ์ | B5: Kalasin | C5: 1 | D5: 1 | E5: 3 | F5: 2 | G5: 1 | H5: 1 | I5: 1 | J5: 1 | K5: 1 | L5: 1 | M5: 1 | N5: 1 | O5: 1 | P5: 1 | Q5: 2 | R5: 64 | S5: 44 | T5: 105 | U5: 2171 | V5: 2028 | W5: 753 | X5: 1028
A6: กำแพงเพชร | B6: Kamphaeng Phet | C6: 1 | D6: 1 | E6: 1 | F6: 1 | G6: 1 | H6: 1 | I6: 1 | J6: 1 | K6: 1 | L6: 1 | M6: 1 | N6: 3 | O6: 1 | P6: 1 | Q6: 1 | R6: 95 | S6: 48 | T6: 197 | U6: 1898 | V6: 3697 | W6: 942 | X6: 599
A7: ขอนแก่น | B7: Khon Kaen | C7: 1 | D7: 1 | E7: 4 | F7: 4 | G7: 1 | H7: 1 | I7: 1 | J7: 1 | K7: 1 | L7: 1 | M7: 1 | N7: 4 | O7: 9 | P7: 3 | Q7: 2 | R7: 334 | S7: 179 | T7: 134 | U7: 3721 | V7: 5463 | W7: 4446 | X7: 4985
A8: จันทบุรี | B8: Chanthaburi | C8: 1 | D8: 1 | E8: 4 | F8: 1 | G8: 1 | H8: 1 | I8: 1 | J8: 1 | K8: 1 | L8: 1 | M8: 1 | N8: 9 | O8: 130 | P8: 1 | Q8: 1 | R8: 200 | S8: 638 | T8: 455 | U8: 1187 | V8: 3355 | W8: 5464 | X8: 6379
A9: ฉะเชิงเทรา | B9: Chachoengsao | C9: 1 | D9: 1 | E9: 12 | F9: 7 | G9: 1 | H9: 1 | I9: 1 | J9: 1 | K9: 1 | L9: 1 | M9: 1 | N9: 12 | O9: 15 | P9: 1 | Q9: 2 | R9: 288 | S9: 1101 | T9: 2641 | U9: 7818 | V9: 13242 | W9: 5920 | X9: 2645
A10: ชลบุรี | B10: Chon Buri | C10: 1 | D10: 2 | E10: 43 | F10: 49 | G10: 22 | H10: 23 | I10: 63 | J10: 67 | K10: 33 | L10: 59 | M10: 59 | N10: 198 | O10: 494 | P10: 95 | Q10: 83 | R10: 2333 | S10: 2322 | T10: 3795 | U10: 17129 | V10: 39024 | W10: 24742 | X10: 12082
A11: ชัยนาท | B11: Chai Nat | C11: 1 | D11: 1 | E11: 1 | F11: 1 | G11: 1 | H11: 1 | I11: 1 | J11: 1 | K11: 1 | L11: 1 | M11: 1 | N11: 7 | O11: 3 | P11: 4 | Q11: 1 | R11: 25 | S11: 58 | T11: 44 | U11: 635 | V11: 1197 | W11: 360 | X11: 71
A12: ชัยภูมิ | B12: Chaiyaphum | C12: 1 | D12: 1 | E12: 3 | F12: 2 | G12: 1 | H12: 1 | I12: 1 | J12: 1 | K12: 1 | L12: 1 | M12: 1 | N12: 8 | O12: 2 | P12: 1 | Q12: 1 | R12: 99 | S12: 165 | T12: 107 | U12: 915 | V12: 354 | W12: 1460 | X12: 122
A13: ชุมพร | B13: Chumphon | C13: 1 | D13: 1 | E13: 2 | F13: 21 | G13: 1 | H13: 1 | I13: 1 | J13: 1 | K13: 1 | L13: 1 | M13: 1 | N13: 1 | O13: 1 | P13: 1 | Q13: 1 | R13: 74 | S13: 35 | T13: 58 | U13: 733 | V13: 3228 | W13: 4792 | X13: 3171
... A77: อุบลราชธานี | B77: Ubon Ratchathani | C77: 1 | D77: 1 | E77: 14 | F77: 3 | G77: 1 | H77: 1 | I77: 1 | J77: 1 | K77: 1 | L77: 1 | M77: 1 | N77: 2 | O77: 4 | P77: 1 | Q77: 1 | R77: 213 | S77: 136 | T77: 110 | U77: 4363 | V77: 9526 | W77: 2645 | X77: 2451

Sheet TH_COVID19_log_difference
C1: 43831 | D1: 43862 | E1: 43891 | F1: 43922 | G1: 43952 | H1: 43983 | I1: 44013 | J1: 44044 | K1: 44075 | L1: 44105 | M1: 44136 | N1: 44166 | O1: 44197 | P1: 44228 | Q1: 44256 | R1: 44287 | S1: 44317 | T1: 44348 | U1: 44378 | V1: 44409 | W1: 44440 | X1: 44470
A2: กระบี่ | B2: Krabi | D2: =LOG(TH_COVID19_Adjusted!D2)-LOG(TH_COVID19_Adjusted!C2) -> 0.30103 | E2: =LOG(TH_COVID19_Adjusted!E2)-LOG(TH_COVID19_Adjusted!D2) -> 0.60205999 | F2: =LOG(TH_COVID19_Adjusted!F2)-LOG(TH_COVID19_Adjusted!E2) -> 0.21085337 | G2: =LOG(TH_COVID19_Adjusted!G2)-LOG(TH_COVID19_Adjusted!F2) -> -1.1139434 | H2: =LOG(TH_COVID19_Adjusted!H2)-LOG(TH_COVID19_Adjusted!G2) -> 0 | I2: =LOG(TH_COVID19_Adjusted!I2)-LOG(TH_COVID19_Adjusted!H2) -> 0 | J2: =LOG(TH_COVID19_Adjusted!J2)-LOG(TH_COVID19_Adjusted!I2) -> 0 | K2: =LOG(TH_COVID19_Adjusted!K2)-LOG(TH_COVID19_Adjusted!J2) -> 0 | ... X2: =LOG(TH_COVID19_Adjusted!X2)-LOG(TH_COVID19_Adjusted!W2) -> 0.16885526
A3: กรุงเทพมหานคร | B3: Bangkok | D3: =LOG(TH_COVID19_Adjusted!D3)-LOG(TH_COVID19_Adjusted!C3) -> -0.032184683 | E3: =LOG(TH_COVID19_Adjusted!E3)-LOG(TH_COVID19_Adjusted!D3) -> 1.8651495 | F3: =LOG(TH_COVID19_Adjusted!F3)-LOG(TH_COVID19_Adjusted!E3) -> -0.2426964 | G3: =LOG(TH_COVID19_Adjusted!G3)-LOG(TH_COVID19_Adjusted!F3) -> -1.2739985 | H3: =LOG(TH_COVID19_Adjusted!H3)-LOG(TH_COVID19_Adjusted!G3) -> 0.18105468 | I3: =LOG(TH_COVID19_Adjusted!I3)-LOG(TH_COVID19_Adjusted!H3) -> 0.0097598373 | J3: =LOG(TH_COVID19_Adjusted!J3)-LOG(TH_COVID19_Adjusted!I3) -> -0.16185082 | K3: =LOG(TH_COVID19_Adjusted!K3)-LOG(TH_COVID19_Adjusted!J3) -> 0.49090954 | ... X3: =LOG(TH_COVID19_Adjusted!X3)-LOG(TH_COVID19_Adjusted!W3) -> -0.48038218
A4: กาญจนบุรี | B4: Kanchanaburi | D4: =LOG(TH_COVID19_Adjusted!D4)-LOG(TH_COVID19_Adjusted!C4) -> 0 | E4: =LOG(TH_COVID19_Adjusted!E4)-LOG(TH_COVID19_Adjusted!D4) -> 0.95424251 | F4: =LOG(TH_COVID19_Adjusted!F4)-LOG(TH_COVID19_Adjusted!E4) -> -0.65321251 | G4: =LOG(TH_COVID19_Adjusted!G4)-LOG(TH_COVID19_Adjusted!F4) -> -0.30103 | H4: =LOG(TH_COVID19_Adjusted!H4)-LOG(TH_COVID19_Adjusted!G4) -> 0 | I4: =LOG(TH_COVID19_Adjusted!I4)-LOG(TH_COVID19_Adjusted!H4) -> 0 | J4: =LOG(TH_COVID19_Adjusted!J4)-LOG(TH_COVID19_Adjusted!I4) -> 0 | K4: =LOG(TH_COVID19_Adjusted!K4)-LOG(TH_COVID19_Adjusted!J4) -> 0 | ... X4: =LOG(TH_COVID19_Adjusted!X4)-LOG(TH_COVID19_Adjusted!W4) -> -0.1668801
A5: กาฬสินธุ์ | B5: Kalasin | D5: =LOG(TH_COVID19_Adjusted!D5)-LOG(TH_COVID19_Adjusted!C5) -> 0 | E5: =LOG(TH_COVID19_Adjusted!E5)-LOG(TH_COVID19_Adjusted!D5) -> 0.47712125 | F5: =LOG(TH_COVID19_Adjusted!F5)-LOG(TH_COVID19_Adjusted!E5) -> -0.17609126 | G5: =LOG(TH_COVID19_Adjusted!G5)-LOG(TH_COVID19_Adjusted!F5) -> -0.30103 | H5: =LOG(TH_COVID19_Adjusted!H5)-LOG(TH_COVID19_Adjusted!G5) -> 0 | I5: =LOG(TH_COVID19_Adjusted!I5)-LOG(TH_COVID19_Adjusted!H5) -> 0 | J5: =LOG(TH_COVID19_Adjusted!J5)-LOG(TH_COVID19_Adjusted!I5) -> 0 | K5: =LOG(TH_COVID19_Adjusted!K5)-LOG(TH_COVID19_Adjusted!J5) -> 0 | ... X5: =LOG(TH_COVID19_Adjusted!X5)-LOG(TH_COVID19_Adjusted!W5) -> 0.13519814
A6: กำแพงเพชร | B6: Kamphaeng Phet | D6: =LOG(TH_COVID19_Adjusted!D6)-LOG(TH_COVID19_Adjusted!C6) -> 0 | E6: =LOG(TH_COVID19_Adjusted!E6)-LOG(TH_COVID19_Adjusted!D6) -> 0 | F6: =LOG(TH_COVID19_Adjusted!F6)-LOG(TH_COVID19_Adjusted!E6) -> 0 | G6: =LOG(TH_COVID19_Adjusted!G6)-LOG(TH_COVID19_Adjusted!F6) -> 0 | H6: =LOG(TH_COVID19_Adjusted!H6)-LOG(TH_COVID19_Adjusted!G6) -> 0 | I6: =LOG(TH_COVID19_Adjusted!I6)-LOG(TH_COVID19_Adjusted!H6) -> 0 | J6: =LOG(TH_COVID19_Adjusted!J6)-LOG(TH_COVID19_Adjusted!I6) -> 0 | K6: =LOG(TH_COVID19_Adjusted!K6)-LOG(TH_COVID19_Adjusted!J6) -> 0 | ... X6: =LOG(TH_COVID19_Adjusted!X6)-LOG(TH_COVID19_Adjusted!W6) -> -0.19662408
A7: ขอนแก่น | B7: Khon Kaen | D7: =LOG(TH_COVID19_Adjusted!D7)-LOG(TH_COVID19_Adjusted!C7) -> 0 | E7: =LOG(TH_COVID19_Adjusted!E7)-LOG(TH_COVID19_Adjusted!D7) -> 0.60205999 | F7: =LOG(TH_COVID19_Adjusted!F7)-LOG(TH_COVID19_Adjusted!E7) -> 0 | G7: =LOG(TH_COVID19_Adjusted!G7)-LOG(TH_COVID19_Adjusted!F7) -> -0.60205999 | H7: =LOG(TH_COVID19_Adjusted!H7)-LOG(TH_COVID19_Adjusted!G7) -> 0 | I7: =LOG(TH_COVID19_Adjusted!I7)-LOG(TH_COVID19_Adjusted!H7) -> 0 | J7: =LOG(TH_COVID19_Adjusted!J7)-LOG(TH_COVID19_Adjusted!I7) -> 0 | K7: =LOG(TH_COVID19_Adjusted!K7)-LOG(TH_COVID19_Adjusted!J7) -> 0 | ... X7: =LOG(TH_COVID19_Adjusted!X7)-LOG(TH_COVID19_Adjusted!W7) -> 0.049695704
A8: จันทบุรี | B8: Chanthaburi | D8: =LOG(TH_COVID19_Adjusted!D8)-LOG(TH_COVID19_Adjusted!C8) -> 0 | E8: =LOG(TH_COVID19_Adjusted!E8)-LOG(TH_COVID19_Adjusted!D8) -> 0.60205999 | F8: =LOG(TH_COVID19_Adjusted!F8)-LOG(TH_COVID19_Adjusted!E8) -> -0.60205999 | G8: =LOG(TH_COVID19_Adjusted!G8)-LOG(TH_COVID19_Adjusted!F8) -> 0 | H8: =LOG(TH_COVID19_Adjusted!H8)-LOG(TH_COVID19_Adjusted!G8) -> 0 | I8: =LOG(TH_COVID19_Adjusted!I8)-LOG(TH_COVID19_Adjusted!H8) -> 0 | J8: =LOG(TH_COVID19_Adjusted!J8)-LOG(TH_COVID19_Adjusted!I8) -> 0 | K8: =LOG(TH_COVID19_Adjusted!K8)-LOG(TH_COVID19_Adjusted!J8) -> 0 | ... X8: =LOG(TH_COVID19_Adjusted!X8)-LOG(TH_COVID19_Adjusted!W8) -> 0.067241911
A9: ฉะเชิงเทรา | B9: Chachoengsao | D9: =LOG(TH_COVID19_Adjusted!D9)-LOG(TH_COVID19_Adjusted!C9) -> 0 | E9: =LOG(TH_COVID19_Adjusted!E9)-LOG(TH_COVID19_Adjusted!D9) -> 1.0791812 | F9: =LOG(TH_COVID19_Adjusted!F9)-LOG(TH_COVID19_Adjusted!E9) -> -0.23408321 | G9: =LOG(TH_COVID19_Adjusted!G9)-LOG(TH_COVID19_Adjusted!F9) -> -0.84509804 | H9: =LOG(TH_COVID19_Adjusted!H9)-LOG(TH_COVID19_Adjusted!G9) -> 0 | I9: =LOG(TH_COVID19_Adjusted!I9)-LOG(TH_COVID19_Adjusted!H9) -> 0 | J9: =LOG(TH_COVID19_Adjusted!J9)-LOG(TH_COVID19_Adjusted!I9) -> 0 | K9: =LOG(TH_COVID19_Adjusted!K9)-LOG(TH_COVID19_Adjusted!J9) -> 0 | ... X9: =LOG(TH_COVID19_Adjusted!X9)-LOG(TH_COVID19_Adjusted!W9) -> -0.34989603
A10: ชลบุรี | B10: Chon Buri | D10: =LOG(TH_COVID19_Adjusted!D10)-LOG(TH_COVID19_Adjusted!C10) -> 0.30103 | E10: =LOG(TH_COVID19_Adjusted!E10)-LOG(TH_COVID19_Adjusted!D10) -> 1.3324385 | F10: =LOG(TH_COVID19_Adjusted!F10)-LOG(TH_COVID19_Adjusted!E10) -> 0.056727624 | G10: =LOG(TH_COVID19_Adjusted!G10)-LOG(TH_COVID19_Adjusted!F10) -> -0.3477734 | H10: =LOG(TH_COVID19_Adjusted!H10)-LOG(TH_COVID19_Adjusted!G10) -> 0.019305155 | I10: =LOG(TH_COVID19_Adjusted!I10)-LOG(TH_COVID19_Adjusted!H10) -> 0.43761271 | J10: =LOG(TH_COVID19_Adjusted!J10)-LOG(TH_COVID19_Adjusted!I10) -> 0.026734253 | K10: =LOG(TH_COVID19_Adjusted!K10)-LOG(TH_COVID19_Adjusted!J10) -> -0.30756086 | ... X10: =LOG(TH_COVID19_Adjusted!X10)-LOG(TH_COVID19_Adjusted!W10) -> -0.31129597
A11: ชัยนาท | B11: Chai Nat | D11: =LOG(TH_COVID19_Adjusted!D11)-LOG(TH_COVID19_Adjusted!C11) -> 0 | E11: =LOG(TH_COVID19_Adjusted!E11)-LOG(TH_COVID19_Adjusted!D11) -> 0 | F11: =LOG(TH_COVID19_Adjusted!F11)-LOG(TH_COVID19_Adjusted!E11) -> 0 | G11: =LOG(TH_COVID19_Adjusted!G11)-LOG(TH_COVID19_Adjusted!F11) -> 0 | H11: =LOG(TH_COVID19_Adjusted!H11)-LOG(TH_COVID19_Adjusted!G11) -> 0 | I11: =LOG(TH_COVID19_Adjusted!I11)-LOG(TH_COVID19_Adjusted!H11) -> 0 | J11: =LOG(TH_COVID19_Adjusted!J11)-LOG(TH_COVID19_Adjusted!I11) -> 0 | K11: =LOG(TH_COVID19_Adjusted!K11)-LOG(TH_COVID19_Adjusted!J11) -> 0 | ... X11: =LOG(TH_COVID19_Adjusted!X11)-LOG(TH_COVID19_Adjusted!W11) -> -0.70504415
A12: ชัยภูมิ | B12: Chaiyaphum | D12: =LOG(TH_COVID19_Adjusted!D12)-LOG(TH_COVID19_Adjusted!C12) -> 0 | E12: =LOG(TH_COVID19_Adjusted!E12)-LOG(TH_COVID19_Adjusted!D12) -> 0.47712125 | F12: =LOG(TH_COVID19_Adjusted!F12)-LOG(TH_COVID19_Adjusted!E12) -> -0.17609126 | G12: =LOG(TH_COVID19_Adjusted!G12)-LOG(TH_COVID19_Adjusted!F12) -> -0.30103 | H12: =LOG(TH_COVID19_Adjusted!H12)-LOG(TH_COVID19_Adjusted!G12) -> 0 | I12: =LOG(TH_COVID19_Adjusted!I12)-LOG(TH_COVID19_Adjusted!H12) -> 0 | J12: =LOG(TH_COVID19_Adjusted!J12)-LOG(TH_COVID19_Adjusted!I12) -> 0 | K12: =LOG(TH_COVID19_Adjusted!K12)-LOG(TH_COVID19_Adjusted!J12) -> 0 | ... X12: =LOG(TH_COVID19_Adjusted!X12)-LOG(TH_COVID19_Adjusted!W12) -> -1.077993
A13: ชุมพร | B13: Chumphon | D13: =LOG(TH_COVID19_Adjusted!D13)-LOG(TH_COVID19_Adjusted!C13) -> 0 | E13: =LOG(TH_COVID19_Adjusted!E13)-LOG(TH_COVID19_Adjusted!D13) -> 0.30103 | F13: =LOG(TH_COVID19_Adjusted!F13)-LOG(TH_COVID19_Adjusted!E13) -> 1.0211893 | G13: =LOG(TH_COVID19_Adjusted!G13)-LOG(TH_COVID19_Adjusted!F13) -> -1.3222193 | H13: =LOG(TH_COVID19_Adjusted!H13)-LOG(TH_COVID19_Adjusted!G13) -> 0 | I13: =LOG(TH_COVID19_Adjusted!I13)-LOG(TH_COVID19_Adjusted!H13) -> 0 | J13: =LOG(TH_COVID19_Adjusted!J13)-LOG(TH_COVID19_Adjusted!I13) -> 0 | K13: =LOG(TH_COVID19_Adjusted!K13)-LOG(TH_COVID19_Adjusted!J13) -> 0 | ... X13: =LOG(TH_COVID19_Adjusted!X13)-LOG(TH_COVID19_Adjusted!W13) -> -0.17932057
... A77: อุบลราชธานี | B77: Ubon Ratchathani | D77: =LOG(TH_COVID19_Adjusted!D77)-LOG(TH_COVID19_Adjusted!C77) -> 0 | E77: =LOG(TH_COVID19_Adjusted!E77)-LOG(TH_COVID19_Adjusted!D77) -> 1.146128 | F77: =LOG(TH_COVID19_Adjusted!F77)-LOG(TH_COVID19_Adjusted!E77) -> -0.66900678 | G77: =LOG(TH_COVID19_Adjusted!G77)-LOG(TH_COVID19_Adjusted!F77) -> -0.47712125 | H77: =LOG(TH_COVID19_Adjusted!H77)-LOG(TH_COVID19_Adjusted!G77) -> 0 | I77: =LOG(TH_COVID19_Adjusted!I77)-LOG(TH_COVID19_Adjusted!H77) -> 0 | J77: =LOG(TH_COVID19_Adjusted!J77)-LOG(TH_COVID19_Adjusted!I77) -> 0 | K77: =LOG(TH_COVID19_Adjusted!K77)-LOG(TH_COVID19_Adjusted!J77) -> 0 | ... X77: =LOG(TH_COVID19_Adjusted!X77)-LOG(TH_COVID19_Adjusted!W77) -> -0.033082365
