Workbook

Sheet Form Responses 1
A1: Timestamp | B1: ท่านเคยอ่านนิยายYออนไลน์หรือไม่ | C1: เหตุใดท่านจึงเลือกที่จะอ่านนิยายYออนไลน์ (ตอบได้มากกว่า 1 ข้อ) | D1: ความถี่ในการอ่านนิยายYออนไลน์ของท่าน เมื่อคิดเป็นชั่วโมงต่อสัปดาห์ | E1: ท่านอ่านนิยายYออนไลน์บน platform ใด | F1: ถ้าท่านอ่านนิยายYบนแอปพลิเคชั่น ท่านอ่านผ่านApp ใด (ตอบได้มากกว่า 1 ข้อ) | G1: ประเภทนิยายYออนไลน์ที่ท่านอ่าน | H1: ท่านใช้อุปกรณ์ใดในการอ่านนิยายYออนไลน์มากที่สุด | I1: ท่านเคยซื้อนิยายYออนไลน์ผ่าน application หรือไม่ | J1: ท่านซื้อนิยายYออนไลน์จาก Application ไหนมากที่สุด | K1: ใน 1 เดือน โดยเฉลี่ยท่านซื้อนิยายYออนไลน์กี่ครั้ง (โปรดระบุเป็นตัวเลข) | L1: โดยเฉลี่ย ท่านใช้เงินในการซื้อนิยายYออนไลน์ครั้งละกี่บาท | M1: ถ้าท่านจะซื้อนิยายวายออนไลน์ 1 เรื่อง (10-15 ตอน) ท่านเต็มใจที่จะจ่ายมากที่สุดกี่บาท | N1: ท่านชำระเงินด้วยวิธีใด (ตอบได้มากกว่า 1 ข้อ) | O1: ประเภทนิยายYออนไลน์ที่ท่านซื้ออ่าน | P1: ปัจจัยด้านผลิตภัณฑ์ (นิยายYออนไลน์) [เนื้อหาของนิยายออนไลน์มีความน่าสนใจ] | Q1: ปัจจัยด้านผลิตภัณฑ์ (นิยายYออนไลน์) [นิยายออนไลน์มีหลากหลายประเภท] | R1: ปัจจัยด้านผลิตภัณฑ์ (นิยายYออนไลน์) [นิยายออนไลน์มี interactive media เช่น ภาพ ภาพเคลื่อนไหว เพลง] | S1: ปัจจัยด้านผลิตภัณฑ์ (นิยายYออนไลน์) [คำโปรย หรือ เรื่องย่อน่าสนใจ] | T1: ปัจจัยด้านผลิตภัณฑ์ (นิยายYออนไลน์) [การพิสูจน์อักษรมีคุณภาพ ไม่มีคำผิด] | U1: ปัจจัยด้านผลิตภัณฑ์ (นิยายYออนไลน์) [นักเขียนมีความรู้ความสามารถ เชี่ยวชาญเกี่ยวกับเรื่องที่เขียน] | V1: ปัจจัยด้านผลิตภัณฑ์ (นิยายYออนไลน์) [นักเขียนมีสำนวนที่ท่านชอบหรือสนใจ] | W1: ปัจจัยด้านผลิตภัณฑ์ (นิยายYออนไลน์) [นักเขียนมีผลงานเป็นที่ยอมรับ] | X1: ปัจจัยด้านผลิตภัณฑ์ (นิยายYออนไลน์) [นักเขียนสามารถถ่ายทอดเนื้อหาได้ดี] | Y1: ปัจจัยด้านราคา [ราคาเหมาะสมกับคุณภาพของงานเขียน] | Z1: ปัจจัยด้านสถานที่ (Application) [แอปพลิเคชั่นมีความสะดวกในการลงทะเบียนครั้งแรก] | AA1: ปัจจัยด้านสถานที่ (Application) [แอปพลิเคชั่นสามารถค้นหานิยายได้ง่ายและรวดเร็ว] | AB1: ปัจจัยด้านสถานที่ (Application) [แอปพลิเคชั่นมีความเสถียรและสามารถเข้าถึงแต่ละหน้าได้อย่างรวดเร็ว] | AC1: ปัจจัยด้านสถานที่ (Application) [แอปพลิเคชั่นสามารถแนะนำนิยายโดยอ้างอิงจากการอ่านให้ท่านได้] | AD1: ปัจจัยด้านสถานที่ (Application) [แอปพลิเคชั่นมีการจัดหมวดหมู่หนังสือที่ง่ายต่อการค้นหา] | AE1: ปัจจัยด้านสถานที่ (Application) [แอปพลิเคชั่นมีการจัดหมวดหมู่ ที่ดึงดูดความสนใจ เช่น Top hit, top paid, best seller, หรือนิยายที่ได้รับการตีพิมพ์] | AF1: ปัจจัยด้านสถานที่ (Application) [แอปพลิเคชั่นมี feature การอ่านที่หลากหลาย เช่น night mode, sepia mode] | AG1: ปัจจัยด้านสถานที่ (Application) [แอปพลิเคชั่น มีช่องทางให้สื่อสารระหว่างผู้เขียนและผู้อ่าน] | AH1: ปัจจัยด้านสถานที่ (Application) [แอปพลิเคชั่นมีความน่าเชื่อถือ และปลอดภัยที่จะทำธุรกรรม] | AI1: ปัจจัยด้านสถานที่ (Application) [ผู้ดูแลแอปพลิเคชั่นมีการตอบสนองต่อปัญหาทันที] | AJ1: ปัจจัยด้านสถานที่ (Application) [แอปพลิเคชั่นมีช่องทางการให้ชำระเงินหลากหลาย] | AK1: ปัจจัยด้านสถานที่ (Application) [แอปพลิเคชั่นมีจำนวนเหรียญให้เลือกหลากหลาย หรือ สามารถกำหนดจำนวนเหรียญที่จะซื้อเองได้] | AL1: ปัจจัยด้านสถานที่ (Application) [แอปพลิเคชั่นสามารถบันทึกเรื่องโปรด และสามารถย้อนดูประวัติการอ่านได้] | AM1: ปัจจัยด้านสถานที่ (Application) [ผู้อ่านสามารถเข้าถึงเนื้อหานิยายที่ซื้อได้ทันทีหลังการซื้อ] | AN1: ปัจจัยด้านการส่งเสริมการตลาด [มีการส่งเสริมการขายโดยการลดราคาในช่วงวันสำคัญต่างๆ] | AO1: ปัจจัยด้านการส่งเสริมการตลาด [มีการส่งเสริมการขายโดยแถมตอนพิเศษเมื่อซื้อทุกตอนพร้อมกัน] | AP1: ปัจจัยด้านการส่งเสริมการตลาด [มีการส่งเสริมการขายโดยการลดราคาเมื่อซื้อทุกตอนพร้อมกัน] | AQ1: ปัจจัยด้านการส่งเสริมการตลาด [มีการส่งเสริมการขายสำหรับผู้อ่านที่ชำระเงินผ่านช่องทางที่ร่วมรายการ เช่น ให้เหรียญเพิ่ม หรือราคาเหรียญถูกลง] | AR1: ปัจจัยด้านการส่งเสริมการตลาด [นิยายมีการแนะนำผ่านเพื่อน หรือคนรู้จัก] | AS1: ปัจจัยด้านการส่งเสริมการตลาด [สามารถดูโฆษณาบนแอปเพื่อสะสมเหรียญได้] | AT1: ท่านเคยอ่านนิยายทั่วไปแบบออนไลน์หรือไม่ | AU1: เหตุใดท่านจึงเลือกที่จะอ่านนิยายทั่วไปแบบออนไลน์ (ตอบได้มากกว่า 1 ข้อ) | AV1: ความถี่ในการอ่านนิยายทั่วไปแบบออนไลน์ของท่าน เมื่อคิดเป็นจำนวนชั่วโมงต่อสัปดาห์ | AW1: ท่านอ่านนิยายทั่วไปแบบออนไลน์บน platform ใด | AX1: ถ้าท่านอ่านนิยายทั่วไปแบบออนไลน์บนapplication ท่านอ่านผ่าน App ใด (ตอบได้มากกว่า 1 ข้อ) | AY1: ประเภทนิยายทั่วไปแบบออนไลน์ที่ท่านอ่าน | AZ1: ท่านใช้อุปกรณ์ใดในการอ่านนิยายทั่วไปแบบออนไลน์มากที่สุด | BA1: ท่านเคยซื้อนิยายทั่วไปแบบออนไลน์บน Application หรือไม่ | BB1: ท่านซื้อนิยายทั่วไปแบบออนไลน์จาก Application ใดมากที่สุด | BC1: ใน 1 เดือน โดยเฉลี่ยท่านซื้อนิยายทั่วไปแบบออนไลน์อ่านกี่ครั้ง (โปรดระบุเป็นตัวเลข) | BD1: โดยปกติ ท่านใช้เงินซื้อนิยายทั่วไปแบบออนไลน์ 1 ครั้ง โดยเฉลี่ยกี่บาท | BE1: ถ้าท่านจะซื้อนิยายทั่วไปแบบออนไลน์ 1 เรื่อง (10-15 ตอน) ท่านเต็มใจที่จะจ่ายมากที่สุดกี่บาท | BF1: ท่านชำระเงินด้วยวิธีใด (ตอบได้มากกว่า 1 ข้อ) | BG1: ประเภทนิยายทั่วไปแบบออนไลน์ที่ท่านซื้ออ่าน | BH1: เพศ | BI1: อายุ | BJ1: สถานภาพบุคคล | BK1: การศึกษา | BL1: อาชีพ | BM1: รายได้เฉลี่ยต่อเดือน
A2: 43558.696 | B2: เคย | C2: มีเนื้อเรื่องให้เลือกอ่านหลากหลาย, สามารถอ่านที่ไหนก็ได้ตามที่ต้องการ, ไม่มีค่าใช้จ่าย หรือค่าใช้จ่ายน้อยกว่าซื้อหนังสือ | D2: 7 | E2: ทั้งสองที่ | F2: Dek-D, WattPad | G2: ทั้งสอง | H2: โทรศัพท์มือถือ | I2: ไม่เคย | AT2: เคย | AU2: มีเนื้อเรื่องให้เลือกอ่านหลากหลาย, สามารถอ่านที่ไหนก็ได้ตามที่ต้องการ, ไม่มีค่าใช้จ่าย หรือค่าใช้จ่ายน้อยกว่าซื้อหนังสือ | AV2: น้อยกว่า 7 ชั่วโมง | AW2: ทั้งสองที่ | AX2: Dek-D, ธัญวลัย | AY2: ไม่ใช่แฟนฟิคชั่น | AZ2: โทรศัพท์มือถือ | BA2: ไม่เคย | BH2: หญิง | BI2: 23 - 30 ปี | BJ2: โสด | BK2: ปริญญาโท | BL2: พนักงานบริษัทเอกชน | BM2: 15,001 - 20,000 บาท
A3: 43559.885 | B3: เคย | C3: ความหลากหลายของเนื้อเรื่อง, สะดวก สามารถอ่านได้ทุกที่, ไม่มีค่าใช้จ่าย หรือค่าใช้จ่ายน้อยกว่าซื้อหนังสือ | D3: 7 - 15 ชั่วโมง | E3: ทั้งสองที่ | F3: Dek-D | G3: ทั้งสอง | H3: โทรศัพท์มือถือ | I3: ไม่เคย | AT3: เคย | AU3: เนื้อเรื่องมีความหลากหลาย, สะดวก สามารถอ่านได้ทุกที่, ไม่มีค่าใช้จ่าย หรือค่าใช้จ่ายน้อยกว่าซื้อหนังสือ | AV3: น้อยกว่า 7 ชั่วโมง | AW3: ทั้งสองที่ | AX3: Dek-D | AY3: ทั้งสองประเภท | AZ3: โทรศัพท์มือถือ | BA3: ไม่เคย | BH3: หญิง | BI3: 18 - 22 ปี | BJ3: โสด | BK3: ปริญญาตรี | BL3: นักเรียน/นักศึกษา | BM3: 20,0001 - 30,000 บาท
A4: 43559.885 | B4: ไม่เคย | AT4: ไม่เคย | BH4: หญิง | BI4: 18 - 22 ปี | BJ4: โสด | BK4: ปริญญาตรี | BL4: นักเรียน/นักศึกษา | BM4: 9,001 - 15,000 บาท
A5: 43559.886 | B5: เคย | C5: ความหลากหลายของเนื้อเรื่อง, สะดวก สามารถอ่านได้ทุกที่, ไม่มีค่าใช้จ่าย หรือค่าใช้จ่ายน้อยกว่าซื้อหนังสือ | D5: 7 - 15 ชั่วโมง | E5: ทั้งสองที่ | F5: Dek-D, ReadAwrite | G5: ไม่ใช่แฟนฟิคชั่น | H5: โทรศัพท์มือถือ | I5: ไม่เคย | AT5: เคย | AU5: เนื้อเรื่องมีความหลากหลาย, สะดวก สามารถอ่านได้ทุกที่, ไม่มีค่าใช้จ่าย หรือค่าใช้จ่ายน้อยกว่าซื้อหนังสือ | AV5: น้อยกว่า 7 ชั่วโมง | AW5: แอปพลิเคชั่น | AX5: Dek-D | AY5: ไม่ใช่แฟนฟิคชั่น | AZ5: โทรศัพท์มือถือ | BA5: ไม่เคย | BH5: หญิง | BI5: 18 - 22 ปี | BJ5: โสด | BK5: ปริญญาตรี | BL5: นักเรียน/นักศึกษา | BM5: ต่ำกว่าหรือเท่ากับ 9,000 บาท
A6: 43559.887 | B6: ไม่เคย | AT6: เคย | AU6: เนื้อเรื่องมีความหลากหลาย, สะดวก สามารถอ่านได้ทุกที่, ไม่มีค่าใช้จ่าย หรือค่าใช้จ่ายน้อยกว่าซื้อหนังสือ | AV6: น้อยกว่า 7 ชั่วโมง | AW6: เว็บไซต์ | AX6: Dek-D | AY6: ไม่ใช่แฟนฟิคชั่น | AZ6: โทรศัพท์มือถือ | BA6: ไม่เคย | BH6: หญิง | BI6: 18 - 22 ปี | BJ6: โสด | BK6: ปริญญาตรี | BL6: นักเรียน/นักศึกษา | BM6: 9,001 - 15,000 บาท
A7: 43559.887 | B7: ไม่เคย | AT7: เคย | AU7: เนื้อเรื่องมีความหลากหลาย, สะดวก สามารถอ่านได้ทุกที่, ไม่มีค่าใช้จ่าย หรือค่าใช้จ่ายน้อยกว่าซื้อหนังสือ | AV7: 16 - 25 ชั่วโมง | AW7: ทั้งสองที่ | AX7: ookbee | AY7: ไม่ใช่แฟนฟิคชั่น | AZ7: Computer | BA7: เคย | BB7: ookbee | BC7: 5 | BD7: 90 | BE7: 90 | BF7: True money | BG7: นิยายที่ไม่ใช่แฟนฟิคชั่น | BH7: ชาย | BI7: 23 - 30 ปี | BJ7: โสด | BK7: ปริญญาตรี | BL7: นักเรียน/นักศึกษา | BM7: 20,0001 - 30,000 บาท
A8: 43559.888 | B8: เคย | C8: สะดวก สามารถอ่านได้ทุกที่, ไม่มีค่าใช้จ่าย หรือค่าใช้จ่ายน้อยกว่าซื้อหนังสือ | D8: 26 - 40 ชั่วโมง | E8: ทั้งสองที่ | F8: Dek-D, ธัญวลัย, ReadAwrite | G8: ทั้งสอง | H8: โทรศัพท์มือถือ | I8: เคย | J8: ธัญวลัย | K8: 1 | L8: 100 | M8: 150 | N8: In-app purchase (ชำระผ่าน Application), Credit/Debit card, Mobile/online banking, ชำระผ่านผู้ให้บริการสัญญาณโทรศัพท์ (True, AIS, DTAC) | O8: นิยายวายไม่ใช่แฟนฟิคชั่น | P8: สำคัญมากที่สุด | Q8: สำคัญมากที่สุด | R8: ค่อนข้างสำคัญ | S8: สำคัญมาก | T8: สำคัญ | U8: สำคัญมาก | V8: สำคัญมากที่สุด | W8: สำคัญ | X8: สำคัญมาก | Y8: สำคัญพอสมควร | Z8: สำคัญพอสมควร | AA8: สำคัญมาก | AB8: สำคัญมาก | AC8: สำคัญ | AD8: สำคัญมากที่สุด | AE8: สำคัญมาก | AF8: ค่อนข้างสำคัญ | AG8: ค่อนข้างสำคัญ | AH8: สำคัญมาก | AI8: ค่อนข้างสำคัญ | AJ8: สำคัญมาก | AK8: สำคัญมาก | AL8: สำคัญมากที่สุด | AM8: สำคัญมากที่สุด | AN8: สำคัญพอสมควร | AO8: สำคัญพอสมควร | AP8: สำคัญพอสมควร | AQ8: สำคัญมาก | AR8: สำคัญมาก | AS8: สำคัญมาก | BH8: หญิง | BI8: 18 - 22 ปี | BJ8: โสด | BK8: ปริญญาตรี | BL8: นักเรียน/นักศึกษา | BM8: ต่ำกว่าหรือเท่ากับ 9,000 บาท
A9: 43559.89 | B9: เคย | C9: สะดวก สามารถอ่านได้ทุกที่, ไม่มีค่าใช้จ่าย หรือค่าใช้จ่ายน้อยกว่าซื้อหนังสือ | D9: 26 - 40 ชั่วโมง | E9: ทั้งสองที่ | F9: Dek-D, Joylada | G9: แฟนฟิคชั่น (Fanfiction) | H9: โทรศัพท์มือถือ | I9: เคย | J9: Dek-D | K9: 1 | L9: 150 | M9: 300 | N9: In-app purchase (ชำระผ่าน Application), Credit/Debit card, Mobile/online banking | O9: แฟนฟิคชั่น (FanFiction) | P9: สำคัญมากที่สุด | Q9: สำคัญพอสมควร | R9: สำคัญน้อย | S9: สำคัญพอสมควร | T9: สำคัญพอสมควร | U9: สำคัญมาก | V9: สำคัญมากที่สุด | W9: สำคัญน้อย | X9: สำคัญมากที่สุด | Y9: สำคัญ | Z9: สำคัญมากที่สุด | AA9: สำคัญมาก | AB9: สำคัญมาก | AC9: สำคัญ | AD9: สำคัญพอสมควร | AE9: สำคัญมากที่สุด | AF9: สำคัญ | AG9: สำคัญน้อย | AH9: สำคัญมากที่สุด | AI9: สำคัญมาก | AJ9: สำคัญพอสมควร | AK9: สำคัญ | AL9: สำคัญมากที่สุด | AM9: สำคัญมากที่สุด | AN9: สำคัญพอสมควร | AO9: สำคัญพอสมควร | AP9: สำคัญพอสมควร | AQ9: ค่อนข้างสำคัญ | AR9: สำคัญน้อย | AS9: สำคัญน้อย | BH9: หญิง | BI9: 18 - 22 ปี | BJ9: โสด | BK9: ปริญญาตรี | BL9: นักเรียน/นักศึกษา | BM9: 9,001 - 15,000 บาท
A10: 43559.894 | B10: ไม่เคย | AT10: เคย | AU10: เนื้อเรื่องมีความหลากหลาย | AV10: น้อยกว่า 7 ชั่วโมง | AW10: เว็บไซต์ | AX10: Dek-D | AY10: ไม่ใช่แฟนฟิคชั่น | AZ10: โทรศัพท์มือถือ | BA10: ไม่เคย | BH10: หญิง | BI10: 23 - 30 ปี | BJ10: โสด | BK10: ปริญญาตรี | BL10: พนักงานบริษัทเอกชน | BM10: 20,0001 - 30,000 บาท
A11: 43559.896 | B11: ไม่เคย | AT11: ไม่เคย | BH11: หญิง | BI11: 18 - 22 ปี | BJ11: โสด | BK11: ต่ำกว่าปริญญาตรี | BL11: นักเรียน/นักศึกษา | BM11: ต่ำกว่าหรือเท่ากับ 9,000 บาท
A12: 43559.899 | B12: ไม่เคย | AT12: ไม่เคย | BH12: หญิง | BI12: อายุต่ำกว่า 18 ปี | BJ12: โสด | BK12: ต่ำกว่าปริญญาตรี | BL12: นักเรียน/นักศึกษา | BM12: ต่ำกว่าหรือเท่ากับ 9,000 บาท
A13: 43559.901 | B13: ไม่เคย | AT13: เคย | AU13: สะดวก สามารถอ่านได้ทุกที่ | AV13: น้อยกว่า 7 ชั่วโมง | AW13: ทั้งสองที่ | AX13: Dek-D | AY13: แฟนฟิคชั่น (Fanfiction) | AZ13: โทรศัพท์มือถือ | BA13: ไม่เคย | BH13: หญิง | BI13: อายุต่ำกว่า 18 ปี | BJ13: โสด | BK13: ต่ำกว่าปริญญาตรี | BL13: นักเรียน/นักศึกษา | BM13: ต่ำกว่าหรือเท่ากับ 9,000 บาท
A14: 43559.905 | B14: เคย | C14: สะดวก สามารถอ่านได้ทุกที่, ไม่มีค่าใช้จ่าย หรือค่าใช้จ่ายน้อยกว่าซื้อหนังสือ | D14: น้อยกว่า 7 ชั่วโมง | E14: Application | F14: Dek-D | G14: ทั้งสอง | H14: โทรศัพท์มือถือ | I14: เคย | J14: Dek-D | K14: 0 | L14: 300 | M14: 300 | N14: In-app purchase (ชำระผ่าน Application), Credit/Debit card, Mobile/online banking | O14: นิยายวายไม่ใช่แฟนฟิคชั่น | P14: สำคัญมากที่สุด | Q14: สำคัญพอสมควร | R14: สำคัญน้อย | S14: สำคัญ | T14: ค่อนข้างสำคัญ | U14: สำคัญน้อย | V14: สำคัญมากที่สุด | W14: สำคัญน้อย | X14: สำคัญมากที่สุด | Y14: สำคัญมาก | Z14: สำคัญพอสมควร | AA14: สำคัญพอสมควร | AB14: สำคัญพอสมควร | AC14: สำคัญพอสมควร | AD14: สำคัญ | AE14: สำคัญพอสมควร | AF14: สำคัญพอสมควร | AG14: ค่อนข้างสำคัญ | AH14: สำคัญมาก | AI14: สำคัญพอสมควร | AJ14: สำคัญ | AK14: สำคัญ | AL14: สำคัญมาก | AM14: สำคัญพอสมควร | AN14: สำคัญน้อย | AO14: ค่อนข้างสำคัญ | AP14: สำคัญน้อย | AQ14: สำคัญน้อย | AR14: สำคัญน้อย | AS14: ค่อนข้างสำคัญ | BH14: หญิง | BI14: 23 - 30 ปี | BJ14: โสด | BK14: ปริญญาตรี | BL14: พนักงานบริษัทเอกชน | BM14: 30,001 - 40,000 บาท
A15: 43559.906 | B15: ไม่เคย | AT15: ไม่เคย | BH15: ชาย | BI15: 23 - 30 ปี | BJ15: โสด | BK15: ปริญญาตรี | BL15: พนักงานบริษัทเอกชน | BM15: 20,0001 - 30,000 บาท
A16: 43559.91 | B16: เคย | C16: ความหลากหลายของเนื้อเรื่อง, สะดวก สามารถอ่านได้ทุกที่, ไม่มีค่าใช้จ่าย หรือค่าใช้จ่ายน้อยกว่าซื้อหนังสือ | D16: 16 - 25 ชั่วโมง | E16: ทั้งสองที่ | F16: Dek-D, Fictionlog, ธัญวลัย | G16: ทั้งสอง | H16: โทรศัพท์มือถือ | I16: เคย | J16: ธัญวลัย | K16: 1 | L16: 100 | M16: 300 | N16: In-app purchase (ชำระผ่าน Application) | O16: ทั้งสอง | P16: สำคัญมากที่สุด | Q16: สำคัญมาก | R16: สำคัญน้อย | S16: สำคัญน้อย | T16: สำคัญพอสมควร | U16: สำคัญมากที่สุด | V16: สำคัญมากที่สุด | W16: สำคัญมากที่สุด | X16: สำคัญมากที่สุด | Y16: สำคัญ | Z16: สำคัญมาก | AA16: สำคัญมากที่สุด | AB16: สำคัญมากที่สุด | AC16: สำคัญมากที่สุด | AD16: สำคัญมากที่สุด | AE16: สำคัญมาก | AF16: สำคัญมากที่สุด | AG16: สำคัญพอสมควร | AH16: สำคัญมาก | AI16: สำคัญมาก | AJ16: สำคัญพอสมควร | AK16: สำคัญมากที่สุด | AL16: สำคัญมากที่สุด | AM16: สำคัญมากที่สุด | AN16: สำคัญพอสมควร | AO16: สำคัญมาก | AP16: สำคัญมากที่สุด | AQ16: สำคัญมากที่สุด | AR16: สำคัญมากที่สุด | AS16: สำคัญมากที่สุด | BH16: หญิง | BI16: 18 - 22 ปี | BJ16: โสด | BK16: ปริญญาตรี | BL16: นักเรียน/นักศึกษา | BM16: 9,001 - 15,000 บาท
A17: 43559.914 | B17: ไม่เคย | AT17: ไม่เคย | BH17: หญิง | BI17: 40 ปีขึ้นไป | BJ17: สมรส | BK17: ปริญญาตรี | BL17: ธุรกิจส่วนตัว | BM17: 30,001 - 40,000 บาท
A18: 43559.915 | B18: ไม่เคย | AT18: เคย | AU18: เนื้อเรื่องมีความหลากหลาย, สะดวก สามารถอ่านได้ทุกที่, ไม่มีค่าใช้จ่าย หรือค่าใช้จ่ายน้อยกว่าซื้อหนังสือ | AV18: น้อยกว่า 7 ชั่วโมง | AW18: เว็บไซต์ | AX18: Dek-D | AY18: ไม่ใช่แฟนฟิคชั่น | AZ18: โทรศัพท์มือถือ | BA18: ไม่เคย | BH18: หญิง | BI18: 18 - 22 ปี | BJ18: โสด | BK18: ปริญญาตรี | BL18: นักเรียน/นักศึกษา | BM18: 9,001 - 15,000 บาท
A19: 43559.916 | B19: ไม่เคย | AT19: เคย | AU19: สะดวก สามารถอ่านได้ทุกที่ | AV19: น้อยกว่า 7 ชั่วโมง | AW19: เว็บไซต์ | AX19: Dek-D | AY19: ทั้งสองประเภท | AZ19: โทรศัพท์มือถือ | BA19: ไม่เคย | BH19: หญิง | BI19: 18 - 22 ปี | BJ19: โสด | BK19: ปริญญาตรี | BL19: นักเรียน/นักศึกษา | BM19: 9,001 - 15,000 บาท
A20: 43559.917 | B20: ไม่เคย | AT20: ไม่เคย | BH20: เกย์ | BI20: 23 - 30 ปี | BJ20: โสด | BK20: ปริญญาตรี | BL20: พนักงานบริษัทเอกชน | BM20: 20,0001 - 30,000 บาท
A21: 43559.918 | B21: เคย | C21: ความหลากหลายของเนื้อเรื่อง, สะดวก สามารถอ่านได้ทุกที่, ไม่มีค่าใช้จ่าย หรือค่าใช้จ่ายน้อยกว่าซื้อหนังสือ | D21: น้อยกว่า 7 ชั่วโมง | E21: เว็บไซต์ | F21: Dek-D | G21: แฟนฟิคชั่น (Fanfiction) | H21: Computer | I21: ไม่เคย | AT21: ไม่เคย | BH21: หญิง | BI21: 18 - 22 ปี | BJ21: โสด | BK21: ปริญญาตรี | BL21: นักเรียน/นักศึกษา | BM21: 15,001 - 20,000 บาท
A22: 43559.92 | B22: เคย | C22: ไม่มีค่าใช้จ่าย หรือค่าใช้จ่ายน้อยกว่าซื้อหนังสือ | D22: น้อยกว่า 7 ชั่วโมง | E22: เว็บไซต์ | F22: Dek-D, ธัญวลัย | G22: ไม่ใช่แฟนฟิคชั่น | H22: โทรศัพท์มือถือ | I22: ไม่เคย | AT22: เคย | AU22: ไม่มีค่าใช้จ่าย หรือค่าใช้จ่ายน้อยกว่าซื้อหนังสือ | AV22: น้อยกว่า 7 ชั่วโมง | AW22: เว็บไซต์ | AX22: Dek-D, ธัญวลัย | AY22: ไม่ใช่แฟนฟิคชั่น | AZ22: โทรศัพท์มือถือ | BA22: ไม่เคย | BH22: หญิง | BI22: 23 - 30 ปี | BJ22: โสด | BK22: ปริญญาตรี | BL22: พนักงานบริษัทเอกชน | BM22: 20,0001 - 30,000 บาท
A23: 43559.93 | B23: เคย | C23: สะดวก สามารถอ่านได้ทุกที่, ไม่มีค่าใช้จ่าย หรือค่าใช้จ่ายน้อยกว่าซื้อหนังสือ | D23: 7 - 15 ชั่วโมง | E23: ทั้งสองที่ | F23: Dek-D, WattPad, Joylada, Meb | G23: ทั้งสอง | H23: โทรศัพท์มือถือ | I23: เคย | J23: Meb | K23: 0 | L23: 200 | M23: 200 | N23: Mobile/online banking, ชำระผ่านเคาน์เตอร์ (7-11, Big C, Tesco, etc.) | O23: นิยายวายไม่ใช่แฟนฟิคชั่น | P23: สำคัญมากที่สุด | Q23: สำคัญมาก | R23: สำคัญพอสมควร | S23: สำคัญมาก | T23: สำคัญมาก | U23: สำคัญมากที่สุด | V23: สำคัญมากที่สุด | W23: สำคัญพอสมควร | X23: สำคัญมากที่สุด | Y23: สำคัญมาก | Z23: สำคัญมาก | AA23: สำคัญมากที่สุด | AB23: สำคัญมากที่สุด | AC23: สำคัญพอสมควร | AD23: สำคัญมาก | AE23: สำคัญ | AF23: สำคัญมาก | AG23: สำคัญพอสมควร | AH23: สำคัญมากที่สุด | AI23: สำคัญมากที่สุด | AJ23: สำคัญ | AK23: สำคัญน้อย | AL23: สำคัญมากที่สุด | AM23: สำคัญมากที่สุด | AN23: สำคัญพอสมควร | AO23: สำคัญมากที่สุด | AP23: สำคัญมากที่สุด | AQ23: สำคัญพอสมควร | AR23: สำคัญพอสมควร | AS23: สำคัญพอสมควร | BH23: หญิง | BI23: 18 - 22 ปี | BJ23: โสด | BK23: ปริญญาตรี | BL23: นักเรียน/นักศึกษา | BM23: ต่ำกว่าหรือเท่ากับ 9,000 บาท
A24: 43559.93 | B24: ไม่เคย | AT24: ไม่เคย | BH24: ชาย | BI24: 23 - 30 ปี | BJ24: โสด | BK24: ปริญญาตรี | BL24: พนักงานบริษัทเอกชน | BM24: 20,0001 - 30,000 บาท
A25: 43559.933 | B25: ไม่เคย | AT25: เคย | AU25: สะดวก สามารถอ่านได้ทุกที่, ไม่มีค่าใช้จ่าย หรือค่าใช้จ่ายน้อยกว่าซื้อหนังสือ | AV25: น้อยกว่า 7 ชั่วโมง | AW25: ทั้งสองที่ | AX25: Dek-D, Fictionlog, ธัญวลัย | AY25: ไม่ใช่แฟนฟิคชั่น | AZ25: โทรศัพท์มือถือ | BA25: เคย | BB25: Dek-D | BC25: 1 | BD25: 25 | BE25: 30 | BF25: Mobile/online banking | BG25: นิยายที่ไม่ใช่แฟนฟิคชั่น | BH25: หญิง | BI25: 18 - 22 ปี | BJ25: โสด | BK25: ต่ำกว่าปริญญาตรี | BL25: นักเรียน/นักศึกษา | BM25: ต่ำกว่าหรือเท่ากับ 9,000 บาท
A26: 43559.935 | B26: เคย | C26: สะดวก สามารถอ่านได้ทุกที่, ไม่มีค่าใช้จ่าย หรือค่าใช้จ่ายน้อยกว่าซื้อหนังสือ | D26: 26 - 40 ชั่วโมง | E26: ทั้งสองที่ | F26: Dek-D | G26: ไม่ใช่แฟนฟิคชั่น | H26: โทรศัพท์มือถือ | I26: ไม่เคย | AT26: เคย | AU26: สะดวก สามารถอ่านได้ทุกที่, ไม่มีค่าใช้จ่าย หรือค่าใช้จ่ายน้อยกว่าซื้อหนังสือ | AV26: 16 - 25 ชั่วโมง | AW26: ทั้งสองที่ | AX26: Dek-D | AY26: ไม่ใช่แฟนฟิคชั่น | AZ26: โทรศัพท์มือถือ | BA26: ไม่เคย | BH26: หญิง | BI26: 18 - 22 ปี | BJ26: โสด | BK26: ปริญญาตรี | BL26: นักเรียน/นักศึกษา | BM26: 15,001 - 20,000 บาท
A27: 43559.938 | B27: ไม่เคย | AT27: เคย | AU27: สะดวก สามารถอ่านได้ทุกที่, ไม่มีค่าใช้จ่าย หรือค่าใช้จ่ายน้อยกว่าซื้อหนังสือ | AV27: น้อยกว่า 7 ชั่วโมง | AW27: เว็บไซต์ | AX27: Dek-D | AY27: ไม่ใช่แฟนฟิคชั่น | AZ27: Tablet | BA27: ไม่เคย | BH27: หญิง | BI27: 18 - 22 ปี | BJ27: โสด | BK27: ปริญญาตรี | BL27: นักเรียน/นักศึกษา | BM27: 9,001 - 15,000 บาท
A28: 43559.944 | B28: ไม่เคย | AT28: ไม่เคย | BH28: ชาย | BI28: 40 ปีขึ้นไป | BJ28: สมรส | BK28: ปริญญาโท | BL28: ธุรกิจส่วนตัว | BM28: 40,001 บาทขึ้นไป
A29: 43559.944 | B29: เคย | C29: สะดวก สามารถอ่านได้ทุกที่ | D29: น้อยกว่า 7 ชั่วโมง | E29: ทั้งสองที่ | F29: Dek-D, ธัญวลัย, ReadAwrite | G29: ไม่ใช่แฟนฟิคชั่น | H29: โทรศัพท์มือถือ | I29: เคย | J29: Meb | K29: 3 | L29: 300 | M29: 200 | N29: Credit/Debit card, ชำระผ่านเคาน์เตอร์ (7-11, Big C, Tesco, etc.), ชำระผ่านตู้เติมเงิน (ตู้บุญเติม เป็นต้น) | O29: นิยายวายไม่ใช่แฟนฟิคชั่น | P29: สำคัญมาก | Q29: สำคัญ | R29: สำคัญ | S29: สำคัญพอสมควร | T29: สำคัญมากที่สุด | U29: สำคัญมากที่สุด | V29: สำคัญมาก | W29: สำคัญพอสมควร | X29: สำคัญมากที่สุด | Y29: สำคัญ | Z29: สำคัญ | AA29: สำคัญพอสมควร | AB29: สำคัญพอสมควร | AC29: สำคัญมาก | AD29: สำคัญพอสมควร | AE29: สำคัญ | AF29: สำคัญ | AG29: สำคัญ | AH29: สำคัญ | AI29: สำคัญ | AJ29: สำคัญ | AK29: สำคัญ | AL29: สำคัญพอสมควร | AM29: สำคัญมาก | AN29: ไม่สำคัญ | AO29: สำคัญน้อย | AP29: สำคัญน้อย | AQ29: ไม่สำคัญ | AR29: ไม่สำคัญ | AS29: ไม่สำคัญ | BH29: หญิง | BI29: 23 - 30 ปี | BJ29: โสด | BK29: ปริญญาตรี | BL29: นักเรียน/นักศึกษา | BM29: 9,001 - 15,000 บาท
A30: 43559.945 | B30: เคย | C30: ความหลากหลายของเนื้อเรื่อง, สะดวก สามารถอ่านได้ทุกที่, ไม่มีค่าใช้จ่าย หรือค่าใช้จ่ายน้อยกว่าซื้อหนังสือ | D30: 7 - 15 ชั่วโมง | E30: เว็บไซต์ | F30: Dek-D, ธัญวลัย, ReadAwrite | G30: ทั้งสอง | H30: โทรศัพท์มือถือ | I30: ไม่เคย | AT30: เคย | AU30: เนื้อเรื่องมีความหลากหลาย, สะดวก สามารถอ่านได้ทุกที่, ไม่มีค่าใช้จ่าย หรือค่าใช้จ่ายน้อยกว่าซื้อหนังสือ | AV30: น้อยกว่า 7 ชั่วโมง | AW30: เว็บไซต์ | AY30: แฟนฟิคชั่น (Fanfiction) | AZ30: โทรศัพท์มือถือ | BA30: ไม่เคย | BH30: หญิง | BI30: 18 - 22 ปี | BJ30: โสด | BK30: ปริญญาตรี | BL30: นักเรียน/นักศึกษา | BM30: 9,001 - 15,000 บาท
A31: 43559.961 | B31: ไม่เคย | AT31: เคย | AU31: สะดวก สามารถอ่านได้ทุกที่, ไม่มีค่าใช้จ่าย หรือค่าใช้จ่ายน้อยกว่าซื้อหนังสือ | AV31: 7 - 15 ชั่วโมง | AW31: ทั้งสองที่ | AX31: Dek-D | AY31: ทั้งสองประเภท | AZ31: โทรศัพท์มือถือ | BA31: ไม่เคย | BH31: ชาย | BI31: 18 - 22 ปี | BJ31: โสด | BK31: ต่ำกว่าปริญญาตรี | BL31: นักเรียน/นักศึกษา | BM31: 9,001 - 15,000 บาท
A32: 43559.978 | B32: ไม่เคย | AT32: ไม่เคย | BH32: หญิง | BI32: 40 ปีขึ้นไป | BJ32: สมรส | BK32: ปริญญาโท | BL32: พนักงานบริษัทเอกชน | BM32: 40,001 บาทขึ้นไป
A33: 43559.979 | B33: ไม่เคย | AT33: ไม่เคย | BH33: หญิง | BI33: อายุต่ำกว่า 18 ปี | BJ33: โสด | BK33: ต่ำกว่าปริญญาตรี | BL33: นักเรียน/นักศึกษา | BM33: ต่ำกว่าหรือเท่ากับ 9,000 บาท
A34: 43559.991 | B34: เคย | C34: ความหลากหลายของเนื้อเรื่อง, สะดวก สามารถอ่านได้ทุกที่, ไม่มีค่าใช้จ่าย หรือค่าใช้จ่ายน้อยกว่าซื้อหนังสือ | D34: 16 - 25 ชั่วโมง | E34: ทั้งสองที่ | F34: Dek-D, Fictionlog, ธัญวลัย, ReadAwrite | G34: ทั้งสอง | H34: โทรศัพท์มือถือ | I34: ไม่เคย | AT34: เคย | AU34: เนื้อเรื่องมีความหลากหลาย, สะดวก สามารถอ่านได้ทุกที่, ไม่มีค่าใช้จ่าย หรือค่าใช้จ่ายน้อยกว่าซื้อหนังสือ | AV34: น้อยกว่า 7 ชั่วโมง | AW34: ทั้งสองที่ | AX34: Dek-D, ReadAWrite | AY34: ไม่ใช่แฟนฟิคชั่น | AZ34: โทรศัพท์มือถือ | BA34: ไม่เคย | BH34: หญิง | BI34: 18 - 22 ปี | BJ34: โสด | BK34: ปริญญาตรี | BL34: นักเรียน/นักศึกษา | BM34: ต่ำกว่าหรือเท่ากับ 9,000 บาท
A35: 43560.037 | B35: ไม่เคย | AT35: เคย | AU35: สะดวก สามารถอ่านได้ทุกที่, ไม่มีค่าใช้จ่าย หรือค่าใช้จ่ายน้อยกว่าซื้อหนังสือ | AV35: น้อยกว่า 7 ชั่วโมง | AW35: เว็บไซต์ | AY35: ไม่ใช่แฟนฟิคชั่น | AZ35: Computer | BA35: ไม่เคย | BH35: หญิง | BI35: 40 ปีขึ้นไป | BJ35: โสด | BK35: ปริญญาตรี | BL35: ธุรกิจส่วนตัว | BM35: 9,001 - 15,000 บาท
A36: 43560.041 | B36: เคย | C36: ความหลากหลายของเนื้อเรื่อง, สะดวก สามารถอ่านได้ทุกที่ | D36: 7 - 15 ชั่วโมง | E36: เว็บไซต์ | F36: thaiboyslove, MEB | G36: ไม่ใช่แฟนฟิคชั่น | H36: Tablet/Ipad | I36: เคย | J36: MEB | K36: 3 | L36: 300 | M36: 300 | N36: In-app purchase (ชำระผ่าน Application), Credit/Debit card | O36: นิยายวายไม่ใช่แฟนฟิคชั่น | P36: สำคัญมากที่สุด | Q36: สำคัญ | R36: ไม่สำคัญ | S36: สำคัญมากที่สุด | T36: สำคัญพอสมควร | U36: สำคัญมาก | V36: สำคัญมากที่สุด | W36: สำคัญน้อย | X36: สำคัญมากที่สุด | Y36: สำคัญมาก | Z36: สำคัญมาก | AA36: สำคัญมาก | AB36: สำคัญมาก | AC36: สำคัญมาก | AD36: สำคัญมาก | AE36: สำคัญมาก | AF36: สำคัญมาก | AG36: ค่อนข้างสำคัญ | AH36: สำคัญมากที่สุด | AI36: สำคัญมากที่สุด | AJ36: สำคัญพอสมควร | AK36: สำคัญน้อย | AL36: สำคัญมาก | AM36: สำคัญมากที่สุด | AN36: สำคัญมาก | AO36: สำคัญมากที่สุด | AP36: สำคัญมากที่สุด | AQ36: สำคัญมากที่สุด | AR36: สำคัญมากที่สุด | AS36: สำคัญมากที่สุด | BH36: หญิง | BI36: 23 - 30 ปี | BJ36: โสด | BK36: ปริญญาตรี | BL36: นักเรียน/นักศึกษา | BM36: 9,001 - 15,000 บาท
A37: 43560.278 | B37: เคย | C37: สะดวก สามารถอ่านได้ทุกที่, ไม่มีค่าใช้จ่าย หรือค่าใช้จ่ายน้อยกว่าซื้อหนังสือ | D37: 7 - 15 ชั่วโมง | E37: Application | F37: JOY | G37: แฟนฟิคชั่น (Fanfiction) | H37: โทรศัพท์มือถือ | I37: ไม่เคย | AT37: เคย | AU37: สะดวก สามารถอ่านได้ทุกที่, ไม่มีค่าใช้จ่าย หรือค่าใช้จ่ายน้อยกว่าซื้อหนังสือ | AV37: น้อยกว่า 7 ชั่วโมง | AW37: เว็บไซต์ | AX37: Dek-D | AY37: ทั้งสองประเภท | AZ37: Computer | BA37: ไม่เคย | BH37: หญิง | BI37: 23 - 30 ปี | BJ37: โสด | BK37: ปริญญาตรี | BL37: พนักงานบริษัทเอกชน | BM37: 15,001 - 20,000 บาท
A38: 43560.283 | B38: ไม่เคย | AT38: เคย | AU38: สะดวก สามารถอ่านได้ทุกที่, ไม่มีค่าใช้จ่าย หรือค่าใช้จ่ายน้อยกว่าซื้อหนังสือ | AV38: น้อยกว่า 7 ชั่วโมง | AW38: เว็บไซต์ | AX38: Dek-D | AY38: ไม่ใช่แฟนฟิคชั่น | AZ38: Tablet | BA38: ไม่เคย | BH38: หญิง | BI38: 23 - 30 ปี | BJ38: โสด | BK38: ปริญญาโท | BL38: พนักงานบริษัทเอกชน | BM38: 20,0001 - 30,000 บาท
A39: 43560.289 | B39: ไม่เคย | AT39: ไม่เคย | BH39: หญิง | BI39: 23 - 30 ปี | BJ39: โสด | BK39: ปริญญาตรี | BL39: พนักงานบริษัทเอกชน | BM39: 30,001 - 40,000 บาท
A40: 43560.293 | B40: เคย | C40: ความหลากหลายของเนื้อเรื่อง, สะดวก สามารถอ่านได้ทุกที่, ไม่มีค่าใช้จ่าย หรือค่าใช้จ่ายน้อยกว่าซื้อหนังสือ | D40: 16 - 25 ชั่วโมง | E40: เว็บไซต์ | F40: Weibo | G40: แฟนฟิคชั่น (Fanfiction) | H40: โทรศัพท์มือถือ | I40: ไม่เคย | AT40: เคย | AU40: เนื้อเรื่องมีความหลากหลาย, สะดวก สามารถอ่านได้ทุกที่, ไม่มีค่าใช้จ่าย หรือค่าใช้จ่ายน้อยกว่าซื้อหนังสือ | AV40: 16 - 25 ชั่วโมง | AW40: เว็บไซต์ | AX40: Weibo | AY40: แฟนฟิคชั่น (Fanfiction) | AZ40: โทรศัพท์มือถือ | BA40: ไม่เคย | BH40: หญิง | BI40: 23 - 30 ปี | BJ40: โสด | BK40: ปริญญาตรี | BL40: นักเรียน/นักศึกษา | BM40: 20,0001 - 30,000 บาท
...

Sheet Sheet1
A1: Behavior of reading online novel
A2: Experience | D2: Devices | G2: Reason
A3: เคย | B3: 1 | D3: Computer | E3: 0 | G3: ความหลากหลายของเนื้อเรื่อง | H3: 1
A4: ไม่เคย | B4: 0 | D4: โทรศัพท์มือถือ | E4: 1 | G4: สะดวก สามารถอ่านได้ทุกที่ | H4: 2
D5: Tablet/Ipad | E5: 2 | G5: ไม่มีค่าใช้จ่าย หรือค่าใช้จ่ายน้อยกว่าซื้อหนังสือ | H5: 3
A6: Frequency | G6: สามารถแสดงความคิดเห็นต่อนิยายเรื่องนั้นๆ หรือตอนนั้นๆได้อย่างทันที | H6: 4
A7: น้อยกว่า 7 ชั่วโมง | B7: 0 | D7: Application | G7: ประหยัดพื้นที่ในการเก็บ/ลดการใช้กระดาษ | H7: 5
A8: 7 - 15 ชั่วโมง | B8: 1 | D8: Dek-D | E8: 1 | G8: อยากรู้ | H8: 6
A9: 16 - 25 ชั่วโมง | B9: 2 | D9: Fictionlog | E9: 2 | G9: ทดลองอ่านก่อนซื้อหนังสือ | H9: 7
A10: 26 - 40 ชั่วโมง | B10: 3 | D10: ธัญวลัย | E10: 3 | G10: เห็นความรักในหลายแง่มุม | H10: 8
A11: มากกว่า 40 ชั่วโมง | B11: 4 | D11: ReadAwrite | E11: 4 | G11: คลายเครียด/สนุก | H11: 9
D12: WattPad | E12: 5 | G12: ได้รับการแนะนำให้อ่าน | H12: 10
A13: Platform | D13: Dek-D, Fictionlog | E13: 6 | G13: ลดเวลารอหนังสือตีพิมพ์ | H13: 11
A14: เว็บไซต์ | B14: 0 | D14: Dek-D, ธัญวลัย | E14: 7 | G14: ความหลากหลายของเนื้อเรื่อง, สะดวก สามารถอ่านได้ทุกที่ | H14: 12
A15: Application | B15: 1 | D15: Dek-D, ReadAwrite | E15: 8 | G15: ความหลากหลายของเนื้อเรื่อง, สะดวก สามารถอ่านได้ทุกที่, ไม่มีค่าใช้จ่าย หรือค่าใช้จ่ายน้อยกว่าซื้อหนังสือ | H15: 13
A16: ทั้งสองที่ | B16: 2 | D16: Dek-D, WattPad | E16: 9 | G16: ความหลากหลายของเนื้อเรื่อง, สะดวก สามารถอ่านได้ทุกที่, ไม่มีค่าใช้จ่าย หรือค่าใช้จ่ายน้อยกว่าซื้อหนังสือ, สามารถแสดงความคิดเห็นต่อนิยายเรื่องนั้นๆ หรือตอนนั้นๆได้อย่างทันที | H16: 14
D17: Dek-D, Fictionlog, ธัญวลัย | E17: 10 | G17: ความหลากหลายของเนื้อเรื่อง, สะดวก สามารถอ่านได้ทุกที่, ไม่มีค่าใช้จ่าย หรือค่าใช้จ่ายน้อยกว่าซื้อหนังสือ, สามารถแสดงความคิดเห็นต่อนิยายเรื่องนั้นๆ หรือตอนนั้นๆได้อย่างทันที, สนับสนุนนักเขียน | H17: 15
A18: Categories | D18: Dek-D, Fictionlog, ธัญวลัย, WattPad | E18: 11 | G18: ความหลากหลายของเนื้อเรื่อง, สะดวก สามารถอ่านได้ทุกที่, ไม่มีค่าใช้จ่าย หรือค่าใช้จ่ายน้อยกว่าซื้อหนังสือ, สามารถแสดงความคิดเห็นต่อนิยายเรื่องนั้นๆ หรือตอนนั้นๆได้อย่างทันที, ทดลองอ่านก่อนซื้อหนังสือ | H18: 16
A19: แฟนฟิคชั่น (Fanfiction) | B19: 0 | D19: Dek-D, Fictionlog, ธัญวลัย, ReadAwrite | E19: 12 | G19: ความหลากหลายของเนื้อเรื่อง, สะดวก สามารถอ่านได้ทุกที่, ไม่มีค่าใช้จ่าย หรือค่าใช้จ่ายน้อยกว่าซื้อหนังสือ, สามารถแสดงความคิดเห็นต่อนิยายเรื่องนั้นๆ หรือตอนนั้นๆได้อย่างทันที, ประหยัดพื้นที่ในการเก็บ/ลดการใช้กระดาษ | H19: 17
A20: ไม่ใช่แฟนฟิคชั่น | B20: 1 | D20: Dek-D, Fictionlog, ธัญวลัย, ReadAwrite, WattPad | E20: 13 | G20: ความหลากหลายของเนื้อเรื่อง, สะดวก สามารถอ่านได้ทุกที่, ไม่มีค่าใช้จ่าย หรือค่าใช้จ่ายน้อยกว่าซื้อหนังสือ, สามารถแสดงความคิดเห็นต่อนิยายเรื่องนั้นๆ หรือตอนนั้นๆได้อย่างทันที, คลายเครียด/สนุก | H20: 18
A21: ทั้งสอง | B21: 2 | D21: Dek-D, Fictionlog, ธัญวลัย, ReadAwrite, WattPad, Joylada | E21: 14 | G21: ความหลากหลายของเนื้อเรื่อง, สะดวก สามารถอ่านได้ทุกที่, ไม่มีค่าใช้จ่าย หรือค่าใช้จ่ายน้อยกว่าซื้อหนังสือ, เห็นความรักในหลายแง่มุม | H21: 19
D22: Dek-D, Fictionlog, ธัญวลัย, ReadAwrite, WattPad, Webnovel | E22: 15 | G22: ความหลากหลายของเนื้อเรื่อง, สะดวก สามารถอ่านได้ทุกที่, ไม่มีค่าใช้จ่าย หรือค่าใช้จ่ายน้อยกว่าซื้อหนังสือ, ทดลองอ่านก่อนซื้อจริง | H22: 20
D23: Dek-D, Fictionlog, ธัญวลัย, ReadAwrite, Meb | E23: 16 | G23: ความหลากหลายของเนื้อเรื่อง, สะดวก สามารถอ่านได้ทุกที่, ไม่มีค่าใช้จ่าย หรือค่าใช้จ่ายน้อยกว่าซื้อหนังสือ, ลดเวลารอหนังสือตีพิมพ์ | H23: 21
D24: Dek-D, Fictionlog, ธัญวลัย, ReadAwrite, Joylada | E24: 17 | G24: ความหลากหลายของเนื้อเรื่อง, สะดวก สามารถอ่านได้ทุกที่, ไม่มีค่าใช้จ่าย หรือค่าใช้จ่ายน้อยกว่าซื้อหนังสือ, ความตื่นเต้นเมื่อนักเขียนอัพเดพทนิยายในแค่ละครั้ง | H24: 22
D25: Dek-D, Fictionlog, ธัญวลัย, Joylada | E25: 18 | G25: ความหลากหลายของเนื้อเรื่อง, สะดวก สามารถอ่านได้ทุกที่, สามารถแสดงความคิดเห็นต่อนิยายเรื่องนั้นๆ หรือตอนนั้นๆได้อย่างทันที | H25: 23
D26: Dek-D, Fictionlog, ธัญวลัย, Play book | E26: 19 | G26: ความหลากหลายของเนื้อเรื่อง, สะดวก สามารถอ่านได้ทุกที่, สามารถแสดงความคิดเห็นต่อนิยายเรื่องนั้นๆ หรือตอนนั้นๆได้อย่างทันที, สนับสนุนนักเขียน | H26: 24
D27: Dek-D, Fictionlog, ReadAwrite | E27: 20 | G27: ความหลากหลายของเนื้อเรื่อง, สะดวก สามารถอ่านได้ทุกที่, ทดลองอ่านก่อนซื้อหนังสือ | H27: 25
D28: Dek-D, Fictionlog, ReadAwrite, WattPad | E28: 21 | G28: ความหลากหลายของเนื้อเรื่อง, สะดวก สามารถอ่านได้ทุกที่, ลดเวลารอหนังสือตีพิมพ์ | H28: 26
D29: Dek-D, Fictionlog, ReadAwrite, WattPad, Meb | E29: 22 | G29: ความหลากหลายของเนื้อเรื่อง, ไม่มีค่าใช้จ่าย หรือค่าใช้จ่ายน้อยกว่าซื้อหนังสือ | H29: 27
D30: Dek-D, Fictionlog, ReadAwrite, WattPad, Joylada | E30: 23 | G30: ความหลากหลายของเนื้อเรื่อง, ไม่มีค่าใช้จ่าย หรือค่าใช้จ่ายน้อยกว่าซื้อหนังสือ, สามารถแสดงความคิดเห็นต่อนิยายเรื่องนั้นๆ หรือตอนนั้นๆได้อย่างทันที | H30: 28
D31: Dek-D, Fictionlog, ReadAwrite, Joylada | E31: 24 | G31: ความหลากหลายของเนื้อเรื่อง, ไม่มีค่าใช้จ่าย หรือค่าใช้จ่ายน้อยกว่าซื้อหนังสือ, สามารถแสดงความคิดเห็นต่อนิยายเรื่องนั้นๆ หรือตอนนั้นๆได้อย่างทันที, ความตื่นเต้นเมื่อนักเขียนอัพเดพทนิยายในแค่ละครั้ง | H31: 29
D32: Dek-D, Fictionlog, ReadAWrite, MEB | E32: 25 | G32: ความหลากหลายของเนื้อเรื่อง, สามารถแสดงความคิดเห็นต่อนิยายเรื่องนั้นๆ หรือตอนนั้นๆได้อย่างทันที | H32: 30
D33: Dek-D, Fictionlog, WattPad | E33: 26 | G33: ความหลากหลายของเนื้อเรื่อง, สะดวก สามารถอ่านได้ทุกที่, ติดตามนักเขียน | H33: 31
... D44: Dek-D, ธัญวลัย, WattPad, Joylada | E44: 37 | G44: ไม่มีค่าใช้จ่าย หรือค่าใช้จ่ายน้อยกว่าซื้อหนังสือ, สามารถแสดงความคิดเห็นต่อนิยายเรื่องนั้นๆ หรือตอนนั้นๆได้อย่างทันที, ทดลองอ่านก่อนซื้อหนังสือ | H44: 42
D45: Dek-D, ธัญวลัย, Joylada | E45: 38
D46: Dek-D, ธัญวลัย, Meb | E46: 39
D47: Dek-D, ReadAwrite, WattPad | E47: 40
D48: Dek-D, ReadAwrite, Joylada | E48: 41
D49: Dek-D, WattPad, Joylada, Meb | E49: 42
D50: Dek-D, Joylada | E50: 43
...

Sheet นิยายวายออนไลน์
A1: ท่านเคยอ่านนิยายYออนไลน์หรือไม่ | B1: เหตุใดท่านจึงเลือกที่จะอ่านนิยายYออนไลน์ (ตอบได้มากกว่า 1 ข้อ) | C1: ความถี่ในการอ่านนิยายYออนไลน์ของท่าน เมื่อคิดเป็นชั่วโมงต่อสัปดาห์ | D1: ท่านอ่านนิยายYออนไลน์บน platform ใด | E1: ถ้าท่านอ่านนิยายYบนแอปพลิเคชั่น ท่านอ่านผ่านApp ใด (ตอบได้มากกว่า 1 ข้อ) | F1: ประเภทนิยายYออนไลน์ที่ท่านอ่าน | G1: ท่านใช้อุปกรณ์ใดในการอ่านนิยายYออนไลน์มากที่สุด | H1: ท่านเคยซื้อนิยายYออนไลน์ผ่าน application หรือไม่ | I1: ท่านซื้อนิยายYออนไลน์จาก Application ไหนมากที่สุด | J1: ใน 1 เดือน โดยเฉลี่ยท่านซื้อนิยายYออนไลน์กี่ครั้ง (โปรดระบุเป็นตัวเลข) | K1: โดยเฉลี่ย ท่านใช้เงินในการซื้อนิยายYออนไลน์ครั้งละกี่บาท | L1: ถ้าท่านจะซื้อนิยายวายออนไลน์ 1 เรื่อง (10-15 ตอน) ท่านเต็มใจที่จะจ่ายมากที่สุดกี่บาท | M1: ท่านชำระเงินด้วยวิธีใด (ตอบได้มากกว่า 1 ข้อ) | N1: ประเภทนิยายYออนไลน์ที่ท่านซื้ออ่าน | P1: YREAD | Q1: YREASON | R1: YFREQ | S1: YPLAT | T1: YAPP | U1: YTYPE | V1: YDEVICE | W1: YEXPER | X1: YPURAPP | Y1: YPURFREQ | Z1: YSPEND | AA1: YWTP | AB1: YPMT | AC1: YCATE
A2: เคย | B2: ความหลากหลายของเนื้อเรื่อง, สะดวก สามารถอ่านได้ทุกที่, ไม่มีค่าใช้จ่าย หรือค่าใช้จ่ายน้อยกว่าซื้อหนังสือ | C2: 7 - 15 ชั่วโมง | D2: ทั้งสองที่ | E2: Dek-D, WattPad | F2: ทั้งสอง | G2: โทรศัพท์มือถือ | H2: ไม่เคย | P2: =VLOOKUP(A2,Sheet1!$A$3:$B$4,2,FALSE) -> 1 | Q2: =IF(B2=0,"-",VLOOKUP(B2, Sheet1!$G$3:$H$44, 2, FALSE)) -> 13 | R2: =IF(C2=0,"-",VLOOKUP(C2,Sheet1!$A$7:$B$11,2,FALSE)) -> 1 | S2: =IF(D2=0,"-",VLOOKUP(D2,Sheet1!$A$14:$B$16,2,FALSE)) -> 2 | T2: =IF(E2=0,"-",VLOOKUP(E2,Sheet1!$D$8:$E$72,2,FALSE)) -> 9 | U2: =IF(F2=0,"-",VLOOKUP(F2,Sheet1!$A$19:$B$21,2,FALSE)) -> 2 | V2: =IF(G2=0,"-",VLOOKUP(G2,Sheet1!$D$3:$E$5,2,FALSE)) -> 1 | W2: =IF(H2=0,"-",VLOOKUP(H2,Sheet1!$A$76:$B$77,2,FALSE)) -> 0 | X2: =IF(I2=0,"-",VLOOKUP(I2,Sheet1!$A$80:$B$85,2,FALSE)) -> - | AB2: =IF(M2=0,"-",VLOOKUP(M2,Sheet1!$D$76:$E$136,2,FALSE)) -> - | AC2: =IF(N2=0,"-",VLOOKUP(N2,Sheet1!$A$88:$B$90,2,FALSE)) -> -
A3: เคย | B3: ความหลากหลายของเนื้อเรื่อง, สะดวก สามารถอ่านได้ทุกที่, ไม่มีค่าใช้จ่าย หรือค่าใช้จ่ายน้อยกว่าซื้อหนังสือ | C3: 7 - 15 ชั่วโมง | D3: ทั้งสองที่ | E3: Dek-D | F3: ทั้งสอง | G3: โทรศัพท์มือถือ | H3: ไม่เคย | P3: =VLOOKUP(A3,Sheet1!$A$3:$B$4,2,FALSE) -> 1 | Q3: =IF(B3=0,"-",VLOOKUP(B3, Sheet1!$G$3:$H$44, 2, FALSE)) -> 13 | R3: =IF(C3=0,"-",VLOOKUP(C3,Sheet1!$A$7:$B$11,2,FALSE)) -> 1 | S3: =IF(D3=0,"-",VLOOKUP(D3,Sheet1!$A$14:$B$16,2,FALSE)) -> 2 | T3: =IF(E3=0,"-",VLOOKUP(E3,Sheet1!$D$8:$E$72,2,FALSE)) -> 1 | U3: =IF(F3=0,"-",VLOOKUP(F3,Sheet1!$A$19:$B$21,2,FALSE)) -> 2 | V3: =IF(G3=0,"-",VLOOKUP(G3,Sheet1!$D$3:$E$5,2,FALSE)) -> 1 | W3: =IF(H3=0,"-",VLOOKUP(H3,Sheet1!$A$76:$B$77,2,FALSE)) -> 0 | X3: =IF(I3=0,"-",VLOOKUP(I3,Sheet1!$A$80:$B$85,2,FALSE)) -> - | AB3: =IF(M3=0,"-",VLOOKUP(M3,Sheet1!$D$76:$E$136,2,FALSE)) -> - | AC3: =IF(N3=0,"-",VLOOKUP(N3,Sheet1!$A$88:$B$90,2,FALSE)) -> -
A4: ไม่เคย | P4: =VLOOKUP(A4,Sheet1!$A$3:$B$4,2,FALSE) -> 0 | Q4: =IF(B4=0,"-",VLOOKUP(B4, Sheet1!$G$3:$H$44, 2, FALSE)) -> - | R4: =IF(C4=0,"-",VLOOKUP(C4,Sheet1!$A$7:$B$11,2,FALSE)) -> - | S4: =IF(D4=0,"-",VLOOKUP(D4,Sheet1!$A$14:$B$16,2,FALSE)) -> - | T4: =IF(E4=0,"-",VLOOKUP(E4,Sheet1!$D$8:$E$72,2,FALSE)) -> - | U4: =IF(F4=0,"-",VLOOKUP(F4,Sheet1!$A$19:$B$21,2,FALSE)) -> - | V4: =IF(G4=0,"-",VLOOKUP(G4,Sheet1!$D$3:$E$5,2,FALSE)) -> - | W4: =IF(H4=0,"-",VLOOKUP(H4,Sheet1!$A$76:$B$77,2,FALSE)) -> - | X4: =IF(I4=0,"-",VLOOKUP(I4,Sheet1!$A$80:$B$85,2,FALSE)) -> - | AB4: =IF(M4=0,"-",VLOOKUP(M4,Sheet1!$D$76:$E$136,2,FALSE)) -> - | AC4: =IF(N4=0,"-",VLOOKUP(N4,Sheet1!$A$88:$B$90,2,FALSE)) -> -
A5: เคย | B5: ความหลากหลายของเนื้อเรื่อง, สะดวก สามารถอ่านได้ทุกที่, ไม่มีค่าใช้จ่าย หรือค่าใช้จ่ายน้อยกว่าซื้อหนังสือ | C5: 7 - 15 ชั่วโมง | D5: ทั้งสองที่ | E5: Dek-D, ReadAwrite | F5: ไม่ใช่แฟนฟิคชั่น | G5: โทรศัพท์มือถือ | H5: ไม่เคย | P5: =VLOOKUP(A5,Sheet1!$A$3:$B$4,2,FALSE) -> 1 | Q5: =IF(B5=0,"-",VLOOKUP(B5, Sheet1!$G$3:$H$44, 2, FALSE)) -> 13 | R5: =IF(C5=0,"-",VLOOKUP(C5,Sheet1!$A$7:$B$11,2,FALSE)) -> 1 | S5: =IF(D5=0,"-",VLOOKUP(D5,Sheet1!$A$14:$B$16,2,FALSE)) -> 2 | T5: =IF(E5=0,"-",VLOOKUP(E5,Sheet1!$D$8:$E$72,2,FALSE)) -> 8 | U5: =IF(F5=0,"-",VLOOKUP(F5,Sheet1!$A$19:$B$21,2,FALSE)) -> 1 | V5: =IF(G5=0,"-",VLOOKUP(G5,Sheet1!$D$3:$E$5,2,FALSE)) -> 1 | W5: =IF(H5=0,"-",VLOOKUP(H5,Sheet1!$A$76:$B$77,2,FALSE)) -> 0 | X5: =IF(I5=0,"-",VLOOKUP(I5,Sheet1!$A$80:$B$85,2,FALSE)) -> - | AB5: =IF(M5=0,"-",VLOOKUP(M5,Sheet1!$D$76:$E$136,2,FALSE)) -> - | AC5: =IF(N5=0,"-",VLOOKUP(N5,Sheet1!$A$88:$B$90,2,FALSE)) -> -
A6: ไม่เคย | P6: =VLOOKUP(A6,Sheet1!$A$3:$B$4,2,FALSE) -> 0 | Q6: =IF(B6=0,"-",VLOOKUP(B6, Sheet1!$G$3:$H$44, 2, FALSE)) -> - | R6: =IF(C6=0,"-",VLOOKUP(C6,Sheet1!$A$7:$B$11,2,FALSE)) -> - | S6: =IF(D6=0,"-",VLOOKUP(D6,Sheet1!$A$14:$B$16,2,FALSE)) -> - | T6: =IF(E6=0,"-",VLOOKUP(E6,Sheet1!$D$8:$E$72,2,FALSE)) -> - | U6: =IF(F6=0,"-",VLOOKUP(F6,Sheet1!$A$19:$B$21,2,FALSE)) -> - | V6: =IF(G6=0,"-",VLOOKUP(G6,Sheet1!$D$3:$E$5,2,FALSE)) -> - | W6: =IF(H6=0,"-",VLOOKUP(H6,Sheet1!$A$76:$B$77,2,FALSE)) -> - | X6: =IF(I6=0,"-",VLOOKUP(I6,Sheet1!$A$80:$B$85,2,FALSE)) -> - | AB6: =IF(M6=0,"-",VLOOKUP(M6,Sheet1!$D$76:$E$136,2,FALSE)) -> - | AC6: =IF(N6=0,"-",VLOOKUP(N6,Sheet1!$A$88:$B$90,2,FALSE)) -> -
A7: ไม่เคย | P7: =VLOOKUP(A7,Sheet1!$A$3:$B$4,2,FALSE) -> 0 | Q7: =IF(B7=0,"-",VLOOKUP(B7, Sheet1!$G$3:$H$44, 2, FALSE)) -> - | R7: =IF(C7=0,"-",VLOOKUP(C7,Sheet1!$A$7:$B$11,2,FALSE)) -> - | S7: =IF(D7=0,"-",VLOOKUP(D7,Sheet1!$A$14:$B$16,2,FALSE)) -> - | T7: =IF(E7=0,"-",VLOOKUP(E7,Sheet1!$D$8:$E$72,2,FALSE)) -> - | U7: =IF(F7=0,"-",VLOOKUP(F7,Sheet1!$A$19:$B$21,2,FALSE)) -> - | V7: =IF(G7=0,"-",VLOOKUP(G7,Sheet1!$D$3:$E$5,2,FALSE)) -> - | W7: =IF(H7=0,"-",VLOOKUP(H7,Sheet1!$A$76:$B$77,2,FALSE)) -> - | X7: =IF(I7=0,"-",VLOOKUP(I7,Sheet1!$A$80:$B$85,2,FALSE)) -> - | AB7: =IF(M7=0,"-",VLOOKUP(M7,Sheet1!$D$76:$E$136,2,FALSE)) -> - | AC7: =IF(N7=0,"-",VLOOKUP(N7,Sheet1!$A$88:$B$90,2,FALSE)) -> -
A8: เคย | B8: สะดวก สามารถอ่านได้ทุกที่, ไม่มีค่าใช้จ่าย หรือค่าใช้จ่ายน้อยกว่าซื้อหนังสือ | C8: 26 - 40 ชั่วโมง | D8: ทั้งสองที่ | E8: Dek-D, ธัญวลัย, ReadAwrite | F8: ทั้งสอง | G8: โทรศัพท์มือถือ | H8: เคย | I8: ธัญวลัย | J8: 1 | K8: 100 | L8: 150 | M8: In-app purchase (ชำระผ่าน Application), Credit/Debit card, Mobile/online banking, ชำระผ่านผู้ให้บริการสัญญาณโทรศัพท์ (True, AIS, DTAC) | N8: นิยายวายไม่ใช่แฟนฟิคชั่น | P8: =VLOOKUP(A8,Sheet1!$A$3:$B$4,2,FALSE) -> 1 | Q8: =IF(B8=0,"-",VLOOKUP(B8, Sheet1!$G$3:$H$44, 2, FALSE)) -> 33 | R8: =IF(C8=0,"-",VLOOKUP(C8,Sheet1!$A$7:$B$11,2,FALSE)) -> 3 | S8: =IF(D8=0,"-",VLOOKUP(D8,Sheet1!$A$14:$B$16,2,FALSE)) -> 2 | T8: =IF(E8=0,"-",VLOOKUP(E8,Sheet1!$D$8:$E$72,2,FALSE)) -> 31 | U8: =IF(F8=0,"-",VLOOKUP(F8,Sheet1!$A$19:$B$21,2,FALSE)) -> 2 | V8: =IF(G8=0,"-",VLOOKUP(G8,Sheet1!$D$3:$E$5,2,FALSE)) -> 1 | W8: =IF(H8=0,"-",VLOOKUP(H8,Sheet1!$A$76:$B$77,2,FALSE)) -> 1 | X8: =IF(I8=0,"-",VLOOKUP(I8,Sheet1!$A$80:$B$85,2,FALSE)) -> 3 | Y8: 1 | Z8: 100 | AA8: 150 | AB8: =IF(M8=0,"-",VLOOKUP(M8,Sheet1!$D$76:$E$136,2,FALSE)) -> 16 | AC8: =IF(N8=0,"-",VLOOKUP(N8,Sheet1!$A$88:$B$90,2,FALSE)) -> 1
A9: เคย | B9: สะดวก สามารถอ่านได้ทุกที่, ไม่มีค่าใช้จ่าย หรือค่าใช้จ่ายน้อยกว่าซื้อหนังสือ | C9: 26 - 40 ชั่วโมง | D9: ทั้งสองที่ | E9: Dek-D, Joylada | F9: แฟนฟิคชั่น (Fanfiction) | G9: โทรศัพท์มือถือ | H9: เคย | I9: Dek-D | J9: 1 | K9: 150 | L9: 300 | M9: In-app purchase (ชำระผ่าน Application), Credit/Debit card, Mobile/online banking | N9: แฟนฟิคชั่น (FanFiction) | P9: =VLOOKUP(A9,Sheet1!$A$3:$B$4,2,FALSE) -> 1 | Q9: =IF(B9=0,"-",VLOOKUP(B9, Sheet1!$G$3:$H$44, 2, FALSE)) -> 33 | R9: =IF(C9=0,"-",VLOOKUP(C9,Sheet1!$A$7:$B$11,2,FALSE)) -> 3 | S9: =IF(D9=0,"-",VLOOKUP(D9,Sheet1!$A$14:$B$16,2,FALSE)) -> 2 | T9: =IF(E9=0,"-",VLOOKUP(E9,Sheet1!$D$8:$E$72,2,FALSE)) -> 43 | U9: =IF(F9=0,"-",VLOOKUP(F9,Sheet1!$A$19:$B$21,2,FALSE)) -> 0 | V9: =IF(G9=0,"-",VLOOKUP(G9,Sheet1!$D$3:$E$5,2,FALSE)) -> 1 | W9: =IF(H9=0,"-",VLOOKUP(H9,Sheet1!$A$76:$B$77,2,FALSE)) -> 1 | X9: =IF(I9=0,"-",VLOOKUP(I9,Sheet1!$A$80:$B$85,2,FALSE)) -> 1 | Y9: 1 | Z9: 150 | AA9: 300 | AB9: =IF(M9=0,"-",VLOOKUP(M9,Sheet1!$D$76:$E$136,2,FALSE)) -> 9 | AC9: =IF(N9=0,"-",VLOOKUP(N9,Sheet1!$A$88:$B$90,2,FALSE)) -> 0
A10: ไม่เคย | P10: =VLOOKUP(A10,Sheet1!$A$3:$B$4,2,FALSE) -> 0 | Q10: =IF(B10=0,"-",VLOOKUP(B10, Sheet1!$G$3:$H$44, 2, FALSE)) -> - | R10: =IF(C10=0,"-",VLOOKUP(C10,Sheet1!$A$7:$B$11,2,FALSE)) -> - | S10: =IF(D10=0,"-",VLOOKUP(D10,Sheet1!$A$14:$B$16,2,FALSE)) -> - | T10: =IF(E10=0,"-",VLOOKUP(E10,Sheet1!$D$8:$E$72,2,FALSE)) -> - | U10: =IF(F10=0,"-",VLOOKUP(F10,Sheet1!$A$19:$B$21,2,FALSE)) -> - | V10: =IF(G10=0,"-",VLOOKUP(G10,Sheet1!$D$3:$E$5,2,FALSE)) -> - | W10: =IF(H10=0,"-",VLOOKUP(H10,Sheet1!$A$76:$B$77,2,FALSE)) -> - | X10: =IF(I10=0,"-",VLOOKUP(I10,Sheet1!$A$80:$B$85,2,FALSE)) -> - | AB10: =IF(M10=0,"-",VLOOKUP(M10,Sheet1!$D$76:$E$136,2,FALSE)) -> - | AC10: =IF(N10=0,"-",VLOOKUP(N10,Sheet1!$A$88:$B$90,2,FALSE)) -> -
A11: ไม่เคย | P11: =VLOOKUP(A11,Sheet1!$A$3:$B$4,2,FALSE) -> 0 | Q11: =IF(B11=0,"-",VLOOKUP(B11, Sheet1!$G$3:$H$44, 2, FALSE)) -> - | R11: =IF(C11=0,"-",VLOOKUP(C11,Sheet1!$A$7:$B$11,2,FALSE)) -> - | S11: =IF(D11=0,"-",VLOOKUP(D11,Sheet1!$A$14:$B$16,2,FALSE)) -> - | T11: =IF(E11=0,"-",VLOOKUP(E11,Sheet1!$D$8:$E$72,2,FALSE)) -> - | U11: =IF(F11=0,"-",VLOOKUP(F11,Sheet1!$A$19:$B$21,2,FALSE)) -> - | V11: =IF(G11=0,"-",VLOOKUP(G11,Sheet1!$D$3:$E$5,2,FALSE)) -> - | W11: =IF(H11=0,"-",VLOOKUP(H11,Sheet1!$A$76:$B$77,2,FALSE)) -> - | X11: =IF(I11=0,"-",VLOOKUP(I11,Sheet1!$A$80:$B$85,2,FALSE)) -> - | AB11: =IF(M11=0,"-",VLOOKUP(M11,Sheet1!$D$76:$E$136,2,FALSE)) -> - | AC11: =IF(N11=0,"-",VLOOKUP(N11,Sheet1!$A$88:$B$90,2,FALSE)) -> -
A12: ไม่เคย | P12: =VLOOKUP(A12,Sheet1!$A$3:$B$4,2,FALSE) -> 0 | Q12: =IF(B12=0,"-",VLOOKUP(B12, Sheet1!$G$3:$H$44, 2, FALSE)) -> - | R12: =IF(C12=0,"-",VLOOKUP(C12,Sheet1!$A$7:$B$11,2,FALSE)) -> - | S12: =IF(D12=0,"-",VLOOKUP(D12,Sheet1!$A$14:$B$16,2,FALSE)) -> - | T12: =IF(E12=0,"-",VLOOKUP(E12,Sheet1!$D$8:$E$72,2,FALSE)) -> - | U12: =IF(F12=0,"-",VLOOKUP(F12,Sheet1!$A$19:$B$21,2,FALSE)) -> - | V12: =IF(G12=0,"-",VLOOKUP(G12,Sheet1!$D$3:$E$5,2,FALSE)) -> - | W12: =IF(H12=0,"-",VLOOKUP(H12,Sheet1!$A$76:$B$77,2,FALSE)) -> - | X12: =IF(I12=0,"-",VLOOKUP(I12,Sheet1!$A$80:$B$85,2,FALSE)) -> - | AB12: =IF(M12=0,"-",VLOOKUP(M12,Sheet1!$D$76:$E$136,2,FALSE)) -> - | AC12: =IF(N12=0,"-",VLOOKUP(N12,Sheet1!$A$88:$B$90,2,FALSE)) -> -
A13: ไม่เคย | P13: =VLOOKUP(A13,Sheet1!$A$3:$B$4,2,FALSE) -> 0 | Q13: =IF(B13=0,"-",VLOOKUP(B13, Sheet1!$G$3:$H$44, 2, FALSE)) -> - | R13: =IF(C13=0,"-",VLOOKUP(C13,Sheet1!$A$7:$B$11,2,FALSE)) -> - | S13: =IF(D13=0,"-",VLOOKUP(D13,Sheet1!$A$14:$B$16,2,FALSE)) -> - | T13: =IF(E13=0,"-",VLOOKUP(E13,Sheet1!$D$8:$E$72,2,FALSE)) -> - | U13: =IF(F13=0,"-",VLOOKUP(F13,Sheet1!$A$19:$B$21,2,FALSE)) -> - | V13: =IF(G13=0,"-",VLOOKUP(G13,Sheet1!$D$3:$E$5,2,FALSE)) -> - | W13: =IF(H13=0,"-",VLOOKUP(H13,Sheet1!$A$76:$B$77,2,FALSE)) -> - | X13: =IF(I13=0,"-",VLOOKUP(I13,Sheet1!$A$80:$B$85,2,FALSE)) -> - | AB13: =IF(M13=0,"-",VLOOKUP(M13,Sheet1!$D$76:$E$136,2,FALSE)) -> - | AC13: =IF(N13=0,"-",VLOOKUP(N13,Sheet1!$A$88:$B$90,2,FALSE)) -> -
A14: เคย | B14: สะดวก สามารถอ่านได้ทุกที่, ไม่มีค่าใช้จ่าย หรือค่าใช้จ่ายน้อยกว่าซื้อหนังสือ | C14: น้อยกว่า 7 ชั่วโมง | D14: Application | E14: Dek-D | F14: ทั้งสอง | G14: โทรศัพท์มือถือ | H14: เคย | I14: Dek-D | J14: 0 | K14: 300 | L14: 300 | M14: In-app purchase (ชำระผ่าน Application), Credit/Debit card, Mobile/online banking | N14: นิยายวายไม่ใช่แฟนฟิคชั่น | P14: =VLOOKUP(A14,Sheet1!$A$3:$B$4,2,FALSE) -> 1 | Q14: =IF(B14=0,"-",VLOOKUP(B14, Sheet1!$G$3:$H$44, 2, FALSE)) -> 33 | R14: =IF(C14=0,"-",VLOOKUP(C14,Sheet1!$A$7:$B$11,2,FALSE)) -> 0 | S14: =IF(D14=0,"-",VLOOKUP(D14,Sheet1!$A$14:$B$16,2,FALSE)) -> 1 | T14: =IF(E14=0,"-",VLOOKUP(E14,Sheet1!$D$8:$E$72,2,FALSE)) -> 1 | U14: =IF(F14=0,"-",VLOOKUP(F14,Sheet1!$A$19:$B$21,2,FALSE)) -> 2 | V14: =IF(G14=0,"-",VLOOKUP(G14,Sheet1!$D$3:$E$5,2,FALSE)) -> 1 | W14: =IF(H14=0,"-",VLOOKUP(H14,Sheet1!$A$76:$B$77,2,FALSE)) -> 1 | X14: =IF(I14=0,"-",VLOOKUP(I14,Sheet1!$A$80:$B$85,2,FALSE)) -> 1 | Y14: 0 | Z14: 300 | AA14: 300 | AB14: =IF(M14=0,"-",VLOOKUP(M14,Sheet1!$D$76:$E$136,2,FALSE)) -> 9 | AC14: =IF(N14=0,"-",VLOOKUP(N14,Sheet1!$A$88:$B$90,2,FALSE)) -> 1
A15: ไม่เคย | P15: =VLOOKUP(A15,Sheet1!$A$3:$B$4,2,FALSE) -> 0 | Q15: =IF(B15=0,"-",VLOOKUP(B15, Sheet1!$G$3:$H$44, 2, FALSE)) -> - | R15: =IF(C15=0,"-",VLOOKUP(C15,Sheet1!$A$7:$B$11,2,FALSE)) -> - | S15: =IF(D15=0,"-",VLOOKUP(D15,Sheet1!$A$14:$B$16,2,FALSE)) -> - | T15: =IF(E15=0,"-",VLOOKUP(E15,Sheet1!$D$8:$E$72,2,FALSE)) -> - | U15: =IF(F15=0,"-",VLOOKUP(F15,Sheet1!$A$19:$B$21,2,FALSE)) -> - | V15: =IF(G15=0,"-",VLOOKUP(G15,Sheet1!$D$3:$E$5,2,FALSE)) -> - | W15: =IF(H15=0,"-",VLOOKUP(H15,Sheet1!$A$76:$B$77,2,FALSE)) -> - | X15: =IF(I15=0,"-",VLOOKUP(I15,Sheet1!$A$80:$B$85,2,FALSE)) -> - | AB15: =IF(M15=0,"-",VLOOKUP(M15,Sheet1!$D$76:$E$136,2,FALSE)) -> - | AC15: =IF(N15=0,"-",VLOOKUP(N15,Sheet1!$A$88:$B$90,2,FALSE)) -> -
A16: เคย | B16: ความหลากหลายของเนื้อเรื่อง, สะดวก สามารถอ่านได้ทุกที่, ไม่มีค่าใช้จ่าย หรือค่าใช้จ่ายน้อยกว่าซื้อหนังสือ | C16: 16 - 25 ชั่วโมง | D16: ทั้งสองที่ | E16: Dek-D, Fictionlog, ธัญวลัย | F16: ทั้งสอง | G16: โทรศัพท์มือถือ | H16: เคย | I16: ธัญวลัย | J16: 1 | K16: 100 | L16: 300 | M16: In-app purchase (ชำระผ่าน Application) | N16: ทั้งสอง | P16: =VLOOKUP(A16,Sheet1!$A$3:$B$4,2,FALSE) -> 1 | Q16: =IF(B16=0,"-",VLOOKUP(B16, Sheet1!$G$3:$H$44, 2, FALSE)) -> 13 | R16: =IF(C16=0,"-",VLOOKUP(C16,Sheet1!$A$7:$B$11,2,FALSE)) -> 2 | S16: =IF(D16=0,"-",VLOOKUP(D16,Sheet1!$A$14:$B$16,2,FALSE)) -> 2 | T16: =IF(E16=0,"-",VLOOKUP(E16,Sheet1!$D$8:$E$72,2,FALSE)) -> 10 | U16: =IF(F16=0,"-",VLOOKUP(F16,Sheet1!$A$19:$B$21,2,FALSE)) -> 2 | V16: =IF(G16=0,"-",VLOOKUP(G16,Sheet1!$D$3:$E$5,2,FALSE)) -> 1 | W16: =IF(H16=0,"-",VLOOKUP(H16,Sheet1!$A$76:$B$77,2,FALSE)) -> 1 | X16: =IF(I16=0,"-",VLOOKUP(I16,Sheet1!$A$80:$B$85,2,FALSE)) -> 3 | Y16: 1 | Z16: 100 | AA16: 300 | AB16: =IF(M16=0,"-",VLOOKUP(M16,Sheet1!$D$76:$E$136,2,FALSE)) -> 1 | AC16: =IF(N16=0,"-",VLOOKUP(N16,Sheet1!$A$88:$B$90,2,FALSE)) -> 2
A17: ไม่เคย | P17: =VLOOKUP(A17,Sheet1!$A$3:$B$4,2,FALSE) -> 0 | Q17: =IF(B17=0,"-",VLOOKUP(B17, Sheet1!$G$3:$H$44, 2, FALSE)) -> - | R17: =IF(C17=0,"-",VLOOKUP(C17,Sheet1!$A$7:$B$11,2,FALSE)) -> - | S17: =IF(D17=0,"-",VLOOKUP(D17,Sheet1!$A$14:$B$16,2,FALSE)) -> - | T17: =IF(E17=0,"-",VLOOKUP(E17,Sheet1!$D$8:$E$72,2,FALSE)) -> - | U17: =IF(F17=0,"-",VLOOKUP(F17,Sheet1!$A$19:$B$21,2,FALSE)) -> - | V17: =IF(G17=0,"-",VLOOKUP(G17,Sheet1!$D$3:$E$5,2,FALSE)) -> - | W17: =IF(H17=0,"-",VLOOKUP(H17,Sheet1!$A$76:$B$77,2,FALSE)) -> - | X17: =IF(I17=0,"-",VLOOKUP(I17,Sheet1!$A$80:$B$85,2,FALSE)) -> - | AB17: =IF(M17=0,"-",VLOOKUP(M17,Sheet1!$D$76:$E$136,2,FALSE)) -> - | AC17: =IF(N17=0,"-",VLOOKUP(N17,Sheet1!$A$88:$B$90,2,FALSE)) -> -
A18: ไม่เคย | P18: =VLOOKUP(A18,Sheet1!$A$3:$B$4,2,FALSE) -> 0 | Q18: =IF(B18=0,"-",VLOOKUP(B18, Sheet1!$G$3:$H$44, 2, FALSE)) -> - | R18: =IF(C18=0,"-",VLOOKUP(C18,Sheet1!$A$7:$B$11,2,FALSE)) -> - | S18: =IF(D18=0,"-",VLOOKUP(D18,Sheet1!$A$14:$B$16,2,FALSE)) -> - | T18: =IF(E18=0,"-",VLOOKUP(E18,Sheet1!$D$8:$E$72,2,FALSE)) -> - | U18: =IF(F18=0,"-",VLOOKUP(F18,Sheet1!$A$19:$B$21,2,FALSE)) -> - | V18: =IF(G18=0,"-",VLOOKUP(G18,Sheet1!$D$3:$E$5,2,FALSE)) -> - | W18: =IF(H18=0,"-",VLOOKUP(H18,Sheet1!$A$76:$B$77,2,FALSE)) -> - | X18: =IF(I18=0,"-",VLOOKUP(I18,Sheet1!$A$80:$B$85,2,FALSE)) -> - | AB18: =IF(M18=0,"-",VLOOKUP(M18,Sheet1!$D$76:$E$136,2,FALSE)) -> - | AC18: =IF(N18=0,"-",VLOOKUP(N18,Sheet1!$A$88:$B$90,2,FALSE)) -> -
A19: ไม่เคย | P19: =VLOOKUP(A19,Sheet1!$A$3:$B$4,2,FALSE) -> 0 | Q19: =IF(B19=0,"-",VLOOKUP(B19, Sheet1!$G$3:$H$44, 2, FALSE)) -> - | R19: =IF(C19=0,"-",VLOOKUP(C19,Sheet1!$A$7:$B$11,2,FALSE)) -> - | S19: =IF(D19=0,"-",VLOOKUP(D19,Sheet1!$A$14:$B$16,2,FALSE)) -> - | T19: =IF(E19=0,"-",VLOOKUP(E19,Sheet1!$D$8:$E$72,2,FALSE)) -> - | U19: =IF(F19=0,"-",VLOOKUP(F19,Sheet1!$A$19:$B$21,2,FALSE)) -> - | V19: =IF(G19=0,"-",VLOOKUP(G19,Sheet1!$D$3:$E$5,2,FALSE)) -> - | W19: =IF(H19=0,"-",VLOOKUP(H19,Sheet1!$A$76:$B$77,2,FALSE)) -> - | X19: =IF(I19=0,"-",VLOOKUP(I19,Sheet1!$A$80:$B$85,2,FALSE)) -> - | AB19: =IF(M19=0,"-",VLOOKUP(M19,Sheet1!$D$76:$E$136,2,FALSE)) -> - | AC19: =IF(N19=0,"-",VLOOKUP(N19,Sheet1!$A$88:$B$90,2,FALSE)) -> -
A20: ไม่เคย | P20: =VLOOKUP(A20,Sheet1!$A$3:$B$4,2,FALSE) -> 0 | Q20: =IF(B20=0,"-",VLOOKUP(B20, Sheet1!$G$3:$H$44, 2, FALSE)) -> - | R20: =IF(C20=0,"-",VLOOKUP(C20,Sheet1!$A$7:$B$11,2,FALSE)) -> - | S20: =IF(D20=0,"-",VLOOKUP(D20,Sheet1!$A$14:$B$16,2,FALSE)) -> - | T20: =IF(E20=0,"-",VLOOKUP(E20,Sheet1!$D$8:$E$72,2,FALSE)) -> - | U20: =IF(F20=0,"-",VLOOKUP(F20,Sheet1!$A$19:$B$21,2,FALSE)) -> - | V20: =IF(G20=0,"-",VLOOKUP(G20,Sheet1!$D$3:$E$5,2,FALSE)) -> - | W20: =IF(H20=0,"-",VLOOKUP(H20,Sheet1!$A$76:$B$77,2,FALSE)) -> - | X20: =IF(I20=0,"-",VLOOKUP(I20,Sheet1!$A$80:$B$85,2,FALSE)) -> - | AB20: =IF(M20=0,"-",VLOOKUP(M20,Sheet1!$D$76:$E$136,2,FALSE)) -> - | AC20: =IF(N20=0,"-",VLOOKUP(N20,Sheet1!$A$88:$B$90,2,FALSE)) -> -
A21: เคย | B21: ความหลากหลายของเนื้อเรื่อง, สะดวก สามารถอ่านได้ทุกที่, ไม่มีค่าใช้จ่าย หรือค่าใช้จ่ายน้อยกว่าซื้อหนังสือ | C21: น้อยกว่า 7 ชั่วโมง | D21: เว็บไซต์ | E21: Dek-D | F21: แฟนฟิคชั่น (Fanfiction) | G21: Computer | H21: ไม่เคย | P21: =VLOOKUP(A21,Sheet1!$A$3:$B$4,2,FALSE) -> 1 | Q21: =IF(B21=0,"-",VLOOKUP(B21, Sheet1!$G$3:$H$44, 2, FALSE)) -> 13 | R21: =IF(C21=0,"-",VLOOKUP(C21,Sheet1!$A$7:$B$11,2,FALSE)) -> 0 | S21: =IF(D21=0,"-",VLOOKUP(D21,Sheet1!$A$14:$B$16,2,FALSE)) -> 0 | T21: =IF(E21=0,"-",VLOOKUP(E21,Sheet1!$D$8:$E$72,2,FALSE)) -> 1 | U21: =IF(F21=0,"-",VLOOKUP(F21,Sheet1!$A$19:$B$21,2,FALSE)) -> 0 | V21: =IF(G21=0,"-",VLOOKUP(G21,Sheet1!$D$3:$E$5,2,FALSE)) -> 0 | W21: =IF(H21=0,"-",VLOOKUP(H21,Sheet1!$A$76:$B$77,2,FALSE)) -> 0 | X21: =IF(I21=0,"-",VLOOKUP(I21,Sheet1!$A$80:$B$85,2,FALSE)) -> - | AB21: =IF(M21=0,"-",VLOOKUP(M21,Sheet1!$D$76:$E$136,2,FALSE)) -> - | AC21: =IF(N21=0,"-",VLOOKUP(N21,Sheet1!$A$88:$B$90,2,FALSE)) -> -
A22: เคย | B22: ไม่มีค่าใช้จ่าย หรือค่าใช้จ่ายน้อยกว่าซื้อหนังสือ | C22: น้อยกว่า 7 ชั่วโมง | D22: เว็บไซต์ | E22: Dek-D, ธัญวลัย | F22: ไม่ใช่แฟนฟิคชั่น | G22: โทรศัพท์มือถือ | H22: ไม่เคย | P22: =VLOOKUP(A22,Sheet1!$A$3:$B$4,2,FALSE) -> 1 | Q22: =IF(B22=0,"-",VLOOKUP(B22, Sheet1!$G$3:$H$44, 2, FALSE)) -> 3 | R22: =IF(C22=0,"-",VLOOKUP(C22,Sheet1!$A$7:$B$11,2,FALSE)) -> 0 | S22: =IF(D22=0,"-",VLOOKUP(D22,Sheet1!$A$14:$B$16,2,FALSE)) -> 0 | T22: =IF(E22=0,"-",VLOOKUP(E22,Sheet1!$D$8:$E$72,2,FALSE)) -> 7 | U22: =IF(F22=0,"-",VLOOKUP(F22,Sheet1!$A$19:$B$21,2,FALSE)) -> 1 | V22: =IF(G22=0,"-",VLOOKUP(G22,Sheet1!$D$3:$E$5,2,FALSE)) -> 1 | W22: =IF(H22=0,"-",VLOOKUP(H22,Sheet1!$A$76:$B$77,2,FALSE)) -> 0 | X22: =IF(I22=0,"-",VLOOKUP(I22,Sheet1!$A$80:$B$85,2,FALSE)) -> - | AB22: =IF(M22=0,"-",VLOOKUP(M22,Sheet1!$D$76:$E$136,2,FALSE)) -> - | AC22: =IF(N22=0,"-",VLOOKUP(N22,Sheet1!$A$88:$B$90,2,FALSE)) -> -
A23: เคย | B23: สะดวก สามารถอ่านได้ทุกที่, ไม่มีค่าใช้จ่าย หรือค่าใช้จ่ายน้อยกว่าซื้อหนังสือ | C23: 7 - 15 ชั่วโมง | D23: ทั้งสองที่ | E23: Dek-D, WattPad, Joylada, Meb | F23: ทั้งสอง | G23: โทรศัพท์มือถือ | H23: เคย | I23: Meb | J23: 0 | K23: 200 | L23: 200 | M23: Mobile/online banking, ชำระผ่านเคาน์เตอร์ (7-11, Big C, Tesco, etc.) | N23: นิยายวายไม่ใช่แฟนฟิคชั่น | P23: =VLOOKUP(A23,Sheet1!$A$3:$B$4,2,FALSE) -> 1 | Q23: =IF(B23=0,"-",VLOOKUP(B23, Sheet1!$G$3:$H$44, 2, FALSE)) -> 33 | R23: =IF(C23=0,"-",VLOOKUP(C23,Sheet1!$A$7:$B$11,2,FALSE)) -> 1 | S23: =IF(D23=0,"-",VLOOKUP(D23,Sheet1!$A$14:$B$16,2,FALSE)) -> 2 | T23: =IF(E23=0,"-",VLOOKUP(E23,Sheet1!$D$8:$E$72,2,FALSE)) -> 42 | U23: =IF(F23=0,"-",VLOOKUP(F23,Sheet1!$A$19:$B$21,2,FALSE)) -> 2 | V23: =IF(G23=0,"-",VLOOKUP(G23,Sheet1!$D$3:$E$5,2,FALSE)) -> 1 | W23: =IF(H23=0,"-",VLOOKUP(H23,Sheet1!$A$76:$B$77,2,FALSE)) -> 1 | X23: =IF(I23=0,"-",VLOOKUP(I23,Sheet1!$A$80:$B$85,2,FALSE)) -> 5 | Y23: 0 | Z23: 200 | AA23: 200 | AB23: =IF(M23=0,"-",VLOOKUP(M23,Sheet1!$D$76:$E$136,2,FALSE)) -> 53 | AC23: =IF(N23=0,"-",VLOOKUP(N23,Sheet1!$A$88:$B$90,2,FALSE)) -> 1
A24: ไม่เคย | P24: =VLOOKUP(A24,Sheet1!$A$3:$B$4,2,FALSE) -> 0 | Q24: =IF(B24=0,"-",VLOOKUP(B24, Sheet1!$G$3:$H$44, 2, FALSE)) -> - | R24: =IF(C24=0,"-",VLOOKUP(C24,Sheet1!$A$7:$B$11,2,FALSE)) -> - | S24: =IF(D24=0,"-",VLOOKUP(D24,Sheet1!$A$14:$B$16,2,FALSE)) -> - | T24: =IF(E24=0,"-",VLOOKUP(E24,Sheet1!$D$8:$E$72,2,FALSE)) -> - | U24: =IF(F24=0,"-",VLOOKUP(F24,Sheet1!$A$19:$B$21,2,FALSE)) -> - | V24: =IF(G24=0,"-",VLOOKUP(G24,Sheet1!$D$3:$E$5,2,FALSE)) -> - | W24: =IF(H24=0,"-",VLOOKUP(H24,Sheet1!$A$76:$B$77,2,FALSE)) -> - | X24: =IF(I24=0,"-",VLOOKUP(I24,Sheet1!$A$80:$B$85,2,FALSE)) -> - | AB24: =IF(M24=0,"-",VLOOKUP(M24,Sheet1!$D$76:$E$136,2,FALSE)) -> - | AC24: =IF(N24=0,"-",VLOOKUP(N24,Sheet1!$A$88:$B$90,2,FALSE)) -> -
A25: ไม่เคย | P25: =VLOOKUP(A25,Sheet1!$A$3:$B$4,2,FALSE) -> 0 | Q25: =IF(B25=0,"-",VLOOKUP(B25, Sheet1!$G$3:$H$44, 2, FALSE)) -> - | R25: =IF(C25=0,"-",VLOOKUP(C25,Sheet1!$A$7:$B$11,2,FALSE)) -> - | S25: =IF(D25=0,"-",VLOOKUP(D25,Sheet1!$A$14:$B$16,2,FALSE)) -> - | T25: =IF(E25=0,"-",VLOOKUP(E25,Sheet1!$D$8:$E$72,2,FALSE)) -> - | U25: =IF(F25=0,"-",VLOOKUP(F25,Sheet1!$A$19:$B$21,2,FALSE)) -> - | V25: =IF(G25=0,"-",VLOOKUP(G25,Sheet1!$D$3:$E$5,2,FALSE)) -> - | W25: =IF(H25=0,"-",VLOOKUP(H25,Sheet1!$A$76:$B$77,2,FALSE)) -> - | X25: =IF(I25=0,"-",VLOOKUP(I25,Sheet1!$A$80:$B$85,2,FALSE)) -> - | AB25: =IF(M25=0,"-",VLOOKUP(M25,Sheet1!$D$76:$E$136,2,FALSE)) -> - | AC25: =IF(N25=0,"-",VLOOKUP(N25,Sheet1!$A$88:$B$90,2,FALSE)) -> -
A26: เคย | B26: สะดวก สามารถอ่านได้ทุกที่, ไม่มีค่าใช้จ่าย หรือค่าใช้จ่ายน้อยกว่าซื้อหนังสือ | C26: 26 - 40 ชั่วโมง | D26: ทั้งสองที่ | E26: Dek-D | F26: ไม่ใช่แฟนฟิคชั่น | G26: โทรศัพท์มือถือ | H26: ไม่เคย | P26: =VLOOKUP(A26,Sheet1!$A$3:$B$4,2,FALSE) -> 1 | Q26: =IF(B26=0,"-",VLOOKUP(B26, Sheet1!$G$3:$H$44, 2, FALSE)) -> 33 | R26: =IF(C26=0,"-",VLOOKUP(C26,Sheet1!$A$7:$B$11,2,FALSE)) -> 3 | S26: =IF(D26=0,"-",VLOOKUP(D26,Sheet1!$A$14:$B$16,2,FALSE)) -> 2 | T26: =IF(E26=0,"-",VLOOKUP(E26,Sheet1!$D$8:$E$72,2,FALSE)) -> 1 | U26: =IF(F26=0,"-",VLOOKUP(F26,Sheet1!$A$19:$B$21,2,FALSE)) -> 1 | V26: =IF(G26=0,"-",VLOOKUP(G26,Sheet1!$D$3:$E$5,2,FALSE)) -> 1 | W26: =IF(H26=0,"-",VLOOKUP(H26,Sheet1!$A$76:$B$77,2,FALSE)) -> 0 | X26: =IF(I26=0,"-",VLOOKUP(I26,Sheet1!$A$80:$B$85,2,FALSE)) -> - | AB26: =IF(M26=0,"-",VLOOKUP(M26,Sheet1!$D$76:$E$136,2,FALSE)) -> - | AC26: =IF(N26=0,"-",VLOOKUP(N26,Sheet1!$A$88:$B$90,2,FALSE)) -> -
A27: ไม่เคย | P27: =VLOOKUP(A27,Sheet1!$A$3:$B$4,2,FALSE) -> 0 | Q27: =IF(B27=0,"-",VLOOKUP(B27, Sheet1!$G$3:$H$44, 2, FALSE)) -> - | R27: =IF(C27=0,"-",VLOOKUP(C27,Sheet1!$A$7:$B$11,2,FALSE)) -> - | S27: =IF(D27=0,"-",VLOOKUP(D27,Sheet1!$A$14:$B$16,2,FALSE)) -> - | T27: =IF(E27=0,"-",VLOOKUP(E27,Sheet1!$D$8:$E$72,2,FALSE)) -> - | U27: =IF(F27=0,"-",VLOOKUP(F27,Sheet1!$A$19:$B$21,2,FALSE)) -> - | V27: =IF(G27=0,"-",VLOOKUP(G27,Sheet1!$D$3:$E$5,2,FALSE)) -> - | W27: =IF(H27=0,"-",VLOOKUP(H27,Sheet1!$A$76:$B$77,2,FALSE)) -> - | X27: =IF(I27=0,"-",VLOOKUP(I27,Sheet1!$A$80:$B$85,2,FALSE)) -> - | AB27: =IF(M27=0,"-",VLOOKUP(M27,Sheet1!$D$76:$E$136,2,FALSE)) -> - | AC27: =IF(N27=0,"-",VLOOKUP(N27,Sheet1!$A$88:$B$90,2,FALSE)) -> -
A28: ไม่เคย | P28: =VLOOKUP(A28,Sheet1!$A$3:$B$4,2,FALSE) -> 0 | Q28: =IF(B28=0,"-",VLOOKUP(B28, Sheet1!$G$3:$H$44, 2, FALSE)) -> - | R28: =IF(C28=0,"-",VLOOKUP(C28,Sheet1!$A$7:$B$11,2,FALSE)) -> - | S28: =IF(D28=0,"-",VLOOKUP(D28,Sheet1!$A$14:$B$16,2,FALSE)) -> - | T28: =IF(E28=0,"-",VLOOKUP(E28,Sheet1!$D$8:$E$72,2,FALSE)) -> - | U28: =IF(F28=0,"-",VLOOKUP(F28,Sheet1!$A$19:$B$21,2,FALSE)) -> - | V28: =IF(G28=0,"-",VLOOKUP(G28,Sheet1!$D$3:$E$5,2,FALSE)) -> - | W28: =IF(H28=0,"-",VLOOKUP(H28,Sheet1!$A$76:$B$77,2,FALSE)) -> - | X28: =IF(I28=0,"-",VLOOKUP(I28,Sheet1!$A$80:$B$85,2,FALSE)) -> - | AB28: =IF(M28=0,"-",VLOOKUP(M28,Sheet1!$D$76:$E$136,2,FALSE)) -> - | AC28: =IF(N28=0,"-",VLOOKUP(N28,Sheet1!$A$88:$B$90,2,FALSE)) -> -
A29: เคย | B29: สะดวก สามารถอ่านได้ทุกที่ | C29: น้อยกว่า 7 ชั่วโมง | D29: ทั้งสองที่ | E29: Dek-D, ธัญวลัย, ReadAwrite | F29: ไม่ใช่แฟนฟิคชั่น | G29: โทรศัพท์มือถือ | H29: เคย | I29: Meb | J29: 3 | K29: 300 | L29: 200 | M29: Credit/Debit card, ชำระผ่านเคาน์เตอร์ (7-11, Big C, Tesco, etc.), ชำระผ่านตู้เติมเงิน (ตู้บุญเติม เป็นต้น) | N29: นิยายวายไม่ใช่แฟนฟิคชั่น | P29: =VLOOKUP(A29,Sheet1!$A$3:$B$4,2,FALSE) -> 1 | Q29: =IF(B29=0,"-",VLOOKUP(B29, Sheet1!$G$3:$H$44, 2, FALSE)) -> 2 | R29: =IF(C29=0,"-",VLOOKUP(C29,Sheet1!$A$7:$B$11,2,FALSE)) -> 0 | S29: =IF(D29=0,"-",VLOOKUP(D29,Sheet1!$A$14:$B$16,2,FALSE)) -> 2 | T29: =IF(E29=0,"-",VLOOKUP(E29,Sheet1!$D$8:$E$72,2,FALSE)) -> 31 | U29: =IF(F29=0,"-",VLOOKUP(F29,Sheet1!$A$19:$B$21,2,FALSE)) -> 1 | V29: =IF(G29=0,"-",VLOOKUP(G29,Sheet1!$D$3:$E$5,2,FALSE)) -> 1 | W29: =IF(H29=0,"-",VLOOKUP(H29,Sheet1!$A$76:$B$77,2,FALSE)) -> 1 | X29: =IF(I29=0,"-",VLOOKUP(I29,Sheet1!$A$80:$B$85,2,FALSE)) -> 5 | Y29: 3 | Z29: 300 | AA29: 200 | AB29: =IF(M29=0,"-",VLOOKUP(M29,Sheet1!$D$76:$E$136,2,FALSE)) -> 46 | AC29: =IF(N29=0,"-",VLOOKUP(N29,Sheet1!$A$88:$B$90,2,FALSE)) -> 1
A30: เคย | B30: ความหลากหลายของเนื้อเรื่อง, สะดวก สามารถอ่านได้ทุกที่, ไม่มีค่าใช้จ่าย หรือค่าใช้จ่ายน้อยกว่าซื้อหนังสือ | C30: 7 - 15 ชั่วโมง | D30: เว็บไซต์ | E30: Dek-D, ธัญวลัย, ReadAwrite | F30: ทั้งสอง | G30: โทรศัพท์มือถือ | H30: ไม่เคย | P30: =VLOOKUP(A30,Sheet1!$A$3:$B$4,2,FALSE) -> 1 | Q30: =IF(B30=0,"-",VLOOKUP(B30, Sheet1!$G$3:$H$44, 2, FALSE)) -> 13 | R30: =IF(C30=0,"-",VLOOKUP(C30,Sheet1!$A$7:$B$11,2,FALSE)) -> 1 | S30: =IF(D30=0,"-",VLOOKUP(D30,Sheet1!$A$14:$B$16,2,FALSE)) -> 0 | T30: =IF(E30=0,"-",VLOOKUP(E30,Sheet1!$D$8:$E$72,2,FALSE)) -> 31 | U30: =IF(F30=0,"-",VLOOKUP(F30,Sheet1!$A$19:$B$21,2,FALSE)) -> 2 | V30: =IF(G30=0,"-",VLOOKUP(G30,Sheet1!$D$3:$E$5,2,FALSE)) -> 1 | W30: =IF(H30=0,"-",VLOOKUP(H30,Sheet1!$A$76:$B$77,2,FALSE)) -> 0 | X30: =IF(I30=0,"-",VLOOKUP(I30,Sheet1!$A$80:$B$85,2,FALSE)) -> - | AB30: =IF(M30=0,"-",VLOOKUP(M30,Sheet1!$D$76:$E$136,2,FALSE)) -> - | AC30: =IF(N30=0,"-",VLOOKUP(N30,Sheet1!$A$88:$B$90,2,FALSE)) -> -
A31: ไม่เคย | P31: =VLOOKUP(A31,Sheet1!$A$3:$B$4,2,FALSE) -> 0 | Q31: =IF(B31=0,"-",VLOOKUP(B31, Sheet1!$G$3:$H$44, 2, FALSE)) -> - | R31: =IF(C31=0,"-",VLOOKUP(C31,Sheet1!$A$7:$B$11,2,FALSE)) -> - | S31: =IF(D31=0,"-",VLOOKUP(D31,Sheet1!$A$14:$B$16,2,FALSE)) -> - | T31: =IF(E31=0,"-",VLOOKUP(E31,Sheet1!$D$8:$E$72,2,FALSE)) -> - | U31: =IF(F31=0,"-",VLOOKUP(F31,Sheet1!$A$19:$B$21,2,FALSE)) -> - | V31: =IF(G31=0,"-",VLOOKUP(G31,Sheet1!$D$3:$E$5,2,FALSE)) -> - | W31: =IF(H31=0,"-",VLOOKUP(H31,Sheet1!$A$76:$B$77,2,FALSE)) -> - | X31: =IF(I31=0,"-",VLOOKUP(I31,Sheet1!$A$80:$B$85,2,FALSE)) -> - | AB31: =IF(M31=0,"-",VLOOKUP(M31,Sheet1!$D$76:$E$136,2,FALSE)) -> - | AC31: =IF(N31=0,"-",VLOOKUP(N31,Sheet1!$A$88:$B$90,2,FALSE)) -> -
A32: ไม่เคย | P32: =VLOOKUP(A32,Sheet1!$A$3:$B$4,2,FALSE) -> 0 | Q32: =IF(B32=0,"-",VLOOKUP(B32, Sheet1!$G$3:$H$44, 2, FALSE)) -> - | R32: =IF(C32=0,"-",VLOOKUP(C32,Sheet1!$A$7:$B$11,2,FALSE)) -> - | S32: =IF(D32=0,"-",VLOOKUP(D32,Sheet1!$A$14:$B$16,2,FALSE)) -> - | T32: =IF(E32=0,"-",VLOOKUP(E32,Sheet1!$D$8:$E$72,2,FALSE)) -> - | U32: =IF(F32=0,"-",VLOOKUP(F32,Sheet1!$A$19:$B$21,2,FALSE)) -> - | V32: =IF(G32=0,"-",VLOOKUP(G32,Sheet1!$D$3:$E$5,2,FALSE)) -> - | W32: =IF(H32=0,"-",VLOOKUP(H32,Sheet1!$A$76:$B$77,2,FALSE)) -> - | X32: =IF(I32=0,"-",VLOOKUP(I32,Sheet1!$A$80:$B$85,2,FALSE)) -> - | AB32: =IF(M32=0,"-",VLOOKUP(M32,Sheet1!$D$76:$E$136,2,FALSE)) -> - | AC32: =IF(N32=0,"-",VLOOKUP(N32,Sheet1!$A$88:$B$90,2,FALSE)) -> -
A33: ไม่เคย | P33: =VLOOKUP(A33,Sheet1!$A$3:$B$4,2,FALSE) -> 0 | Q33: =IF(B33=0,"-",VLOOKUP(B33, Sheet1!$G$3:$H$44, 2, FALSE)) -> - | R33: =IF(C33=0,"-",VLOOKUP(C33,Sheet1!$A$7:$B$11,2,FALSE)) -> - | S33: =IF(D33=0,"-",VLOOKUP(D33,Sheet1!$A$14:$B$16,2,FALSE)) -> - | T33: =IF(E33=0,"-",VLOOKUP(E33,Sheet1!$D$8:$E$72,2,FALSE)) -> - | U33: =IF(F33=0,"-",VLOOKUP(F33,Sheet1!$A$19:$B$21,2,FALSE)) -> - | V33: =IF(G33=0,"-",VLOOKUP(G33,Sheet1!$D$3:$E$5,2,FALSE)) -> - | W33: =IF(H33=0,"-",VLOOKUP(H33,Sheet1!$A$76:$B$77,2,FALSE)) -> - | X33: =IF(I33=0,"-",VLOOKUP(I33,Sheet1!$A$80:$B$85,2,FALSE)) -> - | AB33: =IF(M33=0,"-",VLOOKUP(M33,Sheet1!$D$76:$E$136,2,FALSE)) -> - | AC33: =IF(N33=0,"-",VLOOKUP(N33,Sheet1!$A$88:$B$90,2,FALSE)) -> -
A34: เคย | B34: ความหลากหลายของเนื้อเรื่อง, สะดวก สามารถอ่านได้ทุกที่, ไม่มีค่าใช้จ่าย หรือค่าใช้จ่ายน้อยกว่าซื้อหนังสือ | C34: 16 - 25 ชั่วโมง | D34: ทั้งสองที่ | E34: Dek-D, Fictionlog, ธัญวลัย, ReadAwrite | F34: ทั้งสอง | G34: โทรศัพท์มือถือ | H34: ไม่เคย | P34: =VLOOKUP(A34,Sheet1!$A$3:$B$4,2,FALSE) -> 1 | Q34: =IF(B34=0,"-",VLOOKUP(B34, Sheet1!$G$3:$H$44, 2, FALSE)) -> 13 | R34: =IF(C34=0,"-",VLOOKUP(C34,Sheet1!$A$7:$B$11,2,FALSE)) -> 2 | S34: =IF(D34=0,"-",VLOOKUP(D34,Sheet1!$A$14:$B$16,2,FALSE)) -> 2 | T34: =IF(E34=0,"-",VLOOKUP(E34,Sheet1!$D$8:$E$72,2,FALSE)) -> 12 | U34: =IF(F34=0,"-",VLOOKUP(F34,Sheet1!$A$19:$B$21,2,FALSE)) -> 2 | V34: =IF(G34=0,"-",VLOOKUP(G34,Sheet1!$D$3:$E$5,2,FALSE)) -> 1 | W34: =IF(H34=0,"-",VLOOKUP(H34,Sheet1!$A$76:$B$77,2,FALSE)) -> 0 | X34: =IF(I34=0,"-",VLOOKUP(I34,Sheet1!$A$80:$B$85,2,FALSE)) -> - | AB34: =IF(M34=0,"-",VLOOKUP(M34,Sheet1!$D$76:$E$136,2,FALSE)) -> - | AC34: =IF(N34=0,"-",VLOOKUP(N34,Sheet1!$A$88:$B$90,2,FALSE)) -> -
A35: ไม่เคย | P35: =VLOOKUP(A35,Sheet1!$A$3:$B$4,2,FALSE) -> 0 | Q35: =IF(B35=0,"-",VLOOKUP(B35, Sheet1!$G$3:$H$44, 2, FALSE)) -> - | R35: =IF(C35=0,"-",VLOOKUP(C35,Sheet1!$A$7:$B$11,2,FALSE)) -> - | S35: =IF(D35=0,"-",VLOOKUP(D35,Sheet1!$A$14:$B$16,2,FALSE)) -> - | T35: =IF(E35=0,"-",VLOOKUP(E35,Sheet1!$D$8:$E$72,2,FALSE)) -> - | U35: =IF(F35=0,"-",VLOOKUP(F35,Sheet1!$A$19:$B$21,2,FALSE)) -> - | V35: =IF(G35=0,"-",VLOOKUP(G35,Sheet1!$D$3:$E$5,2,FALSE)) -> - | W35: =IF(H35=0,"-",VLOOKUP(H35,Sheet1!$A$76:$B$77,2,FALSE)) -> - | X35: =IF(I35=0,"-",VLOOKUP(I35,Sheet1!$A$80:$B$85,2,FALSE)) -> - | AB35: =IF(M35=0,"-",VLOOKUP(M35,Sheet1!$D$76:$E$136,2,FALSE)) -> - | AC35: =IF(N35=0,"-",VLOOKUP(N35,Sheet1!$A$88:$B$90,2,FALSE)) -> -
