Workbook

Sheet Form Responses 1
A1: Timestamp | B1: ท่านเคยอ่านนิยายYออนไลน์หรือไม่ | C1: เหตุใดท่านจึงเลือกที่จะอ่านนิยายYออนไลน์ (ตอบได้มากกว่า 1 ข้อ) | D1: ความถี่ในการอ่านนิยายYออนไลน์ของท่าน เมื่อคิดเป็นชั่วโมงต่อสัปดาห์ | E1: ท่านอ่านนิยายYออนไลน์บน platform ใด | F1: ถ้าท่านอ่านนิยายYบนแอปพลิเคชั่น ท่านอ่านผ่านApp ใด (ตอบได้มากกว่า 1 ข้อ) | G1: ประเภทนิยายYออนไลน์ที่ท่านอ่าน | H1: ท่านใช้อุปกรณ์ใดในการอ่านนิยายYออนไลน์มากที่สุด | I1: ท่านเคยซื้อนิยายYออนไลน์ผ่าน application หรือไม่ | J1: ท่านซื้อนิยายYออนไลน์จาก Application ไหนมากที่สุด | K1: ใน 1 เดือน โดยเฉลี่ยท่านซื้อนิยายYออนไลน์กี่ครั้ง (โปรดระบุเป็นตัวเลข) | L1: โดยเฉลี่ย ท่านใช้เงินในการซื้อนิยายYออนไลน์ครั้งละกี่บาท | M1: ถ้าท่านจะซื้อนิยายวายออนไลน์ 1 เรื่อง (10-15 ตอน) ท่านเต็มใจที่จะจ่ายมากที่สุดกี่บาท | N1: ท่านชำระเงินด้วยวิธีใด (ตอบได้มากกว่า 1 ข้อ) | O1: ประเภทนิยายYออนไลน์ที่ท่านซื้ออ่าน | P1: ปัจจัยด้านผลิตภัณฑ์ (นิยายYออนไลน์) [เนื้อหาของนิยายออนไลน์มีความน่าสนใจ] | Q1: ปัจจัยด้านผลิตภัณฑ์ (นิยายYออนไลน์) [นิยายออนไลน์มีหลากหลายประเภท] | R1: ปัจจัยด้านผลิตภัณฑ์ (นิยายYออนไลน์) [นิยายออนไลน์มี interactive media เช่น ภาพ ภาพเคลื่อนไหว เพลง] | S1: ปัจจัยด้านผลิตภัณฑ์ (นิยายYออนไลน์) [คำโปรย หรือ เรื่องย่อน่าสนใจ] | T1: ปัจจัยด้านผลิตภัณฑ์ (นิยายYออนไลน์) [การพิสูจน์อักษรมีคุณภาพ ไม่มีคำผิด] | U1: ปัจจัยด้านผลิตภัณฑ์ (นิยายYออนไลน์) [นักเขียนมีความรู้ความสามารถ เชี่ยวชาญเกี่ยวกับเรื่องที่เขียน] | V1: ปัจจัยด้านผลิตภัณฑ์ (นิยายYออนไลน์) [นักเขียนมีสำนวนที่ท่านชอบหรือสนใจ] | W1: ปัจจัยด้านผลิตภัณฑ์ (นิยายYออนไลน์) [นักเขียนมีผลงานเป็นที่ยอมรับ] | X1: ปัจจัยด้านผลิตภัณฑ์ (นิยายYออนไลน์) [นักเขียนสามารถถ่ายทอดเนื้อหาได้ดี] | Y1: ปัจจัยด้านราคา [ราคาเหมาะสมกับคุณภาพของงานเขียน] | Z1: ปัจจัยด้านสถานที่ (Application) [แอปพลิเคชั่นมีความสะดวกในการลงทะเบียนครั้งแรก] | AA1: ปัจจัยด้านสถานที่ (Application) [แอปพลิเคชั่นสามารถค้นหานิยายได้ง่ายและรวดเร็ว] | AB1: ปัจจัยด้านสถานที่ (Application) [แอปพลิเคชั่นมีความเสถียรและสามารถเข้าถึงแต่ละหน้าได้อย่างรวดเร็ว] | AC1: ปัจจัยด้านสถานที่ (Application) [แอปพลิเคชั่นสามารถแนะนำนิยายโดยอ้างอิงจากการอ่านให้ท่านได้] | AD1: ปัจจัยด้านสถานที่ (Application) [แอปพลิเคชั่นมีการจัดหมวดหมู่หนังสือที่ง่ายต่อการค้นหา] | AE1: ปัจจัยด้านสถานที่ (Application) [แอปพลิเคชั่นมีการจัดหมวดหมู่ ที่ดึงดูดความสนใจ เช่น Top hit, top paid, best seller, หรือนิยายที่ได้รับการตีพิมพ์] | AF1: ปัจจัยด้านสถานที่ (Application) [แอปพลิเคชั่นมี feature การอ่านที่หลากหลาย เช่น night mode, sepia mode] | AG1: ปัจจัยด้านสถานที่ (Application) [แอปพลิเคชั่น มีช่องทางให้สื่อสารระหว่างผู้เขียนและผู้อ่าน] | AH1: ปัจจัยด้านสถานที่ (Application) [แอปพลิเคชั่นมีความน่าเชื่อถือ และปลอดภัยที่จะทำธุรกรรม] | AI1: ปัจจัยด้านสถานที่ (Application) [ผู้ดูแลแอปพลิเคชั่นมีการตอบสนองต่อปัญหาทันที] | AJ1: ปัจจัยด้านสถานที่ (Application) [แอปพลิเคชั่นมีช่องทางการให้ชำระเงินหลากหลาย] | AK1: ปัจจัยด้านสถานที่ (Application) [แอปพลิเคชั่นมีจำนวนเหรียญให้เลือกหลากหลาย หรือ สามารถกำหนดจำนวนเหรียญที่จะซื้อเองได้] | AL1: ปัจจัยด้านสถานที่ (Application) [แอปพลิเคชั่นสามารถบันทึกเรื่องโปรด และสามารถย้อนดูประวัติการอ่านได้] | AM1: ปัจจัยด้านสถานที่ (Application) [ผู้อ่านสามารถเข้าถึงเนื้อหานิยายที่ซื้อได้ทันทีหลังการซื้อ] | AN1: ปัจจัยด้านการส่งเสริมการตลาด [มีการส่งเสริมการขายโดยการลดราคาในช่วงวันสำคัญต่างๆ] | AO1: ปัจจัยด้านการส่งเสริมการตลาด [มีการส่งเสริมการขายโดยแถมตอนพิเศษเมื่อซื้อทุกตอนพร้อมกัน] | AP1: ปัจจัยด้านการส่งเสริมการตลาด [มีการส่งเสริมการขายโดยการลดราคาเมื่อซื้อทุกตอนพร้อมกัน] | AQ1: ปัจจัยด้านการส่งเสริมการตลาด [มีการส่งเสริมการขายสำหรับผู้อ่านที่ชำระเงินผ่านช่องทางที่ร่วมรายการ เช่น ให้เหรียญเพิ่ม หรือราคาเหรียญถูกลง] | AR1: ปัจจัยด้านการส่งเสริมการตลาด [นิยายมีการแนะนำผ่านเพื่อน หรือคนรู้จัก] | AS1: ปัจจัยด้านการส่งเสริมการตลาด [สามารถดูโฆษณาบนแอปเพื่อสะสมเหรียญได้] | AT1: ท่านเคยอ่านนิยายทั่วไปแบบออนไลน์หรือไม่ | AU1: เหตุใดท่านจึงเลือกที่จะอ่านนิยายทั่วไปแบบออนไลน์ (ตอบได้มากกว่า 1 ข้อ) | AV1: ความถี่ในการอ่านนิยายทั่วไปแบบออนไลน์ของท่าน เมื่อคิดเป็นจำนวนชั่วโมงต่อสัปดาห์ | AW1: ท่านอ่านนิยายทั่วไปแบบออนไลน์บน platform ใด | AX1: ถ้าท่านอ่านนิยายทั่วไปแบบออนไลน์บนapplication ท่านอ่านผ่าน App ใด (ตอบได้มากกว่า 1 ข้อ) | AY1: ประเภทนิยายทั่วไปแบบออนไลน์ที่ท่านอ่าน | AZ1: ท่านใช้อุปกรณ์ใดในการอ่านนิยายทั่วไปแบบออนไลน์มากที่สุด | BA1: ท่านเคยซื้อนิยายทั่วไปแบบออนไลน์บน Application หรือไม่ | BB1: ท่านซื้อนิยายทั่วไปแบบออนไลน์จาก Application ใดมากที่สุด | BC1: ใน 1 เดือน โดยเฉลี่ยท่านซื้อนิยายทั่วไปแบบออนไลน์อ่านกี่ครั้ง (โปรดระบุเป็นตัวเลข) | BD1: โดยปกติ ท่านใช้เงินซื้อนิยายทั่วไปแบบออนไลน์ 1 ครั้ง โดยเฉลี่ยกี่บาท | BE1: ถ้าท่านจะซื้อนิยายทั่วไปแบบออนไลน์ 1 เรื่อง (10-15 ตอน) ท่านเต็มใจที่จะจ่ายมากที่สุดกี่บาท | BF1: ท่านชำระเงินด้วยวิธีใด (ตอบได้มากกว่า 1 ข้อ) | BG1: ประเภทนิยายทั่วไปแบบออนไลน์ที่ท่านซื้ออ่าน | BH1: เพศ | BI1: อายุ | BJ1: สถานภาพบุคคล | BK1: การศึกษา | BL1: อาชีพ | BM1: รายได้เฉลี่ยต่อเดือน
A2: 43558.696 | B2: เคย | C2: มีเนื้อเรื่องให้เลือกอ่านหลากหลาย, สามารถอ่านที่ไหนก็ได้ตามที่ต้องการ, ไม่มีค่าใช้จ่าย หรือค่าใช้จ่ายน้อยกว่าซื้อหนังสือ | D2: 7 | E2: ทั้งสองที่ | F2: Dek-D, WattPad | G2: ทั้งสอง | H2: โทรศัพท์มือถือ | I2: ไม่เคย | AT2: เคย | AU2: มีเนื้อเรื่องให้เลือกอ่านหลากหลาย, สามารถอ่านที่ไหนก็ได้ตามที่ต้องการ, ไม่มีค่าใช้จ่าย หรือค่าใช้จ่ายน้อยกว่าซื้อหนังสือ | AV2: น้อยกว่า 7 ชั่วโมง | AW2: ทั้งสองที่ | AX2: Dek-D, ธัญวลัย | AY2: ไม่ใช่แฟนฟิคชั่น | AZ2: โทรศัพท์มือถือ | BA2: ไม่เคย | BH2: หญิง | BI2: 23 - 30 ปี | BJ2: โสด | BK2: ปริญญาโท | BL2: พนักงานบริษัทเอกชน | BM2: 15,001 - 20,000 บาท
A3: 43559.885 | B3: เคย | C3: ความหลากหลายของเนื้อเรื่อง, สะดวก สามารถอ่านได้ทุกที่, ไม่มีค่าใช้จ่าย หรือค่าใช้จ่ายน้อยกว่าซื้อหนังสือ | D3: 7 - 15 ชั่วโมง | E3: ทั้งสองที่ | F3: Dek-D | G3: ทั้งสอง | H3: โทรศัพท์มือถือ | I3: ไม่เคย | AT3: เคย | AU3: เนื้อเรื่องมีความหลากหลาย, สะดวก สามารถอ่านได้ทุกที่, ไม่มีค่าใช้จ่าย หรือค่าใช้จ่ายน้อยกว่าซื้อหนังสือ | AV3: น้อยกว่า 7 ชั่วโมง | AW3: ทั้งสองที่ | AX3: Dek-D | AY3: ทั้งสองประเภท | AZ3: โทรศัพท์มือถือ | BA3: ไม่เคย | BH3: หญิง | BI3: 18 - 22 ปี | BJ3: โสด | BK3: ปริญญาตรี | BL3: นักเรียน/นักศึกษา | BM3: 20,0001 - 30,000 บาท
A4: 43559.885 | B4: ไม่เคย | AT4: ไม่เคย | BH4: หญิง | BI4: 18 - 22 ปี | BJ4: โสด | BK4: ปริญญาตรี | BL4: นักเรียน/นักศึกษา | BM4: 9,001 - 15,000 บาท
A5: 43559.886 | B5: เคย | C5: ความหลากหลายของเนื้อเรื่อง, สะดวก สามารถอ่านได้ทุกที่, ไม่มีค่าใช้จ่าย หรือค่าใช้จ่ายน้อยกว่าซื้อหนังสือ | D5: 7 - 15 ชั่วโมง | E5: ทั้งสองที่ | F5: Dek-D, ReadAwrite | G5: ไม่ใช่แฟนฟิคชั่น | H5: โทรศัพท์มือถือ | I5: ไม่เคย | AT5: เคย | AU5: เนื้อเรื่องมีความหลากหลาย, สะดวก สามารถอ่านได้ทุกที่, ไม่มีค่าใช้จ่าย หรือค่าใช้จ่ายน้อยกว่าซื้อหนังสือ | AV5: น้อยกว่า 7 ชั่วโมง | AW5: แอปพลิเคชั่น | AX5: Dek-D | AY5: ไม่ใช่แฟนฟิคชั่น | AZ5: โทรศัพท์มือถือ | BA5: ไม่เคย | BH5: หญิง | BI5: 18 - 22 ปี | BJ5: โสด | BK5: ปริญญาตรี | BL5: นักเรียน/นักศึกษา | BM5: ต่ำกว่าหรือเท่ากับ 9,000 บาท
A6: 43559.887 | B6: ไม่เคย | AT6: เคย | AU6: เนื้อเรื่องมีความหลากหลาย, สะดวก สามารถอ่านได้ทุกที่, ไม่มีค่าใช้จ่าย หรือค่าใช้จ่ายน้อยกว่าซื้อหนังสือ | AV6: น้อยกว่า 7 ชั่วโมง | AW6: เว็บไซต์ | AX6: Dek-D | AY6: ไม่ใช่แฟนฟิคชั่น | AZ6: โทรศัพท์มือถือ | BA6: ไม่เคย | BH6: หญิง | BI6: 18 - 22 ปี | BJ6: โสด | BK6: ปริญญาตรี | BL6: นักเรียน/นักศึกษา | BM6: 9,001 - 15,000 บาท
A7: 43559.887 | B7: ไม่เคย | AT7: เคย | AU7: เนื้อเรื่องมีความหลากหลาย, สะดวก สามารถอ่านได้ทุกที่, ไม่มีค่าใช้จ่าย หรือค่าใช้จ่ายน้อยกว่าซื้อหนังสือ | AV7: 16 - 25 ชั่วโมง | AW7: ทั้งสองที่ | AX7: ookbee | AY7: ไม่ใช่แฟนฟิคชั่น | AZ7: Computer | BA7: เคย | BB7: ookbee | BC7: 5 | BD7: 90 | BE7: 90 | BF7: True money | BG7: นิยายที่ไม่ใช่แฟนฟิคชั่น | BH7: ชาย | BI7: 23 - 30 ปี | BJ7: โสด | BK7: ปริญญาตรี | BL7: นักเรียน/นักศึกษา | BM7: 20,0001 - 30,000 บาท
A8: 43559.888 | B8: เคย | C8: สะดวก สามารถอ่านได้ทุกที่, ไม่มีค่าใช้จ่าย หรือค่าใช้จ่ายน้อยกว่าซื้อหนังสือ | D8: 26 - 40 ชั่วโมง | E8: ทั้งสองที่ | F8: Dek-D, ธัญวลัย, ReadAwrite | G8: ทั้งสอง | H8: โทรศัพท์มือถือ | I8: เคย | J8: ธัญวลัย | K8: 1 | L8: 100 | M8: 150 | N8: In-app purchase (ชำระผ่าน Application), Credit/Debit card, Mobile/online banking, ชำระผ่านผู้ให้บริการสัญญาณโทรศัพท์ (True, AIS, DTAC) | O8: นิยายวายไม่ใช่แฟนฟิคชั่น | P8: สำคัญมากที่สุด | Q8: สำคัญมากที่สุด | R8: ค่อนข้างสำคัญ | S8: สำคัญมาก | T8: สำคัญ | U8: สำคัญมาก | V8: สำคัญมากที่สุด | W8: สำคัญ | X8: สำคัญมาก | Y8: สำคัญพอสมควร | Z8: สำคัญพอสมควร | AA8: สำคัญมาก | AB8: สำคัญมาก | AC8: สำคัญ | AD8: สำคัญมากที่สุด | AE8: สำคัญมาก | AF8: ค่อนข้างสำคัญ | AG8: ค่อนข้างสำคัญ | AH8: สำคัญมาก | AI8: ค่อนข้างสำคัญ | AJ8: สำคัญมาก | AK8: สำคัญมาก | AL8: สำคัญมากที่สุด | AM8: สำคัญมากที่สุด | AN8: สำคัญพอสมควร | AO8: สำคัญพอสมควร | AP8: สำคัญพอสมควร | AQ8: สำคัญมาก | AR8: สำคัญมาก | AS8: สำคัญมาก | BH8: หญิง | BI8: 18 - 22 ปี | BJ8: โสด | BK8: ปริญญาตรี | BL8: นักเรียน/นักศึกษา | BM8: ต่ำกว่าหรือเท่ากับ 9,000 บาท
A9: 43559.89 | B9: เคย | C9: สะดวก สามารถอ่านได้ทุกที่, ไม่มีค่าใช้จ่าย หรือค่าใช้จ่ายน้อยกว่าซื้อหนังสือ | D9: 26 - 40 ชั่วโมง | E9: ทั้งสองที่ | F9: Dek-D, Joylada | G9: แฟนฟิคชั่น (Fanfiction) | H9: โทรศัพท์มือถือ | I9: เคย | J9: Dek-D | K9: 1 | L9: 150 | M9: 300 | N9: In-app purchase (ชำระผ่าน Application), Credit/Debit card, Mobile/online banking | O9: แฟนฟิคชั่น (FanFiction) | P9: สำคัญมากที่สุด | Q9: สำคัญพอสมควร | R9: สำคัญน้อย | S9: สำคัญพอสมควร | T9: สำคัญพอสมควร | U9: สำคัญมาก | V9: สำคัญมากที่สุด | W9: สำคัญน้อย | X9: สำคัญมากที่สุด | Y9: สำคัญ | Z9: สำคัญมากที่สุด | AA9: สำคัญมาก | AB9: สำคัญมาก | AC9: สำคัญ | AD9: สำคัญพอสมควร | AE9: สำคัญมากที่สุด | AF9: สำคัญ | AG9: สำคัญน้อย | AH9: สำคัญมากที่สุด | AI9: สำคัญมาก | AJ9: สำคัญพอสมควร | AK9: สำคัญ | AL9: สำคัญมากที่สุด | AM9: สำคัญมากที่สุด | AN9: สำคัญพอสมควร | AO9: สำคัญพอสมควร | AP9: สำคัญพอสมควร | AQ9: ค่อนข้างสำคัญ | AR9: สำคัญน้อย | AS9: สำคัญน้อย | BH9: หญิง | BI9: 18 - 22 ปี | BJ9: โสด | BK9: ปริญญาตรี | BL9: นักเรียน/นักศึกษา | BM9: 9,001 - 15,000 บาท
A10: 43559.894 | B10: ไม่เคย | AT10: เคย | AU10: เนื้อเรื่องมีความหลากหลาย | AV10: น้อยกว่า 7 ชั่วโมง | AW10: เว็บไซต์ | AX10: Dek-D | AY10: ไม่ใช่แฟนฟิคชั่น | AZ10: โทรศัพท์มือถือ | BA10: ไม่เคย | BH10: หญิง | BI10: 23 - 30 ปี | BJ10: โสด | BK10: ปริญญาตรี | BL10: พนักงานบริษัทเอกชน | BM10: 20,0001 - 30,000 บาท
A11: 43559.896 | B11: ไม่เคย | AT11: ไม่เคย | BH11: หญิง | BI11: 18 - 22 ปี | BJ11: โสด | BK11: ต่ำกว่าปริญญาตรี | BL11: นักเรียน/นักศึกษา | BM11: ต่ำกว่าหรือเท่ากับ 9,000 บาท
A12: 43559.899 | B12: ไม่เคย | AT12: ไม่เคย | BH12: หญิง | BI12: อายุต่ำกว่า 18 ปี | BJ12: โสด | BK12: ต่ำกว่าปริญญาตรี | BL12: นักเรียน/นักศึกษา | BM12: ต่ำกว่าหรือเท่ากับ 9,000 บาท
A13: 43559.901 | B13: ไม่เคย | AT13: เคย | AU13: สะดวก สามารถอ่านได้ทุกที่ | AV13: น้อยกว่า 7 ชั่วโมง | AW13: ทั้งสองที่ | AX13: Dek-D | AY13: แฟนฟิคชั่น (Fanfiction) | AZ13: โทรศัพท์มือถือ | BA13: ไม่เคย | BH13: หญิง | BI13: อายุต่ำกว่า 18 ปี | BJ13: โสด | BK13: ต่ำกว่าปริญญาตรี | BL13: นักเรียน/นักศึกษา | BM13: ต่ำกว่าหรือเท่ากับ 9,000 บาท
A14: 43559.905 | B14: เคย | C14: สะดวก สามารถอ่านได้ทุกที่, ไม่มีค่าใช้จ่าย หรือค่าใช้จ่ายน้อยกว่าซื้อหนังสือ | D14: น้อยกว่า 7 ชั่วโมง | E14: Application | F14: Dek-D | G14: ทั้งสอง | H14: โทรศัพท์มือถือ | I14: เคย | J14: Dek-D | K14: 0 | L14: 300 | M14: 300 | N14: In-app purchase (ชำระผ่าน Application), Credit/Debit card, Mobile/online banking | O14: นิยายวายไม่ใช่แฟนฟิคชั่น | P14: สำคัญมากที่สุด | Q14: สำคัญพอสมควร | R14: สำคัญน้อย | S14: สำคัญ | T14: ค่อนข้างสำคัญ | U14: สำคัญน้อย | V14: สำคัญมากที่สุด | W14: สำคัญน้อย | X14: สำคัญมากที่สุด | Y14: สำคัญมาก | Z14: สำคัญพอสมควร | AA14: สำคัญพอสมควร | AB14: สำคัญพอสมควร | AC14: สำคัญพอสมควร | AD14: สำคัญ | AE14: สำคัญพอสมควร | AF14: สำคัญพอสมควร | AG14: ค่อนข้างสำคัญ | AH14: สำคัญมาก | AI14: สำคัญพอสมควร | AJ14: สำคัญ | AK14: สำคัญ | AL14: สำคัญมาก | AM14: สำคัญพอสมควร | AN14: สำคัญน้อย | AO14: ค่อนข้างสำคัญ | AP14: สำคัญน้อย | AQ14: สำคัญน้อย | AR14: สำคัญน้อย | AS14: ค่อนข้างสำคัญ | BH14: หญิง | BI14: 23 - 30 ปี | BJ14: โสด | BK14: ปริญญาตรี | BL14: พนักงานบริษัทเอกชน | BM14: 30,001 - 40,000 บาท
A15: 43559.906 | B15: ไม่เคย | AT15: ไม่เคย | BH15: ชาย | BI15: 23 - 30 ปี | BJ15: โสด | BK15: ปริญญาตรี | BL15: พนักงานบริษัทเอกชน | BM15: 20,0001 - 30,000 บาท
A16: 43559.91 | B16: เคย | C16: ความหลากหลายของเนื้อเรื่อง, สะดวก สามารถอ่านได้ทุกที่, ไม่มีค่าใช้จ่าย หรือค่าใช้จ่ายน้อยกว่าซื้อหนังสือ | D16: 16 - 25 ชั่วโมง | E16: ทั้งสองที่ | F16: Dek-D, Fictionlog, ธัญวลัย | G16: ทั้งสอง | H16: โทรศัพท์มือถือ | I16: เคย | J16: ธัญวลัย | K16: 1 | L16: 100 | M16: 300 | N16: In-app purchase (ชำระผ่าน Application) | O16: ทั้งสอง | P16: สำคัญมากที่สุด | Q16: สำคัญมาก | R16: สำคัญน้อย | S16: สำคัญน้อย | T16: สำคัญพอสมควร | U16: สำคัญมากที่สุด | V16: สำคัญมากที่สุด | W16: สำคัญมากที่สุด | X16: สำคัญมากที่สุด | Y16: สำคัญ | Z16: สำคัญมาก | AA16: สำคัญมากที่สุด | AB16: สำคัญมากที่สุด | AC16: สำคัญมากที่สุด | AD16: สำคัญมากที่สุด | AE16: สำคัญมาก | AF16: สำคัญมากที่สุด | AG16: สำคัญพอสมควร | AH16: สำคัญมาก | AI16: สำคัญมาก | AJ16: สำคัญพอสมควร | AK16: สำคัญมากที่สุด | AL16: สำคัญมากที่สุด | AM16: สำคัญมากที่สุด | AN16: สำคัญพอสมควร | AO16: สำคัญมาก | AP16: สำคัญมากที่สุด | AQ16: สำคัญมากที่สุด | AR16: สำคัญมากที่สุด | AS16: สำคัญมากที่สุด | BH16: หญิง | BI16: 18 - 22 ปี | BJ16: โสด | BK16: ปริญญาตรี | BL16: นักเรียน/นักศึกษา | BM16: 9,001 - 15,000 บาท
A17: 43559.914 | B17: ไม่เคย | AT17: ไม่เคย | BH17: หญิง | BI17: 40 ปีขึ้นไป | BJ17: สมรส | BK17: ปริญญาตรี | BL17: ธุรกิจส่วนตัว | BM17: 30,001 - 40,000 บาท
A18: 43559.915 | B18: ไม่เคย | AT18: เคย | AU18: เนื้อเรื่องมีความหลากหลาย, สะดวก สามารถอ่านได้ทุกที่, ไม่มีค่าใช้จ่าย หรือค่าใช้จ่ายน้อยกว่าซื้อหนังสือ | AV18: น้อยกว่า 7 ชั่วโมง | AW18: เว็บไซต์ | AX18: Dek-D | AY18: ไม่ใช่แฟนฟิคชั่น | AZ18: โทรศัพท์มือถือ | BA18: ไม่เคย | BH18: หญิง | BI18: 18 - 22 ปี | BJ18: โสด | BK18: ปริญญาตรี | BL18: นักเรียน/นักศึกษา | BM18: 9,001 - 15,000 บาท
A19: 43559.916 | B19: ไม่เคย | AT19: เคย | AU19: สะดวก สามารถอ่านได้ทุกที่ | AV19: น้อยกว่า 7 ชั่วโมง | AW19: เว็บไซต์ | AX19: Dek-D | AY19: ทั้งสองประเภท | AZ19: โทรศัพท์มือถือ | BA19: ไม่เคย | BH19: หญิง | BI19: 18 - 22 ปี | BJ19: โสด | BK19: ปริญญาตรี | BL19: นักเรียน/นักศึกษา | BM19: 9,001 - 15,000 บาท
A20: 43559.917 | B20: ไม่เคย | AT20: ไม่เคย | BH20: เกย์ | BI20: 23 - 30 ปี | BJ20: โสด | BK20: ปริญญาตรี | BL20: พนักงานบริษัทเอกชน | BM20: 20,0001 - 30,000 บาท
A21: 43559.918 | B21: เคย | C21: ความหลากหลายของเนื้อเรื่อง, สะดวก สามารถอ่านได้ทุกที่, ไม่มีค่าใช้จ่าย หรือค่าใช้จ่ายน้อยกว่าซื้อหนังสือ | D21: น้อยกว่า 7 ชั่วโมง | E21: เว็บไซต์ | F21: Dek-D | G21: แฟนฟิคชั่น (Fanfiction) | H21: Computer | I21: ไม่เคย | AT21: ไม่เคย | BH21: หญิง | BI21: 18 - 22 ปี | BJ21: โสด | BK21: ปริญญาตรี | BL21: นักเรียน/นักศึกษา | BM21: 15,001 - 20,000 บาท
A22: 43559.92 | B22: เคย | C22: ไม่มีค่าใช้จ่าย หรือค่าใช้จ่ายน้อยกว่าซื้อหนังสือ | D22: น้อยกว่า 7 ชั่วโมง | E22: เว็บไซต์ | F22: Dek-D, ธัญวลัย | G22: ไม่ใช่แฟนฟิคชั่น | H22: โทรศัพท์มือถือ | I22: ไม่เคย | AT22: เคย | AU22: ไม่มีค่าใช้จ่าย หรือค่าใช้จ่ายน้อยกว่าซื้อหนังสือ | AV22: น้อยกว่า 7 ชั่วโมง | AW22: เว็บไซต์ | AX22: Dek-D, ธัญวลัย | AY22: ไม่ใช่แฟนฟิคชั่น | AZ22: โทรศัพท์มือถือ | BA22: ไม่เคย | BH22: หญิง | BI22: 23 - 30 ปี | BJ22: โสด | BK22: ปริญญาตรี | BL22: พนักงานบริษัทเอกชน | BM22: 20,0001 - 30,000 บาท
A23: 43559.93 | B23: เคย | C23: สะดวก สามารถอ่านได้ทุกที่, ไม่มีค่าใช้จ่าย หรือค่าใช้จ่ายน้อยกว่าซื้อหนังสือ | D23: 7 - 15 ชั่วโมง | E23: ทั้งสองที่ | F23: Dek-D, WattPad, Joylada, Meb | G23: ทั้งสอง | H23: โทรศัพท์มือถือ | I23: เคย | J23: Meb | K23: 0 | L23: 200 | M23: 200 | N23: Mobile/online banking, ชำระผ่านเคาน์เตอร์ (7-11, Big C, Tesco, etc.) | O23: นิยายวายไม่ใช่แฟนฟิคชั่น | P23: สำคัญมากที่สุด | Q23: สำคัญมาก | R23: สำคัญพอสมควร | S23: สำคัญมาก | T23: สำคัญมาก | U23: สำคัญมากที่สุด | V23: สำคัญมากที่สุด | W23: สำคัญพอสมควร | X23: สำคัญมากที่สุด | Y23: สำคัญมาก | Z23: สำคัญมาก | AA23: สำคัญมากที่สุด | AB23: สำคัญมากที่สุด | AC23: สำคัญพอสมควร | AD23: สำคัญมาก | AE23: สำคัญ | AF23: สำคัญมาก | AG23: สำคัญพอสมควร | AH23: สำคัญมากที่สุด | AI23: สำคัญมากที่สุด | AJ23: สำคัญ | AK23: สำคัญน้อย | AL23: สำคัญมากที่สุด | AM23: สำคัญมากที่สุด | AN23: สำคัญพอสมควร | AO23: สำคัญมากที่สุด | AP23: สำคัญมากที่สุด | AQ23: สำคัญพอสมควร | AR23: สำคัญพอสมควร | AS23: สำคัญพอสมควร | BH23: หญิง | BI23: 18 - 22 ปี | BJ23: โสด | BK23: ปริญญาตรี | BL23: นักเรียน/นักศึกษา | BM23: ต่ำกว่าหรือเท่ากับ 9,000 บาท
A24: 43559.93 | B24: ไม่เคย | AT24: ไม่เคย | BH24: ชาย | BI24: 23 - 30 ปี | BJ24: โสด | BK24: ปริญญาตรี | BL24: พนักงานบริษัทเอกชน | BM24: 20,0001 - 30,000 บาท
A25: 43559.933 | B25: ไม่เคย | AT25: เคย | AU25: สะดวก สามารถอ่านได้ทุกที่, ไม่มีค่าใช้จ่าย หรือค่าใช้จ่ายน้อยกว่าซื้อหนังสือ | AV25: น้อยกว่า 7 ชั่วโมง | AW25: ทั้งสองที่ | AX25: Dek-D, Fictionlog, ธัญวลัย | AY25: ไม่ใช่แฟนฟิคชั่น | AZ25: โทรศัพท์มือถือ | BA25: เคย | BB25: Dek-D | BC25: 1 | BD25: 25 | BE25: 30 | BF25: Mobile/online banking | BG25: นิยายที่ไม่ใช่แฟนฟิคชั่น | BH25: หญิง | BI25: 18 - 22 ปี | BJ25: โสด | BK25: ต่ำกว่าปริญญาตรี | BL25: นักเรียน/นักศึกษา | BM25: ต่ำกว่าหรือเท่ากับ 9,000 บาท
A26: 43559.935 | B26: เคย | C26: สะดวก สามารถอ่านได้ทุกที่, ไม่มีค่าใช้จ่าย หรือค่าใช้จ่ายน้อยกว่าซื้อหนังสือ | D26: 26 - 40 ชั่วโมง | E26: ทั้งสองที่ | F26: Dek-D | G26: ไม่ใช่แฟนฟิคชั่น | H26: โทรศัพท์มือถือ | I26: ไม่เคย | AT26: เคย | AU26: สะดวก สามารถอ่านได้ทุกที่, ไม่มีค่าใช้จ่าย หรือค่าใช้จ่ายน้อยกว่าซื้อหนังสือ | AV26: 16 - 25 ชั่วโมง | AW26: ทั้งสองที่ | AX26: Dek-D | AY26: ไม่ใช่แฟนฟิคชั่น | AZ26: โทรศัพท์มือถือ | BA26: ไม่เคย | BH26: หญิง | BI26: 18 - 22 ปี | BJ26: โสด | BK26: ปริญญาตรี | BL26: นักเรียน/นักศึกษา | BM26: 15,001 - 20,000 บาท
A27: 43559.938 | B27: ไม่เคย | AT27: เคย | AU27: สะดวก สามารถอ่านได้ทุกที่, ไม่มีค่าใช้จ่าย หรือค่าใช้จ่ายน้อยกว่าซื้อหนังสือ | AV27: น้อยกว่า 7 ชั่วโมง | AW27: เว็บไซต์ | AX27: Dek-D | AY27: ไม่ใช่แฟนฟิคชั่น | AZ27: Tablet | BA27: ไม่เคย | BH27: หญิง | BI27: 18 - 22 ปี | BJ27: โสด | BK27: ปริญญาตรี | BL27: นักเรียน/นักศึกษา | BM27: 9,001 - 15,000 บาท
A28: 43559.944 | B28: ไม่เคย | AT28: ไม่เคย | BH28: ชาย | BI28: 40 ปีขึ้นไป | BJ28: สมรส | BK28: ปริญญาโท | BL28: ธุรกิจส่วนตัว | BM28: 40,001 บาทขึ้นไป
A29: 43559.944 | B29: เคย | C29: สะดวก สามารถอ่านได้ทุกที่ | D29: น้อยกว่า 7 ชั่วโมง | E29: ทั้งสองที่ | F29: Dek-D, ธัญวลัย, ReadAwrite | G29: ไม่ใช่แฟนฟิคชั่น | H29: โทรศัพท์มือถือ | I29: เคย | J29: Meb | K29: 3 | L29: 300 | M29: 200 | N29: Credit/Debit card, ชำระผ่านเคาน์เตอร์ (7-11, Big C, Tesco, etc.), ชำระผ่านตู้เติมเงิน (ตู้บุญเติม เป็นต้น) | O29: นิยายวายไม่ใช่แฟนฟิคชั่น | P29: สำคัญมาก | Q29: สำคัญ | R29: สำคัญ | S29: สำคัญพอสมควร | T29: สำคัญมากที่สุด | U29: สำคัญมากที่สุด | V29: สำคัญมาก | W29: สำคัญพอสมควร | X29: สำคัญมากที่สุด | Y29: สำคัญ | Z29: สำคัญ | AA29: สำคัญพอสมควร | AB29: สำคัญพอสมควร | AC29: สำคัญมาก | AD29: สำคัญพอสมควร | AE29: สำคัญ | AF29: สำคัญ | AG29: สำคัญ | AH29: สำคัญ | AI29: สำคัญ | AJ29: สำคัญ | AK29: สำคัญ | AL29: สำคัญพอสมควร | AM29: สำคัญมาก | AN29: ไม่สำคัญ | AO29: สำคัญน้อย | AP29: สำคัญน้อย | AQ29: ไม่สำคัญ | AR29: ไม่สำคัญ | AS29: ไม่สำคัญ | BH29: หญิง | BI29: 23 - 30 ปี | BJ29: โสด | BK29: ปริญญาตรี | BL29: นักเรียน/นักศึกษา | BM29: 9,001 - 15,000 บาท
A30: 43559.945 | B30: เคย | C30: ความหลากหลายของเนื้อเรื่อง, สะดวก สามารถอ่านได้ทุกที่, ไม่มีค่าใช้จ่าย หรือค่าใช้จ่ายน้อยกว่าซื้อหนังสือ | D30: 7 - 15 ชั่วโมง | E30: เว็บไซต์ | F30: Dek-D, ธัญวลัย, ReadAwrite | G30: ทั้งสอง | H30: โทรศัพท์มือถือ | I30: ไม่เคย | AT30: เคย | AU30: เนื้อเรื่องมีความหลากหลาย, สะดวก สามารถอ่านได้ทุกที่, ไม่มีค่าใช้จ่าย หรือค่าใช้จ่ายน้อยกว่าซื้อหนังสือ | AV30: น้อยกว่า 7 ชั่วโมง | AW30: เว็บไซต์ | AY30: แฟนฟิคชั่น (Fanfiction) | AZ30: โทรศัพท์มือถือ | BA30: ไม่เคย | BH30: หญิง | BI30: 18 - 22 ปี | BJ30: โสด | BK30: ปริญญาตรี | BL30: นักเรียน/นักศึกษา | BM30: 9,001 - 15,000 บาท
A31: 43559.961 | B31: ไม่เคย | AT31: เคย | AU31: สะดวก สามารถอ่านได้ทุกที่, ไม่มีค่าใช้จ่าย หรือค่าใช้จ่ายน้อยกว่าซื้อหนังสือ | AV31: 7 - 15 ชั่วโมง | AW31: ทั้งสองที่ | AX31: Dek-D | AY31: ทั้งสองประเภท | AZ31: โทรศัพท์มือถือ | BA31: ไม่เคย | BH31: ชาย | BI31: 18 - 22 ปี | BJ31: โสด | BK31: ต่ำกว่าปริญญาตรี | BL31: นักเรียน/นักศึกษา | BM31: 9,001 - 15,000 บาท
A32: 43559.978 | B32: ไม่เคย | AT32: ไม่เคย | BH32: หญิง | BI32: 40 ปีขึ้นไป | BJ32: สมรส | BK32: ปริญญาโท | BL32: พนักงานบริษัทเอกชน | BM32: 40,001 บาทขึ้นไป
A33: 43559.979 | B33: ไม่เคย | AT33: ไม่เคย | BH33: หญิง | BI33: อายุต่ำกว่า 18 ปี | BJ33: โสด | BK33: ต่ำกว่าปริญญาตรี | BL33: นักเรียน/นักศึกษา | BM33: ต่ำกว่าหรือเท่ากับ 9,000 บาท
A34: 43559.991 | B34: เคย | C34: ความหลากหลายของเนื้อเรื่อง, สะดวก สามารถอ่านได้ทุกที่, ไม่มีค่าใช้จ่าย หรือค่าใช้จ่ายน้อยกว่าซื้อหนังสือ | D34: 16 - 25 ชั่วโมง | E34: ทั้งสองที่ | F34: Dek-D, Fictionlog, ธัญวลัย, ReadAwrite | G34: ทั้งสอง | H34: โทรศัพท์มือถือ | I34: ไม่เคย | AT34: เคย | AU34: เนื้อเรื่องมีความหลากหลาย, สะดวก สามารถอ่านได้ทุกที่, ไม่มีค่าใช้จ่าย หรือค่าใช้จ่ายน้อยกว่าซื้อหนังสือ | AV34: น้อยกว่า 7 ชั่วโมง | AW34: ทั้งสองที่ | AX34: Dek-D, ReadAWrite | AY34: ไม่ใช่แฟนฟิคชั่น | AZ34: โทรศัพท์มือถือ | BA34: ไม่เคย | BH34: หญิง | BI34: 18 - 22 ปี | BJ34: โสด | BK34: ปริญญาตรี | BL34: นักเรียน/นักศึกษา | BM34: ต่ำกว่าหรือเท่ากับ 9,000 บาท
A35: 43560.037 | B35: ไม่เคย | AT35: เคย | AU35: สะดวก สามารถอ่านได้ทุกที่, ไม่มีค่าใช้จ่าย หรือค่าใช้จ่ายน้อยกว่าซื้อหนังสือ | AV35: น้อยกว่า 7 ชั่วโมง | AW35: เว็บไซต์ | AY35: ไม่ใช่แฟนฟิคชั่น | AZ35: Computer | BA35: ไม่เคย | BH35: หญิง | BI35: 40 ปีขึ้นไป | BJ35: โสด | BK35: ปริญญาตรี | BL35: ธุรกิจส่วนตัว | BM35: 9,001 - 15,000 บาท
A36: 43560.041 | B36: เคย | C36: ความหลากหลายของเนื้อเรื่อง, สะดวก สามารถอ่านได้ทุกที่ | D36: 7 - 15 ชั่วโมง | E36: เว็บไซต์ | F36: thaiboyslove, MEB | G36: ไม่ใช่แฟนฟิคชั่น | H36: Tablet/Ipad | I36: เคย | J36: MEB | K36: 3 | L36: 300 | M36: 300 | N36: In-app purchase (ชำระผ่าน Application), Credit/Debit card | O36: นิยายวายไม่ใช่แฟนฟิคชั่น | P36: สำคัญมากที่สุด | Q36: สำคัญ | R36: ไม่สำคัญ | S36: สำคัญมากที่สุด | T36: สำคัญพอสมควร | U36: สำคัญมาก | V36: สำคัญมากที่สุด | W36: สำคัญน้อย | X36: สำคัญมากที่สุด | Y36: สำคัญมาก | Z36: สำคัญมาก | AA36: สำคัญมาก | AB36: สำคัญมาก | AC36: สำคัญมาก | AD36: สำคัญมาก | AE36: สำคัญมาก | AF36: สำคัญมาก | AG36: ค่อนข้างสำคัญ | AH36: สำคัญมากที่สุด | AI36: สำคัญมากที่สุด | AJ36: สำคัญพอสมควร | AK36: สำคัญน้อย | AL36: สำคัญมาก | AM36: สำคัญมากที่สุด | AN36: สำคัญมาก | AO36: สำคัญมากที่สุด | AP36: สำคัญมากที่สุด | AQ36: สำคัญมากที่สุด | AR36: สำคัญมากที่สุด | AS36: สำคัญมากที่สุด | BH36: หญิง | BI36: 23 - 30 ปี | BJ36: โสด | BK36: ปริญญาตรี | BL36: นักเรียน/นักศึกษา | BM36: 9,001 - 15,000 บาท
A37: 43560.278 | B37: เคย | C37: สะดวก สามารถอ่านได้ทุกที่, ไม่มีค่าใช้จ่าย หรือค่าใช้จ่ายน้อยกว่าซื้อหนังสือ | D37: 7 - 15 ชั่วโมง | E37: Application | F37: JOY | G37: แฟนฟิคชั่น (Fanfiction) | H37: โทรศัพท์มือถือ | I37: ไม่เคย | AT37: เคย | AU37: สะดวก สามารถอ่านได้ทุกที่, ไม่มีค่าใช้จ่าย หรือค่าใช้จ่ายน้อยกว่าซื้อหนังสือ | AV37: น้อยกว่า 7 ชั่วโมง | AW37: เว็บไซต์ | AX37: Dek-D | AY37: ทั้งสองประเภท | AZ37: Computer | BA37: ไม่เคย | BH37: หญิง | BI37: 23 - 30 ปี | BJ37: โสด | BK37: ปริญญาตรี | BL37: พนักงานบริษัทเอกชน | BM37: 15,001 - 20,000 บาท
A38: 43560.283 | B38: ไม่เคย | AT38: เคย | AU38: สะดวก สามารถอ่านได้ทุกที่, ไม่มีค่าใช้จ่าย หรือค่าใช้จ่ายน้อยกว่าซื้อหนังสือ | AV38: น้อยกว่า 7 ชั่วโมง | AW38: เว็บไซต์ | AX38: Dek-D | AY38: ไม่ใช่แฟนฟิคชั่น | AZ38: Tablet | BA38: ไม่เคย | BH38: หญิง | BI38: 23 - 30 ปี | BJ38: โสด | BK38: ปริญญาโท | BL38: พนักงานบริษัทเอกชน | BM38: 20,0001 - 30,000 บาท
A39: 43560.289 | B39: ไม่เคย | AT39: ไม่เคย | BH39: หญิง | BI39: 23 - 30 ปี | BJ39: โสด | BK39: ปริญญาตรี | BL39: พนักงานบริษัทเอกชน | BM39: 30,001 - 40,000 บาท
A40: 43560.293 | B40: เคย | C40: ความหลากหลายของเนื้อเรื่อง, สะดวก สามารถอ่านได้ทุกที่, ไม่มีค่าใช้จ่าย หรือค่าใช้จ่ายน้อยกว่าซื้อหนังสือ | D40: 16 - 25 ชั่วโมง | E40: เว็บไซต์ | F40: Weibo | G40: แฟนฟิคชั่น (Fanfiction) | H40: โทรศัพท์มือถือ | I40: ไม่เคย | AT40: เคย | AU40: เนื้อเรื่องมีความหลากหลาย, สะดวก สามารถอ่านได้ทุกที่, ไม่มีค่าใช้จ่าย หรือค่าใช้จ่ายน้อยกว่าซื้อหนังสือ | AV40: 16 - 25 ชั่วโมง | AW40: เว็บไซต์ | AX40: Weibo | AY40: แฟนฟิคชั่น (Fanfiction) | AZ40: โทรศัพท์มือถือ | BA40: ไม่เคย | BH40: หญิง | BI40: 23 - 30 ปี | BJ40: โสด | BK40: ปริญญาตรี | BL40: นักเรียน/นักศึกษา | BM40: 20,0001 - 30,000 บาท
A41: 43560.304 | B41: ไม่เคย | AT41: ไม่เคย | BH41: หญิง | BI41: 23 - 30 ปี | BJ41: โสด | BK41: ปริญญาตรี | BL41: พนักงานบริษัทเอกชน | BM41: 15,001 - 20,000 บาท
A42: 43560.311 | B42: ไม่เคย | AT42: เคย | AU42: เนื้อเรื่องมีความหลากหลาย, สะดวก สามารถอ่านได้ทุกที่, ไม่มีค่าใช้จ่าย หรือค่าใช้จ่ายน้อยกว่าซื้อหนังสือ, สามารถแสดงความคิดเห็นต่อนิยายเรื่องนั้นๆ หรือตอนนั้นๆได้อย่างทันที | AV42: 16 - 25 ชั่วโมง | AW42: ทั้งสองที่ | AX42: Dek-D, ธัญวลัย, Fanfic.net | AY42: ทั้งสองประเภท | AZ42: โทรศัพท์มือถือ | BA42: ไม่เคย | BH42: หญิง | BI42: อายุต่ำกว่า 18 ปี | BJ42: โสด | BK42: ต่ำกว่าปริญญาตรี | BL42: นักเรียน | BM42: ต่ำกว่าหรือเท่ากับ 9,000 บาท
A43: 43560.387 | B43: ไม่เคย | AT43: ไม่เคย | BH43: หญิง | BI43: 23 - 30 ปี | BJ43: โสด | BK43: ปริญญาโท | BL43: พนักงานบริษัทเอกชน | BM43: 30,001 - 40,000 บาท
A44: 43560.394 | B44: ไม่เคย | AT44: ไม่เคย | BH44: ชาย | BI44: 18 - 22 ปี | BJ44: โสด | BK44: ต่ำกว่าปริญญาตรี | BL44: นักเรียน/นักศึกษา | BM44: ต่ำกว่าหรือเท่ากับ 9,000 บาท
A45: 43560.421 | B45: ไม่เคย | AT45: ไม่เคย | BH45: ชาย | BI45: 23 - 30 ปี | BJ45: โสด | BK45: ปริญญาตรี | BL45: พนักงานบริษัทเอกชน | BM45: 40,001 บาทขึ้นไป
A46: 43560.424 | B46: เคย | C46: ความหลากหลายของเนื้อเรื่อง, สะดวก สามารถอ่านได้ทุกที่, ไม่มีค่าใช้จ่าย หรือค่าใช้จ่ายน้อยกว่าซื้อหนังสือ | D46: 7 - 15 ชั่วโมง | E46: ทั้งสองที่ | F46: Dek-D, WattPad | G46: ทั้งสอง | H46: โทรศัพท์มือถือ | I46: ไม่เคย | AT46: เคย | AU46: เนื้อเรื่องมีความหลากหลาย, สะดวก สามารถอ่านได้ทุกที่, ไม่มีค่าใช้จ่าย หรือค่าใช้จ่ายน้อยกว่าซื้อหนังสือ | AV46: 7 - 15 ชั่วโมง | AW46: ทั้งสองที่ | AX46: Dek-D, ธัญวลัย | AY46: ไม่ใช่แฟนฟิคชั่น | AZ46: โทรศัพท์มือถือ | BA46: ไม่เคย | BH46: หญิง | BI46: 23 - 30 ปี | BJ46: โสด | BK46: ปริญญาโท | BL46: พนักงานบริษัทเอกชน | BM46: 15,001 - 20,000 บาท
A47: 43560.431 | B47: เคย | C47: สะดวก สามารถอ่านได้ทุกที่, ไม่มีค่าใช้จ่าย หรือค่าใช้จ่ายน้อยกว่าซื้อหนังสือ | D47: น้อยกว่า 7 ชั่วโมง | E47: Application | F47: Dek-D | G47: ทั้งสอง | H47: โทรศัพท์มือถือ | I47: ไม่เคย | AT47: เคย | AU47: เนื้อเรื่องมีความหลากหลาย, สะดวก สามารถอ่านได้ทุกที่ | AV47: น้อยกว่า 7 ชั่วโมง | AW47: แอปพลิเคชั่น | AX47: Dek-D | AY47: ทั้งสองประเภท | AZ47: โทรศัพท์มือถือ | BA47: ไม่เคย | BH47: หญิง | BI47: 18 - 22 ปี | BJ47: โสด | BK47: ปริญญาตรี | BL47: นักเรียน/นักศึกษา | BM47: ต่ำกว่าหรือเท่ากับ 9,000 บาท
A48: 43560.475 | B48: ไม่เคย | AT48: เคย | AU48: สะดวก สามารถอ่านได้ทุกที่, ไม่มีค่าใช้จ่าย หรือค่าใช้จ่ายน้อยกว่าซื้อหนังสือ | AV48: น้อยกว่า 7 ชั่วโมง | AW48: เว็บไซต์ | AX48: Dek-D | AY48: ไม่ใช่แฟนฟิคชั่น | AZ48: โทรศัพท์มือถือ | BA48: ไม่เคย | BH48: หญิง | BI48: 18 - 22 ปี | BJ48: โสด | BK48: ปริญญาตรี | BL48: นักเรียน/นักศึกษา | BM48: 9,001 - 15,000 บาท
A49: 43560.476 | B49: ไม่เคย | AT49: เคย | AU49: สะดวก สามารถอ่านได้ทุกที่, ไม่มีค่าใช้จ่าย หรือค่าใช้จ่ายน้อยกว่าซื้อหนังสือ | AV49: น้อยกว่า 7 ชั่วโมง | AW49: แอปพลิเคชั่น | AX49: WebToon | AY49: ไม่ใช่แฟนฟิคชั่น | AZ49: โทรศัพท์มือถือ | BA49: ไม่เคย | BH49: ชาย | BI49: 31 - 35 ปี | BJ49: โสด | BK49: ปริญญาตรี | BL49: ข้าราชการ/พนักงานรัฐวิสาหกิจ | BM49: 20,0001 - 30,000 บาท
A50: 43560.477 | B50: เคย | C50: สะดวก สามารถอ่านได้ทุกที่, ไม่มีค่าใช้จ่าย หรือค่าใช้จ่ายน้อยกว่าซื้อหนังสือ, ประหยัดพื้นที่ในการเก็บ | D50: 7 - 15 ชั่วโมง | E50: ทั้งสองที่ | F50: Meb | G50: ไม่ใช่แฟนฟิคชั่น | H50: โทรศัพท์มือถือ | I50: เคย | J50: Meb | K50: 1 | L50: 1000 | M50: 10000 | N50: In-app purchase (ชำระผ่าน Application), Credit/Debit card, Mobile/online banking, True Money, ชำระผ่านเคาน์เตอร์ (7-11, Big C, Tesco, etc.), LinePay/Paypal/Airpay/Alipay, ชำระผ่านผู้ให้บริการสัญญาณโทรศัพท์ (True, AIS, DTAC) | O50: นิยายวายไม่ใช่แฟนฟิคชั่น | P50: สำคัญมากที่สุด | Q50: สำคัญมาก | R50: สำคัญพอสมควร | S50: สำคัญมากที่สุด | T50: สำคัญมากที่สุด | U50: สำคัญมากที่สุด | V50: สำคัญมาก | W50: สำคัญพอสมควร | X50: สำคัญมากที่สุด | Y50: สำคัญมากที่สุด | Z50: สำคัญมาก | AA50: สำคัญมากที่สุด | AB50: สำคัญมากที่สุด | AC50: ไม่สำคัญ | AD50: สำคัญมากที่สุด | AE50: สำคัญพอสมควร | AF50: สำคัญพอสมควร | AG50: สำคัญ | AH50: สำคัญมากที่สุด | AI50: สำคัญมากที่สุด | AJ50: สำคัญมาก | AK50: สำคัญพอสมควร | AL50: สำคัญมาก | AM50: สำคัญมากที่สุด | AN50: สำคัญมากที่สุด | AO50: สำคัญมากที่สุด | AP50: สำคัญมากที่สุด | AQ50: สำคัญมากที่สุด | AR50: สำคัญพอสมควร | AS50: สำคัญพอสมควร | BH50: ชาย | BI50: 18 - 22 ปี | BJ50: โสด | BK50: ปริญญาตรี | BL50: นักเรียน/นักศึกษา | BM50: ต่ำกว่าหรือเท่ากับ 9,000 บาท
A51: 43560.484 | B51: ไม่เคย | AT51: เคย | AU51: สะดวก สามารถอ่านได้ทุกที่, ไม่มีค่าใช้จ่าย หรือค่าใช้จ่ายน้อยกว่าซื้อหนังสือ | AV51: 7 - 15 ชั่วโมง | AW51: เว็บไซต์ | AX51: Dek-D | AY51: แฟนฟิคชั่น (Fanfiction) | AZ51: Tablet | BA51: ไม่เคย | BH51: หญิง | BI51: 18 - 22 ปี | BJ51: โสด | BK51: ปริญญาตรี | BL51: นักเรียน/นักศึกษา | BM51: ต่ำกว่าหรือเท่ากับ 9,000 บาท
A52: 43560.489 | B52: ไม่เคย | AT52: เคย | AU52: เนื้อเรื่องมีความหลากหลาย, สะดวก สามารถอ่านได้ทุกที่, ไม่มีค่าใช้จ่าย หรือค่าใช้จ่ายน้อยกว่าซื้อหนังสือ | AV52: น้อยกว่า 7 ชั่วโมง | AW52: แอปพลิเคชั่น | AX52: ธัญวลัย | AY52: ทั้งสองประเภท | AZ52: โทรศัพท์มือถือ | BA52: ไม่เคย | BH52: หญิง | BI52: 18 - 22 ปี | BJ52: โสด | BK52: ปริญญาตรี | BL52: นักเรียน/นักศึกษา | BM52: ต่ำกว่าหรือเท่ากับ 9,000 บาท
A53: 43560.493 | B53: ไม่เคย | AT53: เคย | AU53: สะดวก สามารถอ่านได้ทุกที่, ไม่มีค่าใช้จ่าย หรือค่าใช้จ่ายน้อยกว่าซื้อหนังสือ | AV53: น้อยกว่า 7 ชั่วโมง | AW53: เว็บไซต์ | AY53: ไม่ใช่แฟนฟิคชั่น | AZ53: โทรศัพท์มือถือ | BA53: ไม่เคย | BH53: ชาย | BI53: 23 - 30 ปี | BJ53: โสด | BK53: ต่ำกว่าปริญญาตรี | BL53: นักเรียน/นักศึกษา | BM53: ต่ำกว่าหรือเท่ากับ 9,000 บาท
A54: 43560.497 | B54: เคย | C54: สะดวก สามารถอ่านได้ทุกที่, ไม่มีค่าใช้จ่าย หรือค่าใช้จ่ายน้อยกว่าซื้อหนังสือ | D54: น้อยกว่า 7 ชั่วโมง | E54: ทั้งสองที่ | F54: Joylada | G54: แฟนฟิคชั่น (Fanfiction) | H54: โทรศัพท์มือถือ | I54: ไม่เคย | AT54: เคย | AU54: เนื้อเรื่องมีความหลากหลาย, สะดวก สามารถอ่านได้ทุกที่, ไม่มีค่าใช้จ่าย หรือค่าใช้จ่ายน้อยกว่าซื้อหนังสือ | AV54: น้อยกว่า 7 ชั่วโมง | AW54: ทั้งสองที่ | AX54: Joylada | AY54: ทั้งสองประเภท | AZ54: โทรศัพท์มือถือ | BA54: ไม่เคย | BH54: หญิง | BI54: 18 - 22 ปี | BJ54: โสด | BK54: ปริญญาตรี | BL54: นักเรียน/นักศึกษา | BM54: ต่ำกว่าหรือเท่ากับ 9,000 บาท
A55: 43560.52 | B55: เคย | C55: ความหลากหลายของเนื้อเรื่อง, สะดวก สามารถอ่านได้ทุกที่, ไม่มีค่าใช้จ่าย หรือค่าใช้จ่ายน้อยกว่าซื้อหนังสือ | D55: น้อยกว่า 7 ชั่วโมง | E55: เว็บไซต์ | G55: ไม่ใช่แฟนฟิคชั่น | H55: โทรศัพท์มือถือ | I55: ไม่เคย | AT55: เคย | AU55: เนื้อเรื่องมีความหลากหลาย, สะดวก สามารถอ่านได้ทุกที่, ไม่มีค่าใช้จ่าย หรือค่าใช้จ่ายน้อยกว่าซื้อหนังสือ | AV55: 7 - 15 ชั่วโมง | AW55: ทั้งสองที่ | AX55: Webnovel | AY55: ไม่ใช่แฟนฟิคชั่น | AZ55: โทรศัพท์มือถือ | BA55: เคย | BB55: Webnovel | BC55: 7 | BD55: 20 | BE55: 300 | BF55: In-app purchase (ชำระผ่าน Application) | BG55: นิยายที่ไม่ใช่แฟนฟิคชั่น | BH55: หญิง | BI55: 18 - 22 ปี | BJ55: โสด | BK55: ปริญญาตรี | BL55: นักเรียน/นักศึกษา | BM55: 9,001 - 15,000 บาท
A56: 43560.53 | B56: ไม่เคย | AT56: ไม่เคย | BH56: หญิง | BI56: 18 - 22 ปี | BJ56: โสด | BK56: ปริญญาตรี | BL56: นักเรียน/นักศึกษา | BM56: 9,001 - 15,000 บาท
A57: 43560.572 | B57: ไม่เคย | AT57: ไม่เคย | BH57: หญิง | BI57: 40 ปีขึ้นไป | BJ57: โสด | BK57: ปริญญาโท | BL57: พนักงานบริษัทเอกชน | BM57: 40,001 บาทขึ้นไป
A58: 43560.577 | B58: ไม่เคย | AT58: ไม่เคย | BH58: ชาย | BI58: 23 - 30 ปี | BJ58: โสด | BK58: ปริญญาตรี | BL58: ธุรกิจส่วนตัว | BM58: 20,0001 - 30,000 บาท
A59: 43560.579 | B59: ไม่เคย | AT59: ไม่เคย | BH59: หญิง | BI59: 23 - 30 ปี | BJ59: โสด | BK59: ปริญญาตรี | BL59: นักเรียน/นักศึกษา | BM59: ต่ำกว่าหรือเท่ากับ 9,000 บาท
A60: 43560.584 | B60: เคย | C60: สะดวก สามารถอ่านได้ทุกที่, ไม่มีค่าใช้จ่าย หรือค่าใช้จ่ายน้อยกว่าซื้อหนังสือ | D60: 7 - 15 ชั่วโมง | E60: ทั้งสองที่ | F60: Fictionlog | G60: ไม่ใช่แฟนฟิคชั่น | H60: โทรศัพท์มือถือ | I60: เคย | J60: Fictionlog | K60: 10 | L60: 10 | M60: 50 | N60: True Money | O60: นิยายวายไม่ใช่แฟนฟิคชั่น | P60: สำคัญมากที่สุด | Q60: สำคัญมาก | R60: ไม่สำคัญ | S60: สำคัญพอสมควร | T60: สำคัญมากที่สุด | U60: สำคัญมากที่สุด | V60: สำคัญพอสมควร | W60: สำคัญพอสมควร | X60: สำคัญมาก | Y60: สำคัญมากที่สุด | Z60: สำคัญมากที่สุด | AA60: สำคัญมากที่สุด | AB60: สำคัญมาก | AC60: สำคัญพอสมควร | AD60: สำคัญมากที่สุด | AE60: สำคัญมาก | AF60: สำคัญพอสมควร | AG60: สำคัญมากที่สุด | AH60: สำคัญมากที่สุด | AI60: สำคัญมาก | AJ60: สำคัญมาก | AK60: สำคัญมาก | AL60: สำคัญมาก | AM60: สำคัญมากที่สุด | AN60: สำคัญ | AO60: สำคัญพอสมควร | AP60: สำคัญมาก | AQ60: สำคัญพอสมควร | AR60: สำคัญพอสมควร | AS60: สำคัญน้อย | BH60: หญิง | BI60: 23 - 30 ปี | BJ60: โสด | BK60: ปริญญาตรี | BL60: ข้าราชการ/พนักงานรัฐวิสาหกิจ | BM60: 20,0001 - 30,000 บาท
A61: 43560.591 | B61: เคย | C61: ความหลากหลายของเนื้อเรื่อง, สะดวก สามารถอ่านได้ทุกที่, ไม่มีค่าใช้จ่าย หรือค่าใช้จ่ายน้อยกว่าซื้อหนังสือ | D61: น้อยกว่า 7 ชั่วโมง | E61: ทั้งสองที่ | F61: Dek-D, Storylog | G61: แฟนฟิคชั่น (Fanfiction) | H61: โทรศัพท์มือถือ | I61: ไม่เคย | AT61: เคย | AU61: อยากลองอ่านบางเรื่องที่มีรีวิวในทวิตเตอร์ว่าสนุก | AV61: น้อยกว่า 7 ชั่วโมง | AW61: แอปพลิเคชั่น | AX61: Dek-D, ธัญวลัย | AY61: ทั้งสองประเภท | AZ61: โทรศัพท์มือถือ | BA61: ไม่เคย | BH61: หญิง | BI61: 23 - 30 ปี | BJ61: โสด | BK61: สูงกว่าปริญญาโท | BL61: พนักงานบริษัทเอกชน | BM61: 15,001 - 20,000 บาท
A62: 43560.596 | B62: ไม่เคย | AT62: ไม่เคย | BH62: ชาย | BI62: 23 - 30 ปี | BJ62: โสด | BK62: ปริญญาตรี | BL62: พนักงานบริษัทเอกชน | BM62: 15,001 - 20,000 บาท
A63: 43560.605 | B63: เคย | C63: ความหลากหลายของเนื้อเรื่อง, สะดวก สามารถอ่านได้ทุกที่, ไม่มีค่าใช้จ่าย หรือค่าใช้จ่ายน้อยกว่าซื้อหนังสือ | D63: น้อยกว่า 7 ชั่วโมง | E63: Application | F63: Dek-D | G63: แฟนฟิคชั่น (Fanfiction) | H63: โทรศัพท์มือถือ | I63: ไม่เคย | AT63: เคย | AU63: เนื้อเรื่องมีความหลากหลาย, สะดวก สามารถอ่านได้ทุกที่, ไม่มีค่าใช้จ่าย หรือค่าใช้จ่ายน้อยกว่าซื้อหนังสือ | AV63: น้อยกว่า 7 ชั่วโมง | AW63: แอปพลิเคชั่น | AX63: Dek-D | AY63: ไม่ใช่แฟนฟิคชั่น | AZ63: โทรศัพท์มือถือ | BA63: เคย | BB63: Dek-D | BC63: 0 | BD63: 0 | BE63: 100 | BF63: Credit/Debit Card, Mobile/online banking | BG63: ทั้งสอง | BH63: หญิง | BI63: 18 - 22 ปี | BJ63: โสด | BK63: ปริญญาตรี | BL63: นักเรียน/นักศึกษา | BM63: 9,001 - 15,000 บาท
A64: 43560.616 | B64: เคย | C64: ความหลากหลายของเนื้อเรื่อง, สะดวก สามารถอ่านได้ทุกที่, ไม่มีค่าใช้จ่าย หรือค่าใช้จ่ายน้อยกว่าซื้อหนังสือ | D64: 16 - 25 ชั่วโมง | E64: ทั้งสองที่ | F64: Dek-D, ธัญวลัย, ReadAwrite | G64: ทั้งสอง | H64: โทรศัพท์มือถือ | I64: ไม่เคย | AT64: เคย | AU64: สะดวก สามารถอ่านได้ทุกที่ | AV64: น้อยกว่า 7 ชั่วโมง | AW64: ทั้งสองที่ | AX64: Dek-D | AY64: ไม่ใช่แฟนฟิคชั่น | AZ64: โทรศัพท์มือถือ | BA64: ไม่เคย | BH64: หญิง | BI64: 23 - 30 ปี | BJ64: โสด | BK64: ปริญญาตรี | BL64: พนักงานบริษัทเอกชน | BM64: 20,0001 - 30,000 บาท
A65: 43560.628 | B65: เคย | C65: ความหลากหลายของเนื้อเรื่อง, สะดวก สามารถอ่านได้ทุกที่ | D65: น้อยกว่า 7 ชั่วโมง | E65: เว็บไซต์ | F65: Dek-D | G65: แฟนฟิคชั่น (Fanfiction) | H65: โทรศัพท์มือถือ | I65: ไม่เคย | AT65: เคย | AU65: เนื้อเรื่องมีความหลากหลาย, สะดวก สามารถอ่านได้ทุกที่, ไม่มีค่าใช้จ่าย หรือค่าใช้จ่ายน้อยกว่าซื้อหนังสือ | AV65: น้อยกว่า 7 ชั่วโมง | AW65: เว็บไซต์ | AX65: Dek-D | AY65: ทั้งสองประเภท | AZ65: โทรศัพท์มือถือ | BA65: เคย | BB65: Dek-D | BC65: 1 | BD65: 200 | BE65: 300 | BF65: In-app purchase (ชำระผ่าน Application), Credit/Debit Card, Mobile/online banking | BG65: ทั้งสอง | BH65: หญิง | BI65: 23 - 30 ปี | BJ65: โสด | BK65: ปริญญาตรี | BL65: ข้าราชการ/พนักงานรัฐวิสาหกิจ | BM65: 15,001 - 20,000 บาท
A66: 43560.636 | B66: ไม่เคย | AT66: เคย | AU66: เนื้อเรื่องมีความหลากหลาย, สะดวก สามารถอ่านได้ทุกที่, ไม่มีค่าใช้จ่าย หรือค่าใช้จ่ายน้อยกว่าซื้อหนังสือ | AV66: 7 - 15 ชั่วโมง | AW66: แอปพลิเคชั่น | AX66: Dek-D, Fictionlog | AY66: ทั้งสองประเภท | AZ66: โทรศัพท์มือถือ | BA66: ไม่เคย | BH66: หญิง | BI66: อายุต่ำกว่า 18 ปี | BJ66: โสด | BK66: ต่ำกว่าปริญญาตรี | BL66: นักเรียน/นักศึกษา | BM66: ต่ำกว่าหรือเท่ากับ 9,000 บาท
A67: 43560.647 | B67: เคย | C67: ความหลากหลายของเนื้อเรื่อง, สะดวก สามารถอ่านได้ทุกที่, ไม่มีค่าใช้จ่าย หรือค่าใช้จ่ายน้อยกว่าซื้อหนังสือ | D67: มากกว่า 40 ชั่วโมง | E67: ทั้งสองที่ | F67: Dek-D, Fictionlog, ธัญวลัย, ReadAwrite | G67: ทั้งสอง | H67: โทรศัพท์มือถือ | I67: เคย | J67: Dek-D | K67: 2 | L67: 300 | M67: 100 | N67: Mobile/online banking, ชำระผ่านตู้เติมเงิน (ตู้บุญเติม เป็นต้น), ชำระผ่านผู้ให้บริการสัญญาณโทรศัพท์ (True, AIS, DTAC) | O67: ทั้งสอง | P67: สำคัญมากที่สุด | Q67: สำคัญมากที่สุด | R67: สำคัญพอสมควร | S67: สำคัญมาก | T67: สำคัญมากที่สุด | U67: สำคัญมาก | V67: สำคัญมากที่สุด | W67: สำคัญมาก | X67: สำคัญมากที่สุด | Y67: สำคัญมากที่สุด | Z67: สำคัญมาก | AA67: สำคัญมาก | AB67: สำคัญมากที่สุด | AC67: สำคัญมากที่สุด | AD67: สำคัญมากที่สุด | AE67: สำคัญมาก | AF67: สำคัญมากที่สุด | AG67: สำคัญมาก | AH67: สำคัญมาก | AI67: สำคัญมาก | AJ67: สำคัญมากที่สุด | AK67: สำคัญมากที่สุด | AL67: สำคัญมากที่สุด | AM67: สำคัญมากที่สุด | AN67: สำคัญมากที่สุด | AO67: สำคัญ | AP67: สำคัญมากที่สุด | AQ67: สำคัญพอสมควร | AR67: สำคัญมากที่สุด | AS67: สำคัญมากที่สุด | BH67: หญิง | BI67: อายุต่ำกว่า 18 ปี | BJ67: โสด | BK67: ต่ำกว่าปริญญาตรี | BL67: นักเรียน/นักศึกษา | BM67: ต่ำกว่าหรือเท่ากับ 9,000 บาท
A68: 43560.656 | B68: เคย | C68: ความหลากหลายของเนื้อเรื่อง, สะดวก สามารถอ่านได้ทุกที่, ไม่มีค่าใช้จ่าย หรือค่าใช้จ่ายน้อยกว่าซื้อหนังสือ, สามารถแสดงความคิดเห็นต่อนิยายเรื่องนั้นๆ หรือตอนนั้นๆได้อย่างทันที | D68: 16 - 25 ชั่วโมง | E68: ทั้งสองที่ | F68: Dek-D, Fictionlog, ธัญวลัย, ReadAwrite | G68: ทั้งสอง | H68: โทรศัพท์มือถือ | I68: เคย | J68: Dek-D | K68: 15 | L68: 200 | M68: 250 | N68: True Money | O68: ทั้งสอง | P68: สำคัญมาก | Q68: สำคัญมาก | R68: สำคัญพอสมควร | S68: สำคัญมากที่สุด | T68: สำคัญมากที่สุด | U68: สำคัญมากที่สุด | V68: สำคัญมากที่สุด | W68: สำคัญมาก | X68: สำคัญมากที่สุด | Y68: สำคัญมากที่สุด | Z68: สำคัญมาก | AA68: สำคัญมากที่สุด | AB68: สำคัญมากที่สุด | AC68: สำคัญมากที่สุด | AD68: สำคัญมากที่สุด | AE68: สำคัญมาก | AF68: สำคัญมาก | AG68: สำคัญมาก | AH68: สำคัญมากที่สุด | AI68: สำคัญมากที่สุด | AJ68: สำคัญมากที่สุด | AK68: สำคัญมากที่สุด | AL68: สำคัญมากที่สุด | AM68: สำคัญมากที่สุด | AN68: สำคัญมากที่สุด | AO68: สำคัญมากที่สุด | AP68: สำคัญมาก | AQ68: สำคัญมาก | AR68: สำคัญมาก | AS68: สำคัญมากที่สุด | BH68: หญิง | BI68: อายุต่ำกว่า 18 ปี | BJ68: โสด | BK68: ต่ำกว่าปริญญาตรี | BL68: นักเรียน/นักศึกษา | BM68: ต่ำกว่าหรือเท่ากับ 9,000 บาท
A69: 43560.661 | B69: เคย | C69: ความหลากหลายของเนื้อเรื่อง, สะดวก สามารถอ่านได้ทุกที่ | D69: มากกว่า 40 ชั่วโมง | E69: ทั้งสองที่ | F69: Dek-D, Fictionlog, ธัญวลัย, WattPad | G69: ทั้งสอง | H69: โทรศัพท์มือถือ | I69: เคย | J69: Dek-D | K69: 1 | L69: 300 | M69: 500 | N69: Mobile/online banking | O69: ทั้งสอง | P69: สำคัญมากที่สุด | Q69: สำคัญ | R69: ไม่สำคัญ | S69: ค่อนข้างสำคัญ | T69: สำคัญมาก | U69: สำคัญมากที่สุด | V69: สำคัญมากที่สุด | W69: ไม่สำคัญ | X69: สำคัญมากที่สุด | Y69: สำคัญพอสมควร | Z69: ค่อนข้างสำคัญ | AA69: สำคัญ | AB69: สำคัญมาก | AC69: สำคัญมาก | AD69: สำคัญมากที่สุด | AE69: สำคัญมากที่สุด | AF69: สำคัญมาก | AG69: ค่อนข้างสำคัญ | AH69: สำคัญมากที่สุด | AI69: สำคัญพอสมควร | AJ69: สำคัญมากที่สุด | AK69: สำคัญมากที่สุด | AL69: สำคัญมากที่สุด | AM69: สำคัญมากที่สุด | AN69: สำคัญมาก | AO69: สำคัญพอสมควร | AP69: สำคัญมากที่สุด | AQ69: สำคัญมาก | AR69: สำคัญพอสมควร | AS69: ไม่สำคัญ | BH69: หญิง | BI69: อายุต่ำกว่า 18 ปี | BJ69: โสด | BK69: ต่ำกว่าปริญญาตรี | BL69: นักเรียน/นักศึกษา | BM69: ต่ำกว่าหรือเท่ากับ 9,000 บาท
A70: 43560.664 | B70: ไม่เคย | AT70: เคย | AU70: เนื้อเรื่องมีความหลากหลาย, สะดวก สามารถอ่านได้ทุกที่ | AV70: น้อยกว่า 7 ชั่วโมง | AW70: ทั้งสองที่ | AX70: Dek-D | AY70: แฟนฟิคชั่น (Fanfiction) | AZ70: โทรศัพท์มือถือ | BA70: ไม่เคย | BH70: ชาย | BI70: 18 - 22 ปี | BJ70: โสด | BK70: ปริญญาตรี | BL70: นักเรียน/นักศึกษา | BM70: ต่ำกว่าหรือเท่ากับ 9,000 บาท
A71: 43560.673 | B71: เคย | C71: อยากรู้ว่าเป็นไง | D71: น้อยกว่า 7 ชั่วโมง | E71: Application | F71: Fictionlog | G71: ไม่ใช่แฟนฟิคชั่น | H71: โทรศัพท์มือถือ | I71: ไม่เคย | AT71: เคย | AU71: ไม่มีค่าใช้จ่าย หรือค่าใช้จ่ายน้อยกว่าซื้อหนังสือ | AV71: น้อยกว่า 7 ชั่วโมง | AW71: แอปพลิเคชั่น | AX71: Fictionlog | AY71: ไม่ใช่แฟนฟิคชั่น | AZ71: โทรศัพท์มือถือ | BA71: ไม่เคย | BH71: หญิง | BI71: 23 - 30 ปี | BJ71: โสด | BK71: ปริญญาตรี | BL71: พนักงานบริษัทเอกชน | BM71: 40,001 บาทขึ้นไป
A72: 43560.68 | B72: เคย | C72: ไม่มีค่าใช้จ่าย หรือค่าใช้จ่ายน้อยกว่าซื้อหนังสือ | D72: น้อยกว่า 7 ชั่วโมง | E72: เว็บไซต์ | F72: Dek-D, ธัญวลัย | G72: ทั้งสอง | H72: Computer | I72: ไม่เคย | AT72: ไม่เคย | BH72: หญิง | BI72: 18 - 22 ปี | BJ72: โสด | BK72: ต่ำกว่าปริญญาตรี | BL72: นักเรียน/นักศึกษา | BM72: ต่ำกว่าหรือเท่ากับ 9,000 บาท
A73: 43560.682 | B73: ไม่เคย | AT73: เคย | AU73: ไม่มีค่าใช้จ่าย หรือค่าใช้จ่ายน้อยกว่าซื้อหนังสือ | AV73: น้อยกว่า 7 ชั่วโมง | AW73: เว็บไซต์ | AX73: Dek-D, ธัญวลัย | AY73: ไม่ใช่แฟนฟิคชั่น | AZ73: โทรศัพท์มือถือ | BA73: ไม่เคย | BH73: หญิง | BI73: อายุต่ำกว่า 18 ปี | BJ73: โสด | BK73: ต่ำกว่าปริญญาตรี | BL73: นักเรียน/นักศึกษา | BM73: ต่ำกว่าหรือเท่ากับ 9,000 บาท
A74: 43560.696 | B74: เคย | C74: ความหลากหลายของเนื้อเรื่อง, สะดวก สามารถอ่านได้ทุกที่ | D74: 16 - 25 ชั่วโมง | E74: ทั้งสองที่ | F74: Dek-D, Fictionlog, ธัญวลัย, ReadAwrite, WattPad | G74: ทั้งสอง | H74: โทรศัพท์มือถือ | I74: ไม่เคย | AT74: ไม่เคย | BH74: หญิง | BI74: อายุต่ำกว่า 18 ปี | BJ74: โสด | BK74: ต่ำกว่าปริญญาตรี | BL74: นักเรียน/นักศึกษา | BM74: ต่ำกว่าหรือเท่ากับ 9,000 บาท
A75: 43560.697 | B75: เคย | C75: ความหลากหลายของเนื้อเรื่อง, สะดวก สามารถอ่านได้ทุกที่ | D75: น้อยกว่า 7 ชั่วโมง | E75: ทั้งสองที่ | F75: Dek-D | G75: ทั้งสอง | H75: โทรศัพท์มือถือ | I75: ไม่เคย | AT75: เคย | AU75: เนื้อเรื่องมีความหลากหลาย, สะดวก สามารถอ่านได้ทุกที่ | AV75: น้อยกว่า 7 ชั่วโมง | AW75: ทั้งสองที่ | AX75: Dek-D, ธัญวลัย | AY75: แฟนฟิคชั่น (Fanfiction) | AZ75: โทรศัพท์มือถือ | BA75: ไม่เคย | BH75: หญิง | BI75: อายุต่ำกว่า 18 ปี | BJ75: โสด | BK75: ต่ำกว่าปริญญาตรี | BL75: นักเรียน/นักศึกษา | BM75: ต่ำกว่าหรือเท่ากับ 9,000 บาท
A76: 43560.702 | B76: เคย | C76: สะดวก สามารถอ่านได้ทุกที่ | D76: 7 - 15 ชั่วโมง | E76: ทั้งสองที่ | F76: Dek-D | G76: ทั้งสอง | H76: โทรศัพท์มือถือ | I76: ไม่เคย | AT76: เคย | AU76: สะดวก สามารถอ่านได้ทุกที่ | AV76: 7 - 15 ชั่วโมง | AW76: ทั้งสองที่ | AX76: Dek-D | AY76: ทั้งสองประเภท | AZ76: โทรศัพท์มือถือ | BA76: เคย | BB76: Dek-D | BC76: 0 | BD76: 450 | BE76: 400 | BF76: Mobile/online banking | BG76: แฟนฟิคชั่น (Fanfiction) | BH76: หญิง | BI76: 23 - 30 ปี | BJ76: โสด | BK76: สูงกว่าปริญญาโท | BL76: นักเรียน/นักศึกษา | BM76: 30,001 - 40,000 บาท
A77: 43560.715 | B77: เคย | C77: ความหลากหลายของเนื้อเรื่อง, สะดวก สามารถอ่านได้ทุกที่, ไม่มีค่าใช้จ่าย หรือค่าใช้จ่ายน้อยกว่าซื้อหนังสือ | D77: 16 - 25 ชั่วโมง | E77: Application | F77: Dek-D, ReadAwrite, จอยลดา | G77: ทั้งสอง | H77: โทรศัพท์มือถือ | I77: ไม่เคย | AT77: เคย | AU77: เนื้อเรื่องมีความหลากหลาย, สะดวก สามารถอ่านได้ทุกที่, ไม่มีค่าใช้จ่าย หรือค่าใช้จ่ายน้อยกว่าซื้อหนังสือ | AV77: 7 - 15 ชั่วโมง | AW77: แอปพลิเคชั่น | AX77: Dek-D | AY77: ไม่ใช่แฟนฟิคชั่น | AZ77: โทรศัพท์มือถือ | BA77: ไม่เคย | BH77: หญิง | BI77: 18 - 22 ปี | BJ77: โสด | BK77: ปริญญาตรี | BL77: นักเรียน/นักศึกษา | BM77: 9,001 - 15,000 บาท
A78: 43560.724 | B78: เคย | C78: สะดวก สามารถอ่านได้ทุกที่ | D78: 7 - 15 ชั่วโมง | E78: ทั้งสองที่ | F78: Dek-D, ReadAwrite, thaiboyslove,joylada | G78: ทั้งสอง | H78: โทรศัพท์มือถือ | I78: ไม่เคย | AT78: เคย | AU78: เนื้อเรื่องมีความหลากหลาย, สะดวก สามารถอ่านได้ทุกที่ | AV78: 7 - 15 ชั่วโมง | AW78: ทั้งสองที่ | AX78: Dek-D, ReadAWrite, Joylada,thaiboyslove | AY78: ทั้งสองประเภท | AZ78: โทรศัพท์มือถือ | BA78: ไม่เคย | BH78: หญิง | BI78: อายุต่ำกว่า 18 ปี | BJ78: โสด | BK78: ต่ำกว่าปริญญาตรี | BL78: นักเรียน/นักศึกษา | BM78: ต่ำกว่าหรือเท่ากับ 9,000 บาท
A79: 43560.735 | B79: เคย | C79: ความหลากหลายของเนื้อเรื่อง, สะดวก สามารถอ่านได้ทุกที่, ไม่มีค่าใช้จ่าย หรือค่าใช้จ่ายน้อยกว่าซื้อหนังสือ, สามารถแสดงความคิดเห็นต่อนิยายเรื่องนั้นๆ หรือตอนนั้นๆได้อย่างทันที | D79: มากกว่า 40 ชั่วโมง | E79: ทั้งสองที่ | F79: Dek-D, Fictionlog, ธัญวลัย, ReadAwrite | G79: ทั้งสอง | H79: โทรศัพท์มือถือ | I79: เคย | J79: Dek-D | K79: 1 | L79: 35 | M79: 100 | N79: True Money | O79: นิยายวายไม่ใช่แฟนฟิคชั่น | P79: สำคัญมากที่สุด | Q79: สำคัญมากที่สุด | R79: สำคัญพอสมควร | S79: สำคัญมากที่สุด | T79: สำคัญมากที่สุด | U79: สำคัญมากที่สุด | V79: สำคัญมากที่สุด | W79: สำคัญมากที่สุด | X79: สำคัญมากที่สุด | Y79: สำคัญมากที่สุด | Z79: สำคัญมากที่สุด | AA79: สำคัญมากที่สุด | AB79: สำคัญมากที่สุด | AC79: สำคัญมากที่สุด | AD79: สำคัญมากที่สุด | AE79: สำคัญมากที่สุด | AF79: สำคัญมากที่สุด | AG79: สำคัญมากที่สุด | AH79: สำคัญมากที่สุด | AI79: สำคัญมากที่สุด | AJ79: สำคัญมากที่สุด | AK79: สำคัญมากที่สุด | AL79: สำคัญมากที่สุด | AM79: สำคัญมากที่สุด | AN79: สำคัญมากที่สุด | AO79: สำคัญมาก | AP79: สำคัญมากที่สุด | AQ79: สำคัญมากที่สุด | AR79: สำคัญมากที่สุด | AS79: สำคัญมากที่สุด | BH79: หญิง | BI79: อายุต่ำกว่า 18 ปี | BJ79: โสด | BK79: ต่ำกว่าปริญญาตรี | BL79: นักเรียน/นักศึกษา | BM79: ต่ำกว่าหรือเท่ากับ 9,000 บาท
A80: 43560.746 | B80: ไม่เคย | AT80: ไม่เคย | BH80: หญิง | BI80: 18 - 22 ปี | BJ80: โสด | BK80: ปริญญาตรี | BL80: นักเรียน/นักศึกษา | BM80: 9,001 - 15,000 บาท
A81: 43560.758 | B81: เคย | C81: ความหลากหลายของเนื้อเรื่อง, สะดวก สามารถอ่านได้ทุกที่, ไม่มีค่าใช้จ่าย หรือค่าใช้จ่ายน้อยกว่าซื้อหนังสือ, สามารถแสดงความคิดเห็นต่อนิยายเรื่องนั้นๆ หรือตอนนั้นๆได้อย่างทันที | D81: มากกว่า 40 ชั่วโมง | E81: ทั้งสองที่ | F81: Dek-D, Fictionlog, ธัญวลัย, ReadAwrite | G81: ทั้งสอง | H81: โทรศัพท์มือถือ | I81: เคย | J81: ธัญวลัย | K81: 5 | L81: 60 | M81: 200 | N81: Mobile/online banking, True Money | O81: ทั้งสอง | P81: สำคัญมาก | Q81: สำคัญมากที่สุด | R81: สำคัญพอสมควร | S81: สำคัญมากที่สุด | T81: สำคัญมากที่สุด | U81: สำคัญมากที่สุด | V81: สำคัญมากที่สุด | W81: สำคัญมาก | X81: สำคัญมากที่สุด | Y81: สำคัญมาก | Z81: สำคัญมาก | AA81: สำคัญมาก | AB81: สำคัญมาก | AC81: สำคัญมาก | AD81: สำคัญมาก | AE81: สำคัญมาก | AF81: สำคัญมาก | AG81: สำคัญมาก | AH81: สำคัญมาก | AI81: สำคัญมาก | AJ81: สำคัญมากที่สุด | AK81: สำคัญมากที่สุด | AL81: สำคัญมากที่สุด | AM81: สำคัญมากที่สุด | AN81: สำคัญมากที่สุด | AO81: สำคัญมากที่สุด | AP81: สำคัญมาก | AQ81: สำคัญมาก | AR81: สำคัญมากที่สุด | AS81: สำคัญมาก | BH81: หญิง | BI81: อายุต่ำกว่า 18 ปี | BJ81: โสด | BK81: ต่ำกว่าปริญญาตรี | BL81: นักเรียน/นักศึกษา | BM81: ต่ำกว่าหรือเท่ากับ 9,000 บาท
A82: 43560.774 | B82: เคย | C82: ความหลากหลายของเนื้อเรื่อง, สะดวก สามารถอ่านได้ทุกที่, ไม่มีค่าใช้จ่าย หรือค่าใช้จ่ายน้อยกว่าซื้อหนังสือ | D82: มากกว่า 40 ชั่วโมง | E82: Application | F82: Dek-D | G82: ไม่ใช่แฟนฟิคชั่น | H82: โทรศัพท์มือถือ | I82: เคย | J82: Dek-D | K82: 2 | L82: 600 | M82: 300 | N82: In-app purchase (ชำระผ่าน Application) | O82: นิยายวายไม่ใช่แฟนฟิคชั่น | P82: สำคัญมากที่สุด | Q82: สำคัญมาก | R82: สำคัญน้อย | S82: สำคัญมากที่สุด | T82: สำคัญมากที่สุด | U82: สำคัญมากที่สุด | V82: สำคัญพอสมควร | W82: สำคัญ | X82: สำคัญมากที่สุด | Y82: สำคัญมากที่สุด | Z82: สำคัญมาก | AA82: สำคัญมากที่สุด | AB82: สำคัญมากที่สุด | AC82: สำคัญมากที่สุด | AD82: สำคัญพอสมควร | AE82: สำคัญมาก | AF82: สำคัญมากที่สุด | AG82: สำคัญมาก | AH82: สำคัญมากที่สุด | AI82: สำคัญมากที่สุด | AJ82: สำคัญมากที่สุด | AK82: สำคัญมากที่สุด | AL82: สำคัญมากที่สุด | AM82: สำคัญมาก | AN82: สำคัญมาก | AO82: สำคัญมาก | AP82: สำคัญมาก | AQ82: สำคัญมากที่สุด | AR82: สำคัญพอสมควร | AS82: สำคัญมากที่สุด | BH82: หญิง | BI82: 18 - 22 ปี | BJ82: โสด | BK82: ปริญญาตรี | BL82: พนักงานบริษัทเอกชน | BM82: 15,001 - 20,000 บาท
A83: 43560.825 | B83: เคย | C83: ความหลากหลายของเนื้อเรื่อง, สะดวก สามารถอ่านได้ทุกที่, ไม่มีค่าใช้จ่าย หรือค่าใช้จ่ายน้อยกว่าซื้อหนังสือ, สามารถแสดงความคิดเห็นต่อนิยายเรื่องนั้นๆ หรือตอนนั้นๆได้อย่างทันที | D83: น้อยกว่า 7 ชั่วโมง | E83: Application | F83: Dek-D | G83: ทั้งสอง | H83: โทรศัพท์มือถือ | I83: ไม่เคย | AT83: เคย | AU83: เนื้อเรื่องมีความหลากหลาย, สะดวก สามารถอ่านได้ทุกที่, ไม่มีค่าใช้จ่าย หรือค่าใช้จ่ายน้อยกว่าซื้อหนังสือ, สามารถแสดงความคิดเห็นต่อนิยายเรื่องนั้นๆ หรือตอนนั้นๆได้อย่างทันที | AV83: น้อยกว่า 7 ชั่วโมง | AW83: แอปพลิเคชั่น | AX83: Dek-D | AY83: ทั้งสองประเภท | AZ83: โทรศัพท์มือถือ | BA83: ไม่เคย | BH83: หญิง | BI83: อายุต่ำกว่า 18 ปี | BJ83: โสด | BK83: ต่ำกว่าปริญญาตรี | BL83: นักเรียน/นักศึกษา | BM83: ต่ำกว่าหรือเท่ากับ 9,000 บาท
A84: 43560.855 | B84: เคย | C84: ไม่มีค่าใช้จ่าย หรือค่าใช้จ่ายน้อยกว่าซื้อหนังสือ | D84: น้อยกว่า 7 ชั่วโมง | E84: เว็บไซต์ | F84: Dek-D, ธัญวลัย | G84: ไม่ใช่แฟนฟิคชั่น | H84: โทรศัพท์มือถือ | I84: ไม่เคย | AT84: เคย | AU84: สะดวก สามารถอ่านได้ทุกที่, ไม่มีค่าใช้จ่าย หรือค่าใช้จ่ายน้อยกว่าซื้อหนังสือ | AV84: 7 - 15 ชั่วโมง | AW84: เว็บไซต์ | AX84: Webtoon | AY84: ไม่ใช่แฟนฟิคชั่น | AZ84: โทรศัพท์มือถือ | BA84: ไม่เคย | BH84: หญิง | BI84: 18 - 22 ปี | BJ84: โสด | BK84: ปริญญาตรี | BL84: นักเรียน/นักศึกษา | BM84: 9,001 - 15,000 บาท
A85: 43560.929 | B85: เคย | C85: ความหลากหลายของเนื้อเรื่อง, สะดวก สามารถอ่านได้ทุกที่, ไม่มีค่าใช้จ่าย หรือค่าใช้จ่ายน้อยกว่าซื้อหนังสือ | D85: 7 - 15 ชั่วโมง | E85: Application | F85: Dek-D, Joylada | G85: แฟนฟิคชั่น (Fanfiction) | H85: โทรศัพท์มือถือ | I85: ไม่เคย | AT85: เคย | AU85: สะดวก สามารถอ่านได้ทุกที่, ไม่มีค่าใช้จ่าย หรือค่าใช้จ่ายน้อยกว่าซื้อหนังสือ | AV85: น้อยกว่า 7 ชั่วโมง | AW85: แอปพลิเคชั่น | AX85: Dek-D | AY85: ไม่ใช่แฟนฟิคชั่น | AZ85: โทรศัพท์มือถือ | BA85: เคย | BB85: Dek-D | BC85: 1 | BD85: 600 | BE85: 700 | BF85: In-app purchase (ชำระผ่าน Application), Credit/Debit Card, Mobile/online banking, True money | BG85: แฟนฟิคชั่น (Fanfiction) | BH85: หญิง | BI85: อายุต่ำกว่า 18 ปี | BJ85: โสด | BK85: ต่ำกว่าปริญญาตรี | BL85: นักเรียน/นักศึกษา | BM85: ต่ำกว่าหรือเท่ากับ 9,000 บาท
A86: 43561.34 | B86: เคย | C86: สะดวก สามารถอ่านได้ทุกที่ | D86: น้อยกว่า 7 ชั่วโมง | E86: เว็บไซต์ | G86: แฟนฟิคชั่น (Fanfiction) | H86: Computer | I86: ไม่เคย | AT86: ไม่เคย | BH86: หญิง | BI86: 23 - 30 ปี | BJ86: โสด | BK86: ปริญญาตรี | BL86: พนักงานบริษัทเอกชน | BM86: 40,001 บาทขึ้นไป
A87: 43561.418 | B87: เคย | C87: ความหลากหลายของเนื้อเรื่อง, สะดวก สามารถอ่านได้ทุกที่, ไม่มีค่าใช้จ่าย หรือค่าใช้จ่ายน้อยกว่าซื้อหนังสือ | D87: น้อยกว่า 7 ชั่วโมง | E87: ทั้งสองที่ | F87: Dek-D, WattPad | G87: ทั้งสอง | H87: โทรศัพท์มือถือ | I87: ไม่เคย | AT87: เคย | AU87: เนื้อเรื่องมีความหลากหลาย, สะดวก สามารถอ่านได้ทุกที่, ไม่มีค่าใช้จ่าย หรือค่าใช้จ่ายน้อยกว่าซื้อหนังสือ | AV87: น้อยกว่า 7 ชั่วโมง | AW87: เว็บไซต์ | AX87: Dek-D | AY87: ไม่ใช่แฟนฟิคชั่น | AZ87: โทรศัพท์มือถือ | BA87: ไม่เคย | BH87: หญิง | BI87: 18 - 22 ปี | BJ87: โสด | BK87: ปริญญาตรี | BL87: นักเรียน/นักศึกษา | BM87: ต่ำกว่าหรือเท่ากับ 9,000 บาท
A88: 43561.443 | B88: เคย | C88: ความหลากหลายของเนื้อเรื่อง, สะดวก สามารถอ่านได้ทุกที่, ไม่มีค่าใช้จ่าย หรือค่าใช้จ่ายน้อยกว่าซื้อหนังสือ | D88: 7 - 15 ชั่วโมง | E88: ทั้งสองที่ | F88: Dek-D, ธัญวลัย, ReadAwrite | G88: ทั้งสอง | H88: โทรศัพท์มือถือ | I88: ไม่เคย | AT88: เคย | AU88: เนื้อเรื่องมีความหลากหลาย, สะดวก สามารถอ่านได้ทุกที่, ไม่มีค่าใช้จ่าย หรือค่าใช้จ่ายน้อยกว่าซื้อหนังสือ | AV88: 26 - 40 ชั่วโมง | AW88: ทั้งสองที่ | AX88: Dek-D, ธัญวลัย, ReadAWrite | AY88: ทั้งสองประเภท | AZ88: โทรศัพท์มือถือ | BA88: ไม่เคย | BH88: หญิง | BI88: อายุต่ำกว่า 18 ปี | BJ88: โสด | BK88: ต่ำกว่าปริญญาตรี | BL88: นักเรียน/นักศึกษา | BM88: ต่ำกว่าหรือเท่ากับ 9,000 บาท
A89: 43561.85 | B89: เคย | C89: สะดวก สามารถอ่านได้ทุกที่ | D89: น้อยกว่า 7 ชั่วโมง | E89: Application | F89: Dek-D | G89: แฟนฟิคชั่น (Fanfiction) | H89: โทรศัพท์มือถือ | I89: ไม่เคย | AT89: เคย | AU89: สะดวก สามารถอ่านได้ทุกที่, ไม่มีค่าใช้จ่าย หรือค่าใช้จ่ายน้อยกว่าซื้อหนังสือ | AV89: น้อยกว่า 7 ชั่วโมง | AW89: แอปพลิเคชั่น | AX89: Dek-D | AY89: ไม่ใช่แฟนฟิคชั่น | AZ89: โทรศัพท์มือถือ | BA89: ไม่เคย | BH89: หญิง | BI89: 18 - 22 ปี | BJ89: โสด | BK89: ปริญญาตรี | BL89: นักเรียน/นักศึกษา | BM89: ต่ำกว่าหรือเท่ากับ 9,000 บาท
A90: 43561.947 | B90: เคย | C90: ความหลากหลายของเนื้อเรื่อง, สามารถแสดงความคิดเห็นต่อนิยายเรื่องนั้นๆ หรือตอนนั้นๆได้อย่างทันที | D90: น้อยกว่า 7 ชั่วโมง | E90: เว็บไซต์ | F90: Dek-D, Fictionlog | G90: ไม่ใช่แฟนฟิคชั่น | H90: โทรศัพท์มือถือ | I90: ไม่เคย | AT90: เคย | AU90: เนื้อเรื่องมีความหลากหลาย, ไม่มีค่าใช้จ่าย หรือค่าใช้จ่ายน้อยกว่าซื้อหนังสือ | AV90: น้อยกว่า 7 ชั่วโมง | AW90: เว็บไซต์ | AX90: Dek-D | AY90: ไม่ใช่แฟนฟิคชั่น | AZ90: โทรศัพท์มือถือ | BA90: ไม่เคย | BH90: หญิง | BI90: 18 - 22 ปี | BJ90: โสด | BK90: ปริญญาตรี | BL90: นักเรียน/นักศึกษา | BM90: 15,001 - 20,000 บาท
A91: 43562.05 | B91: ไม่เคย | AT91: เคย | AU91: สะดวก สามารถอ่านได้ทุกที่, ไม่มีค่าใช้จ่าย หรือค่าใช้จ่ายน้อยกว่าซื้อหนังสือ | AV91: น้อยกว่า 7 ชั่วโมง | AW91: เว็บไซต์ | AX91: Dek-D | AY91: ทั้งสองประเภท | AZ91: โทรศัพท์มือถือ | BA91: ไม่เคย | BH91: หญิง | BI91: 18 - 22 ปี | BJ91: โสด | BK91: ปริญญาตรี | BL91: นักเรียน/นักศึกษา | BM91: 20,0001 - 30,000 บาท
A92: 43562.384 | B92: ไม่เคย | AT92: ไม่เคย | BH92: หญิง | BI92: 18 - 22 ปี | BJ92: โสด | BK92: ปริญญาตรี | BL92: นักเรียน/นักศึกษา | BM92: 9,001 - 15,000 บาท
A93: 43562.977 | B93: เคย | C93: ความหลากหลายของเนื้อเรื่อง, สะดวก สามารถอ่านได้ทุกที่, ไม่มีค่าใช้จ่าย หรือค่าใช้จ่ายน้อยกว่าซื้อหนังสือ | D93: มากกว่า 40 ชั่วโมง | E93: เว็บไซต์ | G93: ไม่ใช่แฟนฟิคชั่น | H93: โทรศัพท์มือถือ | I93: ไม่เคย | AT93: ไม่เคย | BH93: หญิง | BI93: 23 - 30 ปี | BJ93: โสด | BK93: ปริญญาตรี | BL93: ธุรกิจส่วนตัว | BM93: 15,001 - 20,000 บาท
A94: 43563.531 | B94: เคย | C94: ความหลากหลายของเนื้อเรื่อง, สะดวก สามารถอ่านได้ทุกที่, ไม่มีค่าใช้จ่าย หรือค่าใช้จ่ายน้อยกว่าซื้อหนังสือ | D94: น้อยกว่า 7 ชั่วโมง | E94: ทั้งสองที่ | F94: Dek-D | G94: ทั้งสอง | H94: โทรศัพท์มือถือ | I94: ไม่เคย | AT94: ไม่เคย | BH94: หญิง | BI94: 23 - 30 ปี | BJ94: โสด | BK94: ปริญญาตรี | BL94: นักเรียน/นักศึกษา | BM94: ต่ำกว่าหรือเท่ากับ 9,000 บาท
A95: 43563.815 | B95: เคย | C95: ความหลากหลายของเนื้อเรื่อง, สะดวก สามารถอ่านได้ทุกที่ | D95: น้อยกว่า 7 ชั่วโมง | E95: Application | F95: Fictionlog, ReadAwrite | G95: ไม่ใช่แฟนฟิคชั่น | H95: โทรศัพท์มือถือ | I95: ไม่เคย | AT95: เคย | AU95: สะดวก สามารถอ่านได้ทุกที่ | AV95: 7 - 15 ชั่วโมง | AW95: แอปพลิเคชั่น | AX95: Kindle | AY95: ไม่ใช่แฟนฟิคชั่น | AZ95: Tablet | BA95: เคย | BB95: Amazon | BC95: 5 | BD95: 200 | BE95: 150 | BF95: In-app purchase (ชำระผ่าน Application) | BG95: นิยายที่ไม่ใช่แฟนฟิคชั่น | BH95: หญิง | BI95: 31 - 35 ปี | BJ95: สมรส | BK95: ปริญญาโท | BL95: พนักงานบริษัทเอกชน | BM95: 40,001 บาทขึ้นไป
A96: 43563.819 | B96: เคย | C96: ความหลากหลายของเนื้อเรื่อง, ไม่มีค่าใช้จ่าย หรือค่าใช้จ่ายน้อยกว่าซื้อหนังสือ | D96: น้อยกว่า 7 ชั่วโมง | E96: ทั้งสองที่ | F96: Dek-D, ธัญวลัย, WattPad, จอยลดา | G96: ทั้งสอง | H96: โทรศัพท์มือถือ | I96: เคย | J96: ธัญวลัย | K96: 3 | L96: 30 | M96: 300 | N96: In-app purchase (ชำระผ่าน Application), Mobile/online banking | O96: แฟนฟิคชั่น (FanFiction) | P96: สำคัญมากที่สุด | Q96: สำคัญมากที่สุด | R96: สำคัญน้อย | S96: สำคัญน้อย | T96: สำคัญมากที่สุด | U96: สำคัญมากที่สุด | V96: สำคัญพอสมควร | W96: สำคัญพอสมควร | X96: สำคัญมากที่สุด | Y96: สำคัญพอสมควร | Z96: สำคัญมากที่สุด | AA96: สำคัญมากที่สุด | AB96: สำคัญมากที่สุด | AC96: สำคัญพอสมควร | AD96: สำคัญพอสมควร | AE96: สำคัญพอสมควร | AF96: สำคัญน้อย | AG96: ค่อนข้างสำคัญ | AH96: สำคัญมากที่สุด | AI96: สำคัญ | AJ96: สำคัญพอสมควร | AK96: สำคัญพอสมควร | AL96: สำคัญมากที่สุด | AM96: สำคัญมากที่สุด | AN96: สำคัญพอสมควร | AO96: สำคัญมาก | AP96: สำคัญมาก | AQ96: สำคัญมากที่สุด | AR96: สำคัญมากที่สุด | AS96: สำคัญพอสมควร | BH96: หญิง | BI96: 31 - 35 ปี | BJ96: สมรส | BK96: ปริญญาโท | BL96: พนักงานบริษัทเอกชน | BM96: 40,001 บาทขึ้นไป
A97: 43563.821 | B97: เคย | C97: สะดวก สามารถอ่านได้ทุกที่, ไม่มีค่าใช้จ่าย หรือค่าใช้จ่ายน้อยกว่าซื้อหนังสือ | D97: น้อยกว่า 7 ชั่วโมง | E97: ทั้งสองที่ | F97: Dek-D, ReadAwrite | G97: ทั้งสอง | H97: โทรศัพท์มือถือ | I97: ไม่เคย | AT97: เคย | AU97: เนื้อเรื่องมีความหลากหลาย, สะดวก สามารถอ่านได้ทุกที่, ไม่มีค่าใช้จ่าย หรือค่าใช้จ่ายน้อยกว่าซื้อหนังสือ | AV97: น้อยกว่า 7 ชั่วโมง | AW97: เว็บไซต์ | AX97: Dek-D | AY97: ไม่ใช่แฟนฟิคชั่น | AZ97: โทรศัพท์มือถือ | BA97: ไม่เคย | BH97: หญิง | BI97: 23 - 30 ปี | BJ97: โสด | BK97: ปริญญาตรี | BL97: พนักงานบริษัทเอกชน | BM97: 30,001 - 40,000 บาท
A98: 43563.821 | B98: เคย | C98: ความหลากหลายของเนื้อเรื่อง, สะดวก สามารถอ่านได้ทุกที่, ไม่มีค่าใช้จ่าย หรือค่าใช้จ่ายน้อยกว่าซื้อหนังสือ | D98: 7 - 15 ชั่วโมง | E98: เว็บไซต์ | F98: Dek-D, Fictionlog, ธัญวลัย, ReadAwrite | G98: ไม่ใช่แฟนฟิคชั่น | H98: โทรศัพท์มือถือ | I98: ไม่เคย | AT98: เคย | AU98: สะดวก สามารถอ่านได้ทุกที่, ไม่มีค่าใช้จ่าย หรือค่าใช้จ่ายน้อยกว่าซื้อหนังสือ | AV98: น้อยกว่า 7 ชั่วโมง | AW98: เว็บไซต์ | AX98: Dek-D, Fictionlog, ReadAWrite | AY98: ไม่ใช่แฟนฟิคชั่น | AZ98: โทรศัพท์มือถือ | BA98: ไม่เคย | BH98: หญิง | BI98: 36 - 40 ปี | BJ98: โสด | BK98: ปริญญาตรี | BL98: พนักงานบริษัทเอกชน | BM98: 15,001 - 20,000 บาท
A99: 43563.821 | B99: เคย | C99: ความหลากหลายของเนื้อเรื่อง, สะดวก สามารถอ่านได้ทุกที่, ไม่มีค่าใช้จ่าย หรือค่าใช้จ่ายน้อยกว่าซื้อหนังสือ | D99: มากกว่า 40 ชั่วโมง | E99: เว็บไซต์ | F99: E-bookจากamazon | G99: ทั้งสอง | H99: โทรศัพท์มือถือ | I99: ไม่เคย | AT99: ไม่เคย | BH99: หญิง | BI99: 23 - 30 ปี | BJ99: โสด | BK99: ปริญญาตรี | BL99: พนักงานบริษัทเอกชน | BM99: 20,0001 - 30,000 บาท
A100: 43563.822 | B100: เคย | C100: ความหลากหลายของเนื้อเรื่อง, สะดวก สามารถอ่านได้ทุกที่, ไม่มีค่าใช้จ่าย หรือค่าใช้จ่ายน้อยกว่าซื้อหนังสือ, สามารถแสดงความคิดเห็นต่อนิยายเรื่องนั้นๆ หรือตอนนั้นๆได้อย่างทันที | D100: น้อยกว่า 7 ชั่วโมง | E100: ทั้งสองที่ | F100: Dek-D, Fictionlog, ธัญวลัย, ReadAwrite, WattPad | G100: ทั้งสอง | H100: Tablet/Ipad | I100: ไม่เคย | AT100: เคย | AU100: เนื้อเรื่องมีความหลากหลาย, สะดวก สามารถอ่านได้ทุกที่, ไม่มีค่าใช้จ่าย หรือค่าใช้จ่ายน้อยกว่าซื้อหนังสือ, สามารถแสดงความคิดเห็นต่อนิยายเรื่องนั้นๆ หรือตอนนั้นๆได้อย่างทันที | AV100: น้อยกว่า 7 ชั่วโมง | AW100: ทั้งสองที่ | AX100: Dek-D, Fictionlog, ธัญวลัย, ReadAWrite, WattPad | AY100: ทั้งสองประเภท | AZ100: Tablet | BA100: ไม่เคย | BH100: หญิง | BI100: 18 - 22 ปี | BJ100: โสด | BK100: ปริญญาตรี | BL100: นักเรียน/นักศึกษา | BM100: 20,0001 - 30,000 บาท
...

Sheet Sheet1
A1: Behavior of reading online novel
A2: Experience | D2: Devices | G2: Reason
A3: เคย | B3: 1 | D3: Computer | E3: 0 | G3: ความหลากหลายของเนื้อเรื่อง | H3: 1
A4: ไม่เคย | B4: 0 | D4: โทรศัพท์มือถือ | E4: 1 | G4: สะดวก สามารถอ่านได้ทุกที่ | H4: 2
D5: Tablet/Ipad | E5: 2 | G5: ไม่มีค่าใช้จ่าย หรือค่าใช้จ่ายน้อยกว่าซื้อหนังสือ | H5: 3
A6: Frequency | G6: สามารถแสดงความคิดเห็นต่อนิยายเรื่องนั้นๆ หรือตอนนั้นๆได้อย่างทันที | H6: 4
A7: น้อยกว่า 7 ชั่วโมง | B7: 0 | D7: Application | G7: ประหยัดพื้นที่ในการเก็บ/ลดการใช้กระดาษ | H7: 5
A8: 7 - 15 ชั่วโมง | B8: 1 | D8: Dek-D | E8: 1 | G8: อยากรู้ | H8: 6
A9: 16 - 25 ชั่วโมง | B9: 2 | D9: Fictionlog | E9: 2 | G9: ทดลองอ่านก่อนซื้อหนังสือ | H9: 7
A10: 26 - 40 ชั่วโมง | B10: 3 | D10: ธัญวลัย | E10: 3 | G10: เห็นความรักในหลายแง่มุม | H10: 8
A11: มากกว่า 40 ชั่วโมง | B11: 4 | D11: ReadAwrite | E11: 4 | G11: คลายเครียด/สนุก | H11: 9
D12: WattPad | E12: 5 | G12: ได้รับการแนะนำให้อ่าน | H12: 10
A13: Platform | D13: Dek-D, Fictionlog | E13: 6 | G13: ลดเวลารอหนังสือตีพิมพ์ | H13: 11
A14: เว็บไซต์ | B14: 0 | D14: Dek-D, ธัญวลัย | E14: 7 | G14: ความหลากหลายของเนื้อเรื่อง, สะดวก สามารถอ่านได้ทุกที่ | H14: 12
A15: Application | B15: 1 | D15: Dek-D, ReadAwrite | E15: 8 | G15: ความหลากหลายของเนื้อเรื่อง, สะดวก สามารถอ่านได้ทุกที่, ไม่มีค่าใช้จ่าย หรือค่าใช้จ่ายน้อยกว่าซื้อหนังสือ | H15: 13
A16: ทั้งสองที่ | B16: 2 | D16: Dek-D, WattPad | E16: 9 | G16: ความหลากหลายของเนื้อเรื่อง, สะดวก สามารถอ่านได้ทุกที่, ไม่มีค่าใช้จ่าย หรือค่าใช้จ่ายน้อยกว่าซื้อหนังสือ, สามารถแสดงความคิดเห็นต่อนิยายเรื่องนั้นๆ หรือตอนนั้นๆได้อย่างทันที | H16: 14
D17: Dek-D, Fictionlog, ธัญวลัย | E17: 10 | G17: ความหลากหลายของเนื้อเรื่อง, สะดวก สามารถอ่านได้ทุกที่, ไม่มีค่าใช้จ่าย หรือค่าใช้จ่ายน้อยกว่าซื้อหนังสือ, สามารถแสดงความคิดเห็นต่อนิยายเรื่องนั้นๆ หรือตอนนั้นๆได้อย่างทันที, สนับสนุนนักเขียน | H17: 15
A18: Categories | D18: Dek-D, Fictionlog, ธัญวลัย, WattPad | E18: 11 | G18: ความหลากหลายของเนื้อเรื่อง, สะดวก สามารถอ่านได้ทุกที่, ไม่มีค่าใช้จ่าย หรือค่าใช้จ่ายน้อยกว่าซื้อหนังสือ, สามารถแสดงความคิดเห็นต่อนิยายเรื่องนั้นๆ หรือตอนนั้นๆได้อย่างทันที, ทดลองอ่านก่อนซื้อหนังสือ | H18: 16
A19: แฟนฟิคชั่น (Fanfiction) | B19: 0 | D19: Dek-D, Fictionlog, ธัญวลัย, ReadAwrite | E19: 12 | G19: ความหลากหลายของเนื้อเรื่อง, สะดวก สามารถอ่านได้ทุกที่, ไม่มีค่าใช้จ่าย หรือค่าใช้จ่ายน้อยกว่าซื้อหนังสือ, สามารถแสดงความคิดเห็นต่อนิยายเรื่องนั้นๆ หรือตอนนั้นๆได้อย่างทันที, ประหยัดพื้นที่ในการเก็บ/ลดการใช้กระดาษ | H19: 17
A20: ไม่ใช่แฟนฟิคชั่น | B20: 1 | D20: Dek-D, Fictionlog, ธัญวลัย, ReadAwrite, WattPad | E20: 13 | G20: ความหลากหลายของเนื้อเรื่อง, สะดวก สามารถอ่านได้ทุกที่, ไม่มีค่าใช้จ่าย หรือค่าใช้จ่ายน้อยกว่าซื้อหนังสือ, สามารถแสดงความคิดเห็นต่อนิยายเรื่องนั้นๆ หรือตอนนั้นๆได้อย่างทันที, คลายเครียด/สนุก | H20: 18
A21: ทั้งสอง | B21: 2 | D21: Dek-D, Fictionlog, ธัญวลัย, ReadAwrite, WattPad, Joylada | E21: 14 | G21: ความหลากหลายของเนื้อเรื่อง, สะดวก สามารถอ่านได้ทุกที่, ไม่มีค่าใช้จ่าย หรือค่าใช้จ่ายน้อยกว่าซื้อหนังสือ, เห็นความรักในหลายแง่มุม | H21: 19
D22: Dek-D, Fictionlog, ธัญวลัย, ReadAwrite, WattPad, Webnovel | E22: 15 | G22: ความหลากหลายของเนื้อเรื่อง, สะดวก สามารถอ่านได้ทุกที่, ไม่มีค่าใช้จ่าย หรือค่าใช้จ่ายน้อยกว่าซื้อหนังสือ, ทดลองอ่านก่อนซื้อจริง | H22: 20
D23: Dek-D, Fictionlog, ธัญวลัย, ReadAwrite, Meb | E23: 16 | G23: ความหลากหลายของเนื้อเรื่อง, สะดวก สามารถอ่านได้ทุกที่, ไม่มีค่าใช้จ่าย หรือค่าใช้จ่ายน้อยกว่าซื้อหนังสือ, ลดเวลารอหนังสือตีพิมพ์ | H23: 21
D24: Dek-D, Fictionlog, ธัญวลัย, ReadAwrite, Joylada | E24: 17 | G24: ความหลากหลายของเนื้อเรื่อง, สะดวก สามารถอ่านได้ทุกที่, ไม่มีค่าใช้จ่าย หรือค่าใช้จ่ายน้อยกว่าซื้อหนังสือ, ความตื่นเต้นเมื่อนักเขียนอัพเดพทนิยายในแค่ละครั้ง | H24: 22
D25: Dek-D, Fictionlog, ธัญวลัย, Joylada | E25: 18 | G25: ความหลากหลายของเนื้อเรื่อง, สะดวก สามารถอ่านได้ทุกที่, สามารถแสดงความคิดเห็นต่อนิยายเรื่องนั้นๆ หรือตอนนั้นๆได้อย่างทันที | H25: 23
D26: Dek-D, Fictionlog, ธัญวลัย, Play book | E26: 19 | G26: ความหลากหลายของเนื้อเรื่อง, สะดวก สามารถอ่านได้ทุกที่, สามารถแสดงความคิดเห็นต่อนิยายเรื่องนั้นๆ หรือตอนนั้นๆได้อย่างทันที, สนับสนุนนักเขียน | H26: 24
D27: Dek-D, Fictionlog, ReadAwrite | E27: 20 | G27: ความหลากหลายของเนื้อเรื่อง, สะดวก สามารถอ่านได้ทุกที่, ทดลองอ่านก่อนซื้อหนังสือ | H27: 25
D28: Dek-D, Fictionlog, ReadAwrite, WattPad | E28: 21 | G28: ความหลากหลายของเนื้อเรื่อง, สะดวก สามารถอ่านได้ทุกที่, ลดเวลารอหนังสือตีพิมพ์ | H28: 26
D29: Dek-D, Fictionlog, ReadAwrite, WattPad, Meb | E29: 22 | G29: ความหลากหลายของเนื้อเรื่อง, ไม่มีค่าใช้จ่าย หรือค่าใช้จ่ายน้อยกว่าซื้อหนังสือ | H29: 27
D30: Dek-D, Fictionlog, ReadAwrite, WattPad, Joylada | E30: 23 | G30: ความหลากหลายของเนื้อเรื่อง, ไม่มีค่าใช้จ่าย หรือค่าใช้จ่ายน้อยกว่าซื้อหนังสือ, สามารถแสดงความคิดเห็นต่อนิยายเรื่องนั้นๆ หรือตอนนั้นๆได้อย่างทันที | H30: 28
D31: Dek-D, Fictionlog, ReadAwrite, Joylada | E31: 24 | G31: ความหลากหลายของเนื้อเรื่อง, ไม่มีค่าใช้จ่าย หรือค่าใช้จ่ายน้อยกว่าซื้อหนังสือ, สามารถแสดงความคิดเห็นต่อนิยายเรื่องนั้นๆ หรือตอนนั้นๆได้อย่างทันที, ความตื่นเต้นเมื่อนักเขียนอัพเดพทนิยายในแค่ละครั้ง | H31: 29
D32: Dek-D, Fictionlog, ReadAWrite, MEB | E32: 25 | G32: ความหลากหลายของเนื้อเรื่อง, สามารถแสดงความคิดเห็นต่อนิยายเรื่องนั้นๆ หรือตอนนั้นๆได้อย่างทันที | H32: 30
D33: Dek-D, Fictionlog, WattPad | E33: 26 | G33: ความหลากหลายของเนื้อเรื่อง, สะดวก สามารถอ่านได้ทุกที่, ติดตามนักเขียน | H33: 31
... D44: Dek-D, ธัญวลัย, WattPad, Joylada | E44: 37 | G44: ไม่มีค่าใช้จ่าย หรือค่าใช้จ่ายน้อยกว่าซื้อหนังสือ, สามารถแสดงความคิดเห็นต่อนิยายเรื่องนั้นๆ หรือตอนนั้นๆได้อย่างทันที, ทดลองอ่านก่อนซื้อหนังสือ | H44: 42
D45: Dek-D, ธัญวลัย, Joylada | E45: 38
D46: Dek-D, ธัญวลัย, Meb | E46: 39
D47: Dek-D, ReadAwrite, WattPad | E47: 40
D48: Dek-D, ReadAwrite, Joylada | E48: 41
D49: Dek-D, WattPad, Joylada, Meb | E49: 42
D50: Dek-D, Joylada | E50: 43
D51: Dek-D, Meb | E51: 44
D52: Dek-D, Storylog | E52: 45
D53: Dek-D, Soshi | E53: 46
D54: Fictionlog, ธัญวลัย | E54: 47
D55: Fictionlog, ธัญวลัย, ReadAwrite | E55: 48
D56: Fictionlog, ธัญวลัย, ReadAwrite, Meb | E56: 49
... D72: kindle | E72: 65
A74: Behavior of purchasing online novel
A75: Experience | D75: Transaction methods
A76: เคย | B76: 1 | D76: In-app purchase (ชำระผ่าน Application) | E76: 1
A77: ไม่เคย | B77: 0 | D77: Credit/Debit card | E77: 0
D78: Mobile/online banking | E78: 2
A79: Application | D79: True Money | E79: 3
A80: Dek-D | B80: 1 | D80: ชำระผ่านเคาน์เตอร์ (7-11, Big C, Tesco, etc.) | E80: 4
A81: Fictionlog | B81: 2 | D81: ชำระผ่านตู้เติมเงิน (ตู้บุญเติม เป็นต้น) | E81: 5
A82: ธัญวลัย | B82: 3 | D82: LinePay/Paypal/Airpay/Alipay | E82: 6
A83: ReadAwrite | B83: 4 | D83: ชำระผ่านผู้ให้บริการสัญญาณโทรศัพท์ (True, AIS, DTAC) | E83: 7
A84: Meb | B84: 5 | D84: In-app purchase (ชำระผ่าน Application), Credit/Debit card | E84: 8
A85: Others | B85: 6 | D85: In-app purchase (ชำระผ่าน Application), Credit/Debit card, Mobile/online banking | E85: 9
D86: In-app purchase (ชำระผ่าน Application), Credit/Debit card, Mobile/online banking, True Money | E86: 10
A87: Categories | D87: In-app purchase (ชำระผ่าน Application), Credit/Debit card, Mobile/online banking, True Money, LinePay/Paypal/Airpay/Alipay | E87: 11
A88: แฟนฟิคชั่น (Fanfiction) | B88: 0 | D88: In-app purchase (ชำระผ่าน Application), Credit/Debit card, Mobile/online banking, True Money, ชำระผ่านผู้ให้บริการสัญญาณโทรศัพท์ (True, AIS, DTAC) | E88: 12
A89: นิยายวายไม่ใช่แฟนฟิคชั่น | B89: 1 | D89: In-app purchase (ชำระผ่าน Application), Credit/Debit card, Mobile/online banking, True Money, ชำระผ่านเคาน์เตอร์ (7-11, Big C, Tesco, etc.), LinePay/Paypal/Airpay/Alipay, ชำระผ่านผู้ให้บริการสัญญาณโทรศัพท์ (True, AIS, DTAC) | E89: 13
A90: ทั้งสอง | B90: 2 | D90: In-app purchase (ชำระผ่าน Application), Credit/Debit card, Mobile/online banking, ชำระผ่านเคาน์เตอร์ (7-11, Big C, Tesco, etc.) | E90: 14
D91: In-app purchase (ชำระผ่าน Application), Credit/Debit card, Mobile/online banking, LinePay/Paypal/Airpay/Alipay | E91: 15
A92: Categories | D92: In-app purchase (ชำระผ่าน Application), Credit/Debit card, Mobile/online banking, ชำระผ่านผู้ให้บริการสัญญาณโทรศัพท์ (True, AIS, DTAC) | E92: 16
A93: แฟนฟิคชั่น (Fanfiction) | B93: 0 | D93: In-app purchase (ชำระผ่าน Application), Credit/Debit card, True Money, ชำระผ่านเคาน์เตอร์ (7-11, Big C, Tesco, etc.), LinePay/Paypal/Airpay/Alipay, ชำระผ่านผู้ให้บริการสัญญาณโทรศัพท์ (True, AIS, DTAC) | E93: 17
A94: นิยายที่ไม่ใช่แฟนฟิคชั่น | B94: 1 | D94: In-app purchase (ชำระผ่าน Application), Credit/Debit card, True Money, LinePay/Paypal/Airpay/Alipay | E94: 18
A95: ทั้งสอง | B95: 2 | D95: In-app purchase (ชำระผ่าน Application), Credit/Debit card, LinePay/Paypal/Airpay/Alipay | E95: 19
D96: In-app purchase (ชำระผ่าน Application), Credit/Debit card, LinePay/Paypal/Airpay/Alipay, ชำระผ่านผู้ให้บริการสัญญาณโทรศัพท์ (True, AIS, DTAC) | E96: 20
D97: In-app purchase (ชำระผ่าน Application), Credit/Debit card, ชำระผ่านผู้ให้บริการสัญญาณโทรศัพท์ (True, AIS, DTAC) | E97: 21
D98: In-app purchase (ชำระผ่าน Application), Mobile/online banking | E98: 22
D99: In-app purchase (ชำระผ่าน Application), Mobile/online banking, True Money | E99: 23
D100: In-app purchase (ชำระผ่าน Application), Mobile/online banking, True Money, LinePay/Paypal/Airpay/Alipay | E100: 24
D101: In-app purchase (ชำระผ่าน Application), Mobile/online banking, True Money, ชำระผ่านเคาน์เตอร์ (7-11, Big C, Tesco, etc.), ชำระผ่านผู้ให้บริการสัญญาณโทรศัพท์ (True, AIS, DTAC) | E101: 25
D102: In-app purchase (ชำระผ่าน Application), Mobile/online banking, True Money, ชำระผ่านผู้ให้บริการสัญญาณโทรศัพท์ (True, AIS, DTAC) | E102: 26
D103: In-app purchase (ชำระผ่าน Application), Mobile/online banking, LinePay/Paypal/Airpay/Alipay | E103: 27
D104: In-app purchase (ชำระผ่าน Application), Mobile/online banking, LinePay/Paypal/Airpay/Alipay, ชำระผ่านผู้ให้บริการสัญญาณโทรศัพท์ (True, AIS, DTAC) | E104: 28
D105: In-app purchase (ชำระผ่าน Application), Mobile/online banking, ชำระผ่านเคาน์เตอร์ (7-11, Big C, Tesco, etc.) | E105: 29
D106: In-app purchase (ชำระผ่าน Application), Mobile/online banking, ชำระผ่านผู้ให้บริการสัญญาณโทรศัพท์ (True, AIS, DTAC) | E106: 30
D107: In-app purchase (ชำระผ่าน Application), True Money | E107: 31
... D136: ชำระผ่านตู้เติมเงิน (ตู้บุญเติม เป็นต้น), ชำระผ่านผู้ให้บริการสัญญาณโทรศัพท์ (True, AIS, DTAC) | E136: 60
A138: Demographic info
A139: Sex | D139: Income
A140: หญิง | B140: 0 | D140: ต่ำกว่าหรือเท่ากับ 9,000 บาท | E140: 0
A141: ชาย | B141: 1 | D141: 9,001 - 15,000 บาท | E141: 1
A142: เกย์ | B142: 2 | D142: 15,001 - 20,000 บาท | E142: 2
A143: People | B143: 3 | D143: 20,0001 - 30,000 บาท | E143: 3
D144: 30,001 - 40,000 บาท | E144: 4
A145: Age | D145: 40,001 บาทขึ้นไป | E145: 5
A146: อายุต่ำกว่า 18 ปี | B146: 0
A147: 18 - 22 ปี | B147: 1 | D147: Work
A148: 23 - 30 ปี | B148: 2 | D148: ข้าราชการ/พนักงานรัฐวิสาหกิจ | E148: 0
A149: 31 - 35 ปี | B149: 3 | D149: พนักงานบริษัทเอกชน | E149: 1
A150: 36 - 40 ปี | B150: 4 | D150: นักเรียน/นักศึกษา | E150: 2
A151: 40 ปีขึ้นไป | B151: 5 | D151: ธุรกิจส่วนตัว | E151: 3
D152: แม่บ้าน/พ่อบ้าน | E152: 4
A153: Status | D153: ว่างงาน | E153: 5
A154: โสด | B154: 0 | D154: ลูกจ้างชั่วคราว | E154: 6
A155: สมรส | B155: 1
...

Sheet นิยายวายออนไลน์
A1: ท่านเคยอ่านนิยายYออนไลน์หรือไม่ | B1: เหตุใดท่านจึงเลือกที่จะอ่านนิยายYออนไลน์ (ตอบได้มากกว่า 1 ข้อ) | C1: ความถี่ในการอ่านนิยายYออนไลน์ของท่าน เมื่อคิดเป็นชั่วโมงต่อสัปดาห์ | D1: ท่านอ่านนิยายYออนไลน์บน platform ใด | E1: ถ้าท่านอ่านนิยายYบนแอปพลิเคชั่น ท่านอ่านผ่านApp ใด (ตอบได้มากกว่า 1 ข้อ) | F1: ประเภทนิยายYออนไลน์ที่ท่านอ่าน | G1: ท่านใช้อุปกรณ์ใดในการอ่านนิยายYออนไลน์มากที่สุด | H1: ท่านเคยซื้อนิยายYออนไลน์ผ่าน application หรือไม่ | I1: ท่านซื้อนิยายYออนไลน์จาก Application ไหนมากที่สุด | J1: ใน 1 เดือน โดยเฉลี่ยท่านซื้อนิยายYออนไลน์กี่ครั้ง (โปรดระบุเป็นตัวเลข) | K1: โดยเฉลี่ย ท่านใช้เงินในการซื้อนิยายYออนไลน์ครั้งละกี่บาท | L1: ถ้าท่านจะซื้อนิยายวายออนไลน์ 1 เรื่อง (10-15 ตอน) ท่านเต็มใจที่จะจ่ายมากที่สุดกี่บาท | M1: ท่านชำระเงินด้วยวิธีใด (ตอบได้มากกว่า 1 ข้อ) | N1: ประเภทนิยายYออนไลน์ที่ท่านซื้ออ่าน | P1: YREAD | Q1: YREASON | R1: YFREQ | S1: YPLAT | T1: YAPP | U1: YTYPE | V1: YDEVICE | W1: YEXPER | X1: YPURAPP | Y1: YPURFREQ | Z1: YSPEND | AA1: YWTP | AB1: YPMT | AC1: YCATE
A2: เคย | B2: ความหลากหลายของเนื้อเรื่อง, สะดวก สามารถอ่านได้ทุกที่, ไม่มีค่าใช้จ่าย หรือค่าใช้จ่ายน้อยกว่าซื้อหนังสือ | C2: 7 - 15 ชั่วโมง | D2: ทั้งสองที่ | E2: Dek-D, WattPad | F2: ทั้งสอง | G2: โทรศัพท์มือถือ | H2: ไม่เคย | P2: =VLOOKUP(A2,Sheet1!$A$3:$B$4,2,FALSE) -> 1 | Q2: =IF(B2=0,"-",VLOOKUP(B2, Sheet1!$G$3:$H$44, 2, FALSE)) -> 13 | R2: =IF(C2=0,"-",VLOOKUP(C2,Sheet1!$A$7:$B$11,2,FALSE)) -> 1 | S2: =IF(D2=0,"-",VLOOKUP(D2,Sheet1!$A$14:$B$16,2,FALSE)) -> 2 | T2: =IF(E2=0,"-",VLOOKUP(E2,Sheet1!$D$8:$E$72,2,FALSE)) -> 9 | U2: =IF(F2=0,"-",VLOOKUP(F2,Sheet1!$A$19:$B$21,2,FALSE)) -> 2 | V2: =IF(G2=0,"-",VLOOKUP(G2,Sheet1!$D$3:$E$5,2,FALSE)) -> 1 | W2: =IF(H2=0,"-",VLOOKUP(H2,Sheet1!$A$76:$B$77,2,FALSE)) -> 0 | X2: =IF(I2=0,"-",VLOOKUP(I2,Sheet1!$A$80:$B$85,2,FALSE)) -> - | AB2: =IF(M2=0,"-",VLOOKUP(M2,Sheet1!$D$76:$E$136,2,FALSE)) -> - | AC2: =IF(N2=0,"-",VLOOKUP(N2,Sheet1!$A$88:$B$90,2,FALSE)) -> -
A3: เคย | B3: ความหลากหลายของเนื้อเรื่อง, สะดวก สามารถอ่านได้ทุกที่, ไม่มีค่าใช้จ่าย หรือค่าใช้จ่ายน้อยกว่าซื้อหนังสือ | C3: 7 - 15 ชั่วโมง | D3: ทั้งสองที่ | E3: Dek-D | F3: ทั้งสอง | G3: โทรศัพท์มือถือ | H3: ไม่เคย | P3: =VLOOKUP(A3,Sheet1!$A$3:$B$4,2,FALSE) -> 1 | Q3: =IF(B3=0,"-",VLOOKUP(B3, Sheet1!$G$3:$H$44, 2, FALSE)) -> 13 | R3: =IF(C3=0,"-",VLOOKUP(C3,Sheet1!$A$7:$B$11,2,FALSE)) -> 1 | S3: =IF(D3=0,"-",VLOOKUP(D3,Sheet1!$A$14:$B$16,2,FALSE)) -> 2 | T3: =IF(E3=0,"-",VLOOKUP(E3,Sheet1!$D$8:$E$72,2,FALSE)) -> 1 | U3: =IF(F3=0,"-",VLOOKUP(F3,Sheet1!$A$19:$B$21,2,FALSE)) -> 2 | V3: =IF(G3=0,"-",VLOOKUP(G3,Sheet1!$D$3:$E$5,2,FALSE)) -> 1 | W3: =IF(H3=0,"-",VLOOKUP(H3,Sheet1!$A$76:$B$77,2,FALSE)) -> 0 | X3: =IF(I3=0,"-",VLOOKUP(I3,Sheet1!$A$80:$B$85,2,FALSE)) -> - | AB3: =IF(M3=0,"-",VLOOKUP(M3,Sheet1!$D$76:$E$136,2,FALSE)) -> - | AC3: =IF(N3=0,"-",VLOOKUP(N3,Sheet1!$A$88:$B$90,2,FALSE)) -> -
A4: ไม่เคย | P4: =VLOOKUP(A4,Sheet1!$A$3:$B$4,2,FALSE) -> 0 | Q4: =IF(B4=0,"-",VLOOKUP(B4, Sheet1!$G$3:$H$44, 2, FALSE)) -> - | R4: =IF(C4=0,"-",VLOOKUP(C4,Sheet1!$A$7:$B$11,2,FALSE)) -> - | S4: =IF(D4=0,"-",VLOOKUP(D4,Sheet1!$A$14:$B$16,2,FALSE)) -> - | T4: =IF(E4=0,"-",VLOOKUP(E4,Sheet1!$D$8:$E$72,2,FALSE)) -> - | U4: =IF(F4=0,"-",VLOOKUP(F4,Sheet1!$A$19:$B$21,2,FALSE)) -> - | V4: =IF(G4=0,"-",VLOOKUP(G4,Sheet1!$D$3:$E$5,2,FALSE)) -> - | W4: =IF(H4=0,"-",VLOOKUP(H4,Sheet1!$A$76:$B$77,2,FALSE)) -> - | X4: =IF(I4=0,"-",VLOOKUP(I4,Sheet1!$A$80:$B$85,2,FALSE)) -> - | AB4: =IF(M4=0,"-",VLOOKUP(M4,Sheet1!$D$76:$E$136,2,FALSE)) -> - | AC4: =IF(N4=0,"-",VLOOKUP(N4,Sheet1!$A$88:$B$90,2,FALSE)) -> -
A5: เคย | B5: ความหลากหลายของเนื้อเรื่อง, สะดวก สามารถอ่านได้ทุกที่, ไม่มีค่าใช้จ่าย หรือค่าใช้จ่ายน้อยกว่าซื้อหนังสือ | C5: 7 - 15 ชั่วโมง | D5: ทั้งสองที่ | E5: Dek-D, ReadAwrite | F5: ไม่ใช่แฟนฟิคชั่น | G5: โทรศัพท์มือถือ | H5: ไม่เคย | P5: =VLOOKUP(A5,Sheet1!$A$3:$B$4,2,FALSE) -> 1 | Q5: =IF(B5=0,"-",VLOOKUP(B5, Sheet1!$G$3:$H$44, 2, FALSE)) -> 13 | R5: =IF(C5=0,"-",VLOOKUP(C5,Sheet1!$A$7:$B$11,2,FALSE)) -> 1 | S5: =IF(D5=0,"-",VLOOKUP(D5,Sheet1!$A$14:$B$16,2,FALSE)) -> 2 | T5: =IF(E5=0,"-",VLOOKUP(E5,Sheet1!$D$8:$E$72,2,FALSE)) -> 8 | U5: =IF(F5=0,"-",VLOOKUP(F5,Sheet1!$A$19:$B$21,2,FALSE)) -> 1 | V5: =IF(G5=0,"-",VLOOKUP(G5,Sheet1!$D$3:$E$5,2,FALSE)) -> 1 | W5: =IF(H5=0,"-",VLOOKUP(H5,Sheet1!$A$76:$B$77,2,FALSE)) -> 0 | X5: =IF(I5=0,"-",VLOOKUP(I5,Sheet1!$A$80:$B$85,2,FALSE)) -> - | AB5: =IF(M5=0,"-",VLOOKUP(M5,Sheet1!$D$76:$E$136,2,FALSE)) -> - | AC5: =IF(N5=0,"-",VLOOKUP(N5,Sheet1!$A$88:$B$90,2,FALSE)) -> -
A6: ไม่เคย | P6: =VLOOKUP(A6,Sheet1!$A$3:$B$4,2,FALSE) -> 0 | Q6: =IF(B6=0,"-",VLOOKUP(B6, Sheet1!$G$3:$H$44, 2, FALSE)) -> - | R6: =IF(C6=0,"-",VLOOKUP(C6,Sheet1!$A$7:$B$11,2,FALSE)) -> - | S6: =IF(D6=0,"-",VLOOKUP(D6,Sheet1!$A$14:$B$16,2,FALSE)) -> - | T6: =IF(E6=0,"-",VLOOKUP(E6,Sheet1!$D$8:$E$72,2,FALSE)) -> - | U6: =IF(F6=0,"-",VLOOKUP(F6,Sheet1!$A$19:$B$21,2,FALSE)) -> - | V6: =IF(G6=0,"-",VLOOKUP(G6,Sheet1!$D$3:$E$5,2,FALSE)) -> - | W6: =IF(H6=0,"-",VLOOKUP(H6,Sheet1!$A$76:$B$77,2,FALSE)) -> - | X6: =IF(I6=0,"-",VLOOKUP(I6,Sheet1!$A$80:$B$85,2,FALSE)) -> - | AB6: =IF(M6=0,"-",VLOOKUP(M6,Sheet1!$D$76:$E$136,2,FALSE)) -> - | AC6: =IF(N6=0,"-",VLOOKUP(N6,Sheet1!$A$88:$B$90,2,FALSE)) -> -
A7: ไม่เคย | P7: =VLOOKUP(A7,Sheet1!$A$3:$B$4,2,FALSE) -> 0 | Q7: =IF(B7=0,"-",VLOOKUP(B7, Sheet1!$G$3:$H$44, 2, FALSE)) -> - | R7: =IF(C7=0,"-",VLOOKUP(C7,Sheet1!$A$7:$B$11,2,FALSE)) -> - | S7: =IF(D7=0,"-",VLOOKUP(D7,Sheet1!$A$14:$B$16,2,FALSE)) -> - | T7: =IF(E7=0,"-",VLOOKUP(E7,Sheet1!$D$8:$E$72,2,FALSE)) -> - | U7: =IF(F7=0,"-",VLOOKUP(F7,Sheet1!$A$19:$B$21,2,FALSE)) -> - | V7: =IF(G7=0,"-",VLOOKUP(G7,Sheet1!$D$3:$E$5,2,FALSE)) -> - | W7: =IF(H7=0,"-",VLOOKUP(H7,Sheet1!$A$76:$B$77,2,FALSE)) -> - | X7: =IF(I7=0,"-",VLOOKUP(I7,Sheet1!$A$80:$B$85,2,FALSE)) -> - | AB7: =IF(M7=0,"-",VLOOKUP(M7,Sheet1!$D$76:$E$136,2,FALSE)) -> - | AC7: =IF(N7=0,"-",VLOOKUP(N7,Sheet1!$A$88:$B$90,2,FALSE)) -> -
A8: เคย | B8: สะดวก สามารถอ่านได้ทุกที่, ไม่มีค่าใช้จ่าย หรือค่าใช้จ่ายน้อยกว่าซื้อหนังสือ | C8: 26 - 40 ชั่วโมง | D8: ทั้งสองที่ | E8: Dek-D, ธัญวลัย, ReadAwrite | F8: ทั้งสอง | G8: โทรศัพท์มือถือ | H8: เคย | I8: ธัญวลัย | J8: 1 | K8: 100 | L8: 150 | M8: In-app purchase (ชำระผ่าน Application), Credit/Debit card, Mobile/online banking, ชำระผ่านผู้ให้บริการสัญญาณโทรศัพท์ (True, AIS, DTAC) | N8: นิยายวายไม่ใช่แฟนฟิคชั่น | P8: =VLOOKUP(A8,Sheet1!$A$3:$B$4,2,FALSE) -> 1 | Q8: =IF(B8=0,"-",VLOOKUP(B8, Sheet1!$G$3:$H$44, 2, FALSE)) -> 33 | R8: =IF(C8=0,"-",VLOOKUP(C8,Sheet1!$A$7:$B$11,2,FALSE)) -> 3 | S8: =IF(D8=0,"-",VLOOKUP(D8,Sheet1!$A$14:$B$16,2,FALSE)) -> 2 | T8: =IF(E8=0,"-",VLOOKUP(E8,Sheet1!$D$8:$E$72,2,FALSE)) -> 31 | U8: =IF(F8=0,"-",VLOOKUP(F8,Sheet1!$A$19:$B$21,2,FALSE)) -> 2 | V8: =IF(G8=0,"-",VLOOKUP(G8,Sheet1!$D$3:$E$5,2,FALSE)) -> 1 | W8: =IF(H8=0,"-",VLOOKUP(H8,Sheet1!$A$76:$B$77,2,FALSE)) -> 1 | X8: =IF(I8=0,"-",VLOOKUP(I8,Sheet1!$A$80:$B$85,2,FALSE)) -> 3 | Y8: 1 | Z8: 100 | AA8: 150 | AB8: =IF(M8=0,"-",VLOOKUP(M8,Sheet1!$D$76:$E$136,2,FALSE)) -> 16 | AC8: =IF(N8=0,"-",VLOOKUP(N8,Sheet1!$A$88:$B$90,2,FALSE)) -> 1
A9: เคย | B9: สะดวก สามารถอ่านได้ทุกที่, ไม่มีค่าใช้จ่าย หรือค่าใช้จ่ายน้อยกว่าซื้อหนังสือ | C9: 26 - 40 ชั่วโมง | D9: ทั้งสองที่ | E9: Dek-D, Joylada | F9: แฟนฟิคชั่น (Fanfiction) | G9: โทรศัพท์มือถือ | H9: เคย | I9: Dek-D | J9: 1 | K9: 150 | L9: 300 | M9: In-app purchase (ชำระผ่าน Application), Credit/Debit card, Mobile/online banking | N9: แฟนฟิคชั่น (FanFiction) | P9: =VLOOKUP(A9,Sheet1!$A$3:$B$4,2,FALSE) -> 1 | Q9: =IF(B9=0,"-",VLOOKUP(B9, Sheet1!$G$3:$H$44, 2, FALSE)) -> 33 | R9: =IF(C9=0,"-",VLOOKUP(C9,Sheet1!$A$7:$B$11,2,FALSE)) -> 3 | S9: =IF(D9=0,"-",VLOOKUP(D9,Sheet1!$A$14:$B$16,2,FALSE)) -> 2 | T9: =IF(E9=0,"-",VLOOKUP(E9,Sheet1!$D$8:$E$72,2,FALSE)) -> 43 | U9: =IF(F9=0,"-",VLOOKUP(F9,Sheet1!$A$19:$B$21,2,FALSE)) -> 0 | V9: =IF(G9=0,"-",VLOOKUP(G9,Sheet1!$D$3:$E$5,2,FALSE)) -> 1 | W9: =IF(H9=0,"-",VLOOKUP(H9,Sheet1!$A$76:$B$77,2,FALSE)) -> 1 | X9: =IF(I9=0,"-",VLOOKUP(I9,Sheet1!$A$80:$B$85,2,FALSE)) -> 1 | Y9: 1 | Z9: 150 | AA9: 300 | AB9: =IF(M9=0,"-",VLOOKUP(M9,Sheet1!$D$76:$E$136,2,FALSE)) -> 9 | AC9: =IF(N9=0,"-",VLOOKUP(N9,Sheet1!$A$88:$B$90,2,FALSE)) -> 0
A10: ไม่เคย | P10: =VLOOKUP(A10,Sheet1!$A$3:$B$4,2,FALSE) -> 0 | Q10: =IF(B10=0,"-",VLOOKUP(B10, Sheet1!$G$3:$H$44, 2, FALSE)) -> - | R10: =IF(C10=0,"-",VLOOKUP(C10,Sheet1!$A$7:$B$11,2,FALSE)) -> - | S10: =IF(D10=0,"-",VLOOKUP(D10,Sheet1!$A$14:$B$16,2,FALSE)) -> - | T10: =IF(E10=0,"-",VLOOKUP(E10,Sheet1!$D$8:$E$72,2,FALSE)) -> - | U10: =IF(F10=0,"-",VLOOKUP(F10,Sheet1!$A$19:$B$21,2,FALSE)) -> - | V10: =IF(G10=0,"-",VLOOKUP(G10,Sheet1!$D$3:$E$5,2,FALSE)) -> - | W10: =IF(H10=0,"-",VLOOKUP(H10,Sheet1!$A$76:$B$77,2,FALSE)) -> - | X10: =IF(I10=0,"-",VLOOKUP(I10,Sheet1!$A$80:$B$85,2,FALSE)) -> - | AB10: =IF(M10=0,"-",VLOOKUP(M10,Sheet1!$D$76:$E$136,2,FALSE)) -> - | AC10: =IF(N10=0,"-",VLOOKUP(N10,Sheet1!$A$88:$B$90,2,FALSE)) -> -
A11: ไม่เคย | P11: =VLOOKUP(A11,Sheet1!$A$3:$B$4,2,FALSE) -> 0 | Q11: =IF(B11=0,"-",VLOOKUP(B11, Sheet1!$G$3:$H$44, 2, FALSE)) -> - | R11: =IF(C11=0,"-",VLOOKUP(C11,Sheet1!$A$7:$B$11,2,FALSE)) -> - | S11: =IF(D11=0,"-",VLOOKUP(D11,Sheet1!$A$14:$B$16,2,FALSE)) -> - | T11: =IF(E11=0,"-",VLOOKUP(E11,Sheet1!$D$8:$E$72,2,FALSE)) -> - | U11: =IF(F11=0,"-",VLOOKUP(F11,Sheet1!$A$19:$B$21,2,FALSE)) -> - | V11: =IF(G11=0,"-",VLOOKUP(G11,Sheet1!$D$3:$E$5,2,FALSE)) -> - | W11: =IF(H11=0,"-",VLOOKUP(H11,Sheet1!$A$76:$B$77,2,FALSE)) -> - | X11: =IF(I11=0,"-",VLOOKUP(I11,Sheet1!$A$80:$B$85,2,FALSE)) -> - | AB11: =IF(M11=0,"-",VLOOKUP(M11,Sheet1!$D$76:$E$136,2,FALSE)) -> - | AC11: =IF(N11=0,"-",VLOOKUP(N11,Sheet1!$A$88:$B$90,2,FALSE)) -> -
A12: ไม่เคย | P12: =VLOOKUP(A12,Sheet1!$A$3:$B$4,2,FALSE) -> 0 | Q12: =IF(B12=0,"-",VLOOKUP(B12, Sheet1!$G$3:$H$44, 2, FALSE)) -> - | R12: =IF(C12=0,"-",VLOOKUP(C12,Sheet1!$A$7:$B$11,2,FALSE)) -> - | S12: =IF(D12=0,"-",VLOOKUP(D12,Sheet1!$A$14:$B$16,2,FALSE)) -> - | T12: =IF(E12=0,"-",VLOOKUP(E12,Sheet1!$D$8:$E$72,2,FALSE)) -> - | U12: =IF(F12=0,"-",VLOOKUP(F12,Sheet1!$A$19:$B$21,2,FALSE)) -> - | V12: =IF(G12=0,"-",VLOOKUP(G12,Sheet1!$D$3:$E$5,2,FALSE)) -> - | W12: =IF(H12=0,"-",VLOOKUP(H12,Sheet1!$A$76:$B$77,2,FALSE)) -> - | X12: =IF(I12=0,"-",VLOOKUP(I12,Sheet1!$A$80:$B$85,2,FALSE)) -> - | AB12: =IF(M12=0,"-",VLOOKUP(M12,Sheet1!$D$76:$E$136,2,FALSE)) -> - | AC12: =IF(N12=0,"-",VLOOKUP(N12,Sheet1!$A$88:$B$90,2,FALSE)) -> -
A13: ไม่เคย | P13: =VLOOKUP(A13,Sheet1!$A$3:$B$4,2,FALSE) -> 0 | Q13: =IF(B13=0,"-",VLOOKUP(B13, Sheet1!$G$3:$H$44, 2, FALSE)) -> - | R13: =IF(C13=0,"-",VLOOKUP(C13,Sheet1!$A$7:$B$11,2,FALSE)) -> - | S13: =IF(D13=0,"-",VLOOKUP(D13,Sheet1!$A$14:$B$16,2,FALSE)) -> - | T13: =IF(E13=0,"-",VLOOKUP(E13,Sheet1!$D$8:$E$72,2,FALSE)) -> - | U13: =IF(F13=0,"-",VLOOKUP(F13,Sheet1!$A$19:$B$21,2,FALSE)) -> - | V13: =IF(G13=0,"-",VLOOKUP(G13,Sheet1!$D$3:$E$5,2,FALSE)) -> - | W13: =IF(H13=0,"-",VLOOKUP(H13,Sheet1!$A$76:$B$77,2,FALSE)) -> - | X13: =IF(I13=0,"-",VLOOKUP(I13,Sheet1!$A$80:$B$85,2,FALSE)) -> - | AB13: =IF(M13=0,"-",VLOOKUP(M13,Sheet1!$D$76:$E$136,2,FALSE)) -> - | AC13: =IF(N13=0,"-",VLOOKUP(N13,Sheet1!$A$88:$B$90,2,FALSE)) -> -
A14: เคย | B14: สะดวก สามารถอ่านได้ทุกที่, ไม่มีค่าใช้จ่าย หรือค่าใช้จ่ายน้อยกว่าซื้อหนังสือ | C14: น้อยกว่า 7 ชั่วโมง | D14: Application | E14: Dek-D | F14: ทั้งสอง | G14: โทรศัพท์มือถือ | H14: เคย | I14: Dek-D | J14: 0 | K14: 300 | L14: 300 | M14: In-app purchase (ชำระผ่าน Application), Credit/Debit card, Mobile/online banking | N14: นิยายวายไม่ใช่แฟนฟิคชั่น | P14: =VLOOKUP(A14,Sheet1!$A$3:$B$4,2,FALSE) -> 1 | Q14: =IF(B14=0,"-",VLOOKUP(B14, Sheet1!$G$3:$H$44, 2, FALSE)) -> 33 | R14: =IF(C14=0,"-",VLOOKUP(C14,Sheet1!$A$7:$B$11,2,FALSE)) -> 0 | S14: =IF(D14=0,"-",VLOOKUP(D14,Sheet1!$A$14:$B$16,2,FALSE)) -> 1 | T14: =IF(E14=0,"-",VLOOKUP(E14,Sheet1!$D$8:$E$72,2,FALSE)) -> 1 | U14: =IF(F14=0,"-",VLOOKUP(F14,Sheet1!$A$19:$B$21,2,FALSE)) -> 2 | V14: =IF(G14=0,"-",VLOOKUP(G14,Sheet1!$D$3:$E$5,2,FALSE)) -> 1 | W14: =IF(H14=0,"-",VLOOKUP(H14,Sheet1!$A$76:$B$77,2,FALSE)) -> 1 | X14: =IF(I14=0,"-",VLOOKUP(I14,Sheet1!$A$80:$B$85,2,FALSE)) -> 1 | Y14: 0 | Z14: 300 | AA14: 300 | AB14: =IF(M14=0,"-",VLOOKUP(M14,Sheet1!$D$76:$E$136,2,FALSE)) -> 9 | AC14: =IF(N14=0,"-",VLOOKUP(N14,Sheet1!$A$88:$B$90,2,FALSE)) -> 1
A15: ไม่เคย | P15: =VLOOKUP(A15,Sheet1!$A$3:$B$4,2,FALSE) -> 0 | Q15: =IF(B15=0,"-",VLOOKUP(B15, Sheet1!$G$3:$H$44, 2, FALSE)) -> - | R15: =IF(C15=0,"-",VLOOKUP(C15,Sheet1!$A$7:$B$11,2,FALSE)) -> - | S15: =IF(D15=0,"-",VLOOKUP(D15,Sheet1!$A$14:$B$16,2,FALSE)) -> - | T15: =IF(E15=0,"-",VLOOKUP(E15,Sheet1!$D$8:$E$72,2,FALSE)) -> - | U15: =IF(F15=0,"-",VLOOKUP(F15,Sheet1!$A$19:$B$21,2,FALSE)) -> - | V15: =IF(G15=0,"-",VLOOKUP(G15,Sheet1!$D$3:$E$5,2,FALSE)) -> - | W15: =IF(H15=0,"-",VLOOKUP(H15,Sheet1!$A$76:$B$77,2,FALSE)) -> - | X15: =IF(I15=0,"-",VLOOKUP(I15,Sheet1!$A$80:$B$85,2,FALSE)) -> - | AB15: =IF(M15=0,"-",VLOOKUP(M15,Sheet1!$D$76:$E$136,2,FALSE)) -> - | AC15: =IF(N15=0,"-",VLOOKUP(N15,Sheet1!$A$88:$B$90,2,FALSE)) -> -
A16: เคย | B16: ความหลากหลายของเนื้อเรื่อง, สะดวก สามารถอ่านได้ทุกที่, ไม่มีค่าใช้จ่าย หรือค่าใช้จ่ายน้อยกว่าซื้อหนังสือ | C16: 16 - 25 ชั่วโมง | D16: ทั้งสองที่ | E16: Dek-D, Fictionlog, ธัญวลัย | F16: ทั้งสอง | G16: โทรศัพท์มือถือ | H16: เคย | I16: ธัญวลัย | J16: 1 | K16: 100 | L16: 300 | M16: In-app purchase (ชำระผ่าน Application) | N16: ทั้งสอง | P16: =VLOOKUP(A16,Sheet1!$A$3:$B$4,2,FALSE) -> 1 | Q16: =IF(B16=0,"-",VLOOKUP(B16, Sheet1!$G$3:$H$44, 2, FALSE)) -> 13 | R16: =IF(C16=0,"-",VLOOKUP(C16,Sheet1!$A$7:$B$11,2,FALSE)) -> 2 | S16: =IF(D16=0,"-",VLOOKUP(D16,Sheet1!$A$14:$B$16,2,FALSE)) -> 2 | T16: =IF(E16=0,"-",VLOOKUP(E16,Sheet1!$D$8:$E$72,2,FALSE)) -> 10 | U16: =IF(F16=0,"-",VLOOKUP(F16,Sheet1!$A$19:$B$21,2,FALSE)) -> 2 | V16: =IF(G16=0,"-",VLOOKUP(G16,Sheet1!$D$3:$E$5,2,FALSE)) -> 1 | W16: =IF(H16=0,"-",VLOOKUP(H16,Sheet1!$A$76:$B$77,2,FALSE)) -> 1 | X16: =IF(I16=0,"-",VLOOKUP(I16,Sheet1!$A$80:$B$85,2,FALSE)) -> 3 | Y16: 1 | Z16: 100 | AA16: 300 | AB16: =IF(M16=0,"-",VLOOKUP(M16,Sheet1!$D$76:$E$136,2,FALSE)) -> 1 | AC16: =IF(N16=0,"-",VLOOKUP(N16,Sheet1!$A$88:$B$90,2,FALSE)) -> 2
A17: ไม่เคย | P17: =VLOOKUP(A17,Sheet1!$A$3:$B$4,2,FALSE) -> 0 | Q17: =IF(B17=0,"-",VLOOKUP(B17, Sheet1!$G$3:$H$44, 2, FALSE)) -> - | R17: =IF(C17=0,"-",VLOOKUP(C17,Sheet1!$A$7:$B$11,2,FALSE)) -> - | S17: =IF(D17=0,"-",VLOOKUP(D17,Sheet1!$A$14:$B$16,2,FALSE)) -> - | T17: =IF(E17=0,"-",VLOOKUP(E17,Sheet1!$D$8:$E$72,2,FALSE)) -> - | U17: =IF(F17=0,"-",VLOOKUP(F17,Sheet1!$A$19:$B$21,2,FALSE)) -> - | V17: =IF(G17=0,"-",VLOOKUP(G17,Sheet1!$D$3:$E$5,2,FALSE)) -> - | W17: =IF(H17=0,"-",VLOOKUP(H17,Sheet1!$A$76:$B$77,2,FALSE)) -> - | X17: =IF(I17=0,"-",VLOOKUP(I17,Sheet1!$A$80:$B$85,2,FALSE)) -> - | AB17: =IF(M17=0,"-",VLOOKUP(M17,Sheet1!$D$76:$E$136,2,FALSE)) -> - | AC17: =IF(N17=0,"-",VLOOKUP(N17,Sheet1!$A$88:$B$90,2,FALSE)) -> -
A18: ไม่เคย | P18: =VLOOKUP(A18,Sheet1!$A$3:$B$4,2,FALSE) -> 0 | Q18: =IF(B18=0,"-",VLOOKUP(B18, Sheet1!$G$3:$H$44, 2, FALSE)) -> - | R18: =IF(C18=0,"-",VLOOKUP(C18,Sheet1!$A$7:$B$11,2,FALSE)) -> - | S18: =IF(D18=0,"-",VLOOKUP(D18,Sheet1!$A$14:$B$16,2,FALSE)) -> - | T18: =IF(E18=0,"-",VLOOKUP(E18,Sheet1!$D$8:$E$72,2,FALSE)) -> - | U18: =IF(F18=0,"-",VLOOKUP(F18,Sheet1!$A$19:$B$21,2,FALSE)) -> - | V18: =IF(G18=0,"-",VLOOKUP(G18,Sheet1!$D$3:$E$5,2,FALSE)) -> - | W18: =IF(H18=0,"-",VLOOKUP(H18,Sheet1!$A$76:$B$77,2,FALSE)) -> - | X18: =IF(I18=0,"-",VLOOKUP(I18,Sheet1!$A$80:$B$85,2,FALSE)) -> - | AB18: =IF(M18=0,"-",VLOOKUP(M18,Sheet1!$D$76:$E$136,2,FALSE)) -> - | AC18: =IF(N18=0,"-",VLOOKUP(N18,Sheet1!$A$88:$B$90,2,FALSE)) -> -
A19: ไม่เคย | P19: =VLOOKUP(A19,Sheet1!$A$3:$B$4,2,FALSE) -> 0 | Q19: =IF(B19=0,"-",VLOOKUP(B19, Sheet1!$G$3:$H$44, 2, FALSE)) -> - | R19: =IF(C19=0,"-",VLOOKUP(C19,Sheet1!$A$7:$B$11,2,FALSE)) -> - | S19: =IF(D19=0,"-",VLOOKUP(D19,Sheet1!$A$14:$B$16,2,FALSE)) -> - | T19: =IF(E19=0,"-",VLOOKUP(E19,Sheet1!$D$8:$E$72,2,FALSE)) -> - | U19: =IF(F19=0,"-",VLOOKUP(F19,Sheet1!$A$19:$B$21,2,FALSE)) -> - | V19: =IF(G19=0,"-",VLOOKUP(G19,Sheet1!$D$3:$E$5,2,FALSE)) -> - | W19: =IF(H19=0,"-",VLOOKUP(H19,Sheet1!$A$76:$B$77,2,FALSE)) -> - | X19: =IF(I19=0,"-",VLOOKUP(I19,Sheet1!$A$80:$B$85,2,FALSE)) -> - | AB19: =IF(M19=0,"-",VLOOKUP(M19,Sheet1!$D$76:$E$136,2,FALSE)) -> - | AC19: =IF(N19=0,"-",VLOOKUP(N19,Sheet1!$A$88:$B$90,2,FALSE)) -> -
A20: ไม่เคย | P20: =VLOOKUP(A20,Sheet1!$A$3:$B$4,2,FALSE) -> 0 | Q20: =IF(B20=0,"-",VLOOKUP(B20, Sheet1!$G$3:$H$44, 2, FALSE)) -> - | R20: =IF(C20=0,"-",VLOOKUP(C20,Sheet1!$A$7:$B$11,2,FALSE)) -> - | S20: =IF(D20=0,"-",VLOOKUP(D20,Sheet1!$A$14:$B$16,2,FALSE)) -> - | T20: =IF(E20=0,"-",VLOOKUP(E20,Sheet1!$D$8:$E$72,2,FALSE)) -> - | U20: =IF(F20=0,"-",VLOOKUP(F20,Sheet1!$A$19:$B$21,2,FALSE)) -> - | V20: =IF(G20=0,"-",VLOOKUP(G20,Sheet1!$D$3:$E$5,2,FALSE)) -> - | W20: =IF(H20=0,"-",VLOOKUP(H20,Sheet1!$A$76:$B$77,2,FALSE)) -> - | X20: =IF(I20=0,"-",VLOOKUP(I20,Sheet1!$A$80:$B$85,2,FALSE)) -> - | AB20: =IF(M20=0,"-",VLOOKUP(M20,Sheet1!$D$76:$E$136,2,FALSE)) -> - | AC20: =IF(N20=0,"-",VLOOKUP(N20,Sheet1!$A$88:$B$90,2,FALSE)) -> -
A21: เคย | B21: ความหลากหลายของเนื้อเรื่อง, สะดวก สามารถอ่านได้ทุกที่, ไม่มีค่าใช้จ่าย หรือค่าใช้จ่ายน้อยกว่าซื้อหนังสือ | C21: น้อยกว่า 7 ชั่วโมง | D21: เว็บไซต์ | E21: Dek-D | F21: แฟนฟิคชั่น (Fanfiction) | G21: Computer | H21: ไม่เคย | P21: =VLOOKUP(A21,Sheet1!$A$3:$B$4,2,FALSE) -> 1 | Q21: =IF(B21=0,"-",VLOOKUP(B21, Sheet1!$G$3:$H$44, 2, FALSE)) -> 13 | R21: =IF(C21=0,"-",VLOOKUP(C21,Sheet1!$A$7:$B$11,2,FALSE)) -> 0 | S21: =IF(D21=0,"-",VLOOKUP(D21,Sheet1!$A$14:$B$16,2,FALSE)) -> 0 | T21: =IF(E21=0,"-",VLOOKUP(E21,Sheet1!$D$8:$E$72,2,FALSE)) -> 1 | U21: =IF(F21=0,"-",VLOOKUP(F21,Sheet1!$A$19:$B$21,2,FALSE)) -> 0 | V21: =IF(G21=0,"-",VLOOKUP(G21,Sheet1!$D$3:$E$5,2,FALSE)) -> 0 | W21: =IF(H21=0,"-",VLOOKUP(H21,Sheet1!$A$76:$B$77,2,FALSE)) -> 0 | X21: =IF(I21=0,"-",VLOOKUP(I21,Sheet1!$A$80:$B$85,2,FALSE)) -> - | AB21: =IF(M21=0,"-",VLOOKUP(M21,Sheet1!$D$76:$E$136,2,FALSE)) -> - | AC21: =IF(N21=0,"-",VLOOKUP(N21,Sheet1!$A$88:$B$90,2,FALSE)) -> -
A22: เคย | B22: ไม่มีค่าใช้จ่าย หรือค่าใช้จ่ายน้อยกว่าซื้อหนังสือ | C22: น้อยกว่า 7 ชั่วโมง | D22: เว็บไซต์ | E22: Dek-D, ธัญวลัย | F22: ไม่ใช่แฟนฟิคชั่น | G22: โทรศัพท์มือถือ | H22: ไม่เคย | P22: =VLOOKUP(A22,Sheet1!$A$3:$B$4,2,FALSE) -> 1 | Q22: =IF(B22=0,"-",VLOOKUP(B22, Sheet1!$G$3:$H$44, 2, FALSE)) -> 3 | R22: =IF(C22=0,"-",VLOOKUP(C22,Sheet1!$A$7:$B$11,2,FALSE)) -> 0 | S22: =IF(D22=0,"-",VLOOKUP(D22,Sheet1!$A$14:$B$16,2,FALSE)) -> 0 | T22: =IF(E22=0,"-",VLOOKUP(E22,Sheet1!$D$8:$E$72,2,FALSE)) -> 7 | U22: =IF(F22=0,"-",VLOOKUP(F22,Sheet1!$A$19:$B$21,2,FALSE)) -> 1 | V22: =IF(G22=0,"-",VLOOKUP(G22,Sheet1!$D$3:$E$5,2,FALSE)) -> 1 | W22: =IF(H22=0,"-",VLOOKUP(H22,Sheet1!$A$76:$B$77,2,FALSE)) -> 0 | X22: =IF(I22=0,"-",VLOOKUP(I22,Sheet1!$A$80:$B$85,2,FALSE)) -> - | AB22: =IF(M22=0,"-",VLOOKUP(M22,Sheet1!$D$76:$E$136,2,FALSE)) -> - | AC22: =IF(N22=0,"-",VLOOKUP(N22,Sheet1!$A$88:$B$90,2,FALSE)) -> -
A23: เคย | B23: สะดวก สามารถอ่านได้ทุกที่, ไม่มีค่าใช้จ่าย หรือค่าใช้จ่ายน้อยกว่าซื้อหนังสือ | C23: 7 - 15 ชั่วโมง | D23: ทั้งสองที่ | E23: Dek-D, WattPad, Joylada, Meb | F23: ทั้งสอง | G23: โทรศัพท์มือถือ | H23: เคย | I23: Meb | J23: 0 | K23: 200 | L23: 200 | M23: Mobile/online banking, ชำระผ่านเคาน์เตอร์ (7-11, Big C, Tesco, etc.) | N23: นิยายวายไม่ใช่แฟนฟิคชั่น | P23: =VLOOKUP(A23,Sheet1!$A$3:$B$4,2,FALSE) -> 1 | Q23: =IF(B23=0,"-",VLOOKUP(B23, Sheet1!$G$3:$H$44, 2, FALSE)) -> 33 | R23: =IF(C23=0,"-",VLOOKUP(C23,Sheet1!$A$7:$B$11,2,FALSE)) -> 1 | S23: =IF(D23=0,"-",VLOOKUP(D23,Sheet1!$A$14:$B$16,2,FALSE)) -> 2 | T23: =IF(E23=0,"-",VLOOKUP(E23,Sheet1!$D$8:$E$72,2,FALSE)) -> 42 | U23: =IF(F23=0,"-",VLOOKUP(F23,Sheet1!$A$19:$B$21,2,FALSE)) -> 2 | V23: =IF(G23=0,"-",VLOOKUP(G23,Sheet1!$D$3:$E$5,2,FALSE)) -> 1 | W23: =IF(H23=0,"-",VLOOKUP(H23,Sheet1!$A$76:$B$77,2,FALSE)) -> 1 | X23: =IF(I23=0,"-",VLOOKUP(I23,Sheet1!$A$80:$B$85,2,FALSE)) -> 5 | Y23: 0 | Z23: 200 | AA23: 200 | AB23: =IF(M23=0,"-",VLOOKUP(M23,Sheet1!$D$76:$E$136,2,FALSE)) -> 53 | AC23: =IF(N23=0,"-",VLOOKUP(N23,Sheet1!$A$88:$B$90,2,FALSE)) -> 1
A24: ไม่เคย | P24: =VLOOKUP(A24,Sheet1!$A$3:$B$4,2,FALSE) -> 0 | Q24: =IF(B24=0,"-",VLOOKUP(B24, Sheet1!$G$3:$H$44, 2, FALSE)) -> - | R24: =IF(C24=0,"-",VLOOKUP(C24,Sheet1!$A$7:$B$11,2,FALSE)) -> - | S24: =IF(D24=0,"-",VLOOKUP(D24,Sheet1!$A$14:$B$16,2,FALSE)) -> - | T24: =IF(E24=0,"-",VLOOKUP(E24,Sheet1!$D$8:$E$72,2,FALSE)) -> - | U24: =IF(F24=0,"-",VLOOKUP(F24,Sheet1!$A$19:$B$21,2,FALSE)) -> - | V24: =IF(G24=0,"-",VLOOKUP(G24,Sheet1!$D$3:$E$5,2,FALSE)) -> - | W24: =IF(H24=0,"-",VLOOKUP(H24,Sheet1!$A$76:$B$77,2,FALSE)) -> - | X24: =IF(I24=0,"-",VLOOKUP(I24,Sheet1!$A$80:$B$85,2,FALSE)) -> - | AB24: =IF(M24=0,"-",VLOOKUP(M24,Sheet1!$D$76:$E$136,2,FALSE)) -> - | AC24: =IF(N24=0,"-",VLOOKUP(N24,Sheet1!$A$88:$B$90,2,FALSE)) -> -
A25: ไม่เคย | P25: =VLOOKUP(A25,Sheet1!$A$3:$B$4,2,FALSE) -> 0 | Q25: =IF(B25=0,"-",VLOOKUP(B25, Sheet1!$G$3:$H$44, 2, FALSE)) -> - | R25: =IF(C25=0,"-",VLOOKUP(C25,Sheet1!$A$7:$B$11,2,FALSE)) -> - | S25: =IF(D25=0,"-",VLOOKUP(D25,Sheet1!$A$14:$B$16,2,FALSE)) -> - | T25: =IF(E25=0,"-",VLOOKUP(E25,Sheet1!$D$8:$E$72,2,FALSE)) -> - | U25: =IF(F25=0,"-",VLOOKUP(F25,Sheet1!$A$19:$B$21,2,FALSE)) -> - | V25: =IF(G25=0,"-",VLOOKUP(G25,Sheet1!$D$3:$E$5,2,FALSE)) -> - | W25: =IF(H25=0,"-",VLOOKUP(H25,Sheet1!$A$76:$B$77,2,FALSE)) -> - | X25: =IF(I25=0,"-",VLOOKUP(I25,Sheet1!$A$80:$B$85,2,FALSE)) -> - | AB25: =IF(M25=0,"-",VLOOKUP(M25,Sheet1!$D$76:$E$136,2,FALSE)) -> - | AC25: =IF(N25=0,"-",VLOOKUP(N25,Sheet1!$A$88:$B$90,2,FALSE)) -> -
A26: เคย | B26: สะดวก สามารถอ่านได้ทุกที่, ไม่มีค่าใช้จ่าย หรือค่าใช้จ่ายน้อยกว่าซื้อหนังสือ | C26: 26 - 40 ชั่วโมง | D26: ทั้งสองที่ | E26: Dek-D | F26: ไม่ใช่แฟนฟิคชั่น | G26: โทรศัพท์มือถือ | H26: ไม่เคย | P26: =VLOOKUP(A26,Sheet1!$A$3:$B$4,2,FALSE) -> 1 | Q26: =IF(B26=0,"-",VLOOKUP(B26, Sheet1!$G$3:$H$44, 2, FALSE)) -> 33 | R26: =IF(C26=0,"-",VLOOKUP(C26,Sheet1!$A$7:$B$11,2,FALSE)) -> 3 | S26: =IF(D26=0,"-",VLOOKUP(D26,Sheet1!$A$14:$B$16,2,FALSE)) -> 2 | T26: =IF(E26=0,"-",VLOOKUP(E26,Sheet1!$D$8:$E$72,2,FALSE)) -> 1 | U26: =IF(F26=0,"-",VLOOKUP(F26,Sheet1!$A$19:$B$21,2,FALSE)) -> 1 | V26: =IF(G26=0,"-",VLOOKUP(G26,Sheet1!$D$3:$E$5,2,FALSE)) -> 1 | W26: =IF(H26=0,"-",VLOOKUP(H26,Sheet1!$A$76:$B$77,2,FALSE)) -> 0 | X26: =IF(I26=0,"-",VLOOKUP(I26,Sheet1!$A$80:$B$85,2,FALSE)) -> - | AB26: =IF(M26=0,"-",VLOOKUP(M26,Sheet1!$D$76:$E$136,2,FALSE)) -> - | AC26: =IF(N26=0,"-",VLOOKUP(N26,Sheet1!$A$88:$B$90,2,FALSE)) -> -
A27: ไม่เคย | P27: =VLOOKUP(A27,Sheet1!$A$3:$B$4,2,FALSE) -> 0 | Q27: =IF(B27=0,"-",VLOOKUP(B27, Sheet1!$G$3:$H$44, 2, FALSE)) -> - | R27: =IF(C27=0,"-",VLOOKUP(C27,Sheet1!$A$7:$B$11,2,FALSE)) -> - | S27: =IF(D27=0,"-",VLOOKUP(D27,Sheet1!$A$14:$B$16,2,FALSE)) -> - | T27: =IF(E27=0,"-",VLOOKUP(E27,Sheet1!$D$8:$E$72,2,FALSE)) -> - | U27: =IF(F27=0,"-",VLOOKUP(F27,Sheet1!$A$19:$B$21,2,FALSE)) -> - | V27: =IF(G27=0,"-",VLOOKUP(G27,Sheet1!$D$3:$E$5,2,FALSE)) -> - | W27: =IF(H27=0,"-",VLOOKUP(H27,Sheet1!$A$76:$B$77,2,FALSE)) -> - | X27: =IF(I27=0,"-",VLOOKUP(I27,Sheet1!$A$80:$B$85,2,FALSE)) -> - | AB27: =IF(M27=0,"-",VLOOKUP(M27,Sheet1!$D$76:$E$136,2,FALSE)) -> - | AC27: =IF(N27=0,"-",VLOOKUP(N27,Sheet1!$A$88:$B$90,2,FALSE)) -> -
A28: ไม่เคย | P28: =VLOOKUP(A28,Sheet1!$A$3:$B$4,2,FALSE) -> 0 | Q28: =IF(B28=0,"-",VLOOKUP(B28, Sheet1!$G$3:$H$44, 2, FALSE)) -> - | R28: =IF(C28=0,"-",VLOOKUP(C28,Sheet1!$A$7:$B$11,2,FALSE)) -> - | S28: =IF(D28=0,"-",VLOOKUP(D28,Sheet1!$A$14:$B$16,2,FALSE)) -> - | T28: =IF(E28=0,"-",VLOOKUP(E28,Sheet1!$D$8:$E$72,2,FALSE)) -> - | U28: =IF(F28=0,"-",VLOOKUP(F28,Sheet1!$A$19:$B$21,2,FALSE)) -> - | V28: =IF(G28=0,"-",VLOOKUP(G28,Sheet1!$D$3:$E$5,2,FALSE)) -> - | W28: =IF(H28=0,"-",VLOOKUP(H28,Sheet1!$A$76:$B$77,2,FALSE)) -> - | X28: =IF(I28=0,"-",VLOOKUP(I28,Sheet1!$A$80:$B$85,2,FALSE)) -> - | AB28: =IF(M28=0,"-",VLOOKUP(M28,Sheet1!$D$76:$E$136,2,FALSE)) -> - | AC28: =IF(N28=0,"-",VLOOKUP(N28,Sheet1!$A$88:$B$90,2,FALSE)) -> -
A29: เคย | B29: สะดวก สามารถอ่านได้ทุกที่ | C29: น้อยกว่า 7 ชั่วโมง | D29: ทั้งสองที่ | E29: Dek-D, ธัญวลัย, ReadAwrite | F29: ไม่ใช่แฟนฟิคชั่น | G29: โทรศัพท์มือถือ | H29: เคย | I29: Meb | J29: 3 | K29: 300 | L29: 200 | M29: Credit/Debit card, ชำระผ่านเคาน์เตอร์ (7-11, Big C, Tesco, etc.), ชำระผ่านตู้เติมเงิน (ตู้บุญเติม เป็นต้น) | N29: นิยายวายไม่ใช่แฟนฟิคชั่น | P29: =VLOOKUP(A29,Sheet1!$A$3:$B$4,2,FALSE) -> 1 | Q29: =IF(B29=0,"-",VLOOKUP(B29, Sheet1!$G$3:$H$44, 2, FALSE)) -> 2 | R29: =IF(C29=0,"-",VLOOKUP(C29,Sheet1!$A$7:$B$11,2,FALSE)) -> 0 | S29: =IF(D29=0,"-",VLOOKUP(D29,Sheet1!$A$14:$B$16,2,FALSE)) -> 2 | T29: =IF(E29=0,"-",VLOOKUP(E29,Sheet1!$D$8:$E$72,2,FALSE)) -> 31 | U29: =IF(F29=0,"-",VLOOKUP(F29,Sheet1!$A$19:$B$21,2,FALSE)) -> 1 | V29: =IF(G29=0,"-",VLOOKUP(G29,Sheet1!$D$3:$E$5,2,FALSE)) -> 1 | W29: =IF(H29=0,"-",VLOOKUP(H29,Sheet1!$A$76:$B$77,2,FALSE)) -> 1 | X29: =IF(I29=0,"-",VLOOKUP(I29,Sheet1!$A$80:$B$85,2,FALSE)) -> 5 | Y29: 3 | Z29: 300 | AA29: 200 | AB29: =IF(M29=0,"-",VLOOKUP(M29,Sheet1!$D$76:$E$136,2,FALSE)) -> 46 | AC29: =IF(N29=0,"-",VLOOKUP(N29,Sheet1!$A$88:$B$90,2,FALSE)) -> 1
A30: เคย | B30: ความหลากหลายของเนื้อเรื่อง, สะดวก สามารถอ่านได้ทุกที่, ไม่มีค่าใช้จ่าย หรือค่าใช้จ่ายน้อยกว่าซื้อหนังสือ | C30: 7 - 15 ชั่วโมง | D30: เว็บไซต์ | E30: Dek-D, ธัญวลัย, ReadAwrite | F30: ทั้งสอง | G30: โทรศัพท์มือถือ | H30: ไม่เคย | P30: =VLOOKUP(A30,Sheet1!$A$3:$B$4,2,FALSE) -> 1 | Q30: =IF(B30=0,"-",VLOOKUP(B30, Sheet1!$G$3:$H$44, 2, FALSE)) -> 13 | R30: =IF(C30=0,"-",VLOOKUP(C30,Sheet1!$A$7:$B$11,2,FALSE)) -> 1 | S30: =IF(D30=0,"-",VLOOKUP(D30,Sheet1!$A$14:$B$16,2,FALSE)) -> 0 | T30: =IF(E30=0,"-",VLOOKUP(E30,Sheet1!$D$8:$E$72,2,FALSE)) -> 31 | U30: =IF(F30=0,"-",VLOOKUP(F30,Sheet1!$A$19:$B$21,2,FALSE)) -> 2 | V30: =IF(G30=0,"-",VLOOKUP(G30,Sheet1!$D$3:$E$5,2,FALSE)) -> 1 | W30: =IF(H30=0,"-",VLOOKUP(H30,Sheet1!$A$76:$B$77,2,FALSE)) -> 0 | X30: =IF(I30=0,"-",VLOOKUP(I30,Sheet1!$A$80:$B$85,2,FALSE)) -> - | AB30: =IF(M30=0,"-",VLOOKUP(M30,Sheet1!$D$76:$E$136,2,FALSE)) -> - | AC30: =IF(N30=0,"-",VLOOKUP(N30,Sheet1!$A$88:$B$90,2,FALSE)) -> -
A31: ไม่เคย | P31: =VLOOKUP(A31,Sheet1!$A$3:$B$4,2,FALSE) -> 0 | Q31: =IF(B31=0,"-",VLOOKUP(B31, Sheet1!$G$3:$H$44, 2, FALSE)) -> - | R31: =IF(C31=0,"-",VLOOKUP(C31,Sheet1!$A$7:$B$11,2,FALSE)) -> - | S31: =IF(D31=0,"-",VLOOKUP(D31,Sheet1!$A$14:$B$16,2,FALSE)) -> - | T31: =IF(E31=0,"-",VLOOKUP(E31,Sheet1!$D$8:$E$72,2,FALSE)) -> - | U31: =IF(F31=0,"-",VLOOKUP(F31,Sheet1!$A$19:$B$21,2,FALSE)) -> - | V31: =IF(G31=0,"-",VLOOKUP(G31,Sheet1!$D$3:$E$5,2,FALSE)) -> - | W31: =IF(H31=0,"-",VLOOKUP(H31,Sheet1!$A$76:$B$77,2,FALSE)) -> - | X31: =IF(I31=0,"-",VLOOKUP(I31,Sheet1!$A$80:$B$85,2,FALSE)) -> - | AB31: =IF(M31=0,"-",VLOOKUP(M31,Sheet1!$D$76:$E$136,2,FALSE)) -> - | AC31: =IF(N31=0,"-",VLOOKUP(N31,Sheet1!$A$88:$B$90,2,FALSE)) -> -
A32: ไม่เคย | P32: =VLOOKUP(A32,Sheet1!$A$3:$B$4,2,FALSE) -> 0 | Q32: =IF(B32=0,"-",VLOOKUP(B32, Sheet1!$G$3:$H$44, 2, FALSE)) -> - | R32: =IF(C32=0,"-",VLOOKUP(C32,Sheet1!$A$7:$B$11,2,FALSE)) -> - | S32: =IF(D32=0,"-",VLOOKUP(D32,Sheet1!$A$14:$B$16,2,FALSE)) -> - | T32: =IF(E32=0,"-",VLOOKUP(E32,Sheet1!$D$8:$E$72,2,FALSE)) -> - | U32: =IF(F32=0,"-",VLOOKUP(F32,Sheet1!$A$19:$B$21,2,FALSE)) -> - | V32: =IF(G32=0,"-",VLOOKUP(G32,Sheet1!$D$3:$E$5,2,FALSE)) -> - | W32: =IF(H32=0,"-",VLOOKUP(H32,Sheet1!$A$76:$B$77,2,FALSE)) -> - | X32: =IF(I32=0,"-",VLOOKUP(I32,Sheet1!$A$80:$B$85,2,FALSE)) -> - | AB32: =IF(M32=0,"-",VLOOKUP(M32,Sheet1!$D$76:$E$136,2,FALSE)) -> - | AC32: =IF(N32=0,"-",VLOOKUP(N32,Sheet1!$A$88:$B$90,2,FALSE)) -> -
A33: ไม่เคย | P33: =VLOOKUP(A33,Sheet1!$A$3:$B$4,2,FALSE) -> 0 | Q33: =IF(B33=0,"-",VLOOKUP(B33, Sheet1!$G$3:$H$44, 2, FALSE)) -> - | R33: =IF(C33=0,"-",VLOOKUP(C33,Sheet1!$A$7:$B$11,2,FALSE)) -> - | S33: =IF(D33=0,"-",VLOOKUP(D33,Sheet1!$A$14:$B$16,2,FALSE)) -> - | T33: =IF(E33=0,"-",VLOOKUP(E33,Sheet1!$D$8:$E$72,2,FALSE)) -> - | U33: =IF(F33=0,"-",VLOOKUP(F33,Sheet1!$A$19:$B$21,2,FALSE)) -> - | V33: =IF(G33=0,"-",VLOOKUP(G33,Sheet1!$D$3:$E$5,2,FALSE)) -> - | W33: =IF(H33=0,"-",VLOOKUP(H33,Sheet1!$A$76:$B$77,2,FALSE)) -> - | X33: =IF(I33=0,"-",VLOOKUP(I33,Sheet1!$A$80:$B$85,2,FALSE)) -> - | AB33: =IF(M33=0,"-",VLOOKUP(M33,Sheet1!$D$76:$E$136,2,FALSE)) -> - | AC33: =IF(N33=0,"-",VLOOKUP(N33,Sheet1!$A$88:$B$90,2,FALSE)) -> -
A34: เคย | B34: ความหลากหลายของเนื้อเรื่อง, สะดวก สามารถอ่านได้ทุกที่, ไม่มีค่าใช้จ่าย หรือค่าใช้จ่ายน้อยกว่าซื้อหนังสือ | C34: 16 - 25 ชั่วโมง | D34: ทั้งสองที่ | E34: Dek-D, Fictionlog, ธัญวลัย, ReadAwrite | F34: ทั้งสอง | G34: โทรศัพท์มือถือ | H34: ไม่เคย | P34: =VLOOKUP(A34,Sheet1!$A$3:$B$4,2,FALSE) -> 1 | Q34: =IF(B34=0,"-",VLOOKUP(B34, Sheet1!$G$3:$H$44, 2, FALSE)) -> 13 | R34: =IF(C34=0,"-",VLOOKUP(C34,Sheet1!$A$7:$B$11,2,FALSE)) -> 2 | S34: =IF(D34=0,"-",VLOOKUP(D34,Sheet1!$A$14:$B$16,2,FALSE)) -> 2 | T34: =IF(E34=0,"-",VLOOKUP(E34,Sheet1!$D$8:$E$72,2,FALSE)) -> 12 | U34: =IF(F34=0,"-",VLOOKUP(F34,Sheet1!$A$19:$B$21,2,FALSE)) -> 2 | V34: =IF(G34=0,"-",VLOOKUP(G34,Sheet1!$D$3:$E$5,2,FALSE)) -> 1 | W34: =IF(H34=0,"-",VLOOKUP(H34,Sheet1!$A$76:$B$77,2,FALSE)) -> 0 | X34: =IF(I34=0,"-",VLOOKUP(I34,Sheet1!$A$80:$B$85,2,FALSE)) -> - | AB34: =IF(M34=0,"-",VLOOKUP(M34,Sheet1!$D$76:$E$136,2,FALSE)) -> - | AC34: =IF(N34=0,"-",VLOOKUP(N34,Sheet1!$A$88:$B$90,2,FALSE)) -> -
A35: ไม่เคย | P35: =VLOOKUP(A35,Sheet1!$A$3:$B$4,2,FALSE) -> 0 | Q35: =IF(B35=0,"-",VLOOKUP(B35, Sheet1!$G$3:$H$44, 2, FALSE)) -> - | R35: =IF(C35=0,"-",VLOOKUP(C35,Sheet1!$A$7:$B$11,2,FALSE)) -> - | S35: =IF(D35=0,"-",VLOOKUP(D35,Sheet1!$A$14:$B$16,2,FALSE)) -> - | T35: =IF(E35=0,"-",VLOOKUP(E35,Sheet1!$D$8:$E$72,2,FALSE)) -> - | U35: =IF(F35=0,"-",VLOOKUP(F35,Sheet1!$A$19:$B$21,2,FALSE)) -> - | V35: =IF(G35=0,"-",VLOOKUP(G35,Sheet1!$D$3:$E$5,2,FALSE)) -> - | W35: =IF(H35=0,"-",VLOOKUP(H35,Sheet1!$A$76:$B$77,2,FALSE)) -> - | X35: =IF(I35=0,"-",VLOOKUP(I35,Sheet1!$A$80:$B$85,2,FALSE)) -> - | AB35: =IF(M35=0,"-",VLOOKUP(M35,Sheet1!$D$76:$E$136,2,FALSE)) -> - | AC35: =IF(N35=0,"-",VLOOKUP(N35,Sheet1!$A$88:$B$90,2,FALSE)) -> -
A36: เคย | B36: ความหลากหลายของเนื้อเรื่อง, สะดวก สามารถอ่านได้ทุกที่ | C36: 7 - 15 ชั่วโมง | D36: เว็บไซต์ | E36: Meb | F36: ไม่ใช่แฟนฟิคชั่น | G36: Tablet/Ipad | H36: เคย | I36: Meb | J36: 3 | K36: 300 | L36: 300 | M36: In-app purchase (ชำระผ่าน Application), Credit/Debit card | N36: นิยายวายไม่ใช่แฟนฟิคชั่น | P36: =VLOOKUP(A36,Sheet1!$A$3:$B$4,2,FALSE) -> 1 | Q36: =IF(B36=0,"-",VLOOKUP(B36, Sheet1!$G$3:$H$44, 2, FALSE)) -> 12 | R36: =IF(C36=0,"-",VLOOKUP(C36,Sheet1!$A$7:$B$11,2,FALSE)) -> 1 | S36: =IF(D36=0,"-",VLOOKUP(D36,Sheet1!$A$14:$B$16,2,FALSE)) -> 0 | T36: =IF(E36=0,"-",VLOOKUP(E36,Sheet1!$D$8:$E$72,2,FALSE)) -> 58 | U36: =IF(F36=0,"-",VLOOKUP(F36,Sheet1!$A$19:$B$21,2,FALSE)) -> 1 | V36: =IF(G36=0,"-",VLOOKUP(G36,Sheet1!$D$3:$E$5,2,FALSE)) -> 2 | W36: =IF(H36=0,"-",VLOOKUP(H36,Sheet1!$A$76:$B$77,2,FALSE)) -> 1 | X36: =IF(I36=0,"-",VLOOKUP(I36,Sheet1!$A$80:$B$85,2,FALSE)) -> 5 | Y36: 3 | Z36: 300 | AA36: 300 | AB36: =IF(M36=0,"-",VLOOKUP(M36,Sheet1!$D$76:$E$136,2,FALSE)) -> 8 | AC36: =IF(N36=0,"-",VLOOKUP(N36,Sheet1!$A$88:$B$90,2,FALSE)) -> 1
A37: เคย | B37: สะดวก สามารถอ่านได้ทุกที่, ไม่มีค่าใช้จ่าย หรือค่าใช้จ่ายน้อยกว่าซื้อหนังสือ | C37: 7 - 15 ชั่วโมง | D37: Application | E37: Joylada | F37: แฟนฟิคชั่น (Fanfiction) | G37: โทรศัพท์มือถือ | H37: ไม่เคย | P37: =VLOOKUP(A37,Sheet1!$A$3:$B$4,2,FALSE) -> 1 | Q37: =IF(B37=0,"-",VLOOKUP(B37, Sheet1!$G$3:$H$44, 2, FALSE)) -> 33 | R37: =IF(C37=0,"-",VLOOKUP(C37,Sheet1!$A$7:$B$11,2,FALSE)) -> 1 | S37: =IF(D37=0,"-",VLOOKUP(D37,Sheet1!$A$14:$B$16,2,FALSE)) -> 1 | T37: =IF(E37=0,"-",VLOOKUP(E37,Sheet1!$D$8:$E$72,2,FALSE)) -> 59 | U37: =IF(F37=0,"-",VLOOKUP(F37,Sheet1!$A$19:$B$21,2,FALSE)) -> 0 | V37: =IF(G37=0,"-",VLOOKUP(G37,Sheet1!$D$3:$E$5,2,FALSE)) -> 1 | W37: =IF(H37=0,"-",VLOOKUP(H37,Sheet1!$A$76:$B$77,2,FALSE)) -> 0 | X37: =IF(I37=0,"-",VLOOKUP(I37,Sheet1!$A$80:$B$85,2,FALSE)) -> - | AB37: =IF(M37=0,"-",VLOOKUP(M37,Sheet1!$D$76:$E$136,2,FALSE)) -> - | AC37: =IF(N37=0,"-",VLOOKUP(N37,Sheet1!$A$88:$B$90,2,FALSE)) -> -
A38: ไม่เคย | P38: =VLOOKUP(A38,Sheet1!$A$3:$B$4,2,FALSE) -> 0 | Q38: =IF(B38=0,"-",VLOOKUP(B38, Sheet1!$G$3:$H$44, 2, FALSE)) -> - | R38: =IF(C38=0,"-",VLOOKUP(C38,Sheet1!$A$7:$B$11,2,FALSE)) -> - | S38: =IF(D38=0,"-",VLOOKUP(D38,Sheet1!$A$14:$B$16,2,FALSE)) -> - | T38: =IF(E38=0,"-",VLOOKUP(E38,Sheet1!$D$8:$E$72,2,FALSE)) -> - | U38: =IF(F38=0,"-",VLOOKUP(F38,Sheet1!$A$19:$B$21,2,FALSE)) -> - | V38: =IF(G38=0,"-",VLOOKUP(G38,Sheet1!$D$3:$E$5,2,FALSE)) -> - | W38: =IF(H38=0,"-",VLOOKUP(H38,Sheet1!$A$76:$B$77,2,FALSE)) -> - | X38: =IF(I38=0,"-",VLOOKUP(I38,Sheet1!$A$80:$B$85,2,FALSE)) -> - | AB38: =IF(M38=0,"-",VLOOKUP(M38,Sheet1!$D$76:$E$136,2,FALSE)) -> - | AC38: =IF(N38=0,"-",VLOOKUP(N38,Sheet1!$A$88:$B$90,2,FALSE)) -> -
A39: ไม่เคย | P39: =VLOOKUP(A39,Sheet1!$A$3:$B$4,2,FALSE) -> 0 | Q39: =IF(B39=0,"-",VLOOKUP(B39, Sheet1!$G$3:$H$44, 2, FALSE)) -> - | R39: =IF(C39=0,"-",VLOOKUP(C39,Sheet1!$A$7:$B$11,2,FALSE)) -> - | S39: =IF(D39=0,"-",VLOOKUP(D39,Sheet1!$A$14:$B$16,2,FALSE)) -> - | T39: =IF(E39=0,"-",VLOOKUP(E39,Sheet1!$D$8:$E$72,2,FALSE)) -> - | U39: =IF(F39=0,"-",VLOOKUP(F39,Sheet1!$A$19:$B$21,2,FALSE)) -> - | V39: =IF(G39=0,"-",VLOOKUP(G39,Sheet1!$D$3:$E$5,2,FALSE)) -> - | W39: =IF(H39=0,"-",VLOOKUP(H39,Sheet1!$A$76:$B$77,2,FALSE)) -> - | X39: =IF(I39=0,"-",VLOOKUP(I39,Sheet1!$A$80:$B$85,2,FALSE)) -> - | AB39: =IF(M39=0,"-",VLOOKUP(M39,Sheet1!$D$76:$E$136,2,FALSE)) -> - | AC39: =IF(N39=0,"-",VLOOKUP(N39,Sheet1!$A$88:$B$90,2,FALSE)) -> -
A40: เคย | B40: ความหลากหลายของเนื้อเรื่อง, สะดวก สามารถอ่านได้ทุกที่, ไม่มีค่าใช้จ่าย หรือค่าใช้จ่ายน้อยกว่าซื้อหนังสือ | C40: 16 - 25 ชั่วโมง | D40: เว็บไซต์ | E40: Weibo | F40: แฟนฟิคชั่น (Fanfiction) | G40: โทรศัพท์มือถือ | H40: ไม่เคย | P40: =VLOOKUP(A40,Sheet1!$A$3:$B$4,2,FALSE) -> 1 | Q40: =IF(B40=0,"-",VLOOKUP(B40, Sheet1!$G$3:$H$44, 2, FALSE)) -> 13 | R40: =IF(C40=0,"-",VLOOKUP(C40,Sheet1!$A$7:$B$11,2,FALSE)) -> 2 | S40: =IF(D40=0,"-",VLOOKUP(D40,Sheet1!$A$14:$B$16,2,FALSE)) -> 0 | T40: =IF(E40=0,"-",VLOOKUP(E40,Sheet1!$D$8:$E$72,2,FALSE)) -> 60 | U40: =IF(F40=0,"-",VLOOKUP(F40,Sheet1!$A$19:$B$21,2,FALSE)) -> 0 | V40: =IF(G40=0,"-",VLOOKUP(G40,Sheet1!$D$3:$E$5,2,FALSE)) -> 1 | W40: =IF(H40=0,"-",VLOOKUP(H40,Sheet1!$A$76:$B$77,2,FALSE)) -> 0 | X40: =IF(I40=0,"-",VLOOKUP(I40,Sheet1!$A$80:$B$85,2,FALSE)) -> - | AB40: =IF(M40=0,"-",VLOOKUP(M40,Sheet1!$D$76:$E$136,2,FALSE)) -> - | AC40: =IF(N40=0,"-",VLOOKUP(N40,Sheet1!$A$88:$B$90,2,FALSE)) -> -
A41: ไม่เคย | P41: =VLOOKUP(A41,Sheet1!$A$3:$B$4,2,FALSE) -> 0 | Q41: =IF(B41=0,"-",VLOOKUP(B41, Sheet1!$G$3:$H$44, 2, FALSE)) -> - | R41: =IF(C41=0,"-",VLOOKUP(C41,Sheet1!$A$7:$B$11,2,FALSE)) -> - | S41: =IF(D41=0,"-",VLOOKUP(D41,Sheet1!$A$14:$B$16,2,FALSE)) -> - | T41: =IF(E41=0,"-",VLOOKUP(E41,Sheet1!$D$8:$E$72,2,FALSE)) -> - | U41: =IF(F41=0,"-",VLOOKUP(F41,Sheet1!$A$19:$B$21,2,FALSE)) -> - | V41: =IF(G41=0,"-",VLOOKUP(G41,Sheet1!$D$3:$E$5,2,FALSE)) -> - | W41: =IF(H41=0,"-",VLOOKUP(H41,Sheet1!$A$76:$B$77,2,FALSE)) -> - | X41: =IF(I41=0,"-",VLOOKUP(I41,Sheet1!$A$80:$B$85,2,FALSE)) -> - | AB41: =IF(M41=0,"-",VLOOKUP(M41,Sheet1!$D$76:$E$136,2,FALSE)) -> - | AC41: =IF(N41=0,"-",VLOOKUP(N41,Sheet1!$A$88:$B$90,2,FALSE)) -> -
A42: ไม่เคย | P42: =VLOOKUP(A42,Sheet1!$A$3:$B$4,2,FALSE) -> 0 | Q42: =IF(B42=0,"-",VLOOKUP(B42, Sheet1!$G$3:$H$44, 2, FALSE)) -> - | R42: =IF(C42=0,"-",VLOOKUP(C42,Sheet1!$A$7:$B$11,2,FALSE)) -> - | S42: =IF(D42=0,"-",VLOOKUP(D42,Sheet1!$A$14:$B$16,2,FALSE)) -> - | T42: =IF(E42=0,"-",VLOOKUP(E42,Sheet1!$D$8:$E$72,2,FALSE)) -> - | U42: =IF(F42=0,"-",VLOOKUP(F42,Sheet1!$A$19:$B$21,2,FALSE)) -> - | V42: =IF(G42=0,"-",VLOOKUP(G42,Sheet1!$D$3:$E$5,2,FALSE)) -> - | W42: =IF(H42=0,"-",VLOOKUP(H42,Sheet1!$A$76:$B$77,2,FALSE)) -> - | X42: =IF(I42=0,"-",VLOOKUP(I42,Sheet1!$A$80:$B$85,2,FALSE)) -> - | AB42: =IF(M42=0,"-",VLOOKUP(M42,Sheet1!$D$76:$E$136,2,FALSE)) -> - | AC42: =IF(N42=0,"-",VLOOKUP(N42,Sheet1!$A$88:$B$90,2,FALSE)) -> -
A43: ไม่เคย | P43: =VLOOKUP(A43,Sheet1!$A$3:$B$4,2,FALSE) -> 0 | Q43: =IF(B43=0,"-",VLOOKUP(B43, Sheet1!$G$3:$H$44, 2, FALSE)) -> - | R43: =IF(C43=0,"-",VLOOKUP(C43,Sheet1!$A$7:$B$11,2,FALSE)) -> - | S43: =IF(D43=0,"-",VLOOKUP(D43,Sheet1!$A$14:$B$16,2,FALSE)) -> - | T43: =IF(E43=0,"-",VLOOKUP(E43,Sheet1!$D$8:$E$72,2,FALSE)) -> - | U43: =IF(F43=0,"-",VLOOKUP(F43,Sheet1!$A$19:$B$21,2,FALSE)) -> - | V43: =IF(G43=0,"-",VLOOKUP(G43,Sheet1!$D$3:$E$5,2,FALSE)) -> - | W43: =IF(H43=0,"-",VLOOKUP(H43,Sheet1!$A$76:$B$77,2,FALSE)) -> - | X43: =IF(I43=0,"-",VLOOKUP(I43,Sheet1!$A$80:$B$85,2,FALSE)) -> - | AB43: =IF(M43=0,"-",VLOOKUP(M43,Sheet1!$D$76:$E$136,2,FALSE)) -> - | AC43: =IF(N43=0,"-",VLOOKUP(N43,Sheet1!$A$88:$B$90,2,FALSE)) -> -
A44: ไม่เคย | P44: =VLOOKUP(A44,Sheet1!$A$3:$B$4,2,FALSE) -> 0 | Q44: =IF(B44=0,"-",VLOOKUP(B44, Sheet1!$G$3:$H$44, 2, FALSE)) -> - | R44: =IF(C44=0,"-",VLOOKUP(C44,Sheet1!$A$7:$B$11,2,FALSE)) -> - | S44: =IF(D44=0,"-",VLOOKUP(D44,Sheet1!$A$14:$B$16,2,FALSE)) -> - | T44: =IF(E44=0,"-",VLOOKUP(E44,Sheet1!$D$8:$E$72,2,FALSE)) -> - | U44: =IF(F44=0,"-",VLOOKUP(F44,Sheet1!$A$19:$B$21,2,FALSE)) -> - | V44: =IF(G44=0,"-",VLOOKUP(G44,Sheet1!$D$3:$E$5,2,FALSE)) -> - | W44: =IF(H44=0,"-",VLOOKUP(H44,Sheet1!$A$76:$B$77,2,FALSE)) -> - | X44: =IF(I44=0,"-",VLOOKUP(I44,Sheet1!$A$80:$B$85,2,FALSE)) -> - | AB44: =IF(M44=0,"-",VLOOKUP(M44,Sheet1!$D$76:$E$136,2,FALSE)) -> - | AC44: =IF(N44=0,"-",VLOOKUP(N44,Sheet1!$A$88:$B$90,2,FALSE)) -> -
A45: ไม่เคย | P45: =VLOOKUP(A45,Sheet1!$A$3:$B$4,2,FALSE) -> 0 | Q45: =IF(B45=0,"-",VLOOKUP(B45, Sheet1!$G$3:$H$44, 2, FALSE)) -> - | R45: =IF(C45=0,"-",VLOOKUP(C45,Sheet1!$A$7:$B$11,2,FALSE)) -> - | S45: =IF(D45=0,"-",VLOOKUP(D45,Sheet1!$A$14:$B$16,2,FALSE)) -> - | T45: =IF(E45=0,"-",VLOOKUP(E45,Sheet1!$D$8:$E$72,2,FALSE)) -> - | U45: =IF(F45=0,"-",VLOOKUP(F45,Sheet1!$A$19:$B$21,2,FALSE)) -> - | V45: =IF(G45=0,"-",VLOOKUP(G45,Sheet1!$D$3:$E$5,2,FALSE)) -> - | W45: =IF(H45=0,"-",VLOOKUP(H45,Sheet1!$A$76:$B$77,2,FALSE)) -> - | X45: =IF(I45=0,"-",VLOOKUP(I45,Sheet1!$A$80:$B$85,2,FALSE)) -> - | AB45: =IF(M45=0,"-",VLOOKUP(M45,Sheet1!$D$76:$E$136,2,FALSE)) -> - | AC45: =IF(N45=0,"-",VLOOKUP(N45,Sheet1!$A$88:$B$90,2,FALSE)) -> -
A46: เคย | B46: ความหลากหลายของเนื้อเรื่อง, สะดวก สามารถอ่านได้ทุกที่, ไม่มีค่าใช้จ่าย หรือค่าใช้จ่ายน้อยกว่าซื้อหนังสือ | C46: 7 - 15 ชั่วโมง | D46: ทั้งสองที่ | E46: Dek-D, WattPad | F46: ทั้งสอง | G46: โทรศัพท์มือถือ | H46: ไม่เคย | P46: =VLOOKUP(A46,Sheet1!$A$3:$B$4,2,FALSE) -> 1 | Q46: =IF(B46=0,"-",VLOOKUP(B46, Sheet1!$G$3:$H$44, 2, FALSE)) -> 13 | R46: =IF(C46=0,"-",VLOOKUP(C46,Sheet1!$A$7:$B$11,2,FALSE)) -> 1 | S46: =IF(D46=0,"-",VLOOKUP(D46,Sheet1!$A$14:$B$16,2,FALSE)) -> 2 | T46: =IF(E46=0,"-",VLOOKUP(E46,Sheet1!$D$8:$E$72,2,FALSE)) -> 9 | U46: =IF(F46=0,"-",VLOOKUP(F46,Sheet1!$A$19:$B$21,2,FALSE)) -> 2 | V46: =IF(G46=0,"-",VLOOKUP(G46,Sheet1!$D$3:$E$5,2,FALSE)) -> 1 | W46: =IF(H46=0,"-",VLOOKUP(H46,Sheet1!$A$76:$B$77,2,FALSE)) -> 0 | X46: =IF(I46=0,"-",VLOOKUP(I46,Sheet1!$A$80:$B$85,2,FALSE)) -> - | AB46: =IF(M46=0,"-",VLOOKUP(M46,Sheet1!$D$76:$E$136,2,FALSE)) -> - | AC46: =IF(N46=0,"-",VLOOKUP(N46,Sheet1!$A$88:$B$90,2,FALSE)) -> -
A47: เคย | B47: สะดวก สามารถอ่านได้ทุกที่, ไม่มีค่าใช้จ่าย หรือค่าใช้จ่ายน้อยกว่าซื้อหนังสือ | C47: น้อยกว่า 7 ชั่วโมง | D47: Application | E47: Dek-D | F47: ทั้งสอง | G47: โทรศัพท์มือถือ | H47: ไม่เคย | P47: =VLOOKUP(A47,Sheet1!$A$3:$B$4,2,FALSE) -> 1 | Q47: =IF(B47=0,"-",VLOOKUP(B47, Sheet1!$G$3:$H$44, 2, FALSE)) -> 33 | R47: =IF(C47=0,"-",VLOOKUP(C47,Sheet1!$A$7:$B$11,2,FALSE)) -> 0 | S47: =IF(D47=0,"-",VLOOKUP(D47,Sheet1!$A$14:$B$16,2,FALSE)) -> 1 | T47: =IF(E47=0,"-",VLOOKUP(E47,Sheet1!$D$8:$E$72,2,FALSE)) -> 1 | U47: =IF(F47=0,"-",VLOOKUP(F47,Sheet1!$A$19:$B$21,2,FALSE)) -> 2 | V47: =IF(G47=0,"-",VLOOKUP(G47,Sheet1!$D$3:$E$5,2,FALSE)) -> 1 | W47: =IF(H47=0,"-",VLOOKUP(H47,Sheet1!$A$76:$B$77,2,FALSE)) -> 0 | X47: =IF(I47=0,"-",VLOOKUP(I47,Sheet1!$A$80:$B$85,2,FALSE)) -> - | AB47: =IF(M47=0,"-",VLOOKUP(M47,Sheet1!$D$76:$E$136,2,FALSE)) -> - | AC47: =IF(N47=0,"-",VLOOKUP(N47,Sheet1!$A$88:$B$90,2,FALSE)) -> -
A48: ไม่เคย | P48: =VLOOKUP(A48,Sheet1!$A$3:$B$4,2,FALSE) -> 0 | Q48: =IF(B48=0,"-",VLOOKUP(B48, Sheet1!$G$3:$H$44, 2, FALSE)) -> - | R48: =IF(C48=0,"-",VLOOKUP(C48,Sheet1!$A$7:$B$11,2,FALSE)) -> - | S48: =IF(D48=0,"-",VLOOKUP(D48,Sheet1!$A$14:$B$16,2,FALSE)) -> - | T48: =IF(E48=0,"-",VLOOKUP(E48,Sheet1!$D$8:$E$72,2,FALSE)) -> - | U48: =IF(F48=0,"-",VLOOKUP(F48,Sheet1!$A$19:$B$21,2,FALSE)) -> - | V48: =IF(G48=0,"-",VLOOKUP(G48,Sheet1!$D$3:$E$5,2,FALSE)) -> - | W48: =IF(H48=0,"-",VLOOKUP(H48,Sheet1!$A$76:$B$77,2,FALSE)) -> - | X48: =IF(I48=0,"-",VLOOKUP(I48,Sheet1!$A$80:$B$85,2,FALSE)) -> - | AB48: =IF(M48=0,"-",VLOOKUP(M48,Sheet1!$D$76:$E$136,2,FALSE)) -> - | AC48: =IF(N48=0,"-",VLOOKUP(N48,Sheet1!$A$88:$B$90,2,FALSE)) -> -
A49: ไม่เคย | P49: =VLOOKUP(A49,Sheet1!$A$3:$B$4,2,FALSE) -> 0 | Q49: =IF(B49=0,"-",VLOOKUP(B49, Sheet1!$G$3:$H$44, 2, FALSE)) -> - | R49: =IF(C49=0,"-",VLOOKUP(C49,Sheet1!$A$7:$B$11,2,FALSE)) -> - | S49: =IF(D49=0,"-",VLOOKUP(D49,Sheet1!$A$14:$B$16,2,FALSE)) -> - | T49: =IF(E49=0,"-",VLOOKUP(E49,Sheet1!$D$8:$E$72,2,FALSE)) -> - | U49: =IF(F49=0,"-",VLOOKUP(F49,Sheet1!$A$19:$B$21,2,FALSE)) -> - | V49: =IF(G49=0,"-",VLOOKUP(G49,Sheet1!$D$3:$E$5,2,FALSE)) -> - | W49: =IF(H49=0,"-",VLOOKUP(H49,Sheet1!$A$76:$B$77,2,FALSE)) -> - | X49: =IF(I49=0,"-",VLOOKUP(I49,Sheet1!$A$80:$B$85,2,FALSE)) -> - | AB49: =IF(M49=0,"-",VLOOKUP(M49,Sheet1!$D$76:$E$136,2,FALSE)) -> - | AC49: =IF(N49=0,"-",VLOOKUP(N49,Sheet1!$A$88:$B$90,2,FALSE)) -> -
A50: เคย | B50: สะดวก สามารถอ่านได้ทุกที่, ไม่มีค่าใช้จ่าย หรือค่าใช้จ่ายน้อยกว่าซื้อหนังสือ, ประหยัดพื้นที่ในการเก็บ | C50: 7 - 15 ชั่วโมง | D50: ทั้งสองที่ | E50: Meb | F50: ไม่ใช่แฟนฟิคชั่น | G50: โทรศัพท์มือถือ | H50: เคย | I50: Meb | J50: 1 | K50: 1000 | L50: 10000 | M50: In-app purchase (ชำระผ่าน Application), Credit/Debit card, Mobile/online banking, True Money, ชำระผ่านเคาน์เตอร์ (7-11, Big C, Tesco, etc.), LinePay/Paypal/Airpay/Alipay, ชำระผ่านผู้ให้บริการสัญญาณโทรศัพท์ (True, AIS, DTAC) | N50: นิยายวายไม่ใช่แฟนฟิคชั่น | P50: =VLOOKUP(A50,Sheet1!$A$3:$B$4,2,FALSE) -> 1 | Q50: =IF(B50=0,"-",VLOOKUP(B50, Sheet1!$G$3:$H$44, 2, FALSE)) -> 35 | R50: =IF(C50=0,"-",VLOOKUP(C50,Sheet1!$A$7:$B$11,2,FALSE)) -> 1 | S50: =IF(D50=0,"-",VLOOKUP(D50,Sheet1!$A$14:$B$16,2,FALSE)) -> 2 | T50: =IF(E50=0,"-",VLOOKUP(E50,Sheet1!$D$8:$E$72,2,FALSE)) -> 58 | U50: =IF(F50=0,"-",VLOOKUP(F50,Sheet1!$A$19:$B$21,2,FALSE)) -> 1 | V50: =IF(G50=0,"-",VLOOKUP(G50,Sheet1!$D$3:$E$5,2,FALSE)) -> 1 | W50: =IF(H50=0,"-",VLOOKUP(H50,Sheet1!$A$76:$B$77,2,FALSE)) -> 1 | X50: =IF(I50=0,"-",VLOOKUP(I50,Sheet1!$A$80:$B$85,2,FALSE)) -> 5 | Y50: 1 | Z50: 1000 | AA50: 10000 | AB50: =IF(M50=0,"-",VLOOKUP(M50,Sheet1!$D$76:$E$136,2,FALSE)) -> 13 | AC50: =IF(N50=0,"-",VLOOKUP(N50,Sheet1!$A$88:$B$90,2,FALSE)) -> 1
A51: ไม่เคย | P51: =VLOOKUP(A51,Sheet1!$A$3:$B$4,2,FALSE) -> 0 | Q51: =IF(B51=0,"-",VLOOKUP(B51, Sheet1!$G$3:$H$44, 2, FALSE)) -> - | R51: =IF(C51=0,"-",VLOOKUP(C51,Sheet1!$A$7:$B$11,2,FALSE)) -> - | S51: =IF(D51=0,"-",VLOOKUP(D51,Sheet1!$A$14:$B$16,2,FALSE)) -> - | T51: =IF(E51=0,"-",VLOOKUP(E51,Sheet1!$D$8:$E$72,2,FALSE)) -> - | U51: =IF(F51=0,"-",VLOOKUP(F51,Sheet1!$A$19:$B$21,2,FALSE)) -> - | V51: =IF(G51=0,"-",VLOOKUP(G51,Sheet1!$D$3:$E$5,2,FALSE)) -> - | W51: =IF(H51=0,"-",VLOOKUP(H51,Sheet1!$A$76:$B$77,2,FALSE)) -> - | X51: =IF(I51=0,"-",VLOOKUP(I51,Sheet1!$A$80:$B$85,2,FALSE)) -> - | AB51: =IF(M51=0,"-",VLOOKUP(M51,Sheet1!$D$76:$E$136,2,FALSE)) -> - | AC51: =IF(N51=0,"-",VLOOKUP(N51,Sheet1!$A$88:$B$90,2,FALSE)) -> -
A52: ไม่เคย | P52: =VLOOKUP(A52,Sheet1!$A$3:$B$4,2,FALSE) -> 0 | Q52: =IF(B52=0,"-",VLOOKUP(B52, Sheet1!$G$3:$H$44, 2, FALSE)) -> - | R52: =IF(C52=0,"-",VLOOKUP(C52,Sheet1!$A$7:$B$11,2,FALSE)) -> - | S52: =IF(D52=0,"-",VLOOKUP(D52,Sheet1!$A$14:$B$16,2,FALSE)) -> - | T52: =IF(E52=0,"-",VLOOKUP(E52,Sheet1!$D$8:$E$72,2,FALSE)) -> - | U52: =IF(F52=0,"-",VLOOKUP(F52,Sheet1!$A$19:$B$21,2,FALSE)) -> - | V52: =IF(G52=0,"-",VLOOKUP(G52,Sheet1!$D$3:$E$5,2,FALSE)) -> - | W52: =IF(H52=0,"-",VLOOKUP(H52,Sheet1!$A$76:$B$77,2,FALSE)) -> - | X52: =IF(I52=0,"-",VLOOKUP(I52,Sheet1!$A$80:$B$85,2,FALSE)) -> - | AB52: =IF(M52=0,"-",VLOOKUP(M52,Sheet1!$D$76:$E$136,2,FALSE)) -> - | AC52: =IF(N52=0,"-",VLOOKUP(N52,Sheet1!$A$88:$B$90,2,FALSE)) -> -
A53: ไม่เคย | P53: =VLOOKUP(A53,Sheet1!$A$3:$B$4,2,FALSE) -> 0 | Q53: =IF(B53=0,"-",VLOOKUP(B53, Sheet1!$G$3:$H$44, 2, FALSE)) -> - | R53: =IF(C53=0,"-",VLOOKUP(C53,Sheet1!$A$7:$B$11,2,FALSE)) -> - | S53: =IF(D53=0,"-",VLOOKUP(D53,Sheet1!$A$14:$B$16,2,FALSE)) -> - | T53: =IF(E53=0,"-",VLOOKUP(E53,Sheet1!$D$8:$E$72,2,FALSE)) -> - | U53: =IF(F53=0,"-",VLOOKUP(F53,Sheet1!$A$19:$B$21,2,FALSE)) -> - | V53: =IF(G53=0,"-",VLOOKUP(G53,Sheet1!$D$3:$E$5,2,FALSE)) -> - | W53: =IF(H53=0,"-",VLOOKUP(H53,Sheet1!$A$76:$B$77,2,FALSE)) -> - | X53: =IF(I53=0,"-",VLOOKUP(I53,Sheet1!$A$80:$B$85,2,FALSE)) -> - | AB53: =IF(M53=0,"-",VLOOKUP(M53,Sheet1!$D$76:$E$136,2,FALSE)) -> - | AC53: =IF(N53=0,"-",VLOOKUP(N53,Sheet1!$A$88:$B$90,2,FALSE)) -> -
A54: เคย | B54: สะดวก สามารถอ่านได้ทุกที่, ไม่มีค่าใช้จ่าย หรือค่าใช้จ่ายน้อยกว่าซื้อหนังสือ | C54: น้อยกว่า 7 ชั่วโมง | D54: ทั้งสองที่ | E54: Joylada | F54: แฟนฟิคชั่น (Fanfiction) | G54: โทรศัพท์มือถือ | H54: ไม่เคย | P54: =VLOOKUP(A54,Sheet1!$A$3:$B$4,2,FALSE) -> 1 | Q54: =IF(B54=0,"-",VLOOKUP(B54, Sheet1!$G$3:$H$44, 2, FALSE)) -> 33 | R54: =IF(C54=0,"-",VLOOKUP(C54,Sheet1!$A$7:$B$11,2,FALSE)) -> 0 | S54: =IF(D54=0,"-",VLOOKUP(D54,Sheet1!$A$14:$B$16,2,FALSE)) -> 2 | T54: =IF(E54=0,"-",VLOOKUP(E54,Sheet1!$D$8:$E$72,2,FALSE)) -> 59 | U54: =IF(F54=0,"-",VLOOKUP(F54,Sheet1!$A$19:$B$21,2,FALSE)) -> 0 | V54: =IF(G54=0,"-",VLOOKUP(G54,Sheet1!$D$3:$E$5,2,FALSE)) -> 1 | W54: =IF(H54=0,"-",VLOOKUP(H54,Sheet1!$A$76:$B$77,2,FALSE)) -> 0 | X54: =IF(I54=0,"-",VLOOKUP(I54,Sheet1!$A$80:$B$85,2,FALSE)) -> - | AB54: =IF(M54=0,"-",VLOOKUP(M54,Sheet1!$D$76:$E$136,2,FALSE)) -> - | AC54: =IF(N54=0,"-",VLOOKUP(N54,Sheet1!$A$88:$B$90,2,FALSE)) -> -
A55: เคย | B55: ความหลากหลายของเนื้อเรื่อง, สะดวก สามารถอ่านได้ทุกที่, ไม่มีค่าใช้จ่าย หรือค่าใช้จ่ายน้อยกว่าซื้อหนังสือ | C55: น้อยกว่า 7 ชั่วโมง | D55: เว็บไซต์ | F55: ไม่ใช่แฟนฟิคชั่น | G55: โทรศัพท์มือถือ | H55: ไม่เคย | P55: =VLOOKUP(A55,Sheet1!$A$3:$B$4,2,FALSE) -> 1 | Q55: =IF(B55=0,"-",VLOOKUP(B55, Sheet1!$G$3:$H$44, 2, FALSE)) -> 13 | R55: =IF(C55=0,"-",VLOOKUP(C55,Sheet1!$A$7:$B$11,2,FALSE)) -> 0 | S55: =IF(D55=0,"-",VLOOKUP(D55,Sheet1!$A$14:$B$16,2,FALSE)) -> 0 | T55: =IF(E55=0,"-",VLOOKUP(E55,Sheet1!$D$8:$E$72,2,FALSE)) -> - | U55: =IF(F55=0,"-",VLOOKUP(F55,Sheet1!$A$19:$B$21,2,FALSE)) -> 1 | V55: =IF(G55=0,"-",VLOOKUP(G55,Sheet1!$D$3:$E$5,2,FALSE)) -> 1 | W55: =IF(H55=0,"-",VLOOKUP(H55,Sheet1!$A$76:$B$77,2,FALSE)) -> 0 | X55: =IF(I55=0,"-",VLOOKUP(I55,Sheet1!$A$80:$B$85,2,FALSE)) -> - | AB55: =IF(M55=0,"-",VLOOKUP(M55,Sheet1!$D$76:$E$136,2,FALSE)) -> - | AC55: =IF(N55=0,"-",VLOOKUP(N55,Sheet1!$A$88:$B$90,2,FALSE)) -> -
A56: ไม่เคย | P56: =VLOOKUP(A56,Sheet1!$A$3:$B$4,2,FALSE) -> 0 | Q56: =IF(B56=0,"-",VLOOKUP(B56, Sheet1!$G$3:$H$44, 2, FALSE)) -> - | R56: =IF(C56=0,"-",VLOOKUP(C56,Sheet1!$A$7:$B$11,2,FALSE)) -> - | S56: =IF(D56=0,"-",VLOOKUP(D56,Sheet1!$A$14:$B$16,2,FALSE)) -> - | T56: =IF(E56=0,"-",VLOOKUP(E56,Sheet1!$D$8:$E$72,2,FALSE)) -> - | U56: =IF(F56=0,"-",VLOOKUP(F56,Sheet1!$A$19:$B$21,2,FALSE)) -> - | V56: =IF(G56=0,"-",VLOOKUP(G56,Sheet1!$D$3:$E$5,2,FALSE)) -> - | W56: =IF(H56=0,"-",VLOOKUP(H56,Sheet1!$A$76:$B$77,2,FALSE)) -> - | X56: =IF(I56=0,"-",VLOOKUP(I56,Sheet1!$A$80:$B$85,2,FALSE)) -> - | AB56: =IF(M56=0,"-",VLOOKUP(M56,Sheet1!$D$76:$E$136,2,FALSE)) -> - | AC56: =IF(N56=0,"-",VLOOKUP(N56,Sheet1!$A$88:$B$90,2,FALSE)) -> -
A57: ไม่เคย | P57: =VLOOKUP(A57,Sheet1!$A$3:$B$4,2,FALSE) -> 0 | Q57: =IF(B57=0,"-",VLOOKUP(B57, Sheet1!$G$3:$H$44, 2, FALSE)) -> - | R57: =IF(C57=0,"-",VLOOKUP(C57,Sheet1!$A$7:$B$11,2,FALSE)) -> - | S57: =IF(D57=0,"-",VLOOKUP(D57,Sheet1!$A$14:$B$16,2,FALSE)) -> - | T57: =IF(E57=0,"-",VLOOKUP(E57,Sheet1!$D$8:$E$72,2,FALSE)) -> - | U57: =IF(F57=0,"-",VLOOKUP(F57,Sheet1!$A$19:$B$21,2,FALSE)) -> - | V57: =IF(G57=0,"-",VLOOKUP(G57,Sheet1!$D$3:$E$5,2,FALSE)) -> - | W57: =IF(H57=0,"-",VLOOKUP(H57,Sheet1!$A$76:$B$77,2,FALSE)) -> - | X57: =IF(I57=0,"-",VLOOKUP(I57,Sheet1!$A$80:$B$85,2,FALSE)) -> - | AB57: =IF(M57=0,"-",VLOOKUP(M57,Sheet1!$D$76:$E$136,2,FALSE)) -> - | AC57: =IF(N57=0,"-",VLOOKUP(N57,Sheet1!$A$88:$B$90,2,FALSE)) -> -
A58: ไม่เคย | P58: =VLOOKUP(A58,Sheet1!$A$3:$B$4,2,FALSE) -> 0 | Q58: =IF(B58=0,"-",VLOOKUP(B58, Sheet1!$G$3:$H$44, 2, FALSE)) -> - | R58: =IF(C58=0,"-",VLOOKUP(C58,Sheet1!$A$7:$B$11,2,FALSE)) -> - | S58: =IF(D58=0,"-",VLOOKUP(D58,Sheet1!$A$14:$B$16,2,FALSE)) -> - | T58: =IF(E58=0,"-",VLOOKUP(E58,Sheet1!$D$8:$E$72,2,FALSE)) -> - | U58: =IF(F58=0,"-",VLOOKUP(F58,Sheet1!$A$19:$B$21,2,FALSE)) -> - | V58: =IF(G58=0,"-",VLOOKUP(G58,Sheet1!$D$3:$E$5,2,FALSE)) -> - | W58: =IF(H58=0,"-",VLOOKUP(H58,Sheet1!$A$76:$B$77,2,FALSE)) -> - | X58: =IF(I58=0,"-",VLOOKUP(I58,Sheet1!$A$80:$B$85,2,FALSE)) -> - | AB58: =IF(M58=0,"-",VLOOKUP(M58,Sheet1!$D$76:$E$136,2,FALSE)) -> - | AC58: =IF(N58=0,"-",VLOOKUP(N58,Sheet1!$A$88:$B$90,2,FALSE)) -> -
A59: ไม่เคย | P59: =VLOOKUP(A59,Sheet1!$A$3:$B$4,2,FALSE) -> 0 | Q59: =IF(B59=0,"-",VLOOKUP(B59, Sheet1!$G$3:$H$44, 2, FALSE)) -> - | R59: =IF(C59=0,"-",VLOOKUP(C59,Sheet1!$A$7:$B$11,2,FALSE)) -> - | S59: =IF(D59=0,"-",VLOOKUP(D59,Sheet1!$A$14:$B$16,2,FALSE)) -> - | T59: =IF(E59=0,"-",VLOOKUP(E59,Sheet1!$D$8:$E$72,2,FALSE)) -> - | U59: =IF(F59=0,"-",VLOOKUP(F59,Sheet1!$A$19:$B$21,2,FALSE)) -> - | V59: =IF(G59=0,"-",VLOOKUP(G59,Sheet1!$D$3:$E$5,2,FALSE)) -> - | W59: =IF(H59=0,"-",VLOOKUP(H59,Sheet1!$A$76:$B$77,2,FALSE)) -> - | X59: =IF(I59=0,"-",VLOOKUP(I59,Sheet1!$A$80:$B$85,2,FALSE)) -> - | AB59: =IF(M59=0,"-",VLOOKUP(M59,Sheet1!$D$76:$E$136,2,FALSE)) -> - | AC59: =IF(N59=0,"-",VLOOKUP(N59,Sheet1!$A$88:$B$90,2,FALSE)) -> -
A60: เคย | B60: สะดวก สามารถอ่านได้ทุกที่, ไม่มีค่าใช้จ่าย หรือค่าใช้จ่ายน้อยกว่าซื้อหนังสือ | C60: 7 - 15 ชั่วโมง | D60: ทั้งสองที่ | E60: Fictionlog | F60: ไม่ใช่แฟนฟิคชั่น | G60: โทรศัพท์มือถือ | H60: เคย | I60: Fictionlog | J60: 10 | K60: 10 | L60: 50 | M60: True Money | N60: นิยายวายไม่ใช่แฟนฟิคชั่น | P60: =VLOOKUP(A60,Sheet1!$A$3:$B$4,2,FALSE) -> 1 | Q60: =IF(B60=0,"-",VLOOKUP(B60, Sheet1!$G$3:$H$44, 2, FALSE)) -> 33 | R60: =IF(C60=0,"-",VLOOKUP(C60,Sheet1!$A$7:$B$11,2,FALSE)) -> 1 | S60: =IF(D60=0,"-",VLOOKUP(D60,Sheet1!$A$14:$B$16,2,FALSE)) -> 2 | T60: =IF(E60=0,"-",VLOOKUP(E60,Sheet1!$D$8:$E$72,2,FALSE)) -> 2 | U60: =IF(F60=0,"-",VLOOKUP(F60,Sheet1!$A$19:$B$21,2,FALSE)) -> 1 | V60: =IF(G60=0,"-",VLOOKUP(G60,Sheet1!$D$3:$E$5,2,FALSE)) -> 1 | W60: =IF(H60=0,"-",VLOOKUP(H60,Sheet1!$A$76:$B$77,2,FALSE)) -> 1 | X60: =IF(I60=0,"-",VLOOKUP(I60,Sheet1!$A$80:$B$85,2,FALSE)) -> 2 | Y60: 10 | Z60: 10 | AA60: 50 | AB60: =IF(M60=0,"-",VLOOKUP(M60,Sheet1!$D$76:$E$136,2,FALSE)) -> 3 | AC60: =IF(N60=0,"-",VLOOKUP(N60,Sheet1!$A$88:$B$90,2,FALSE)) -> 1
A61: เคย | B61: ความหลากหลายของเนื้อเรื่อง, สะดวก สามารถอ่านได้ทุกที่, ไม่มีค่าใช้จ่าย หรือค่าใช้จ่ายน้อยกว่าซื้อหนังสือ | C61: น้อยกว่า 7 ชั่วโมง | D61: ทั้งสองที่ | E61: Dek-D, Storylog | F61: แฟนฟิคชั่น (Fanfiction) | G61: โทรศัพท์มือถือ | H61: ไม่เคย | P61: =VLOOKUP(A61,Sheet1!$A$3:$B$4,2,FALSE) -> 1 | Q61: =IF(B61=0,"-",VLOOKUP(B61, Sheet1!$G$3:$H$44, 2, FALSE)) -> 13 | R61: =IF(C61=0,"-",VLOOKUP(C61,Sheet1!$A$7:$B$11,2,FALSE)) -> 0 | S61: =IF(D61=0,"-",VLOOKUP(D61,Sheet1!$A$14:$B$16,2,FALSE)) -> 2 | T61: =IF(E61=0,"-",VLOOKUP(E61,Sheet1!$D$8:$E$72,2,FALSE)) -> 45 | U61: =IF(F61=0,"-",VLOOKUP(F61,Sheet1!$A$19:$B$21,2,FALSE)) -> 0 | V61: =IF(G61=0,"-",VLOOKUP(G61,Sheet1!$D$3:$E$5,2,FALSE)) -> 1 | W61: =IF(H61=0,"-",VLOOKUP(H61,Sheet1!$A$76:$B$77,2,FALSE)) -> 0 | X61: =IF(I61=0,"-",VLOOKUP(I61,Sheet1!$A$80:$B$85,2,FALSE)) -> - | AB61: =IF(M61=0,"-",VLOOKUP(M61,Sheet1!$D$76:$E$136,2,FALSE)) -> - | AC61: =IF(N61=0,"-",VLOOKUP(N61,Sheet1!$A$88:$B$90,2,FALSE)) -> -
A62: ไม่เคย | P62: =VLOOKUP(A62,Sheet1!$A$3:$B$4,2,FALSE) -> 0 | Q62: =IF(B62=0,"-",VLOOKUP(B62, Sheet1!$G$3:$H$44, 2, FALSE)) -> - | R62: =IF(C62=0,"-",VLOOKUP(C62,Sheet1!$A$7:$B$11,2,FALSE)) -> - | S62: =IF(D62=0,"-",VLOOKUP(D62,Sheet1!$A$14:$B$16,2,FALSE)) -> - | T62: =IF(E62=0,"-",VLOOKUP(E62,Sheet1!$D$8:$E$72,2,FALSE)) -> - | U62: =IF(F62=0,"-",VLOOKUP(F62,Sheet1!$A$19:$B$21,2,FALSE)) -> - | V62: =IF(G62=0,"-",VLOOKUP(G62,Sheet1!$D$3:$E$5,2,FALSE)) -> - | W62: =IF(H62=0,"-",VLOOKUP(H62,Sheet1!$A$76:$B$77,2,FALSE)) -> - | X62: =IF(I62=0,"-",VLOOKUP(I62,Sheet1!$A$80:$B$85,2,FALSE)) -> - | AB62: =IF(M62=0,"-",VLOOKUP(M62,Sheet1!$D$76:$E$136,2,FALSE)) -> - | AC62: =IF(N62=0,"-",VLOOKUP(N62,Sheet1!$A$88:$B$90,2,FALSE)) -> -
A63: เคย | B63: ความหลากหลายของเนื้อเรื่อง, สะดวก สามารถอ่านได้ทุกที่, ไม่มีค่าใช้จ่าย หรือค่าใช้จ่ายน้อยกว่าซื้อหนังสือ | C63: น้อยกว่า 7 ชั่วโมง | D63: Application | E63: Dek-D | F63: แฟนฟิคชั่น (Fanfiction) | G63: โทรศัพท์มือถือ | H63: ไม่เคย | P63: =VLOOKUP(A63,Sheet1!$A$3:$B$4,2,FALSE) -> 1 | Q63: =IF(B63=0,"-",VLOOKUP(B63, Sheet1!$G$3:$H$44, 2, FALSE)) -> 13 | R63: =IF(C63=0,"-",VLOOKUP(C63,Sheet1!$A$7:$B$11,2,FALSE)) -> 0 | S63: =IF(D63=0,"-",VLOOKUP(D63,Sheet1!$A$14:$B$16,2,FALSE)) -> 1 | T63: =IF(E63=0,"-",VLOOKUP(E63,Sheet1!$D$8:$E$72,2,FALSE)) -> 1 | U63: =IF(F63=0,"-",VLOOKUP(F63,Sheet1!$A$19:$B$21,2,FALSE)) -> 0 | V63: =IF(G63=0,"-",VLOOKUP(G63,Sheet1!$D$3:$E$5,2,FALSE)) -> 1 | W63: =IF(H63=0,"-",VLOOKUP(H63,Sheet1!$A$76:$B$77,2,FALSE)) -> 0 | X63: =IF(I63=0,"-",VLOOKUP(I63,Sheet1!$A$80:$B$85,2,FALSE)) -> - | AB63: =IF(M63=0,"-",VLOOKUP(M63,Sheet1!$D$76:$E$136,2,FALSE)) -> - | AC63: =IF(N63=0,"-",VLOOKUP(N63,Sheet1!$A$88:$B$90,2,FALSE)) -> -
A64: เคย | B64: ความหลากหลายของเนื้อเรื่อง, สะดวก สามารถอ่านได้ทุกที่, ไม่มีค่าใช้จ่าย หรือค่าใช้จ่ายน้อยกว่าซื้อหนังสือ | C64: 16 - 25 ชั่วโมง | D64: ทั้งสองที่ | E64: Dek-D, ธัญวลัย, ReadAwrite | F64: ทั้งสอง | G64: โทรศัพท์มือถือ | H64: ไม่เคย | P64: =VLOOKUP(A64,Sheet1!$A$3:$B$4,2,FALSE) -> 1 | Q64: =IF(B64=0,"-",VLOOKUP(B64, Sheet1!$G$3:$H$44, 2, FALSE)) -> 13 | R64: =IF(C64=0,"-",VLOOKUP(C64,Sheet1!$A$7:$B$11,2,FALSE)) -> 2 | S64: =IF(D64=0,"-",VLOOKUP(D64,Sheet1!$A$14:$B$16,2,FALSE)) -> 2 | T64: =IF(E64=0,"-",VLOOKUP(E64,Sheet1!$D$8:$E$72,2,FALSE)) -> 31 | U64: =IF(F64=0,"-",VLOOKUP(F64,Sheet1!$A$19:$B$21,2,FALSE)) -> 2 | V64: =IF(G64=0,"-",VLOOKUP(G64,Sheet1!$D$3:$E$5,2,FALSE)) -> 1 | W64: =IF(H64=0,"-",VLOOKUP(H64,Sheet1!$A$76:$B$77,2,FALSE)) -> 0 | X64: =IF(I64=0,"-",VLOOKUP(I64,Sheet1!$A$80:$B$85,2,FALSE)) -> - | AB64: =IF(M64=0,"-",VLOOKUP(M64,Sheet1!$D$76:$E$136,2,FALSE)) -> - | AC64: =IF(N64=0,"-",VLOOKUP(N64,Sheet1!$A$88:$B$90,2,FALSE)) -> -
A65: เคย | B65: ความหลากหลายของเนื้อเรื่อง, สะดวก สามารถอ่านได้ทุกที่ | C65: น้อยกว่า 7 ชั่วโมง | D65: เว็บไซต์ | E65: Dek-D | F65: แฟนฟิคชั่น (Fanfiction) | G65: โทรศัพท์มือถือ | H65: ไม่เคย | P65: =VLOOKUP(A65,Sheet1!$A$3:$B$4,2,FALSE) -> 1 | Q65: =IF(B65=0,"-",VLOOKUP(B65, Sheet1!$G$3:$H$44, 2, FALSE)) -> 12 | R65: =IF(C65=0,"-",VLOOKUP(C65,Sheet1!$A$7:$B$11,2,FALSE)) -> 0 | S65: =IF(D65=0,"-",VLOOKUP(D65,Sheet1!$A$14:$B$16,2,FALSE)) -> 0 | T65: =IF(E65=0,"-",VLOOKUP(E65,Sheet1!$D$8:$E$72,2,FALSE)) -> 1 | U65: =IF(F65=0,"-",VLOOKUP(F65,Sheet1!$A$19:$B$21,2,FALSE)) -> 0 | V65: =IF(G65=0,"-",VLOOKUP(G65,Sheet1!$D$3:$E$5,2,FALSE)) -> 1 | W65: =IF(H65=0,"-",VLOOKUP(H65,Sheet1!$A$76:$B$77,2,FALSE)) -> 0 | X65: =IF(I65=0,"-",VLOOKUP(I65,Sheet1!$A$80:$B$85,2,FALSE)) -> - | AB65: =IF(M65=0,"-",VLOOKUP(M65,Sheet1!$D$76:$E$136,2,FALSE)) -> - | AC65: =IF(N65=0,"-",VLOOKUP(N65,Sheet1!$A$88:$B$90,2,FALSE)) -> -
A66: ไม่เคย | P66: =VLOOKUP(A66,Sheet1!$A$3:$B$4,2,FALSE) -> 0 | Q66: =IF(B66=0,"-",VLOOKUP(B66, Sheet1!$G$3:$H$44, 2, FALSE)) -> - | R66: =IF(C66=0,"-",VLOOKUP(C66,Sheet1!$A$7:$B$11,2,FALSE)) -> - | S66: =IF(D66=0,"-",VLOOKUP(D66,Sheet1!$A$14:$B$16,2,FALSE)) -> - | T66: =IF(E66=0,"-",VLOOKUP(E66,Sheet1!$D$8:$E$72,2,FALSE)) -> - | U66: =IF(F66=0,"-",VLOOKUP(F66,Sheet1!$A$19:$B$21,2,FALSE)) -> - | V66: =IF(G66=0,"-",VLOOKUP(G66,Sheet1!$D$3:$E$5,2,FALSE)) -> - | W66: =IF(H66=0,"-",VLOOKUP(H66,Sheet1!$A$76:$B$77,2,FALSE)) -> - | X66: =IF(I66=0,"-",VLOOKUP(I66,Sheet1!$A$80:$B$85,2,FALSE)) -> - | AB66: =IF(M66=0,"-",VLOOKUP(M66,Sheet1!$D$76:$E$136,2,FALSE)) -> - | AC66: =IF(N66=0,"-",VLOOKUP(N66,Sheet1!$A$88:$B$90,2,FALSE)) -> -
A67: เคย | B67: ความหลากหลายของเนื้อเรื่อง, สะดวก สามารถอ่านได้ทุกที่, ไม่มีค่าใช้จ่าย หรือค่าใช้จ่ายน้อยกว่าซื้อหนังสือ | C67: มากกว่า 40 ชั่วโมง | D67: ทั้งสองที่ | E67: Dek-D, Fictionlog, ธัญวลัย, ReadAwrite | F67: ทั้งสอง | G67: โทรศัพท์มือถือ | H67: เคย | I67: Dek-D | J67: 2 | K67: 300 | L67: 100 | M67: Mobile/online banking, ชำระผ่านตู้เติมเงิน (ตู้บุญเติม เป็นต้น), ชำระผ่านผู้ให้บริการสัญญาณโทรศัพท์ (True, AIS, DTAC) | N67: ทั้งสอง | P67: =VLOOKUP(A67,Sheet1!$A$3:$B$4,2,FALSE) -> 1 | Q67: =IF(B67=0,"-",VLOOKUP(B67, Sheet1!$G$3:$H$44, 2, FALSE)) -> 13 | R67: =IF(C67=0,"-",VLOOKUP(C67,Sheet1!$A$7:$B$11,2,FALSE)) -> 4 | S67: =IF(D67=0,"-",VLOOKUP(D67,Sheet1!$A$14:$B$16,2,FALSE)) -> 2 | T67: =IF(E67=0,"-",VLOOKUP(E67,Sheet1!$D$8:$E$72,2,FALSE)) -> 12 | U67: =IF(F67=0,"-",VLOOKUP(F67,Sheet1!$A$19:$B$21,2,FALSE)) -> 2 | V67: =IF(G67=0,"-",VLOOKUP(G67,Sheet1!$D$3:$E$5,2,FALSE)) -> 1 | W67: =IF(H67=0,"-",VLOOKUP(H67,Sheet1!$A$76:$B$77,2,FALSE)) -> 1 | X67: =IF(I67=0,"-",VLOOKUP(I67,Sheet1!$A$80:$B$85,2,FALSE)) -> 1 | Y67: 2 | Z67: 300 | AA67: 100 | AB67: =IF(M67=0,"-",VLOOKUP(M67,Sheet1!$D$76:$E$136,2,FALSE)) -> 55 | AC67: =IF(N67=0,"-",VLOOKUP(N67,Sheet1!$A$88:$B$90,2,FALSE)) -> 2
A68: เคย | B68: ความหลากหลายของเนื้อเรื่อง, สะดวก สามารถอ่านได้ทุกที่, ไม่มีค่าใช้จ่าย หรือค่าใช้จ่ายน้อยกว่าซื้อหนังสือ, สามารถแสดงความคิดเห็นต่อนิยายเรื่องนั้นๆ หรือตอนนั้นๆได้อย่างทันที | C68: 16 - 25 ชั่วโมง | D68: ทั้งสองที่ | E68: Dek-D, Fictionlog, ธัญวลัย, ReadAwrite | F68: ทั้งสอง | G68: โทรศัพท์มือถือ | H68: เคย | I68: Dek-D | J68: 15 | K68: 200 | L68: 250 | M68: True Money | N68: ทั้งสอง | P68: =VLOOKUP(A68,Sheet1!$A$3:$B$4,2,FALSE) -> 1 | Q68: =IF(B68=0,"-",VLOOKUP(B68, Sheet1!$G$3:$H$44, 2, FALSE)) -> 14 | R68: =IF(C68=0,"-",VLOOKUP(C68,Sheet1!$A$7:$B$11,2,FALSE)) -> 2 | S68: =IF(D68=0,"-",VLOOKUP(D68,Sheet1!$A$14:$B$16,2,FALSE)) -> 2 | T68: =IF(E68=0,"-",VLOOKUP(E68,Sheet1!$D$8:$E$72,2,FALSE)) -> 12 | U68: =IF(F68=0,"-",VLOOKUP(F68,Sheet1!$A$19:$B$21,2,FALSE)) -> 2 | V68: =IF(G68=0,"-",VLOOKUP(G68,Sheet1!$D$3:$E$5,2,FALSE)) -> 1 | W68: =IF(H68=0,"-",VLOOKUP(H68,Sheet1!$A$76:$B$77,2,FALSE)) -> 1 | X68: =IF(I68=0,"-",VLOOKUP(I68,Sheet1!$A$80:$B$85,2,FALSE)) -> 1 | Y68: 15 | Z68: 200 | AA68: 250 | AB68: =IF(M68=0,"-",VLOOKUP(M68,Sheet1!$D$76:$E$136,2,FALSE)) -> 3 | AC68: =IF(N68=0,"-",VLOOKUP(N68,Sheet1!$A$88:$B$90,2,FALSE)) -> 2
A69: เคย | B69: ความหลากหลายของเนื้อเรื่อง, สะดวก สามารถอ่านได้ทุกที่ | C69: มากกว่า 40 ชั่วโมง | D69: ทั้งสองที่ | E69: Dek-D, Fictionlog, ธัญวลัย, WattPad | F69: ทั้งสอง | G69: โทรศัพท์มือถือ | H69: เคย | I69: Dek-D | J69: 1 | K69: 300 | L69: 500 | M69: Mobile/online banking | N69: ทั้งสอง | P69: =VLOOKUP(A69,Sheet1!$A$3:$B$4,2,FALSE) -> 1 | Q69: =IF(B69=0,"-",VLOOKUP(B69, Sheet1!$G$3:$H$44, 2, FALSE)) -> 12 | R69: =IF(C69=0,"-",VLOOKUP(C69,Sheet1!$A$7:$B$11,2,FALSE)) -> 4 | S69: =IF(D69=0,"-",VLOOKUP(D69,Sheet1!$A$14:$B$16,2,FALSE)) -> 2 | T69: =IF(E69=0,"-",VLOOKUP(E69,Sheet1!$D$8:$E$72,2,FALSE)) -> 11 | U69: =IF(F69=0,"-",VLOOKUP(F69,Sheet1!$A$19:$B$21,2,FALSE)) -> 2 | V69: =IF(G69=0,"-",VLOOKUP(G69,Sheet1!$D$3:$E$5,2,FALSE)) -> 1 | W69: =IF(H69=0,"-",VLOOKUP(H69,Sheet1!$A$76:$B$77,2,FALSE)) -> 1 | X69: =IF(I69=0,"-",VLOOKUP(I69,Sheet1!$A$80:$B$85,2,FALSE)) -> 1 | Y69: 1 | Z69: 300 | AA69: 500 | AB69: =IF(M69=0,"-",VLOOKUP(M69,Sheet1!$D$76:$E$136,2,FALSE)) -> 2 | AC69: =IF(N69=0,"-",VLOOKUP(N69,Sheet1!$A$88:$B$90,2,FALSE)) -> 2
A70: ไม่เคย | P70: =VLOOKUP(A70,Sheet1!$A$3:$B$4,2,FALSE) -> 0 | Q70: =IF(B70=0,"-",VLOOKUP(B70, Sheet1!$G$3:$H$44, 2, FALSE)) -> - | R70: =IF(C70=0,"-",VLOOKUP(C70,Sheet1!$A$7:$B$11,2,FALSE)) -> - | S70: =IF(D70=0,"-",VLOOKUP(D70,Sheet1!$A$14:$B$16,2,FALSE)) -> - | T70: =IF(E70=0,"-",VLOOKUP(E70,Sheet1!$D$8:$E$72,2,FALSE)) -> - | U70: =IF(F70=0,"-",VLOOKUP(F70,Sheet1!$A$19:$B$21,2,FALSE)) -> - | V70: =IF(G70=0,"-",VLOOKUP(G70,Sheet1!$D$3:$E$5,2,FALSE)) -> - | W70: =IF(H70=0,"-",VLOOKUP(H70,Sheet1!$A$76:$B$77,2,FALSE)) -> - | X70: =IF(I70=0,"-",VLOOKUP(I70,Sheet1!$A$80:$B$85,2,FALSE)) -> - | AB70: =IF(M70=0,"-",VLOOKUP(M70,Sheet1!$D$76:$E$136,2,FALSE)) -> - | AC70: =IF(N70=0,"-",VLOOKUP(N70,Sheet1!$A$88:$B$90,2,FALSE)) -> -
A71: เคย | B71: อยากรู้ | C71: น้อยกว่า 7 ชั่วโมง | D71: Application | E71: Fictionlog | F71: ไม่ใช่แฟนฟิคชั่น | G71: โทรศัพท์มือถือ | H71: ไม่เคย | P71: =VLOOKUP(A71,Sheet1!$A$3:$B$4,2,FALSE) -> 1 | Q71: =IF(B71=0,"-",VLOOKUP(B71, Sheet1!$G$3:$H$44, 2, FALSE)) -> 6 | R71: =IF(C71=0,"-",VLOOKUP(C71,Sheet1!$A$7:$B$11,2,FALSE)) -> 0 | S71: =IF(D71=0,"-",VLOOKUP(D71,Sheet1!$A$14:$B$16,2,FALSE)) -> 1 | T71: =IF(E71=0,"-",VLOOKUP(E71,Sheet1!$D$8:$E$72,2,FALSE)) -> 2 | U71: =IF(F71=0,"-",VLOOKUP(F71,Sheet1!$A$19:$B$21,2,FALSE)) -> 1 | V71: =IF(G71=0,"-",VLOOKUP(G71,Sheet1!$D$3:$E$5,2,FALSE)) -> 1 | W71: =IF(H71=0,"-",VLOOKUP(H71,Sheet1!$A$76:$B$77,2,FALSE)) -> 0 | X71: =IF(I71=0,"-",VLOOKUP(I71,Sheet1!$A$80:$B$85,2,FALSE)) -> - | AB71: =IF(M71=0,"-",VLOOKUP(M71,Sheet1!$D$76:$E$136,2,FALSE)) -> - | AC71: =IF(N71=0,"-",VLOOKUP(N71,Sheet1!$A$88:$B$90,2,FALSE)) -> -
A72: เคย | B72: ไม่มีค่าใช้จ่าย หรือค่าใช้จ่ายน้อยกว่าซื้อหนังสือ | C72: น้อยกว่า 7 ชั่วโมง | D72: เว็บไซต์ | E72: Dek-D, ธัญวลัย | F72: ทั้งสอง | G72: Computer | H72: ไม่เคย | P72: =VLOOKUP(A72,Sheet1!$A$3:$B$4,2,FALSE) -> 1 | Q72: =IF(B72=0,"-",VLOOKUP(B72, Sheet1!$G$3:$H$44, 2, FALSE)) -> 3 | R72: =IF(C72=0,"-",VLOOKUP(C72,Sheet1!$A$7:$B$11,2,FALSE)) -> 0 | S72: =IF(D72=0,"-",VLOOKUP(D72,Sheet1!$A$14:$B$16,2,FALSE)) -> 0 | T72: =IF(E72=0,"-",VLOOKUP(E72,Sheet1!$D$8:$E$72,2,FALSE)) -> 7 | U72: =IF(F72=0,"-",VLOOKUP(F72,Sheet1!$A$19:$B$21,2,FALSE)) -> 2 | V72: =IF(G72=0,"-",VLOOKUP(G72,Sheet1!$D$3:$E$5,2,FALSE)) -> 0 | W72: =IF(H72=0,"-",VLOOKUP(H72,Sheet1!$A$76:$B$77,2,FALSE)) -> 0 | X72: =IF(I72=0,"-",VLOOKUP(I72,Sheet1!$A$80:$B$85,2,FALSE)) -> - | AB72: =IF(M72=0,"-",VLOOKUP(M72,Sheet1!$D$76:$E$136,2,FALSE)) -> - | AC72: =IF(N72=0,"-",VLOOKUP(N72,Sheet1!$A$88:$B$90,2,FALSE)) -> -
A73: ไม่เคย | P73: =VLOOKUP(A73,Sheet1!$A$3:$B$4,2,FALSE) -> 0 | Q73: =IF(B73=0,"-",VLOOKUP(B73, Sheet1!$G$3:$H$44, 2, FALSE)) -> - | R73: =IF(C73=0,"-",VLOOKUP(C73,Sheet1!$A$7:$B$11,2,FALSE)) -> - | S73: =IF(D73=0,"-",VLOOKUP(D73,Sheet1!$A$14:$B$16,2,FALSE)) -> - | T73: =IF(E73=0,"-",VLOOKUP(E73,Sheet1!$D$8:$E$72,2,FALSE)) -> - | U73: =IF(F73=0,"-",VLOOKUP(F73,Sheet1!$A$19:$B$21,2,FALSE)) -> - | V73: =IF(G73=0,"-",VLOOKUP(G73,Sheet1!$D$3:$E$5,2,FALSE)) -> - | W73: =IF(H73=0,"-",VLOOKUP(H73,Sheet1!$A$76:$B$77,2,FALSE)) -> - | X73: =IF(I73=0,"-",VLOOKUP(I73,Sheet1!$A$80:$B$85,2,FALSE)) -> - | AB73: =IF(M73=0,"-",VLOOKUP(M73,Sheet1!$D$76:$E$136,2,FALSE)) -> - | AC73: =IF(N73=0,"-",VLOOKUP(N73,Sheet1!$A$88:$B$90,2,FALSE)) -> -
A74: เคย | B74: ความหลากหลายของเนื้อเรื่อง, สะดวก สามารถอ่านได้ทุกที่ | C74: 16 - 25 ชั่วโมง | D74: ทั้งสองที่ | E74: Dek-D, Fictionlog, ธัญวลัย, ReadAwrite, WattPad | F74: ทั้งสอง | G74: โทรศัพท์มือถือ | H74: ไม่เคย | P74: =VLOOKUP(A74,Sheet1!$A$3:$B$4,2,FALSE) -> 1 | Q74: =IF(B74=0,"-",VLOOKUP(B74, Sheet1!$G$3:$H$44, 2, FALSE)) -> 12 | R74: =IF(C74=0,"-",VLOOKUP(C74,Sheet1!$A$7:$B$11,2,FALSE)) -> 2 | S74: =IF(D74=0,"-",VLOOKUP(D74,Sheet1!$A$14:$B$16,2,FALSE)) -> 2 | T74: =IF(E74=0,"-",VLOOKUP(E74,Sheet1!$D$8:$E$72,2,FALSE)) -> 13 | U74: =IF(F74=0,"-",VLOOKUP(F74,Sheet1!$A$19:$B$21,2,FALSE)) -> 2 | V74: =IF(G74=0,"-",VLOOKUP(G74,Sheet1!$D$3:$E$5,2,FALSE)) -> 1 | W74: =IF(H74=0,"-",VLOOKUP(H74,Sheet1!$A$76:$B$77,2,FALSE)) -> 0 | X74: =IF(I74=0,"-",VLOOKUP(I74,Sheet1!$A$80:$B$85,2,FALSE)) -> - | AB74: =IF(M74=0,"-",VLOOKUP(M74,Sheet1!$D$76:$E$136,2,FALSE)) -> - | AC74: =IF(N74=0,"-",VLOOKUP(N74,Sheet1!$A$88:$B$90,2,FALSE)) -> -
A75: เคย | B75: ความหลากหลายของเนื้อเรื่อง, สะดวก สามารถอ่านได้ทุกที่ | C75: น้อยกว่า 7 ชั่วโมง | D75: ทั้งสองที่ | E75: Dek-D | F75: ทั้งสอง | G75: โทรศัพท์มือถือ | H75: ไม่เคย | P75: =VLOOKUP(A75,Sheet1!$A$3:$B$4,2,FALSE) -> 1 | Q75: =IF(B75=0,"-",VLOOKUP(B75, Sheet1!$G$3:$H$44, 2, FALSE)) -> 12 | R75: =IF(C75=0,"-",VLOOKUP(C75,Sheet1!$A$7:$B$11,2,FALSE)) -> 0 | S75: =IF(D75=0,"-",VLOOKUP(D75,Sheet1!$A$14:$B$16,2,FALSE)) -> 2 | T75: =IF(E75=0,"-",VLOOKUP(E75,Sheet1!$D$8:$E$72,2,FALSE)) -> 1 | U75: =IF(F75=0,"-",VLOOKUP(F75,Sheet1!$A$19:$B$21,2,FALSE)) -> 2 | V75: =IF(G75=0,"-",VLOOKUP(G75,Sheet1!$D$3:$E$5,2,FALSE)) -> 1 | W75: =IF(H75=0,"-",VLOOKUP(H75,Sheet1!$A$76:$B$77,2,FALSE)) -> 0 | X75: =IF(I75=0,"-",VLOOKUP(I75,Sheet1!$A$80:$B$85,2,FALSE)) -> - | AB75: =IF(M75=0,"-",VLOOKUP(M75,Sheet1!$D$76:$E$136,2,FALSE)) -> - | AC75: =IF(N75=0,"-",VLOOKUP(N75,Sheet1!$A$88:$B$90,2,FALSE)) -> -
A76: เคย | B76: สะดวก สามารถอ่านได้ทุกที่ | C76: 7 - 15 ชั่วโมง | D76: ทั้งสองที่ | E76: Dek-D | F76: ทั้งสอง | G76: โทรศัพท์มือถือ | H76: ไม่เคย | P76: =VLOOKUP(A76,Sheet1!$A$3:$B$4,2,FALSE) -> 1 | Q76: =IF(B76=0,"-",VLOOKUP(B76, Sheet1!$G$3:$H$44, 2, FALSE)) -> 2 | R76: =IF(C76=0,"-",VLOOKUP(C76,Sheet1!$A$7:$B$11,2,FALSE)) -> 1 | S76: =IF(D76=0,"-",VLOOKUP(D76,Sheet1!$A$14:$B$16,2,FALSE)) -> 2 | T76: =IF(E76=0,"-",VLOOKUP(E76,Sheet1!$D$8:$E$72,2,FALSE)) -> 1 | U76: =IF(F76=0,"-",VLOOKUP(F76,Sheet1!$A$19:$B$21,2,FALSE)) -> 2 | V76: =IF(G76=0,"-",VLOOKUP(G76,Sheet1!$D$3:$E$5,2,FALSE)) -> 1 | W76: =IF(H76=0,"-",VLOOKUP(H76,Sheet1!$A$76:$B$77,2,FALSE)) -> 0 | X76: =IF(I76=0,"-",VLOOKUP(I76,Sheet1!$A$80:$B$85,2,FALSE)) -> - | AB76: =IF(M76=0,"-",VLOOKUP(M76,Sheet1!$D$76:$E$136,2,FALSE)) -> - | AC76: =IF(N76=0,"-",VLOOKUP(N76,Sheet1!$A$88:$B$90,2,FALSE)) -> -
A77: เคย | B77: ความหลากหลายของเนื้อเรื่อง, สะดวก สามารถอ่านได้ทุกที่, ไม่มีค่าใช้จ่าย หรือค่าใช้จ่ายน้อยกว่าซื้อหนังสือ | C77: 16 - 25 ชั่วโมง | D77: Application | F77: ทั้งสอง | G77: โทรศัพท์มือถือ | H77: ไม่เคย | P77: =VLOOKUP(A77,Sheet1!$A$3:$B$4,2,FALSE) -> 1 | Q77: =IF(B77=0,"-",VLOOKUP(B77, Sheet1!$G$3:$H$44, 2, FALSE)) -> 13 | R77: =IF(C77=0,"-",VLOOKUP(C77,Sheet1!$A$7:$B$11,2,FALSE)) -> 2 | S77: =IF(D77=0,"-",VLOOKUP(D77,Sheet1!$A$14:$B$16,2,FALSE)) -> 1 | T77: =IF(E77=0,"-",VLOOKUP(E77,Sheet1!$D$8:$E$72,2,FALSE)) -> - | U77: =IF(F77=0,"-",VLOOKUP(F77,Sheet1!$A$19:$B$21,2,FALSE)) -> 2 | V77: =IF(G77=0,"-",VLOOKUP(G77,Sheet1!$D$3:$E$5,2,FALSE)) -> 1 | W77: =IF(H77=0,"-",VLOOKUP(H77,Sheet1!$A$76:$B$77,2,FALSE)) -> 0 | X77: =IF(I77=0,"-",VLOOKUP(I77,Sheet1!$A$80:$B$85,2,FALSE)) -> - | AB77: =IF(M77=0,"-",VLOOKUP(M77,Sheet1!$D$76:$E$136,2,FALSE)) -> - | AC77: =IF(N77=0,"-",VLOOKUP(N77,Sheet1!$A$88:$B$90,2,FALSE)) -> -
A78: เคย | B78: สะดวก สามารถอ่านได้ทุกที่ | C78: 7 - 15 ชั่วโมง | D78: ทั้งสองที่ | E78: Dek-D, ReadAwrite, Joylada | F78: ทั้งสอง | G78: โทรศัพท์มือถือ | H78: ไม่เคย | P78: =VLOOKUP(A78,Sheet1!$A$3:$B$4,2,FALSE) -> 1 | Q78: =IF(B78=0,"-",VLOOKUP(B78, Sheet1!$G$3:$H$44, 2, FALSE)) -> 2 | R78: =IF(C78=0,"-",VLOOKUP(C78,Sheet1!$A$7:$B$11,2,FALSE)) -> 1 | S78: =IF(D78=0,"-",VLOOKUP(D78,Sheet1!$A$14:$B$16,2,FALSE)) -> 2 | T78: =IF(E78=0,"-",VLOOKUP(E78,Sheet1!$D$8:$E$72,2,FALSE)) -> 41 | U78: =IF(F78=0,"-",VLOOKUP(F78,Sheet1!$A$19:$B$21,2,FALSE)) -> 2 | V78: =IF(G78=0,"-",VLOOKUP(G78,Sheet1!$D$3:$E$5,2,FALSE)) -> 1 | W78: =IF(H78=0,"-",VLOOKUP(H78,Sheet1!$A$76:$B$77,2,FALSE)) -> 0 | X78: =IF(I78=0,"-",VLOOKUP(I78,Sheet1!$A$80:$B$85,2,FALSE)) -> - | AB78: =IF(M78=0,"-",VLOOKUP(M78,Sheet1!$D$76:$E$136,2,FALSE)) -> - | AC78: =IF(N78=0,"-",VLOOKUP(N78,Sheet1!$A$88:$B$90,2,FALSE)) -> -
A79: เคย | B79: ความหลากหลายของเนื้อเรื่อง, สะดวก สามารถอ่านได้ทุกที่, ไม่มีค่าใช้จ่าย หรือค่าใช้จ่ายน้อยกว่าซื้อหนังสือ, สามารถแสดงความคิดเห็นต่อนิยายเรื่องนั้นๆ หรือตอนนั้นๆได้อย่างทันที | C79: มากกว่า 40 ชั่วโมง | D79: ทั้งสองที่ | E79: Dek-D, Fictionlog, ธัญวลัย, ReadAwrite | F79: ทั้งสอง | G79: โทรศัพท์มือถือ | H79: เคย | I79: Dek-D | J79: 1 | K79: 35 | L79: 100 | M79: True Money | N79: นิยายวายไม่ใช่แฟนฟิคชั่น | P79: =VLOOKUP(A79,Sheet1!$A$3:$B$4,2,FALSE) -> 1 | Q79: =IF(B79=0,"-",VLOOKUP(B79, Sheet1!$G$3:$H$44, 2, FALSE)) -> 14 | R79: =IF(C79=0,"-",VLOOKUP(C79,Sheet1!$A$7:$B$11,2,FALSE)) -> 4 | S79: =IF(D79=0,"-",VLOOKUP(D79,Sheet1!$A$14:$B$16,2,FALSE)) -> 2 | T79: =IF(E79=0,"-",VLOOKUP(E79,Sheet1!$D$8:$E$72,2,FALSE)) -> 12 | U79: =IF(F79=0,"-",VLOOKUP(F79,Sheet1!$A$19:$B$21,2,FALSE)) -> 2 | V79: =IF(G79=0,"-",VLOOKUP(G79,Sheet1!$D$3:$E$5,2,FALSE)) -> 1 | W79: =IF(H79=0,"-",VLOOKUP(H79,Sheet1!$A$76:$B$77,2,FALSE)) -> 1 | X79: =IF(I79=0,"-",VLOOKUP(I79,Sheet1!$A$80:$B$85,2,FALSE)) -> 1 | Y79: 1 | Z79: 35 | AA79: 100 | AB79: =IF(M79=0,"-",VLOOKUP(M79,Sheet1!$D$76:$E$136,2,FALSE)) -> 3 | AC79: =IF(N79=0,"-",VLOOKUP(N79,Sheet1!$A$88:$B$90,2,FALSE)) -> 1
A80: ไม่เคย | P80: =VLOOKUP(A80,Sheet1!$A$3:$B$4,2,FALSE) -> 0 | Q80: =IF(B80=0,"-",VLOOKUP(B80, Sheet1!$G$3:$H$44, 2, FALSE)) -> - | R80: =IF(C80=0,"-",VLOOKUP(C80,Sheet1!$A$7:$B$11,2,FALSE)) -> - | S80: =IF(D80=0,"-",VLOOKUP(D80,Sheet1!$A$14:$B$16,2,FALSE)) -> - | T80: =IF(E80=0,"-",VLOOKUP(E80,Sheet1!$D$8:$E$72,2,FALSE)) -> - | U80: =IF(F80=0,"-",VLOOKUP(F80,Sheet1!$A$19:$B$21,2,FALSE)) -> - | V80: =IF(G80=0,"-",VLOOKUP(G80,Sheet1!$D$3:$E$5,2,FALSE)) -> - | W80: =IF(H80=0,"-",VLOOKUP(H80,Sheet1!$A$76:$B$77,2,FALSE)) -> - | X80: =IF(I80=0,"-",VLOOKUP(I80,Sheet1!$A$80:$B$85,2,FALSE)) -> - | AB80: =IF(M80=0,"-",VLOOKUP(M80,Sheet1!$D$76:$E$136,2,FALSE)) -> - | AC80: =IF(N80=0,"-",VLOOKUP(N80,Sheet1!$A$88:$B$90,2,FALSE)) -> -
A81: เคย | B81: ความหลากหลายของเนื้อเรื่อง, สะดวก สามารถอ่านได้ทุกที่, ไม่มีค่าใช้จ่าย หรือค่าใช้จ่ายน้อยกว่าซื้อหนังสือ, สามารถแสดงความคิดเห็นต่อนิยายเรื่องนั้นๆ หรือตอนนั้นๆได้อย่างทันที | C81: มากกว่า 40 ชั่วโมง | D81: ทั้งสองที่ | E81: Dek-D, Fictionlog, ธัญวลัย, ReadAwrite | F81: ทั้งสอง | G81: โทรศัพท์มือถือ | H81: เคย | I81: ธัญวลัย | J81: 5 | K81: 60 | L81: 200 | M81: Mobile/online banking, True Money | N81: ทั้งสอง | P81: =VLOOKUP(A81,Sheet1!$A$3:$B$4,2,FALSE) -> 1 | Q81: =IF(B81=0,"-",VLOOKUP(B81, Sheet1!$G$3:$H$44, 2, FALSE)) -> 14 | R81: =IF(C81=0,"-",VLOOKUP(C81,Sheet1!$A$7:$B$11,2,FALSE)) -> 4 | S81: =IF(D81=0,"-",VLOOKUP(D81,Sheet1!$A$14:$B$16,2,FALSE)) -> 2 | T81: =IF(E81=0,"-",VLOOKUP(E81,Sheet1!$D$8:$E$72,2,FALSE)) -> 12 | U81: =IF(F81=0,"-",VLOOKUP(F81,Sheet1!$A$19:$B$21,2,FALSE)) -> 2 | V81: =IF(G81=0,"-",VLOOKUP(G81,Sheet1!$D$3:$E$5,2,FALSE)) -> 1 | W81: =IF(H81=0,"-",VLOOKUP(H81,Sheet1!$A$76:$B$77,2,FALSE)) -> 1 | X81: =IF(I81=0,"-",VLOOKUP(I81,Sheet1!$A$80:$B$85,2,FALSE)) -> 3 | Y81: 5 | Z81: 60 | AA81: 200 | AB81: =IF(M81=0,"-",VLOOKUP(M81,Sheet1!$D$76:$E$136,2,FALSE)) -> 48 | AC81: =IF(N81=0,"-",VLOOKUP(N81,Sheet1!$A$88:$B$90,2,FALSE)) -> 2
A82: เคย | B82: ความหลากหลายของเนื้อเรื่อง, สะดวก สามารถอ่านได้ทุกที่, ไม่มีค่าใช้จ่าย หรือค่าใช้จ่ายน้อยกว่าซื้อหนังสือ | C82: มากกว่า 40 ชั่วโมง | D82: Application | E82: Dek-D | F82: ไม่ใช่แฟนฟิคชั่น | G82: โทรศัพท์มือถือ | H82: เคย | I82: Dek-D | J82: 2 | K82: 600 | L82: 300 | M82: In-app purchase (ชำระผ่าน Application) | N82: นิยายวายไม่ใช่แฟนฟิคชั่น | P82: =VLOOKUP(A82,Sheet1!$A$3:$B$4,2,FALSE) -> 1 | Q82: =IF(B82=0,"-",VLOOKUP(B82, Sheet1!$G$3:$H$44, 2, FALSE)) -> 13 | R82: =IF(C82=0,"-",VLOOKUP(C82,Sheet1!$A$7:$B$11,2,FALSE)) -> 4 | S82: =IF(D82=0,"-",VLOOKUP(D82,Sheet1!$A$14:$B$16,2,FALSE)) -> 1 | T82: =IF(E82=0,"-",VLOOKUP(E82,Sheet1!$D$8:$E$72,2,FALSE)) -> 1 | U82: =IF(F82=0,"-",VLOOKUP(F82,Sheet1!$A$19:$B$21,2,FALSE)) -> 1 | V82: =IF(G82=0,"-",VLOOKUP(G82,Sheet1!$D$3:$E$5,2,FALSE)) -> 1 | W82: =IF(H82=0,"-",VLOOKUP(H82,Sheet1!$A$76:$B$77,2,FALSE)) -> 1 | X82: =IF(I82=0,"-",VLOOKUP(I82,Sheet1!$A$80:$B$85,2,FALSE)) -> 1 | Y82: 2 | Z82: 600 | AA82: 300 | AB82: =IF(M82=0,"-",VLOOKUP(M82,Sheet1!$D$76:$E$136,2,FALSE)) -> 1 | AC82: =IF(N82=0,"-",VLOOKUP(N82,Sheet1!$A$88:$B$90,2,FALSE)) -> 1
A83: เคย | B83: ความหลากหลายของเนื้อเรื่อง, สะดวก สามารถอ่านได้ทุกที่, ไม่มีค่าใช้จ่าย หรือค่าใช้จ่ายน้อยกว่าซื้อหนังสือ, สามารถแสดงความคิดเห็นต่อนิยายเรื่องนั้นๆ หรือตอนนั้นๆได้อย่างทันที | C83: น้อยกว่า 7 ชั่วโมง | D83: Application | E83: Dek-D | F83: ทั้งสอง | G83: โทรศัพท์มือถือ | H83: ไม่เคย | P83: =VLOOKUP(A83,Sheet1!$A$3:$B$4,2,FALSE) -> 1 | Q83: =IF(B83=0,"-",VLOOKUP(B83, Sheet1!$G$3:$H$44, 2, FALSE)) -> 14 | R83: =IF(C83=0,"-",VLOOKUP(C83,Sheet1!$A$7:$B$11,2,FALSE)) -> 0 | S83: =IF(D83=0,"-",VLOOKUP(D83,Sheet1!$A$14:$B$16,2,FALSE)) -> 1 | T83: =IF(E83=0,"-",VLOOKUP(E83,Sheet1!$D$8:$E$72,2,FALSE)) -> 1 | U83: =IF(F83=0,"-",VLOOKUP(F83,Sheet1!$A$19:$B$21,2,FALSE)) -> 2 | V83: =IF(G83=0,"-",VLOOKUP(G83,Sheet1!$D$3:$E$5,2,FALSE)) -> 1 | W83: =IF(H83=0,"-",VLOOKUP(H83,Sheet1!$A$76:$B$77,2,FALSE)) -> 0 | X83: =IF(I83=0,"-",VLOOKUP(I83,Sheet1!$A$80:$B$85,2,FALSE)) -> - | AB83: =IF(M83=0,"-",VLOOKUP(M83,Sheet1!$D$76:$E$136,2,FALSE)) -> - | AC83: =IF(N83=0,"-",VLOOKUP(N83,Sheet1!$A$88:$B$90,2,FALSE)) -> -
A84: เคย | B84: ไม่มีค่าใช้จ่าย หรือค่าใช้จ่ายน้อยกว่าซื้อหนังสือ | C84: น้อยกว่า 7 ชั่วโมง | D84: เว็บไซต์ | E84: Dek-D, ธัญวลัย | F84: ไม่ใช่แฟนฟิคชั่น | G84: โทรศัพท์มือถือ | H84: ไม่เคย | P84: =VLOOKUP(A84,Sheet1!$A$3:$B$4,2,FALSE) -> 1 | Q84: =IF(B84=0,"-",VLOOKUP(B84, Sheet1!$G$3:$H$44, 2, FALSE)) -> 3 | R84: =IF(C84=0,"-",VLOOKUP(C84,Sheet1!$A$7:$B$11,2,FALSE)) -> 0 | S84: =IF(D84=0,"-",VLOOKUP(D84,Sheet1!$A$14:$B$16,2,FALSE)) -> 0 | T84: =IF(E84=0,"-",VLOOKUP(E84,Sheet1!$D$8:$E$72,2,FALSE)) -> 7 | U84: =IF(F84=0,"-",VLOOKUP(F84,Sheet1!$A$19:$B$21,2,FALSE)) -> 1 | V84: =IF(G84=0,"-",VLOOKUP(G84,Sheet1!$D$3:$E$5,2,FALSE)) -> 1 | W84: =IF(H84=0,"-",VLOOKUP(H84,Sheet1!$A$76:$B$77,2,FALSE)) -> 0 | X84: =IF(I84=0,"-",VLOOKUP(I84,Sheet1!$A$80:$B$85,2,FALSE)) -> - | AB84: =IF(M84=0,"-",VLOOKUP(M84,Sheet1!$D$76:$E$136,2,FALSE)) -> - | AC84: =IF(N84=0,"-",VLOOKUP(N84,Sheet1!$A$88:$B$90,2,FALSE)) -> -
A85: เคย | B85: ความหลากหลายของเนื้อเรื่อง, สะดวก สามารถอ่านได้ทุกที่, ไม่มีค่าใช้จ่าย หรือค่าใช้จ่ายน้อยกว่าซื้อหนังสือ | C85: 7 - 15 ชั่วโมง | D85: Application | E85: Dek-D, Joylada | F85: แฟนฟิคชั่น (Fanfiction) | G85: โทรศัพท์มือถือ | H85: ไม่เคย | P85: =VLOOKUP(A85,Sheet1!$A$3:$B$4,2,FALSE) -> 1 | Q85: =IF(B85=0,"-",VLOOKUP(B85, Sheet1!$G$3:$H$44, 2, FALSE)) -> 13 | R85: =IF(C85=0,"-",VLOOKUP(C85,Sheet1!$A$7:$B$11,2,FALSE)) -> 1 | S85: =IF(D85=0,"-",VLOOKUP(D85,Sheet1!$A$14:$B$16,2,FALSE)) -> 1 | T85: =IF(E85=0,"-",VLOOKUP(E85,Sheet1!$D$8:$E$72,2,FALSE)) -> 43 | U85: =IF(F85=0,"-",VLOOKUP(F85,Sheet1!$A$19:$B$21,2,FALSE)) -> 0 | V85: =IF(G85=0,"-",VLOOKUP(G85,Sheet1!$D$3:$E$5,2,FALSE)) -> 1 | W85: =IF(H85=0,"-",VLOOKUP(H85,Sheet1!$A$76:$B$77,2,FALSE)) -> 0 | X85: =IF(I85=0,"-",VLOOKUP(I85,Sheet1!$A$80:$B$85,2,FALSE)) -> - | AB85: =IF(M85=0,"-",VLOOKUP(M85,Sheet1!$D$76:$E$136,2,FALSE)) -> - | AC85: =IF(N85=0,"-",VLOOKUP(N85,Sheet1!$A$88:$B$90,2,FALSE)) -> -
A86: เคย | B86: สะดวก สามารถอ่านได้ทุกที่ | C86: น้อยกว่า 7 ชั่วโมง | D86: เว็บไซต์ | F86: แฟนฟิคชั่น (Fanfiction) | G86: Computer | H86: ไม่เคย | P86: =VLOOKUP(A86,Sheet1!$A$3:$B$4,2,FALSE) -> 1 | Q86: =IF(B86=0,"-",VLOOKUP(B86, Sheet1!$G$3:$H$44, 2, FALSE)) -> 2 | R86: =IF(C86=0,"-",VLOOKUP(C86,Sheet1!$A$7:$B$11,2,FALSE)) -> 0 | S86: =IF(D86=0,"-",VLOOKUP(D86,Sheet1!$A$14:$B$16,2,FALSE)) -> 0 | T86: =IF(E86=0,"-",VLOOKUP(E86,Sheet1!$D$8:$E$72,2,FALSE)) -> - | U86: =IF(F86=0,"-",VLOOKUP(F86,Sheet1!$A$19:$B$21,2,FALSE)) -> 0 | V86: =IF(G86=0,"-",VLOOKUP(G86,Sheet1!$D$3:$E$5,2,FALSE)) -> 0 | W86: =IF(H86=0,"-",VLOOKUP(H86,Sheet1!$A$76:$B$77,2,FALSE)) -> 0 | X86: =IF(I86=0,"-",VLOOKUP(I86,Sheet1!$A$80:$B$85,2,FALSE)) -> - | AB86: =IF(M86=0,"-",VLOOKUP(M86,Sheet1!$D$76:$E$136,2,FALSE)) -> - | AC86: =IF(N86=0,"-",VLOOKUP(N86,Sheet1!$A$88:$B$90,2,FALSE)) -> -
A87: เคย | B87: ความหลากหลายของเนื้อเรื่อง, สะดวก สามารถอ่านได้ทุกที่, ไม่มีค่าใช้จ่าย หรือค่าใช้จ่ายน้อยกว่าซื้อหนังสือ | C87: น้อยกว่า 7 ชั่วโมง | D87: ทั้งสองที่ | E87: Dek-D, WattPad | F87: ทั้งสอง | G87: โทรศัพท์มือถือ | H87: ไม่เคย | P87: =VLOOKUP(A87,Sheet1!$A$3:$B$4,2,FALSE) -> 1 | Q87: =IF(B87=0,"-",VLOOKUP(B87, Sheet1!$G$3:$H$44, 2, FALSE)) -> 13 | R87: =IF(C87=0,"-",VLOOKUP(C87,Sheet1!$A$7:$B$11,2,FALSE)) -> 0 | S87: =IF(D87=0,"-",VLOOKUP(D87,Sheet1!$A$14:$B$16,2,FALSE)) -> 2 | T87: =IF(E87=0,"-",VLOOKUP(E87,Sheet1!$D$8:$E$72,2,FALSE)) -> 9 | U87: =IF(F87=0,"-",VLOOKUP(F87,Sheet1!$A$19:$B$21,2,FALSE)) -> 2 | V87: =IF(G87=0,"-",VLOOKUP(G87,Sheet1!$D$3:$E$5,2,FALSE)) -> 1 | W87: =IF(H87=0,"-",VLOOKUP(H87,Sheet1!$A$76:$B$77,2,FALSE)) -> 0 | X87: =IF(I87=0,"-",VLOOKUP(I87,Sheet1!$A$80:$B$85,2,FALSE)) -> - | AB87: =IF(M87=0,"-",VLOOKUP(M87,Sheet1!$D$76:$E$136,2,FALSE)) -> - | AC87: =IF(N87=0,"-",VLOOKUP(N87,Sheet1!$A$88:$B$90,2,FALSE)) -> -
A88: เคย | B88: ความหลากหลายของเนื้อเรื่อง, สะดวก สามารถอ่านได้ทุกที่, ไม่มีค่าใช้จ่าย หรือค่าใช้จ่ายน้อยกว่าซื้อหนังสือ | C88: 7 - 15 ชั่วโมง | D88: ทั้งสองที่ | E88: Dek-D, ธัญวลัย, ReadAwrite | F88: ทั้งสอง | G88: โทรศัพท์มือถือ | H88: ไม่เคย | P88: =VLOOKUP(A88,Sheet1!$A$3:$B$4,2,FALSE) -> 1 | Q88: =IF(B88=0,"-",VLOOKUP(B88, Sheet1!$G$3:$H$44, 2, FALSE)) -> 13 | R88: =IF(C88=0,"-",VLOOKUP(C88,Sheet1!$A$7:$B$11,2,FALSE)) -> 1 | S88: =IF(D88=0,"-",VLOOKUP(D88,Sheet1!$A$14:$B$16,2,FALSE)) -> 2 | T88: =IF(E88=0,"-",VLOOKUP(E88,Sheet1!$D$8:$E$72,2,FALSE)) -> 31 | U88: =IF(F88=0,"-",VLOOKUP(F88,Sheet1!$A$19:$B$21,2,FALSE)) -> 2 | V88: =IF(G88=0,"-",VLOOKUP(G88,Sheet1!$D$3:$E$5,2,FALSE)) -> 1 | W88: =IF(H88=0,"-",VLOOKUP(H88,Sheet1!$A$76:$B$77,2,FALSE)) -> 0 | X88: =IF(I88=0,"-",VLOOKUP(I88,Sheet1!$A$80:$B$85,2,FALSE)) -> - | AB88: =IF(M88=0,"-",VLOOKUP(M88,Sheet1!$D$76:$E$136,2,FALSE)) -> - | AC88: =IF(N88=0,"-",VLOOKUP(N88,Sheet1!$A$88:$B$90,2,FALSE)) -> -
A89: เคย | B89: สะดวก สามารถอ่านได้ทุกที่ | C89: น้อยกว่า 7 ชั่วโมง | D89: Application | E89: Dek-D | F89: แฟนฟิคชั่น (Fanfiction) | G89: โทรศัพท์มือถือ | H89: ไม่เคย | P89: =VLOOKUP(A89,Sheet1!$A$3:$B$4,2,FALSE) -> 1 | Q89: =IF(B89=0,"-",VLOOKUP(B89, Sheet1!$G$3:$H$44, 2, FALSE)) -> 2 | R89: =IF(C89=0,"-",VLOOKUP(C89,Sheet1!$A$7:$B$11,2,FALSE)) -> 0 | S89: =IF(D89=0,"-",VLOOKUP(D89,Sheet1!$A$14:$B$16,2,FALSE)) -> 1 | T89: =IF(E89=0,"-",VLOOKUP(E89,Sheet1!$D$8:$E$72,2,FALSE)) -> 1 | U89: =IF(F89=0,"-",VLOOKUP(F89,Sheet1!$A$19:$B$21,2,FALSE)) -> 0 | V89: =IF(G89=0,"-",VLOOKUP(G89,Sheet1!$D$3:$E$5,2,FALSE)) -> 1 | W89: =IF(H89=0,"-",VLOOKUP(H89,Sheet1!$A$76:$B$77,2,FALSE)) -> 0 | X89: =IF(I89=0,"-",VLOOKUP(I89,Sheet1!$A$80:$B$85,2,FALSE)) -> - | AB89: =IF(M89=0,"-",VLOOKUP(M89,Sheet1!$D$76:$E$136,2,FALSE)) -> - | AC89: =IF(N89=0,"-",VLOOKUP(N89,Sheet1!$A$88:$B$90,2,FALSE)) -> -
A90: เคย | B90: ความหลากหลายของเนื้อเรื่อง, สามารถแสดงความคิดเห็นต่อนิยายเรื่องนั้นๆ หรือตอนนั้นๆได้อย่างทันที | C90: น้อยกว่า 7 ชั่วโมง | D90: เว็บไซต์ | E90: Dek-D, Fictionlog | F90: ไม่ใช่แฟนฟิคชั่น | G90: โทรศัพท์มือถือ | H90: ไม่เคย | P90: =VLOOKUP(A90,Sheet1!$A$3:$B$4,2,FALSE) -> 1 | Q90: =IF(B90=0,"-",VLOOKUP(B90, Sheet1!$G$3:$H$44, 2, FALSE)) -> 30 | R90: =IF(C90=0,"-",VLOOKUP(C90,Sheet1!$A$7:$B$11,2,FALSE)) -> 0 | S90: =IF(D90=0,"-",VLOOKUP(D90,Sheet1!$A$14:$B$16,2,FALSE)) -> 0 | T90: =IF(E90=0,"-",VLOOKUP(E90,Sheet1!$D$8:$E$72,2,FALSE)) -> 6 | U90: =IF(F90=0,"-",VLOOKUP(F90,Sheet1!$A$19:$B$21,2,FALSE)) -> 1 | V90: =IF(G90=0,"-",VLOOKUP(G90,Sheet1!$D$3:$E$5,2,FALSE)) -> 1 | W90: =IF(H90=0,"-",VLOOKUP(H90,Sheet1!$A$76:$B$77,2,FALSE)) -> 0 | X90: =IF(I90=0,"-",VLOOKUP(I90,Sheet1!$A$80:$B$85,2,FALSE)) -> - | AB90: =IF(M90=0,"-",VLOOKUP(M90,Sheet1!$D$76:$E$136,2,FALSE)) -> - | AC90: =IF(N90=0,"-",VLOOKUP(N90,Sheet1!$A$88:$B$90,2,FALSE)) -> -
A91: ไม่เคย | P91: =VLOOKUP(A91,Sheet1!$A$3:$B$4,2,FALSE) -> 0 | Q91: =IF(B91=0,"-",VLOOKUP(B91, Sheet1!$G$3:$H$44, 2, FALSE)) -> - | R91: =IF(C91=0,"-",VLOOKUP(C91,Sheet1!$A$7:$B$11,2,FALSE)) -> - | S91: =IF(D91=0,"-",VLOOKUP(D91,Sheet1!$A$14:$B$16,2,FALSE)) -> - | T91: =IF(E91=0,"-",VLOOKUP(E91,Sheet1!$D$8:$E$72,2,FALSE)) -> - | U91: =IF(F91=0,"-",VLOOKUP(F91,Sheet1!$A$19:$B$21,2,FALSE)) -> - | V91: =IF(G91=0,"-",VLOOKUP(G91,Sheet1!$D$3:$E$5,2,FALSE)) -> - | W91: =IF(H91=0,"-",VLOOKUP(H91,Sheet1!$A$76:$B$77,2,FALSE)) -> - | X91: =IF(I91=0,"-",VLOOKUP(I91,Sheet1!$A$80:$B$85,2,FALSE)) -> - | AB91: =IF(M91=0,"-",VLOOKUP(M91,Sheet1!$D$76:$E$136,2,FALSE)) -> - | AC91: =IF(N91=0,"-",VLOOKUP(N91,Sheet1!$A$88:$B$90,2,FALSE)) -> -
A92: ไม่เคย | P92: =VLOOKUP(A92,Sheet1!$A$3:$B$4,2,FALSE) -> 0 | Q92: =IF(B92=0,"-",VLOOKUP(B92, Sheet1!$G$3:$H$44, 2, FALSE)) -> - | R92: =IF(C92=0,"-",VLOOKUP(C92,Sheet1!$A$7:$B$11,2,FALSE)) -> - | S92: =IF(D92=0,"-",VLOOKUP(D92,Sheet1!$A$14:$B$16,2,FALSE)) -> - | T92: =IF(E92=0,"-",VLOOKUP(E92,Sheet1!$D$8:$E$72,2,FALSE)) -> - | U92: =IF(F92=0,"-",VLOOKUP(F92,Sheet1!$A$19:$B$21,2,FALSE)) -> - | V92: =IF(G92=0,"-",VLOOKUP(G92,Sheet1!$D$3:$E$5,2,FALSE)) -> - | W92: =IF(H92=0,"-",VLOOKUP(H92,Sheet1!$A$76:$B$77,2,FALSE)) -> - | X92: =IF(I92=0,"-",VLOOKUP(I92,Sheet1!$A$80:$B$85,2,FALSE)) -> - | AB92: =IF(M92=0,"-",VLOOKUP(M92,Sheet1!$D$76:$E$136,2,FALSE)) -> - | AC92: =IF(N92=0,"-",VLOOKUP(N92,Sheet1!$A$88:$B$90,2,FALSE)) -> -
A93: เคย | B93: ความหลากหลายของเนื้อเรื่อง, สะดวก สามารถอ่านได้ทุกที่, ไม่มีค่าใช้จ่าย หรือค่าใช้จ่ายน้อยกว่าซื้อหนังสือ | C93: มากกว่า 40 ชั่วโมง | D93: เว็บไซต์ | F93: ไม่ใช่แฟนฟิคชั่น | G93: โทรศัพท์มือถือ | H93: ไม่เคย | P93: =VLOOKUP(A93,Sheet1!$A$3:$B$4,2,FALSE) -> 1 | Q93: =IF(B93=0,"-",VLOOKUP(B93, Sheet1!$G$3:$H$44, 2, FALSE)) -> 13 | R93: =IF(C93=0,"-",VLOOKUP(C93,Sheet1!$A$7:$B$11,2,FALSE)) -> 4 | S93: =IF(D93=0,"-",VLOOKUP(D93,Sheet1!$A$14:$B$16,2,FALSE)) -> 0 | T93: =IF(E93=0,"-",VLOOKUP(E93,Sheet1!$D$8:$E$72,2,FALSE)) -> - | U93: =IF(F93=0,"-",VLOOKUP(F93,Sheet1!$A$19:$B$21,2,FALSE)) -> 1 | V93: =IF(G93=0,"-",VLOOKUP(G93,Sheet1!$D$3:$E$5,2,FALSE)) -> 1 | W93: =IF(H93=0,"-",VLOOKUP(H93,Sheet1!$A$76:$B$77,2,FALSE)) -> 0 | X93: =IF(I93=0,"-",VLOOKUP(I93,Sheet1!$A$80:$B$85,2,FALSE)) -> - | AB93: =IF(M93=0,"-",VLOOKUP(M93,Sheet1!$D$76:$E$136,2,FALSE)) -> - | AC93: =IF(N93=0,"-",VLOOKUP(N93,Sheet1!$A$88:$B$90,2,FALSE)) -> -
A94: เคย | B94: ความหลากหลายของเนื้อเรื่อง, สะดวก สามารถอ่านได้ทุกที่, ไม่มีค่าใช้จ่าย หรือค่าใช้จ่ายน้อยกว่าซื้อหนังสือ | C94: น้อยกว่า 7 ชั่วโมง | D94: ทั้งสองที่ | E94: Dek-D | F94: ทั้งสอง | G94: โทรศัพท์มือถือ | H94: ไม่เคย | P94: =VLOOKUP(A94,Sheet1!$A$3:$B$4,2,FALSE) -> 1 | Q94: =IF(B94=0,"-",VLOOKUP(B94, Sheet1!$G$3:$H$44, 2, FALSE)) -> 13 | R94: =IF(C94=0,"-",VLOOKUP(C94,Sheet1!$A$7:$B$11,2,FALSE)) -> 0 | S94: =IF(D94=0,"-",VLOOKUP(D94,Sheet1!$A$14:$B$16,2,FALSE)) -> 2 | T94: =IF(E94=0,"-",VLOOKUP(E94,Sheet1!$D$8:$E$72,2,FALSE)) -> 1 | U94: =IF(F94=0,"-",VLOOKUP(F94,Sheet1!$A$19:$B$21,2,FALSE)) -> 2 | V94: =IF(G94=0,"-",VLOOKUP(G94,Sheet1!$D$3:$E$5,2,FALSE)) -> 1 | W94: =IF(H94=0,"-",VLOOKUP(H94,Sheet1!$A$76:$B$77,2,FALSE)) -> 0 | X94: =IF(I94=0,"-",VLOOKUP(I94,Sheet1!$A$80:$B$85,2,FALSE)) -> - | AB94: =IF(M94=0,"-",VLOOKUP(M94,Sheet1!$D$76:$E$136,2,FALSE)) -> - | AC94: =IF(N94=0,"-",VLOOKUP(N94,Sheet1!$A$88:$B$90,2,FALSE)) -> -
A95: เคย | B95: ความหลากหลายของเนื้อเรื่อง, สะดวก สามารถอ่านได้ทุกที่ | C95: น้อยกว่า 7 ชั่วโมง | D95: Application | E95: Fictionlog, ReadAwrite | F95: ไม่ใช่แฟนฟิคชั่น | G95: โทรศัพท์มือถือ | H95: ไม่เคย | P95: =VLOOKUP(A95,Sheet1!$A$3:$B$4,2,FALSE) -> 1 | Q95: =IF(B95=0,"-",VLOOKUP(B95, Sheet1!$G$3:$H$44, 2, FALSE)) -> 12 | R95: =IF(C95=0,"-",VLOOKUP(C95,Sheet1!$A$7:$B$11,2,FALSE)) -> 0 | S95: =IF(D95=0,"-",VLOOKUP(D95,Sheet1!$A$14:$B$16,2,FALSE)) -> 1 | T95: =IF(E95=0,"-",VLOOKUP(E95,Sheet1!$D$8:$E$72,2,FALSE)) -> 50 | U95: =IF(F95=0,"-",VLOOKUP(F95,Sheet1!$A$19:$B$21,2,FALSE)) -> 1 | V95: =IF(G95=0,"-",VLOOKUP(G95,Sheet1!$D$3:$E$5,2,FALSE)) -> 1 | W95: =IF(H95=0,"-",VLOOKUP(H95,Sheet1!$A$76:$B$77,2,FALSE)) -> 0 | X95: =IF(I95=0,"-",VLOOKUP(I95,Sheet1!$A$80:$B$85,2,FALSE)) -> - | AB95: =IF(M95=0,"-",VLOOKUP(M95,Sheet1!$D$76:$E$136,2,FALSE)) -> - | AC95: =IF(N95=0,"-",VLOOKUP(N95,Sheet1!$A$88:$B$90,2,FALSE)) -> -
A96: เคย | B96: ความหลากหลายของเนื้อเรื่อง, ไม่มีค่าใช้จ่าย หรือค่าใช้จ่ายน้อยกว่าซื้อหนังสือ | C96: น้อยกว่า 7 ชั่วโมง | D96: ทั้งสองที่ | E96: Dek-D, ธัญวลัย, WattPad, Joylada | F96: ทั้งสอง | G96: โทรศัพท์มือถือ | H96: เคย | I96: ธัญวลัย | J96: 3 | K96: 30 | L96: 300 | M96: In-app purchase (ชำระผ่าน Application), Mobile/online banking | N96: แฟนฟิคชั่น (FanFiction) | P96: =VLOOKUP(A96,Sheet1!$A$3:$B$4,2,FALSE) -> 1 | Q96: =IF(B96=0,"-",VLOOKUP(B96, Sheet1!$G$3:$H$44, 2, FALSE)) -> 27 | R96: =IF(C96=0,"-",VLOOKUP(C96,Sheet1!$A$7:$B$11,2,FALSE)) -> 0 | S96: =IF(D96=0,"-",VLOOKUP(D96,Sheet1!$A$14:$B$16,2,FALSE)) -> 2 | T96: =IF(E96=0,"-",VLOOKUP(E96,Sheet1!$D$8:$E$72,2,FALSE)) -> 37 | U96: =IF(F96=0,"-",VLOOKUP(F96,Sheet1!$A$19:$B$21,2,FALSE)) -> 2 | V96: =IF(G96=0,"-",VLOOKUP(G96,Sheet1!$D$3:$E$5,2,FALSE)) -> 1 | W96: =IF(H96=0,"-",VLOOKUP(H96,Sheet1!$A$76:$B$77,2,FALSE)) -> 1 | X96: =IF(I96=0,"-",VLOOKUP(I96,Sheet1!$A$80:$B$85,2,FALSE)) -> 3 | Y96: 3 | Z96: 30 | AA96: 300 | AB96: =IF(M96=0,"-",VLOOKUP(M96,Sheet1!$D$76:$E$136,2,FALSE)) -> 22 | AC96: =IF(N96=0,"-",VLOOKUP(N96,Sheet1!$A$88:$B$90,2,FALSE)) -> 0
A97: เคย | B97: สะดวก สามารถอ่านได้ทุกที่, ไม่มีค่าใช้จ่าย หรือค่าใช้จ่ายน้อยกว่าซื้อหนังสือ | C97: น้อยกว่า 7 ชั่วโมง | D97: ทั้งสองที่ | E97: Dek-D, ReadAwrite | F97: ทั้งสอง | G97: โทรศัพท์มือถือ | H97: ไม่เคย | P97: =VLOOKUP(A97,Sheet1!$A$3:$B$4,2,FALSE) -> 1 | Q97: =IF(B97=0,"-",VLOOKUP(B97, Sheet1!$G$3:$H$44, 2, FALSE)) -> 33 | R97: =IF(C97=0,"-",VLOOKUP(C97,Sheet1!$A$7:$B$11,2,FALSE)) -> 0 | S97: =IF(D97=0,"-",VLOOKUP(D97,Sheet1!$A$14:$B$16,2,FALSE)) -> 2 | T97: =IF(E97=0,"-",VLOOKUP(E97,Sheet1!$D$8:$E$72,2,FALSE)) -> 8 | U97: =IF(F97=0,"-",VLOOKUP(F97,Sheet1!$A$19:$B$21,2,FALSE)) -> 2 | V97: =IF(G97=0,"-",VLOOKUP(G97,Sheet1!$D$3:$E$5,2,FALSE)) -> 1 | W97: =IF(H97=0,"-",VLOOKUP(H97,Sheet1!$A$76:$B$77,2,FALSE)) -> 0 | X97: =IF(I97=0,"-",VLOOKUP(I97,Sheet1!$A$80:$B$85,2,FALSE)) -> - | AB97: =IF(M97=0,"-",VLOOKUP(M97,Sheet1!$D$76:$E$136,2,FALSE)) -> - | AC97: =IF(N97=0,"-",VLOOKUP(N97,Sheet1!$A$88:$B$90,2,FALSE)) -> -
A98: เคย | B98: ความหลากหลายของเนื้อเรื่อง, สะดวก สามารถอ่านได้ทุกที่, ไม่มีค่าใช้จ่าย หรือค่าใช้จ่ายน้อยกว่าซื้อหนังสือ | C98: 7 - 15 ชั่วโมง | D98: เว็บไซต์ | E98: Dek-D, Fictionlog, ธัญวลัย, ReadAwrite | F98: ไม่ใช่แฟนฟิคชั่น | G98: โทรศัพท์มือถือ | H98: ไม่เคย | P98: =VLOOKUP(A98,Sheet1!$A$3:$B$4,2,FALSE) -> 1 | Q98: =IF(B98=0,"-",VLOOKUP(B98, Sheet1!$G$3:$H$44, 2, FALSE)) -> 13 | R98: =IF(C98=0,"-",VLOOKUP(C98,Sheet1!$A$7:$B$11,2,FALSE)) -> 1 | S98: =IF(D98=0,"-",VLOOKUP(D98,Sheet1!$A$14:$B$16,2,FALSE)) -> 0 | T98: =IF(E98=0,"-",VLOOKUP(E98,Sheet1!$D$8:$E$72,2,FALSE)) -> 12 | U98: =IF(F98=0,"-",VLOOKUP(F98,Sheet1!$A$19:$B$21,2,FALSE)) -> 1 | V98: =IF(G98=0,"-",VLOOKUP(G98,Sheet1!$D$3:$E$5,2,FALSE)) -> 1 | W98: =IF(H98=0,"-",VLOOKUP(H98,Sheet1!$A$76:$B$77,2,FALSE)) -> 0 | X98: =IF(I98=0,"-",VLOOKUP(I98,Sheet1!$A$80:$B$85,2,FALSE)) -> - | AB98: =IF(M98=0,"-",VLOOKUP(M98,Sheet1!$D$76:$E$136,2,FALSE)) -> - | AC98: =IF(N98=0,"-",VLOOKUP(N98,Sheet1!$A$88:$B$90,2,FALSE)) -> -
A99: เคย | B99: ความหลากหลายของเนื้อเรื่อง, สะดวก สามารถอ่านได้ทุกที่, ไม่มีค่าใช้จ่าย หรือค่าใช้จ่ายน้อยกว่าซื้อหนังสือ | C99: มากกว่า 40 ชั่วโมง | D99: เว็บไซต์ | E99: Amazon E-book | F99: ทั้งสอง | G99: โทรศัพท์มือถือ | H99: ไม่เคย | P99: =VLOOKUP(A99,Sheet1!$A$3:$B$4,2,FALSE) -> 1 | Q99: =IF(B99=0,"-",VLOOKUP(B99, Sheet1!$G$3:$H$44, 2, FALSE)) -> 13 | R99: =IF(C99=0,"-",VLOOKUP(C99,Sheet1!$A$7:$B$11,2,FALSE)) -> 4 | S99: =IF(D99=0,"-",VLOOKUP(D99,Sheet1!$A$14:$B$16,2,FALSE)) -> 0 | T99: =IF(E99=0,"-",VLOOKUP(E99,Sheet1!$D$8:$E$72,2,FALSE)) -> 62 | U99: =IF(F99=0,"-",VLOOKUP(F99,Sheet1!$A$19:$B$21,2,FALSE)) -> 2 | V99: =IF(G99=0,"-",VLOOKUP(G99,Sheet1!$D$3:$E$5,2,FALSE)) -> 1 | W99: =IF(H99=0,"-",VLOOKUP(H99,Sheet1!$A$76:$B$77,2,FALSE)) -> 0 | X99: =IF(I99=0,"-",VLOOKUP(I99,Sheet1!$A$80:$B$85,2,FALSE)) -> - | AB99: =IF(M99=0,"-",VLOOKUP(M99,Sheet1!$D$76:$E$136,2,FALSE)) -> - | AC99: =IF(N99=0,"-",VLOOKUP(N99,Sheet1!$A$88:$B$90,2,FALSE)) -> -
A100: เคย | B100: ความหลากหลายของเนื้อเรื่อง, สะดวก สามารถอ่านได้ทุกที่, ไม่มีค่าใช้จ่าย หรือค่าใช้จ่ายน้อยกว่าซื้อหนังสือ, สามารถแสดงความคิดเห็นต่อนิยายเรื่องนั้นๆ หรือตอนนั้นๆได้อย่างทันที | C100: น้อยกว่า 7 ชั่วโมง | D100: ทั้งสองที่ | E100: Dek-D, Fictionlog, ธัญวลัย, ReadAwrite, WattPad | F100: ทั้งสอง | G100: Tablet/Ipad | H100: ไม่เคย | P100: =VLOOKUP(A100,Sheet1!$A$3:$B$4,2,FALSE) -> 1 | Q100: =IF(B100=0,"-",VLOOKUP(B100, Sheet1!$G$3:$H$44, 2, FALSE)) -> 14 | R100: =IF(C100=0,"-",VLOOKUP(C100,Sheet1!$A$7:$B$11,2,FALSE)) -> 0 | S100: =IF(D100=0,"-",VLOOKUP(D100,Sheet1!$A$14:$B$16,2,FALSE)) -> 2 | T100: =IF(E100=0,"-",VLOOKUP(E100,Sheet1!$D$8:$E$72,2,FALSE)) -> 13 | U100: =IF(F100=0,"-",VLOOKUP(F100,Sheet1!$A$19:$B$21,2,FALSE)) -> 2 | V100: =IF(G100=0,"-",VLOOKUP(G100,Sheet1!$D$3:$E$5,2,FALSE)) -> 2 | W100: =IF(H100=0,"-",VLOOKUP(H100,Sheet1!$A$76:$B$77,2,FALSE)) -> 0 | X100: =IF(I100=0,"-",VLOOKUP(I100,Sheet1!$A$80:$B$85,2,FALSE)) -> - | AB100: =IF(M100=0,"-",VLOOKUP(M100,Sheet1!$D$76:$E$136,2,FALSE)) -> - | AC100: =IF(N100=0,"-",VLOOKUP(N100,Sheet1!$A$88:$B$90,2,FALSE)) -> -
...

Sheet นิยายออนไลน์
A1: ท่านเคยอ่านนิยายทั่วไปแบบออนไลน์หรือไม่ | B1: เหตุใดท่านจึงเลือกที่จะอ่านนิยายทั่วไปแบบออนไลน์ (ตอบได้มากกว่า 1 ข้อ) | C1: ความถี่ในการอ่านนิยายทั่วไปแบบออนไลน์ของท่าน เมื่อคิดเป็นจำนวนชั่วโมงต่อสัปดาห์ | D1: ท่านอ่านนิยายทั่วไปแบบออนไลน์บน platform ใด | E1: ถ้าท่านอ่านนิยายทั่วไปแบบออนไลน์บนapplication ท่านอ่านผ่าน App ใด (ตอบได้มากกว่า 1 ข้อ) | F1: ประเภทนิยายทั่วไปแบบออนไลน์ที่ท่านอ่าน | G1: ท่านใช้อุปกรณ์ใดในการอ่านนิยายทั่วไปแบบออนไลน์มากที่สุด | H1: ท่านเคยซื้อนิยายทั่วไปแบบออนไลน์บน Application หรือไม่ | I1: ท่านซื้อนิยายทั่วไปแบบออนไลน์จาก Application ใดมากที่สุด | J1: ใน 1 เดือน โดยเฉลี่ยท่านซื้อนิยายทั่วไปแบบออนไลน์อ่านกี่ครั้ง (โปรดระบุเป็นตัวเลข) | K1: โดยปกติ ท่านใช้เงินซื้อนิยายทั่วไปแบบออนไลน์ 1 ครั้ง โดยเฉลี่ยกี่บาท | L1: ถ้าท่านจะซื้อนิยายทั่วไปแบบออนไลน์ 1 เรื่อง (10-15 ตอน) ท่านเต็มใจที่จะจ่ายมากที่สุดกี่บาท | M1: ท่านชำระเงินด้วยวิธีใด (ตอบได้มากกว่า 1 ข้อ) | N1: ประเภทนิยายทั่วไปแบบออนไลน์ที่ท่านซื้ออ่าน | P1: READ | Q1: REASON | R1: FREQ | S1: PLAT | T1: APP | U1: TYPE | V1: DEVICE | W1: EXPER | X1: PURAPP | Y1: PURFREQ | Z1: SPEND | AA1: WTP | AB1: PMT | AC1: CATE
A2: เคย | B2: ความหลากหลายของเนื้อเรื่อง, สะดวก สามารถอ่านได้ทุกที่, ไม่มีค่าใช้จ่าย หรือค่าใช้จ่ายน้อยกว่าซื้อหนังสือ | C2: น้อยกว่า 7 ชั่วโมง | D2: ทั้งสองที่ | E2: Dek-D, ธัญวลัย | F2: ไม่ใช่แฟนฟิคชั่น | G2: โทรศัพท์มือถือ | H2: ไม่เคย | P2: =IF(A2=0,"-",VLOOKUP(A2,Sheet1!$A$3:$B$4,2,FALSE)) -> 1 | Q2: =IF(B2=0,"-",VLOOKUP(B2, Sheet1!$G$3:$H$44, 2, FALSE)) -> 13 | R2: =IF(C2=0,"-",VLOOKUP(C2,Sheet1!$A$7:$B$11,2,FALSE)) -> 0 | S2: =IF(D2=0,"-",VLOOKUP(D2,Sheet1!$A$14:$B$16,2,FALSE)) -> 2 | T2: =IF(E2=0,"-",VLOOKUP(E2,Sheet1!$D$8:$E$72,2,FALSE)) -> 7 | U2: =IF(F2=0,"-",VLOOKUP(F2,Sheet1!$A$19:$B$21,2,FALSE)) -> 1 | V2: =IF(G2=0,"-",VLOOKUP(G2,Sheet1!$D$3:$E$5,2,FALSE)) -> 1 | W2: =IF(H2=0,"-",VLOOKUP(H2,Sheet1!$A$76:$B$77,2,FALSE)) -> 0 | X2: =IF(I2=0,"-",VLOOKUP(I2,Sheet1!$A$80:$B$85,2,FALSE)) -> - | AB2: =IF(M2=0,"-",VLOOKUP(M2,Sheet1!$D$76:$E$136,2,FALSE)) -> - | AC2: =IF(N2=0,"-",VLOOKUP(N2,Sheet1!$A$93:$B$95,2,FALSE)) -> -
A3: เคย | B3: ความหลากหลายของเนื้อเรื่อง, สะดวก สามารถอ่านได้ทุกที่, ไม่มีค่าใช้จ่าย หรือค่าใช้จ่ายน้อยกว่าซื้อหนังสือ | C3: น้อยกว่า 7 ชั่วโมง | D3: ทั้งสองที่ | E3: Dek-D | F3: ทั้งสอง | G3: โทรศัพท์มือถือ | H3: ไม่เคย | P3: =IF(A3=0,"-",VLOOKUP(A3,Sheet1!$A$3:$B$4,2,FALSE)) -> 1 | Q3: =IF(B3=0,"-",VLOOKUP(B3, Sheet1!$G$3:$H$44, 2, FALSE)) -> 13 | R3: =IF(C3=0,"-",VLOOKUP(C3,Sheet1!$A$7:$B$11,2,FALSE)) -> 0 | S3: =IF(D3=0,"-",VLOOKUP(D3,Sheet1!$A$14:$B$16,2,FALSE)) -> 2 | T3: =IF(E3=0,"-",VLOOKUP(E3,Sheet1!$D$8:$E$72,2,FALSE)) -> 1 | U3: =IF(F3=0,"-",VLOOKUP(F3,Sheet1!$A$19:$B$21,2,FALSE)) -> 2 | V3: =IF(G3=0,"-",VLOOKUP(G3,Sheet1!$D$3:$E$5,2,FALSE)) -> 1 | W3: =IF(H3=0,"-",VLOOKUP(H3,Sheet1!$A$76:$B$77,2,FALSE)) -> 0 | X3: =IF(I3=0,"-",VLOOKUP(I3,Sheet1!$A$80:$B$85,2,FALSE)) -> - | AB3: =IF(M3=0,"-",VLOOKUP(M3,Sheet1!$D$76:$E$136,2,FALSE)) -> - | AC3: =IF(N3=0,"-",VLOOKUP(N3,Sheet1!$A$93:$B$95,2,FALSE)) -> -
A4: ไม่เคย | P4: =IF(A4=0,"-",VLOOKUP(A4,Sheet1!$A$3:$B$4,2,FALSE)) -> 0 | Q4: =IF(B4=0,"-",VLOOKUP(B4, Sheet1!$G$3:$H$44, 2, FALSE)) -> - | R4: =IF(C4=0,"-",VLOOKUP(C4,Sheet1!$A$7:$B$11,2,FALSE)) -> - | S4: =IF(D4=0,"-",VLOOKUP(D4,Sheet1!$A$14:$B$16,2,FALSE)) -> - | T4: =IF(E4=0,"-",VLOOKUP(E4,Sheet1!$D$8:$E$72,2,FALSE)) -> - | U4: =IF(F4=0,"-",VLOOKUP(F4,Sheet1!$A$19:$B$21,2,FALSE)) -> - | V4: =IF(G4=0,"-",VLOOKUP(G4,Sheet1!$D$3:$E$5,2,FALSE)) -> - | W4: =IF(H4=0,"-",VLOOKUP(H4,Sheet1!$A$76:$B$77,2,FALSE)) -> - | X4: =IF(I4=0,"-",VLOOKUP(I4,Sheet1!$A$80:$B$85,2,FALSE)) -> - | AB4: =IF(M4=0,"-",VLOOKUP(M4,Sheet1!$D$76:$E$136,2,FALSE)) -> - | AC4: =IF(N4=0,"-",VLOOKUP(N4,Sheet1!$A$93:$B$95,2,FALSE)) -> -
A5: เคย | B5: ความหลากหลายของเนื้อเรื่อง, สะดวก สามารถอ่านได้ทุกที่, ไม่มีค่าใช้จ่าย หรือค่าใช้จ่ายน้อยกว่าซื้อหนังสือ | C5: น้อยกว่า 7 ชั่วโมง | D5: Application | E5: Dek-D | F5: ไม่ใช่แฟนฟิคชั่น | G5: โทรศัพท์มือถือ | H5: ไม่เคย | P5: =IF(A5=0,"-",VLOOKUP(A5,Sheet1!$A$3:$B$4,2,FALSE)) -> 1 | Q5: =IF(B5=0,"-",VLOOKUP(B5, Sheet1!$G$3:$H$44, 2, FALSE)) -> 13 | R5: =IF(C5=0,"-",VLOOKUP(C5,Sheet1!$A$7:$B$11,2,FALSE)) -> 0 | S5: =IF(D5=0,"-",VLOOKUP(D5,Sheet1!$A$14:$B$16,2,FALSE)) -> 1 | T5: =IF(E5=0,"-",VLOOKUP(E5,Sheet1!$D$8:$E$72,2,FALSE)) -> 1 | U5: =IF(F5=0,"-",VLOOKUP(F5,Sheet1!$A$19:$B$21,2,FALSE)) -> 1 | V5: =IF(G5=0,"-",VLOOKUP(G5,Sheet1!$D$3:$E$5,2,FALSE)) -> 1 | W5: =IF(H5=0,"-",VLOOKUP(H5,Sheet1!$A$76:$B$77,2,FALSE)) -> 0 | X5: =IF(I5=0,"-",VLOOKUP(I5,Sheet1!$A$80:$B$85,2,FALSE)) -> - | AB5: =IF(M5=0,"-",VLOOKUP(M5,Sheet1!$D$76:$E$136,2,FALSE)) -> - | AC5: =IF(N5=0,"-",VLOOKUP(N5,Sheet1!$A$93:$B$95,2,FALSE)) -> -
A6: เคย | B6: ความหลากหลายของเนื้อเรื่อง, สะดวก สามารถอ่านได้ทุกที่, ไม่มีค่าใช้จ่าย หรือค่าใช้จ่ายน้อยกว่าซื้อหนังสือ | C6: น้อยกว่า 7 ชั่วโมง | D6: เว็บไซต์ | E6: Dek-D | F6: ไม่ใช่แฟนฟิคชั่น | G6: โทรศัพท์มือถือ | H6: ไม่เคย | P6: =IF(A6=0,"-",VLOOKUP(A6,Sheet1!$A$3:$B$4,2,FALSE)) -> 1 | Q6: =IF(B6=0,"-",VLOOKUP(B6, Sheet1!$G$3:$H$44, 2, FALSE)) -> 13 | R6: =IF(C6=0,"-",VLOOKUP(C6,Sheet1!$A$7:$B$11,2,FALSE)) -> 0 | S6: =IF(D6=0,"-",VLOOKUP(D6,Sheet1!$A$14:$B$16,2,FALSE)) -> 0 | T6: =IF(E6=0,"-",VLOOKUP(E6,Sheet1!$D$8:$E$72,2,FALSE)) -> 1 | U6: =IF(F6=0,"-",VLOOKUP(F6,Sheet1!$A$19:$B$21,2,FALSE)) -> 1 | V6: =IF(G6=0,"-",VLOOKUP(G6,Sheet1!$D$3:$E$5,2,FALSE)) -> 1 | W6: =IF(H6=0,"-",VLOOKUP(H6,Sheet1!$A$76:$B$77,2,FALSE)) -> 0 | X6: =IF(I6=0,"-",VLOOKUP(I6,Sheet1!$A$80:$B$85,2,FALSE)) -> - | AB6: =IF(M6=0,"-",VLOOKUP(M6,Sheet1!$D$76:$E$136,2,FALSE)) -> - | AC6: =IF(N6=0,"-",VLOOKUP(N6,Sheet1!$A$93:$B$95,2,FALSE)) -> -
A7: เคย | B7: ความหลากหลายของเนื้อเรื่อง, สะดวก สามารถอ่านได้ทุกที่, ไม่มีค่าใช้จ่าย หรือค่าใช้จ่ายน้อยกว่าซื้อหนังสือ | C7: 16 - 25 ชั่วโมง | D7: ทั้งสองที่ | E7: ookbee | F7: ไม่ใช่แฟนฟิคชั่น | G7: Computer | H7: เคย | I7: ookbee | J7: 5 | K7: 90 | L7: 90 | M7: True money | N7: นิยายที่ไม่ใช่แฟนฟิคชั่น | P7: =IF(A7=0,"-",VLOOKUP(A7,Sheet1!$A$3:$B$4,2,FALSE)) -> 1 | Q7: =IF(B7=0,"-",VLOOKUP(B7, Sheet1!$G$3:$H$44, 2, FALSE)) -> 13 | R7: =IF(C7=0,"-",VLOOKUP(C7,Sheet1!$A$7:$B$11,2,FALSE)) -> 2 | S7: =IF(D7=0,"-",VLOOKUP(D7,Sheet1!$A$14:$B$16,2,FALSE)) -> 2 | T7: =IF(E7=0,"-",VLOOKUP(E7,Sheet1!$D$8:$E$72,2,FALSE)) -> 63 | U7: =IF(F7=0,"-",VLOOKUP(F7,Sheet1!$A$19:$B$21,2,FALSE)) -> 1 | V7: =IF(G7=0,"-",VLOOKUP(G7,Sheet1!$D$3:$E$5,2,FALSE)) -> 0 | W7: =IF(H7=0,"-",VLOOKUP(H7,Sheet1!$A$76:$B$77,2,FALSE)) -> 1 | X7: 6 | Y7: 5 | Z7: 90 | AA7: 90 | AB7: =IF(M7=0,"-",VLOOKUP(M7,Sheet1!$D$76:$E$136,2,FALSE)) -> 3 | AC7: =IF(N7=0,"-",VLOOKUP(N7,Sheet1!$A$93:$B$95,2,FALSE)) -> 1
P8: =IF(A8=0,"-",VLOOKUP(A8,Sheet1!$A$3:$B$4,2,FALSE)) -> - | Q8: =IF(B8=0,"-",VLOOKUP(B8, Sheet1!$G$3:$H$44, 2, FALSE)) -> - | R8: =IF(C8=0,"-",VLOOKUP(C8,Sheet1!$A$7:$B$11,2,FALSE)) -> - | S8: =IF(D8=0,"-",VLOOKUP(D8,Sheet1!$A$14:$B$16,2,FALSE)) -> - | T8: =IF(E8=0,"-",VLOOKUP(E8,Sheet1!$D$8:$E$72,2,FALSE)) -> - | U8: =IF(F8=0,"-",VLOOKUP(F8,Sheet1!$A$19:$B$21,2,FALSE)) -> - | V8: =IF(G8=0,"-",VLOOKUP(G8,Sheet1!$D$3:$E$5,2,FALSE)) -> - | W8: =IF(H8=0,"-",VLOOKUP(H8,Sheet1!$A$76:$B$77,2,FALSE)) -> - | X8: =IF(I8=0,"-",VLOOKUP(I8,Sheet1!$A$80:$B$85,2,FALSE)) -> - | AB8: =IF(M8=0,"-",VLOOKUP(M8,Sheet1!$D$76:$E$136,2,FALSE)) -> - | AC8: =IF(N8=0,"-",VLOOKUP(N8,Sheet1!$A$93:$B$95,2,FALSE)) -> -
P9: =IF(A9=0,"-",VLOOKUP(A9,Sheet1!$A$3:$B$4,2,FALSE)) -> - | Q9: =IF(B9=0,"-",VLOOKUP(B9, Sheet1!$G$3:$H$44, 2, FALSE)) -> - | R9: =IF(C9=0,"-",VLOOKUP(C9,Sheet1!$A$7:$B$11,2,FALSE)) -> - | S9: =IF(D9=0,"-",VLOOKUP(D9,Sheet1!$A$14:$B$16,2,FALSE)) -> - | T9: =IF(E9=0,"-",VLOOKUP(E9,Sheet1!$D$8:$E$72,2,FALSE)) -> - | U9: =IF(F9=0,"-",VLOOKUP(F9,Sheet1!$A$19:$B$21,2,FALSE)) -> - | V9: =IF(G9=0,"-",VLOOKUP(G9,Sheet1!$D$3:$E$5,2,FALSE)) -> - | W9: =IF(H9=0,"-",VLOOKUP(H9,Sheet1!$A$76:$B$77,2,FALSE)) -> - | X9: =IF(I9=0,"-",VLOOKUP(I9,Sheet1!$A$80:$B$85,2,FALSE)) -> - | AB9: =IF(M9=0,"-",VLOOKUP(M9,Sheet1!$D$76:$E$136,2,FALSE)) -> - | AC9: =IF(N9=0,"-",VLOOKUP(N9,Sheet1!$A$93:$B$95,2,FALSE)) -> -
A10: เคย | B10: ความหลากหลายของเนื้อเรื่อง | C10: น้อยกว่า 7 ชั่วโมง | D10: เว็บไซต์ | E10: Dek-D | F10: ไม่ใช่แฟนฟิคชั่น | G10: โทรศัพท์มือถือ | H10: ไม่เคย | P10: =IF(A10=0,"-",VLOOKUP(A10,Sheet1!$A$3:$B$4,2,FALSE)) -> 1 | Q10: =IF(B10=0,"-",VLOOKUP(B10, Sheet1!$G$3:$H$44, 2, FALSE)) -> 1 | R10: =IF(C10=0,"-",VLOOKUP(C10,Sheet1!$A$7:$B$11,2,FALSE)) -> 0 | S10: =IF(D10=0,"-",VLOOKUP(D10,Sheet1!$A$14:$B$16,2,FALSE)) -> 0 | T10: =IF(E10=0,"-",VLOOKUP(E10,Sheet1!$D$8:$E$72,2,FALSE)) -> 1 | U10: =IF(F10=0,"-",VLOOKUP(F10,Sheet1!$A$19:$B$21,2,FALSE)) -> 1 | V10: =IF(G10=0,"-",VLOOKUP(G10,Sheet1!$D$3:$E$5,2,FALSE)) -> 1 | W10: =IF(H10=0,"-",VLOOKUP(H10,Sheet1!$A$76:$B$77,2,FALSE)) -> 0 | X10: =IF(I10=0,"-",VLOOKUP(I10,Sheet1!$A$80:$B$85,2,FALSE)) -> - | AB10: =IF(M10=0,"-",VLOOKUP(M10,Sheet1!$D$76:$E$136,2,FALSE)) -> - | AC10: =IF(N10=0,"-",VLOOKUP(N10,Sheet1!$A$93:$B$95,2,FALSE)) -> -
A11: ไม่เคย | P11: =IF(A11=0,"-",VLOOKUP(A11,Sheet1!$A$3:$B$4,2,FALSE)) -> 0 | Q11: =IF(B11=0,"-",VLOOKUP(B11, Sheet1!$G$3:$H$44, 2, FALSE)) -> - | R11: =IF(C11=0,"-",VLOOKUP(C11,Sheet1!$A$7:$B$11,2,FALSE)) -> - | S11: =IF(D11=0,"-",VLOOKUP(D11,Sheet1!$A$14:$B$16,2,FALSE)) -> - | T11: =IF(E11=0,"-",VLOOKUP(E11,Sheet1!$D$8:$E$72,2,FALSE)) -> - | U11: =IF(F11=0,"-",VLOOKUP(F11,Sheet1!$A$19:$B$21,2,FALSE)) -> - | V11: =IF(G11=0,"-",VLOOKUP(G11,Sheet1!$D$3:$E$5,2,FALSE)) -> - | W11: =IF(H11=0,"-",VLOOKUP(H11,Sheet1!$A$76:$B$77,2,FALSE)) -> - | X11: =IF(I11=0,"-",VLOOKUP(I11,Sheet1!$A$80:$B$85,2,FALSE)) -> - | AB11: =IF(M11=0,"-",VLOOKUP(M11,Sheet1!$D$76:$E$136,2,FALSE)) -> - | AC11: =IF(N11=0,"-",VLOOKUP(N11,Sheet1!$A$93:$B$95,2,FALSE)) -> -
A12: ไม่เคย | P12: =IF(A12=0,"-",VLOOKUP(A12,Sheet1!$A$3:$B$4,2,FALSE)) -> 0 | Q12: =IF(B12=0,"-",VLOOKUP(B12, Sheet1!$G$3:$H$44, 2, FALSE)) -> - | R12: =IF(C12=0,"-",VLOOKUP(C12,Sheet1!$A$7:$B$11,2,FALSE)) -> - | S12: =IF(D12=0,"-",VLOOKUP(D12,Sheet1!$A$14:$B$16,2,FALSE)) -> - | T12: =IF(E12=0,"-",VLOOKUP(E12,Sheet1!$D$8:$E$72,2,FALSE)) -> - | U12: =IF(F12=0,"-",VLOOKUP(F12,Sheet1!$A$19:$B$21,2,FALSE)) -> - | V12: =IF(G12=0,"-",VLOOKUP(G12,Sheet1!$D$3:$E$5,2,FALSE)) -> - | W12: =IF(H12=0,"-",VLOOKUP(H12,Sheet1!$A$76:$B$77,2,FALSE)) -> - | X12: =IF(I12=0,"-",VLOOKUP(I12,Sheet1!$A$80:$B$85,2,FALSE)) -> - | AB12: =IF(M12=0,"-",VLOOKUP(M12,Sheet1!$D$76:$E$136,2,FALSE)) -> - | AC12: =IF(N12=0,"-",VLOOKUP(N12,Sheet1!$A$93:$B$95,2,FALSE)) -> -
A13: เคย | B13: สะดวก สามารถอ่านได้ทุกที่ | C13: น้อยกว่า 7 ชั่วโมง | D13: ทั้งสองที่ | E13: Dek-D | F13: แฟนฟิคชั่น (Fanfiction) | G13: โทรศัพท์มือถือ | H13: ไม่เคย | P13: =IF(A13=0,"-",VLOOKUP(A13,Sheet1!$A$3:$B$4,2,FALSE)) -> 1 | Q13: =IF(B13=0,"-",VLOOKUP(B13, Sheet1!$G$3:$H$44, 2, FALSE)) -> 2 | R13: =IF(C13=0,"-",VLOOKUP(C13,Sheet1!$A$7:$B$11,2,FALSE)) -> 0 | S13: =IF(D13=0,"-",VLOOKUP(D13,Sheet1!$A$14:$B$16,2,FALSE)) -> 2 | T13: =IF(E13=0,"-",VLOOKUP(E13,Sheet1!$D$8:$E$72,2,FALSE)) -> 1 | U13: =IF(F13=0,"-",VLOOKUP(F13,Sheet1!$A$19:$B$21,2,FALSE)) -> 0 | V13: =IF(G13=0,"-",VLOOKUP(G13,Sheet1!$D$3:$E$5,2,FALSE)) -> 1 | W13: =IF(H13=0,"-",VLOOKUP(H13,Sheet1!$A$76:$B$77,2,FALSE)) -> 0 | X13: =IF(I13=0,"-",VLOOKUP(I13,Sheet1!$A$80:$B$85,2,FALSE)) -> - | AB13: =IF(M13=0,"-",VLOOKUP(M13,Sheet1!$D$76:$E$136,2,FALSE)) -> - | AC13: =IF(N13=0,"-",VLOOKUP(N13,Sheet1!$A$93:$B$95,2,FALSE)) -> -
P14: =IF(A14=0,"-",VLOOKUP(A14,Sheet1!$A$3:$B$4,2,FALSE)) -> - | Q14: =IF(B14=0,"-",VLOOKUP(B14, Sheet1!$G$3:$H$44, 2, FALSE)) -> - | R14: =IF(C14=0,"-",VLOOKUP(C14,Sheet1!$A$7:$B$11,2,FALSE)) -> - | S14: =IF(D14=0,"-",VLOOKUP(D14,Sheet1!$A$14:$B$16,2,FALSE)) -> - | T14: =IF(E14=0,"-",VLOOKUP(E14,Sheet1!$D$8:$E$72,2,FALSE)) -> - | U14: =IF(F14=0,"-",VLOOKUP(F14,Sheet1!$A$19:$B$21,2,FALSE)) -> - | V14: =IF(G14=0,"-",VLOOKUP(G14,Sheet1!$D$3:$E$5,2,FALSE)) -> - | W14: =IF(H14=0,"-",VLOOKUP(H14,Sheet1!$A$76:$B$77,2,FALSE)) -> - | X14: =IF(I14=0,"-",VLOOKUP(I14,Sheet1!$A$80:$B$85,2,FALSE)) -> - | AB14: =IF(M14=0,"-",VLOOKUP(M14,Sheet1!$D$76:$E$136,2,FALSE)) -> - | AC14: =IF(N14=0,"-",VLOOKUP(N14,Sheet1!$A$93:$B$95,2,FALSE)) -> -
A15: ไม่เคย | P15: =IF(A15=0,"-",VLOOKUP(A15,Sheet1!$A$3:$B$4,2,FALSE)) -> 0 | Q15: =IF(B15=0,"-",VLOOKUP(B15, Sheet1!$G$3:$H$44, 2, FALSE)) -> - | R15: =IF(C15=0,"-",VLOOKUP(C15,Sheet1!$A$7:$B$11,2,FALSE)) -> - | S15: =IF(D15=0,"-",VLOOKUP(D15,Sheet1!$A$14:$B$16,2,FALSE)) -> - | T15: =IF(E15=0,"-",VLOOKUP(E15,Sheet1!$D$8:$E$72,2,FALSE)) -> - | U15: =IF(F15=0,"-",VLOOKUP(F15,Sheet1!$A$19:$B$21,2,FALSE)) -> - | V15: =IF(G15=0,"-",VLOOKUP(G15,Sheet1!$D$3:$E$5,2,FALSE)) -> - | W15: =IF(H15=0,"-",VLOOKUP(H15,Sheet1!$A$76:$B$77,2,FALSE)) -> - | X15: =IF(I15=0,"-",VLOOKUP(I15,Sheet1!$A$80:$B$85,2,FALSE)) -> - | AB15: =IF(M15=0,"-",VLOOKUP(M15,Sheet1!$D$76:$E$136,2,FALSE)) -> - | AC15: =IF(N15=0,"-",VLOOKUP(N15,Sheet1!$A$93:$B$95,2,FALSE)) -> -
P16: =IF(A16=0,"-",VLOOKUP(A16,Sheet1!$A$3:$B$4,2,FALSE)) -> - | Q16: =IF(B16=0,"-",VLOOKUP(B16, Sheet1!$G$3:$H$44, 2, FALSE)) -> - | R16: =IF(C16=0,"-",VLOOKUP(C16,Sheet1!$A$7:$B$11,2,FALSE)) -> - | S16: =IF(D16=0,"-",VLOOKUP(D16,Sheet1!$A$14:$B$16,2,FALSE)) -> - | T16: =IF(E16=0,"-",VLOOKUP(E16,Sheet1!$D$8:$E$72,2,FALSE)) -> - | U16: =IF(F16=0,"-",VLOOKUP(F16,Sheet1!$A$19:$B$21,2,FALSE)) -> - | V16: =IF(G16=0,"-",VLOOKUP(G16,Sheet1!$D$3:$E$5,2,FALSE)) -> - | W16: =IF(H16=0,"-",VLOOKUP(H16,Sheet1!$A$76:$B$77,2,FALSE)) -> - | X16: =IF(I16=0,"-",VLOOKUP(I16,Sheet1!$A$80:$B$85,2,FALSE)) -> - | AB16: =IF(M16=0,"-",VLOOKUP(M16,Sheet1!$D$76:$E$136,2,FALSE)) -> - | AC16: =IF(N16=0,"-",VLOOKUP(N16,Sheet1!$A$93:$B$95,2,FALSE)) -> -
A17: ไม่เคย | P17: =IF(A17=0,"-",VLOOKUP(A17,Sheet1!$A$3:$B$4,2,FALSE)) -> 0 | Q17: =IF(B17=0,"-",VLOOKUP(B17, Sheet1!$G$3:$H$44, 2, FALSE)) -> - | R17: =IF(C17=0,"-",VLOOKUP(C17,Sheet1!$A$7:$B$11,2,FALSE)) -> - | S17: =IF(D17=0,"-",VLOOKUP(D17,Sheet1!$A$14:$B$16,2,FALSE)) -> - | T17: =IF(E17=0,"-",VLOOKUP(E17,Sheet1!$D$8:$E$72,2,FALSE)) -> - | U17: =IF(F17=0,"-",VLOOKUP(F17,Sheet1!$A$19:$B$21,2,FALSE)) -> - | V17: =IF(G17=0,"-",VLOOKUP(G17,Sheet1!$D$3:$E$5,2,FALSE)) -> - | W17: =IF(H17=0,"-",VLOOKUP(H17,Sheet1!$A$76:$B$77,2,FALSE)) -> - | X17: =IF(I17=0,"-",VLOOKUP(I17,Sheet1!$A$80:$B$85,2,FALSE)) -> - | AB17: =IF(M17=0,"-",VLOOKUP(M17,Sheet1!$D$76:$E$136,2,FALSE)) -> - | AC17: =IF(N17=0,"-",VLOOKUP(N17,Sheet1!$A$93:$B$95,2,FALSE)) -> -
A18: เคย | B18: ความหลากหลายของเนื้อเรื่อง, สะดวก สามารถอ่านได้ทุกที่, ไม่มีค่าใช้จ่าย หรือค่าใช้จ่ายน้อยกว่าซื้อหนังสือ | C18: น้อยกว่า 7 ชั่วโมง | D18: เว็บไซต์ | E18: Dek-D | F18: ไม่ใช่แฟนฟิคชั่น | G18: โทรศัพท์มือถือ | H18: ไม่เคย | P18: =IF(A18=0,"-",VLOOKUP(A18,Sheet1!$A$3:$B$4,2,FALSE)) -> 1 | Q18: =IF(B18=0,"-",VLOOKUP(B18, Sheet1!$G$3:$H$44, 2, FALSE)) -> 13 | R18: =IF(C18=0,"-",VLOOKUP(C18,Sheet1!$A$7:$B$11,2,FALSE)) -> 0 | S18: =IF(D18=0,"-",VLOOKUP(D18,Sheet1!$A$14:$B$16,2,FALSE)) -> 0 | T18: =IF(E18=0,"-",VLOOKUP(E18,Sheet1!$D$8:$E$72,2,FALSE)) -> 1 | U18: =IF(F18=0,"-",VLOOKUP(F18,Sheet1!$A$19:$B$21,2,FALSE)) -> 1 | V18: =IF(G18=0,"-",VLOOKUP(G18,Sheet1!$D$3:$E$5,2,FALSE)) -> 1 | W18: =IF(H18=0,"-",VLOOKUP(H18,Sheet1!$A$76:$B$77,2,FALSE)) -> 0 | X18: =IF(I18=0,"-",VLOOKUP(I18,Sheet1!$A$80:$B$85,2,FALSE)) -> - | AB18: =IF(M18=0,"-",VLOOKUP(M18,Sheet1!$D$76:$E$136,2,FALSE)) -> - | AC18: =IF(N18=0,"-",VLOOKUP(N18,Sheet1!$A$93:$B$95,2,FALSE)) -> -
A19: เคย | B19: สะดวก สามารถอ่านได้ทุกที่ | C19: น้อยกว่า 7 ชั่วโมง | D19: เว็บไซต์ | E19: Dek-D | F19: ทั้งสอง | G19: โทรศัพท์มือถือ | H19: ไม่เคย | P19: =IF(A19=0,"-",VLOOKUP(A19,Sheet1!$A$3:$B$4,2,FALSE)) -> 1 | Q19: =IF(B19=0,"-",VLOOKUP(B19, Sheet1!$G$3:$H$44, 2, FALSE)) -> 2 | R19: =IF(C19=0,"-",VLOOKUP(C19,Sheet1!$A$7:$B$11,2,FALSE)) -> 0 | S19: =IF(D19=0,"-",VLOOKUP(D19,Sheet1!$A$14:$B$16,2,FALSE)) -> 0 | T19: =IF(E19=0,"-",VLOOKUP(E19,Sheet1!$D$8:$E$72,2,FALSE)) -> 1 | U19: =IF(F19=0,"-",VLOOKUP(F19,Sheet1!$A$19:$B$21,2,FALSE)) -> 2 | V19: =IF(G19=0,"-",VLOOKUP(G19,Sheet1!$D$3:$E$5,2,FALSE)) -> 1 | W19: =IF(H19=0,"-",VLOOKUP(H19,Sheet1!$A$76:$B$77,2,FALSE)) -> 0 | X19: =IF(I19=0,"-",VLOOKUP(I19,Sheet1!$A$80:$B$85,2,FALSE)) -> - | AB19: =IF(M19=0,"-",VLOOKUP(M19,Sheet1!$D$76:$E$136,2,FALSE)) -> - | AC19: =IF(N19=0,"-",VLOOKUP(N19,Sheet1!$A$93:$B$95,2,FALSE)) -> -
A20: ไม่เคย | P20: =IF(A20=0,"-",VLOOKUP(A20,Sheet1!$A$3:$B$4,2,FALSE)) -> 0 | Q20: =IF(B20=0,"-",VLOOKUP(B20, Sheet1!$G$3:$H$44, 2, FALSE)) -> - | R20: =IF(C20=0,"-",VLOOKUP(C20,Sheet1!$A$7:$B$11,2,FALSE)) -> - | S20: =IF(D20=0,"-",VLOOKUP(D20,Sheet1!$A$14:$B$16,2,FALSE)) -> - | T20: =IF(E20=0,"-",VLOOKUP(E20,Sheet1!$D$8:$E$72,2,FALSE)) -> - | U20: =IF(F20=0,"-",VLOOKUP(F20,Sheet1!$A$19:$B$21,2,FALSE)) -> - | V20: =IF(G20=0,"-",VLOOKUP(G20,Sheet1!$D$3:$E$5,2,FALSE)) -> - | W20: =IF(H20=0,"-",VLOOKUP(H20,Sheet1!$A$76:$B$77,2,FALSE)) -> - | X20: =IF(I20=0,"-",VLOOKUP(I20,Sheet1!$A$80:$B$85,2,FALSE)) -> - | AB20: =IF(M20=0,"-",VLOOKUP(M20,Sheet1!$D$76:$E$136,2,FALSE)) -> - | AC20: =IF(N20=0,"-",VLOOKUP(N20,Sheet1!$A$93:$B$95,2,FALSE)) -> -
A21: ไม่เคย | P21: =IF(A21=0,"-",VLOOKUP(A21,Sheet1!$A$3:$B$4,2,FALSE)) -> 0 | Q21: =IF(B21=0,"-",VLOOKUP(B21, Sheet1!$G$3:$H$44, 2, FALSE)) -> - | R21: =IF(C21=0,"-",VLOOKUP(C21,Sheet1!$A$7:$B$11,2,FALSE)) -> - | S21: =IF(D21=0,"-",VLOOKUP(D21,Sheet1!$A$14:$B$16,2,FALSE)) -> - | T21: =IF(E21=0,"-",VLOOKUP(E21,Sheet1!$D$8:$E$72,2,FALSE)) -> - | U21: =IF(F21=0,"-",VLOOKUP(F21,Sheet1!$A$19:$B$21,2,FALSE)) -> - | V21: =IF(G21=0,"-",VLOOKUP(G21,Sheet1!$D$3:$E$5,2,FALSE)) -> - | W21: =IF(H21=0,"-",VLOOKUP(H21,Sheet1!$A$76:$B$77,2,FALSE)) -> - | X21: =IF(I21=0,"-",VLOOKUP(I21,Sheet1!$A$80:$B$85,2,FALSE)) -> - | AB21: =IF(M21=0,"-",VLOOKUP(M21,Sheet1!$D$76:$E$136,2,FALSE)) -> - | AC21: =IF(N21=0,"-",VLOOKUP(N21,Sheet1!$A$93:$B$95,2,FALSE)) -> -
A22: เคย | B22: ไม่มีค่าใช้จ่าย หรือค่าใช้จ่ายน้อยกว่าซื้อหนังสือ | C22: น้อยกว่า 7 ชั่วโมง | D22: เว็บไซต์ | E22: Dek-D, ธัญวลัย | F22: ไม่ใช่แฟนฟิคชั่น | G22: โทรศัพท์มือถือ | H22: ไม่เคย | P22: =IF(A22=0,"-",VLOOKUP(A22,Sheet1!$A$3:$B$4,2,FALSE)) -> 1 | Q22: =IF(B22=0,"-",VLOOKUP(B22, Sheet1!$G$3:$H$44, 2, FALSE)) -> 3 | R22: =IF(C22=0,"-",VLOOKUP(C22,Sheet1!$A$7:$B$11,2,FALSE)) -> 0 | S22: =IF(D22=0,"-",VLOOKUP(D22,Sheet1!$A$14:$B$16,2,FALSE)) -> 0 | T22: =IF(E22=0,"-",VLOOKUP(E22,Sheet1!$D$8:$E$72,2,FALSE)) -> 7 | U22: =IF(F22=0,"-",VLOOKUP(F22,Sheet1!$A$19:$B$21,2,FALSE)) -> 1 | V22: =IF(G22=0,"-",VLOOKUP(G22,Sheet1!$D$3:$E$5,2,FALSE)) -> 1 | W22: =IF(H22=0,"-",VLOOKUP(H22,Sheet1!$A$76:$B$77,2,FALSE)) -> 0 | X22: =IF(I22=0,"-",VLOOKUP(I22,Sheet1!$A$80:$B$85,2,FALSE)) -> - | AB22: =IF(M22=0,"-",VLOOKUP(M22,Sheet1!$D$76:$E$136,2,FALSE)) -> - | AC22: =IF(N22=0,"-",VLOOKUP(N22,Sheet1!$A$93:$B$95,2,FALSE)) -> -
P23: =IF(A23=0,"-",VLOOKUP(A23,Sheet1!$A$3:$B$4,2,FALSE)) -> - | Q23: =IF(B23=0,"-",VLOOKUP(B23, Sheet1!$G$3:$H$44, 2, FALSE)) -> - | R23: =IF(C23=0,"-",VLOOKUP(C23,Sheet1!$A$7:$B$11,2,FALSE)) -> - | S23: =IF(D23=0,"-",VLOOKUP(D23,Sheet1!$A$14:$B$16,2,FALSE)) -> - | T23: =IF(E23=0,"-",VLOOKUP(E23,Sheet1!$D$8:$E$72,2,FALSE)) -> - | U23: =IF(F23=0,"-",VLOOKUP(F23,Sheet1!$A$19:$B$21,2,FALSE)) -> - | V23: =IF(G23=0,"-",VLOOKUP(G23,Sheet1!$D$3:$E$5,2,FALSE)) -> - | W23: =IF(H23=0,"-",VLOOKUP(H23,Sheet1!$A$76:$B$77,2,FALSE)) -> - | X23: =IF(I23=0,"-",VLOOKUP(I23,Sheet1!$A$80:$B$85,2,FALSE)) -> - | AB23: =IF(M23=0,"-",VLOOKUP(M23,Sheet1!$D$76:$E$136,2,FALSE)) -> - | AC23: =IF(N23=0,"-",VLOOKUP(N23,Sheet1!$A$93:$B$95,2,FALSE)) -> -
A24: ไม่เคย | P24: =IF(A24=0,"-",VLOOKUP(A24,Sheet1!$A$3:$B$4,2,FALSE)) -> 0 | Q24: =IF(B24=0,"-",VLOOKUP(B24, Sheet1!$G$3:$H$44, 2, FALSE)) -> - | R24: =IF(C24=0,"-",VLOOKUP(C24,Sheet1!$A$7:$B$11,2,FALSE)) -> - | S24: =IF(D24=0,"-",VLOOKUP(D24,Sheet1!$A$14:$B$16,2,FALSE)) -> - | T24: =IF(E24=0,"-",VLOOKUP(E24,Sheet1!$D$8:$E$72,2,FALSE)) -> - | U24: =IF(F24=0,"-",VLOOKUP(F24,Sheet1!$A$19:$B$21,2,FALSE)) -> - | V24: =IF(G24=0,"-",VLOOKUP(G24,Sheet1!$D$3:$E$5,2,FALSE)) -> - | W24: =IF(H24=0,"-",VLOOKUP(H24,Sheet1!$A$76:$B$77,2,FALSE)) -> - | X24: =IF(I24=0,"-",VLOOKUP(I24,Sheet1!$A$80:$B$85,2,FALSE)) -> - | AB24: =IF(M24=0,"-",VLOOKUP(M24,Sheet1!$D$76:$E$136,2,FALSE)) -> - | AC24: =IF(N24=0,"-",VLOOKUP(N24,Sheet1!$A$93:$B$95,2,FALSE)) -> -
A25: เคย | B25: สะดวก สามารถอ่านได้ทุกที่, ไม่มีค่าใช้จ่าย หรือค่าใช้จ่ายน้อยกว่าซื้อหนังสือ | C25: น้อยกว่า 7 ชั่วโมง | D25: ทั้งสองที่ | E25: Dek-D, Fictionlog, ธัญวลัย | F25: ไม่ใช่แฟนฟิคชั่น | G25: โทรศัพท์มือถือ | H25: เคย | I25: Dek-D | J25: 1 | K25: 25 | L25: 30 | M25: Mobile/online banking | N25: นิยายที่ไม่ใช่แฟนฟิคชั่น | P25: =IF(A25=0,"-",VLOOKUP(A25,Sheet1!$A$3:$B$4,2,FALSE)) -> 1 | Q25: =IF(B25=0,"-",VLOOKUP(B25, Sheet1!$G$3:$H$44, 2, FALSE)) -> 33 | R25: =IF(C25=0,"-",VLOOKUP(C25,Sheet1!$A$7:$B$11,2,FALSE)) -> 0 | S25: =IF(D25=0,"-",VLOOKUP(D25,Sheet1!$A$14:$B$16,2,FALSE)) -> 2 | T25: =IF(E25=0,"-",VLOOKUP(E25,Sheet1!$D$8:$E$72,2,FALSE)) -> 10 | U25: =IF(F25=0,"-",VLOOKUP(F25,Sheet1!$A$19:$B$21,2,FALSE)) -> 1 | V25: =IF(G25=0,"-",VLOOKUP(G25,Sheet1!$D$3:$E$5,2,FALSE)) -> 1 | W25: =IF(H25=0,"-",VLOOKUP(H25,Sheet1!$A$76:$B$77,2,FALSE)) -> 1 | X25: =IF(I25=0,"-",VLOOKUP(I25,Sheet1!$A$80:$B$85,2,FALSE)) -> 1 | Y25: 1 | Z25: 25 | AA25: 30 | AB25: =IF(M25=0,"-",VLOOKUP(M25,Sheet1!$D$76:$E$136,2,FALSE)) -> 2 | AC25: =IF(N25=0,"-",VLOOKUP(N25,Sheet1!$A$93:$B$95,2,FALSE)) -> 1
A26: เคย | B26: สะดวก สามารถอ่านได้ทุกที่, ไม่มีค่าใช้จ่าย หรือค่าใช้จ่ายน้อยกว่าซื้อหนังสือ | C26: 16 - 25 ชั่วโมง | D26: ทั้งสองที่ | E26: Dek-D | F26: ไม่ใช่แฟนฟิคชั่น | G26: โทรศัพท์มือถือ | H26: ไม่เคย | P26: =IF(A26=0,"-",VLOOKUP(A26,Sheet1!$A$3:$B$4,2,FALSE)) -> 1 | Q26: =IF(B26=0,"-",VLOOKUP(B26, Sheet1!$G$3:$H$44, 2, FALSE)) -> 33 | R26: =IF(C26=0,"-",VLOOKUP(C26,Sheet1!$A$7:$B$11,2,FALSE)) -> 2 | S26: =IF(D26=0,"-",VLOOKUP(D26,Sheet1!$A$14:$B$16,2,FALSE)) -> 2 | T26: =IF(E26=0,"-",VLOOKUP(E26,Sheet1!$D$8:$E$72,2,FALSE)) -> 1 | U26: =IF(F26=0,"-",VLOOKUP(F26,Sheet1!$A$19:$B$21,2,FALSE)) -> 1 | V26: =IF(G26=0,"-",VLOOKUP(G26,Sheet1!$D$3:$E$5,2,FALSE)) -> 1 | W26: =IF(H26=0,"-",VLOOKUP(H26,Sheet1!$A$76:$B$77,2,FALSE)) -> 0 | X26: =IF(I26=0,"-",VLOOKUP(I26,Sheet1!$A$80:$B$85,2,FALSE)) -> - | AB26: =IF(M26=0,"-",VLOOKUP(M26,Sheet1!$D$76:$E$136,2,FALSE)) -> - | AC26: =IF(N26=0,"-",VLOOKUP(N26,Sheet1!$A$93:$B$95,2,FALSE)) -> -
A27: เคย | B27: สะดวก สามารถอ่านได้ทุกที่, ไม่มีค่าใช้จ่าย หรือค่าใช้จ่ายน้อยกว่าซื้อหนังสือ | C27: น้อยกว่า 7 ชั่วโมง | D27: เว็บไซต์ | E27: Dek-D | F27: ไม่ใช่แฟนฟิคชั่น | G27: Tablet/Ipad | H27: ไม่เคย | P27: =IF(A27=0,"-",VLOOKUP(A27,Sheet1!$A$3:$B$4,2,FALSE)) -> 1 | Q27: =IF(B27=0,"-",VLOOKUP(B27, Sheet1!$G$3:$H$44, 2, FALSE)) -> 33 | R27: =IF(C27=0,"-",VLOOKUP(C27,Sheet1!$A$7:$B$11,2,FALSE)) -> 0 | S27: =IF(D27=0,"-",VLOOKUP(D27,Sheet1!$A$14:$B$16,2,FALSE)) -> 0 | T27: =IF(E27=0,"-",VLOOKUP(E27,Sheet1!$D$8:$E$72,2,FALSE)) -> 1 | U27: =IF(F27=0,"-",VLOOKUP(F27,Sheet1!$A$19:$B$21,2,FALSE)) -> 1 | V27: =IF(G27=0,"-",VLOOKUP(G27,Sheet1!$D$3:$E$5,2,FALSE)) -> 2 | W27: =IF(H27=0,"-",VLOOKUP(H27,Sheet1!$A$76:$B$77,2,FALSE)) -> 0 | X27: =IF(I27=0,"-",VLOOKUP(I27,Sheet1!$A$80:$B$85,2,FALSE)) -> - | AB27: =IF(M27=0,"-",VLOOKUP(M27,Sheet1!$D$76:$E$136,2,FALSE)) -> - | AC27: =IF(N27=0,"-",VLOOKUP(N27,Sheet1!$A$93:$B$95,2,FALSE)) -> -
A28: ไม่เคย | P28: =IF(A28=0,"-",VLOOKUP(A28,Sheet1!$A$3:$B$4,2,FALSE)) -> 0 | Q28: =IF(B28=0,"-",VLOOKUP(B28, Sheet1!$G$3:$H$44, 2, FALSE)) -> - | R28: =IF(C28=0,"-",VLOOKUP(C28,Sheet1!$A$7:$B$11,2,FALSE)) -> - | S28: =IF(D28=0,"-",VLOOKUP(D28,Sheet1!$A$14:$B$16,2,FALSE)) -> - | T28: =IF(E28=0,"-",VLOOKUP(E28,Sheet1!$D$8:$E$72,2,FALSE)) -> - | U28: =IF(F28=0,"-",VLOOKUP(F28,Sheet1!$A$19:$B$21,2,FALSE)) -> - | V28: =IF(G28=0,"-",VLOOKUP(G28,Sheet1!$D$3:$E$5,2,FALSE)) -> - | W28: =IF(H28=0,"-",VLOOKUP(H28,Sheet1!$A$76:$B$77,2,FALSE)) -> - | X28: =IF(I28=0,"-",VLOOKUP(I28,Sheet1!$A$80:$B$85,2,FALSE)) -> - | AB28: =IF(M28=0,"-",VLOOKUP(M28,Sheet1!$D$76:$E$136,2,FALSE)) -> - | AC28: =IF(N28=0,"-",VLOOKUP(N28,Sheet1!$A$93:$B$95,2,FALSE)) -> -
P29: =IF(A29=0,"-",VLOOKUP(A29,Sheet1!$A$3:$B$4,2,FALSE)) -> - | Q29: =IF(B29=0,"-",VLOOKUP(B29, Sheet1!$G$3:$H$44, 2, FALSE)) -> - | R29: =IF(C29=0,"-",VLOOKUP(C29,Sheet1!$A$7:$B$11,2,FALSE)) -> - | S29: =IF(D29=0,"-",VLOOKUP(D29,Sheet1!$A$14:$B$16,2,FALSE)) -> - | T29: =IF(E29=0,"-",VLOOKUP(E29,Sheet1!$D$8:$E$72,2,FALSE)) -> - | U29: =IF(F29=0,"-",VLOOKUP(F29,Sheet1!$A$19:$B$21,2,FALSE)) -> - | V29: =IF(G29=0,"-",VLOOKUP(G29,Sheet1!$D$3:$E$5,2,FALSE)) -> - | W29: =IF(H29=0,"-",VLOOKUP(H29,Sheet1!$A$76:$B$77,2,FALSE)) -> - | X29: =IF(I29=0,"-",VLOOKUP(I29,Sheet1!$A$80:$B$85,2,FALSE)) -> - | AB29: =IF(M29=0,"-",VLOOKUP(M29,Sheet1!$D$76:$E$136,2,FALSE)) -> - | AC29: =IF(N29=0,"-",VLOOKUP(N29,Sheet1!$A$93:$B$95,2,FALSE)) -> -
A30: เคย | B30: ความหลากหลายของเนื้อเรื่อง, สะดวก สามารถอ่านได้ทุกที่, ไม่มีค่าใช้จ่าย หรือค่าใช้จ่ายน้อยกว่าซื้อหนังสือ | C30: น้อยกว่า 7 ชั่วโมง | D30: เว็บไซต์ | F30: แฟนฟิคชั่น (Fanfiction) | G30: โทรศัพท์มือถือ | H30: ไม่เคย | P30: =IF(A30=0,"-",VLOOKUP(A30,Sheet1!$A$3:$B$4,2,FALSE)) -> 1 | Q30: =IF(B30=0,"-",VLOOKUP(B30, Sheet1!$G$3:$H$44, 2, FALSE)) -> 13 | R30: =IF(C30=0,"-",VLOOKUP(C30,Sheet1!$A$7:$B$11,2,FALSE)) -> 0 | S30: =IF(D30=0,"-",VLOOKUP(D30,Sheet1!$A$14:$B$16,2,FALSE)) -> 0 | T30: =IF(E30=0,"-",VLOOKUP(E30,Sheet1!$D$8:$E$72,2,FALSE)) -> - | U30: =IF(F30=0,"-",VLOOKUP(F30,Sheet1!$A$19:$B$21,2,FALSE)) -> 0 | V30: =IF(G30=0,"-",VLOOKUP(G30,Sheet1!$D$3:$E$5,2,FALSE)) -> 1 | W30: =IF(H30=0,"-",VLOOKUP(H30,Sheet1!$A$76:$B$77,2,FALSE)) -> 0 | X30: =IF(I30=0,"-",VLOOKUP(I30,Sheet1!$A$80:$B$85,2,FALSE)) -> - | AB30: =IF(M30=0,"-",VLOOKUP(M30,Sheet1!$D$76:$E$136,2,FALSE)) -> - | AC30: =IF(N30=0,"-",VLOOKUP(N30,Sheet1!$A$93:$B$95,2,FALSE)) -> -
A31: เคย | B31: สะดวก สามารถอ่านได้ทุกที่, ไม่มีค่าใช้จ่าย หรือค่าใช้จ่ายน้อยกว่าซื้อหนังสือ | C31: 7 - 15 ชั่วโมง | D31: ทั้งสองที่ | E31: Dek-D | F31: ทั้งสอง | G31: โทรศัพท์มือถือ | H31: ไม่เคย | P31: =IF(A31=0,"-",VLOOKUP(A31,Sheet1!$A$3:$B$4,2,FALSE)) -> 1 | Q31: =IF(B31=0,"-",VLOOKUP(B31, Sheet1!$G$3:$H$44, 2, FALSE)) -> 33 | R31: =IF(C31=0,"-",VLOOKUP(C31,Sheet1!$A$7:$B$11,2,FALSE)) -> 1 | S31: =IF(D31=0,"-",VLOOKUP(D31,Sheet1!$A$14:$B$16,2,FALSE)) -> 2 | T31: =IF(E31=0,"-",VLOOKUP(E31,Sheet1!$D$8:$E$72,2,FALSE)) -> 1 | U31: =IF(F31=0,"-",VLOOKUP(F31,Sheet1!$A$19:$B$21,2,FALSE)) -> 2 | V31: =IF(G31=0,"-",VLOOKUP(G31,Sheet1!$D$3:$E$5,2,FALSE)) -> 1 | W31: =IF(H31=0,"-",VLOOKUP(H31,Sheet1!$A$76:$B$77,2,FALSE)) -> 0 | X31: =IF(I31=0,"-",VLOOKUP(I31,Sheet1!$A$80:$B$85,2,FALSE)) -> - | AB31: =IF(M31=0,"-",VLOOKUP(M31,Sheet1!$D$76:$E$136,2,FALSE)) -> - | AC31: =IF(N31=0,"-",VLOOKUP(N31,Sheet1!$A$93:$B$95,2,FALSE)) -> -
A32: ไม่เคย | P32: =IF(A32=0,"-",VLOOKUP(A32,Sheet1!$A$3:$B$4,2,FALSE)) -> 0 | Q32: =IF(B32=0,"-",VLOOKUP(B32, Sheet1!$G$3:$H$44, 2, FALSE)) -> - | R32: =IF(C32=0,"-",VLOOKUP(C32,Sheet1!$A$7:$B$11,2,FALSE)) -> - | S32: =IF(D32=0,"-",VLOOKUP(D32,Sheet1!$A$14:$B$16,2,FALSE)) -> - | T32: =IF(E32=0,"-",VLOOKUP(E32,Sheet1!$D$8:$E$72,2,FALSE)) -> - | U32: =IF(F32=0,"-",VLOOKUP(F32,Sheet1!$A$19:$B$21,2,FALSE)) -> - | V32: =IF(G32=0,"-",VLOOKUP(G32,Sheet1!$D$3:$E$5,2,FALSE)) -> - | W32: =IF(H32=0,"-",VLOOKUP(H32,Sheet1!$A$76:$B$77,2,FALSE)) -> - | X32: =IF(I32=0,"-",VLOOKUP(I32,Sheet1!$A$80:$B$85,2,FALSE)) -> - | AB32: =IF(M32=0,"-",VLOOKUP(M32,Sheet1!$D$76:$E$136,2,FALSE)) -> - | AC32: =IF(N32=0,"-",VLOOKUP(N32,Sheet1!$A$93:$B$95,2,FALSE)) -> -
A33: ไม่เคย | P33: =IF(A33=0,"-",VLOOKUP(A33,Sheet1!$A$3:$B$4,2,FALSE)) -> 0 | Q33: =IF(B33=0,"-",VLOOKUP(B33, Sheet1!$G$3:$H$44, 2, FALSE)) -> - | R33: =IF(C33=0,"-",VLOOKUP(C33,Sheet1!$A$7:$B$11,2,FALSE)) -> - | S33: =IF(D33=0,"-",VLOOKUP(D33,Sheet1!$A$14:$B$16,2,FALSE)) -> - | T33: =IF(E33=0,"-",VLOOKUP(E33,Sheet1!$D$8:$E$72,2,FALSE)) -> - | U33: =IF(F33=0,"-",VLOOKUP(F33,Sheet1!$A$19:$B$21,2,FALSE)) -> - | V33: =IF(G33=0,"-",VLOOKUP(G33,Sheet1!$D$3:$E$5,2,FALSE)) -> - | W33: =IF(H33=0,"-",VLOOKUP(H33,Sheet1!$A$76:$B$77,2,FALSE)) -> - | X33: =IF(I33=0,"-",VLOOKUP(I33,Sheet1!$A$80:$B$85,2,FALSE)) -> - | AB33: =IF(M33=0,"-",VLOOKUP(M33,Sheet1!$D$76:$E$136,2,FALSE)) -> - | AC33: =IF(N33=0,"-",VLOOKUP(N33,Sheet1!$A$93:$B$95,2,FALSE)) -> -
A34: เคย | B34: ความหลากหลายของเนื้อเรื่อง, สะดวก สามารถอ่านได้ทุกที่, ไม่มีค่าใช้จ่าย หรือค่าใช้จ่ายน้อยกว่าซื้อหนังสือ | C34: น้อยกว่า 7 ชั่วโมง | D34: ทั้งสองที่ | E34: Dek-D, ReadAWrite | F34: ไม่ใช่แฟนฟิคชั่น | G34: โทรศัพท์มือถือ | H34: ไม่เคย | P34: =IF(A34=0,"-",VLOOKUP(A34,Sheet1!$A$3:$B$4,2,FALSE)) -> 1 | Q34: =IF(B34=0,"-",VLOOKUP(B34, Sheet1!$G$3:$H$44, 2, FALSE)) -> 13 | R34: =IF(C34=0,"-",VLOOKUP(C34,Sheet1!$A$7:$B$11,2,FALSE)) -> 0 | S34: =IF(D34=0,"-",VLOOKUP(D34,Sheet1!$A$14:$B$16,2,FALSE)) -> 2 | T34: =IF(E34=0,"-",VLOOKUP(E34,Sheet1!$D$8:$E$72,2,FALSE)) -> 8 | U34: =IF(F34=0,"-",VLOOKUP(F34,Sheet1!$A$19:$B$21,2,FALSE)) -> 1 | V34: =IF(G34=0,"-",VLOOKUP(G34,Sheet1!$D$3:$E$5,2,FALSE)) -> 1 | W34: =IF(H34=0,"-",VLOOKUP(H34,Sheet1!$A$76:$B$77,2,FALSE)) -> 0 | X34: =IF(I34=0,"-",VLOOKUP(I34,Sheet1!$A$80:$B$85,2,FALSE)) -> - | AB34: =IF(M34=0,"-",VLOOKUP(M34,Sheet1!$D$76:$E$136,2,FALSE)) -> - | AC34: =IF(N34=0,"-",VLOOKUP(N34,Sheet1!$A$93:$B$95,2,FALSE)) -> -
A35: เคย | B35: สะดวก สามารถอ่านได้ทุกที่, ไม่มีค่าใช้จ่าย หรือค่าใช้จ่ายน้อยกว่าซื้อหนังสือ | C35: น้อยกว่า 7 ชั่วโมง | D35: เว็บไซต์ | F35: ไม่ใช่แฟนฟิคชั่น | G35: Computer | H35: ไม่เคย | P35: =IF(A35=0,"-",VLOOKUP(A35,Sheet1!$A$3:$B$4,2,FALSE)) -> 1 | Q35: =IF(B35=0,"-",VLOOKUP(B35, Sheet1!$G$3:$H$44, 2, FALSE)) -> 33 | R35: =IF(C35=0,"-",VLOOKUP(C35,Sheet1!$A$7:$B$11,2,FALSE)) -> 0 | S35: =IF(D35=0,"-",VLOOKUP(D35,Sheet1!$A$14:$B$16,2,FALSE)) -> 0 | T35: =IF(E35=0,"-",VLOOKUP(E35,Sheet1!$D$8:$E$72,2,FALSE)) -> - | U35: =IF(F35=0,"-",VLOOKUP(F35,Sheet1!$A$19:$B$21,2,FALSE)) -> 1 | V35: =IF(G35=0,"-",VLOOKUP(G35,Sheet1!$D$3:$E$5,2,FALSE)) -> 0 | W35: =IF(H35=0,"-",VLOOKUP(H35,Sheet1!$A$76:$B$77,2,FALSE)) -> 0 | X35: =IF(I35=0,"-",VLOOKUP(I35,Sheet1!$A$80:$B$85,2,FALSE)) -> - | AB35: =IF(M35=0,"-",VLOOKUP(M35,Sheet1!$D$76:$E$136,2,FALSE)) -> - | AC35: =IF(N35=0,"-",VLOOKUP(N35,Sheet1!$A$93:$B$95,2,FALSE)) -> -
P36: =IF(A36=0,"-",VLOOKUP(A36,Sheet1!$A$3:$B$4,2,FALSE)) -> - | Q36: =IF(B36=0,"-",VLOOKUP(B36, Sheet1!$G$3:$H$44, 2, FALSE)) -> - | R36: =IF(C36=0,"-",VLOOKUP(C36,Sheet1!$A$7:$B$11,2,FALSE)) -> - | S36: =IF(D36=0,"-",VLOOKUP(D36,Sheet1!$A$14:$B$16,2,FALSE)) -> - | T36: =IF(E36=0,"-",VLOOKUP(E36,Sheet1!$D$8:$E$72,2,FALSE)) -> - | U36: =IF(F36=0,"-",VLOOKUP(F36,Sheet1!$A$19:$B$21,2,FALSE)) -> - | V36: =IF(G36=0,"-",VLOOKUP(G36,Sheet1!$D$3:$E$5,2,FALSE)) -> - | W36: =IF(H36=0,"-",VLOOKUP(H36,Sheet1!$A$76:$B$77,2,FALSE)) -> - | X36: =IF(I36=0,"-",VLOOKUP(I36,Sheet1!$A$80:$B$85,2,FALSE)) -> - | AB36: =IF(M36=0,"-",VLOOKUP(M36,Sheet1!$D$76:$E$136,2,FALSE)) -> - | AC36: =IF(N36=0,"-",VLOOKUP(N36,Sheet1!$A$93:$B$95,2,FALSE)) -> -
A37: เคย | B37: สะดวก สามารถอ่านได้ทุกที่, ไม่มีค่าใช้จ่าย หรือค่าใช้จ่ายน้อยกว่าซื้อหนังสือ | C37: น้อยกว่า 7 ชั่วโมง | D37: เว็บไซต์ | E37: Dek-D | F37: ทั้งสอง | G37: Computer | H37: ไม่เคย | P37: =IF(A37=0,"-",VLOOKUP(A37,Sheet1!$A$3:$B$4,2,FALSE)) -> 1 | Q37: =IF(B37=0,"-",VLOOKUP(B37, Sheet1!$G$3:$H$44, 2, FALSE)) -> 33 | R37: =IF(C37=0,"-",VLOOKUP(C37,Sheet1!$A$7:$B$11,2,FALSE)) -> 0 | S37: =IF(D37=0,"-",VLOOKUP(D37,Sheet1!$A$14:$B$16,2,FALSE)) -> 0 | T37: =IF(E37=0,"-",VLOOKUP(E37,Sheet1!$D$8:$E$72,2,FALSE)) -> 1 | U37: =IF(F37=0,"-",VLOOKUP(F37,Sheet1!$A$19:$B$21,2,FALSE)) -> 2 | V37: =IF(G37=0,"-",VLOOKUP(G37,Sheet1!$D$3:$E$5,2,FALSE)) -> 0 | W37: =IF(H37=0,"-",VLOOKUP(H37,Sheet1!$A$76:$B$77,2,FALSE)) -> 0 | X37: =IF(I37=0,"-",VLOOKUP(I37,Sheet1!$A$80:$B$85,2,FALSE)) -> - | AB37: =IF(M37=0,"-",VLOOKUP(M37,Sheet1!$D$76:$E$136,2,FALSE)) -> - | AC37: =IF(N37=0,"-",VLOOKUP(N37,Sheet1!$A$93:$B$95,2,FALSE)) -> -
A38: เคย | B38: สะดวก สามารถอ่านได้ทุกที่, ไม่มีค่าใช้จ่าย หรือค่าใช้จ่ายน้อยกว่าซื้อหนังสือ | C38: น้อยกว่า 7 ชั่วโมง | D38: เว็บไซต์ | E38: Dek-D | F38: ไม่ใช่แฟนฟิคชั่น | G38: Tablet/Ipad | H38: ไม่เคย | P38: =IF(A38=0,"-",VLOOKUP(A38,Sheet1!$A$3:$B$4,2,FALSE)) -> 1 | Q38: =IF(B38=0,"-",VLOOKUP(B38, Sheet1!$G$3:$H$44, 2, FALSE)) -> 33 | R38: =IF(C38=0,"-",VLOOKUP(C38,Sheet1!$A$7:$B$11,2,FALSE)) -> 0 | S38: =IF(D38=0,"-",VLOOKUP(D38,Sheet1!$A$14:$B$16,2,FALSE)) -> 0 | T38: =IF(E38=0,"-",VLOOKUP(E38,Sheet1!$D$8:$E$72,2,FALSE)) -> 1 | U38: =IF(F38=0,"-",VLOOKUP(F38,Sheet1!$A$19:$B$21,2,FALSE)) -> 1 | V38: =IF(G38=0,"-",VLOOKUP(G38,Sheet1!$D$3:$E$5,2,FALSE)) -> 2 | W38: =IF(H38=0,"-",VLOOKUP(H38,Sheet1!$A$76:$B$77,2,FALSE)) -> 0 | X38: =IF(I38=0,"-",VLOOKUP(I38,Sheet1!$A$80:$B$85,2,FALSE)) -> - | AB38: =IF(M38=0,"-",VLOOKUP(M38,Sheet1!$D$76:$E$136,2,FALSE)) -> - | AC38: =IF(N38=0,"-",VLOOKUP(N38,Sheet1!$A$93:$B$95,2,FALSE)) -> -
A39: ไม่เคย | P39: =IF(A39=0,"-",VLOOKUP(A39,Sheet1!$A$3:$B$4,2,FALSE)) -> 0 | Q39: =IF(B39=0,"-",VLOOKUP(B39, Sheet1!$G$3:$H$44, 2, FALSE)) -> - | R39: =IF(C39=0,"-",VLOOKUP(C39,Sheet1!$A$7:$B$11,2,FALSE)) -> - | S39: =IF(D39=0,"-",VLOOKUP(D39,Sheet1!$A$14:$B$16,2,FALSE)) -> - | T39: =IF(E39=0,"-",VLOOKUP(E39,Sheet1!$D$8:$E$72,2,FALSE)) -> - | U39: =IF(F39=0,"-",VLOOKUP(F39,Sheet1!$A$19:$B$21,2,FALSE)) -> - | V39: =IF(G39=0,"-",VLOOKUP(G39,Sheet1!$D$3:$E$5,2,FALSE)) -> - | W39: =IF(H39=0,"-",VLOOKUP(H39,Sheet1!$A$76:$B$77,2,FALSE)) -> - | X39: =IF(I39=0,"-",VLOOKUP(I39,Sheet1!$A$80:$B$85,2,FALSE)) -> - | AB39: =IF(M39=0,"-",VLOOKUP(M39,Sheet1!$D$76:$E$136,2,FALSE)) -> - | AC39: =IF(N39=0,"-",VLOOKUP(N39,Sheet1!$A$93:$B$95,2,FALSE)) -> -
A40: เคย | B40: ความหลากหลายของเนื้อเรื่อง, สะดวก สามารถอ่านได้ทุกที่, ไม่มีค่าใช้จ่าย หรือค่าใช้จ่ายน้อยกว่าซื้อหนังสือ | C40: 16 - 25 ชั่วโมง | D40: เว็บไซต์ | E40: Weibo | F40: แฟนฟิคชั่น (Fanfiction) | G40: โทรศัพท์มือถือ | H40: ไม่เคย | P40: =IF(A40=0,"-",VLOOKUP(A40,Sheet1!$A$3:$B$4,2,FALSE)) -> 1 | Q40: =IF(B40=0,"-",VLOOKUP(B40, Sheet1!$G$3:$H$44, 2, FALSE)) -> 13 | R40: =IF(C40=0,"-",VLOOKUP(C40,Sheet1!$A$7:$B$11,2,FALSE)) -> 2 | S40: =IF(D40=0,"-",VLOOKUP(D40,Sheet1!$A$14:$B$16,2,FALSE)) -> 0 | T40: =IF(E40=0,"-",VLOOKUP(E40,Sheet1!$D$8:$E$72,2,FALSE)) -> 60 | U40: =IF(F40=0,"-",VLOOKUP(F40,Sheet1!$A$19:$B$21,2,FALSE)) -> 0 | V40: =IF(G40=0,"-",VLOOKUP(G40,Sheet1!$D$3:$E$5,2,FALSE)) -> 1 | W40: =IF(H40=0,"-",VLOOKUP(H40,Sheet1!$A$76:$B$77,2,FALSE)) -> 0 | X40: =IF(I40=0,"-",VLOOKUP(I40,Sheet1!$A$80:$B$85,2,FALSE)) -> - | AB40: =IF(M40=0,"-",VLOOKUP(M40,Sheet1!$D$76:$E$136,2,FALSE)) -> - | AC40: =IF(N40=0,"-",VLOOKUP(N40,Sheet1!$A$93:$B$95,2,FALSE)) -> -
A41: ไม่เคย | P41: =IF(A41=0,"-",VLOOKUP(A41,Sheet1!$A$3:$B$4,2,FALSE)) -> 0 | Q41: =IF(B41=0,"-",VLOOKUP(B41, Sheet1!$G$3:$H$44, 2, FALSE)) -> - | R41: =IF(C41=0,"-",VLOOKUP(C41,Sheet1!$A$7:$B$11,2,FALSE)) -> - | S41: =IF(D41=0,"-",VLOOKUP(D41,Sheet1!$A$14:$B$16,2,FALSE)) -> - | T41: =IF(E41=0,"-",VLOOKUP(E41,Sheet1!$D$8:$E$72,2,FALSE)) -> - | U41: =IF(F41=0,"-",VLOOKUP(F41,Sheet1!$A$19:$B$21,2,FALSE)) -> - | V41: =IF(G41=0,"-",VLOOKUP(G41,Sheet1!$D$3:$E$5,2,FALSE)) -> - | W41: =IF(H41=0,"-",VLOOKUP(H41,Sheet1!$A$76:$B$77,2,FALSE)) -> - | X41: =IF(I41=0,"-",VLOOKUP(I41,Sheet1!$A$80:$B$85,2,FALSE)) -> - | AB41: =IF(M41=0,"-",VLOOKUP(M41,Sheet1!$D$76:$E$136,2,FALSE)) -> - | AC41: =IF(N41=0,"-",VLOOKUP(N41,Sheet1!$A$93:$B$95,2,FALSE)) -> -
A42: เคย | B42: ความหลากหลายของเนื้อเรื่อง, สะดวก สามารถอ่านได้ทุกที่, ไม่มีค่าใช้จ่าย หรือค่าใช้จ่ายน้อยกว่าซื้อหนังสือ, สามารถแสดงความคิดเห็นต่อนิยายเรื่องนั้นๆ หรือตอนนั้นๆได้อย่างทันที | C42: 16 - 25 ชั่วโมง | D42: ทั้งสองที่ | E42: Dek-D, ธัญวลัย | F42: ทั้งสอง | G42: โทรศัพท์มือถือ | H42: ไม่เคย | P42: =IF(A42=0,"-",VLOOKUP(A42,Sheet1!$A$3:$B$4,2,FALSE)) -> 1 | Q42: =IF(B42=0,"-",VLOOKUP(B42, Sheet1!$G$3:$H$44, 2, FALSE)) -> 14 | R42: =IF(C42=0,"-",VLOOKUP(C42,Sheet1!$A$7:$B$11,2,FALSE)) -> 2 | S42: =IF(D42=0,"-",VLOOKUP(D42,Sheet1!$A$14:$B$16,2,FALSE)) -> 2 | T42: =IF(E42=0,"-",VLOOKUP(E42,Sheet1!$D$8:$E$72,2,FALSE)) -> 7 | U42: =IF(F42=0,"-",VLOOKUP(F42,Sheet1!$A$19:$B$21,2,FALSE)) -> 2 | V42: =IF(G42=0,"-",VLOOKUP(G42,Sheet1!$D$3:$E$5,2,FALSE)) -> 1 | W42: =IF(H42=0,"-",VLOOKUP(H42,Sheet1!$A$76:$B$77,2,FALSE)) -> 0 | X42: =IF(I42=0,"-",VLOOKUP(I42,Sheet1!$A$80:$B$85,2,FALSE)) -> - | AB42: =IF(M42=0,"-",VLOOKUP(M42,Sheet1!$D$76:$E$136,2,FALSE)) -> - | AC42: =IF(N42=0,"-",VLOOKUP(N42,Sheet1!$A$93:$B$95,2,FALSE)) -> -
A43: ไม่เคย | P43: =IF(A43=0,"-",VLOOKUP(A43,Sheet1!$A$3:$B$4,2,FALSE)) -> 0 | Q43: =IF(B43=0,"-",VLOOKUP(B43, Sheet1!$G$3:$H$44, 2, FALSE)) -> - | R43: =IF(C43=0,"-",VLOOKUP(C43,Sheet1!$A$7:$B$11,2,FALSE)) -> - | S43: =IF(D43=0,"-",VLOOKUP(D43,Sheet1!$A$14:$B$16,2,FALSE)) -> - | T43: =IF(E43=0,"-",VLOOKUP(E43,Sheet1!$D$8:$E$72,2,FALSE)) -> - | U43: =IF(F43=0,"-",VLOOKUP(F43,Sheet1!$A$19:$B$21,2,FALSE)) -> - | V43: =IF(G43=0,"-",VLOOKUP(G43,Sheet1!$D$3:$E$5,2,FALSE)) -> - | W43: =IF(H43=0,"-",VLOOKUP(H43,Sheet1!$A$76:$B$77,2,FALSE)) -> - | X43: =IF(I43=0,"-",VLOOKUP(I43,Sheet1!$A$80:$B$85,2,FALSE)) -> - | AB43: =IF(M43=0,"-",VLOOKUP(M43,Sheet1!$D$76:$E$136,2,FALSE)) -> - | AC43: =IF(N43=0,"-",VLOOKUP(N43,Sheet1!$A$93:$B$95,2,FALSE)) -> -
A44: ไม่เคย | P44: =IF(A44=0,"-",VLOOKUP(A44,Sheet1!$A$3:$B$4,2,FALSE)) -> 0 | Q44: =IF(B44=0,"-",VLOOKUP(B44, Sheet1!$G$3:$H$44, 2, FALSE)) -> - | R44: =IF(C44=0,"-",VLOOKUP(C44,Sheet1!$A$7:$B$11,2,FALSE)) -> - | S44: =IF(D44=0,"-",VLOOKUP(D44,Sheet1!$A$14:$B$16,2,FALSE)) -> - | T44: =IF(E44=0,"-",VLOOKUP(E44,Sheet1!$D$8:$E$72,2,FALSE)) -> - | U44: =IF(F44=0,"-",VLOOKUP(F44,Sheet1!$A$19:$B$21,2,FALSE)) -> - | V44: =IF(G44=0,"-",VLOOKUP(G44,Sheet1!$D$3:$E$5,2,FALSE)) -> - | W44: =IF(H44=0,"-",VLOOKUP(H44,Sheet1!$A$76:$B$77,2,FALSE)) -> - | X44: =IF(I44=0,"-",VLOOKUP(I44,Sheet1!$A$80:$B$85,2,FALSE)) -> - | AB44: =IF(M44=0,"-",VLOOKUP(M44,Sheet1!$D$76:$E$136,2,FALSE)) -> - | AC44: =IF(N44=0,"-",VLOOKUP(N44,Sheet1!$A$93:$B$95,2,FALSE)) -> -
A45: ไม่เคย | P45: =IF(A45=0,"-",VLOOKUP(A45,Sheet1!$A$3:$B$4,2,FALSE)) -> 0 | Q45: =IF(B45=0,"-",VLOOKUP(B45, Sheet1!$G$3:$H$44, 2, FALSE)) -> - | R45: =IF(C45=0,"-",VLOOKUP(C45,Sheet1!$A$7:$B$11,2,FALSE)) -> - | S45: =IF(D45=0,"-",VLOOKUP(D45,Sheet1!$A$14:$B$16,2,FALSE)) -> - | T45: =IF(E45=0,"-",VLOOKUP(E45,Sheet1!$D$8:$E$72,2,FALSE)) -> - | U45: =IF(F45=0,"-",VLOOKUP(F45,Sheet1!$A$19:$B$21,2,FALSE)) -> - | V45: =IF(G45=0,"-",VLOOKUP(G45,Sheet1!$D$3:$E$5,2,FALSE)) -> - | W45: =IF(H45=0,"-",VLOOKUP(H45,Sheet1!$A$76:$B$77,2,FALSE)) -> - | X45: =IF(I45=0,"-",VLOOKUP(I45,Sheet1!$A$80:$B$85,2,FALSE)) -> - | AB45: =IF(M45=0,"-",VLOOKUP(M45,Sheet1!$D$76:$E$136,2,FALSE)) -> - | AC45: =IF(N45=0,"-",VLOOKUP(N45,Sheet1!$A$93:$B$95,2,FALSE)) -> -
A46: เคย | B46: ความหลากหลายของเนื้อเรื่อง, สะดวก สามารถอ่านได้ทุกที่, ไม่มีค่าใช้จ่าย หรือค่าใช้จ่ายน้อยกว่าซื้อหนังสือ | C46: 7 - 15 ชั่วโมง | D46: ทั้งสองที่ | E46: Dek-D, ธัญวลัย | F46: ไม่ใช่แฟนฟิคชั่น | G46: โทรศัพท์มือถือ | H46: ไม่เคย | P46: =IF(A46=0,"-",VLOOKUP(A46,Sheet1!$A$3:$B$4,2,FALSE)) -> 1 | Q46: =IF(B46=0,"-",VLOOKUP(B46, Sheet1!$G$3:$H$44, 2, FALSE)) -> 13 | R46: =IF(C46=0,"-",VLOOKUP(C46,Sheet1!$A$7:$B$11,2,FALSE)) -> 1 | S46: =IF(D46=0,"-",VLOOKUP(D46,Sheet1!$A$14:$B$16,2,FALSE)) -> 2 | T46: =IF(E46=0,"-",VLOOKUP(E46,Sheet1!$D$8:$E$72,2,FALSE)) -> 7 | U46: =IF(F46=0,"-",VLOOKUP(F46,Sheet1!$A$19:$B$21,2,FALSE)) -> 1 | V46: =IF(G46=0,"-",VLOOKUP(G46,Sheet1!$D$3:$E$5,2,FALSE)) -> 1 | W46: =IF(H46=0,"-",VLOOKUP(H46,Sheet1!$A$76:$B$77,2,FALSE)) -> 0 | X46: =IF(I46=0,"-",VLOOKUP(I46,Sheet1!$A$80:$B$85,2,FALSE)) -> - | AB46: =IF(M46=0,"-",VLOOKUP(M46,Sheet1!$D$76:$E$136,2,FALSE)) -> - | AC46: =IF(N46=0,"-",VLOOKUP(N46,Sheet1!$A$93:$B$95,2,FALSE)) -> -
A47: เคย | B47: ความหลากหลายของเนื้อเรื่อง, สะดวก สามารถอ่านได้ทุกที่ | C47: น้อยกว่า 7 ชั่วโมง | D47: Application | E47: Dek-D | F47: ทั้งสอง | G47: โทรศัพท์มือถือ | H47: ไม่เคย | P47: =IF(A47=0,"-",VLOOKUP(A47,Sheet1!$A$3:$B$4,2,FALSE)) -> 1 | Q47: =IF(B47=0,"-",VLOOKUP(B47, Sheet1!$G$3:$H$44, 2, FALSE)) -> 12 | R47: =IF(C47=0,"-",VLOOKUP(C47,Sheet1!$A$7:$B$11,2,FALSE)) -> 0 | S47: =IF(D47=0,"-",VLOOKUP(D47,Sheet1!$A$14:$B$16,2,FALSE)) -> 1 | T47: =IF(E47=0,"-",VLOOKUP(E47,Sheet1!$D$8:$E$72,2,FALSE)) -> 1 | U47: =IF(F47=0,"-",VLOOKUP(F47,Sheet1!$A$19:$B$21,2,FALSE)) -> 2 | V47: =IF(G47=0,"-",VLOOKUP(G47,Sheet1!$D$3:$E$5,2,FALSE)) -> 1 | W47: =IF(H47=0,"-",VLOOKUP(H47,Sheet1!$A$76:$B$77,2,FALSE)) -> 0 | X47: =IF(I47=0,"-",VLOOKUP(I47,Sheet1!$A$80:$B$85,2,FALSE)) -> - | AB47: =IF(M47=0,"-",VLOOKUP(M47,Sheet1!$D$76:$E$136,2,FALSE)) -> - | AC47: =IF(N47=0,"-",VLOOKUP(N47,Sheet1!$A$93:$B$95,2,FALSE)) -> -
A48: เคย | B48: สะดวก สามารถอ่านได้ทุกที่, ไม่มีค่าใช้จ่าย หรือค่าใช้จ่ายน้อยกว่าซื้อหนังสือ | C48: น้อยกว่า 7 ชั่วโมง | D48: เว็บไซต์ | E48: Dek-D | F48: ไม่ใช่แฟนฟิคชั่น | G48: โทรศัพท์มือถือ | H48: ไม่เคย | P48: =IF(A48=0,"-",VLOOKUP(A48,Sheet1!$A$3:$B$4,2,FALSE)) -> 1 | Q48: =IF(B48=0,"-",VLOOKUP(B48, Sheet1!$G$3:$H$44, 2, FALSE)) -> 33 | R48: =IF(C48=0,"-",VLOOKUP(C48,Sheet1!$A$7:$B$11,2,FALSE)) -> 0 | S48: =IF(D48=0,"-",VLOOKUP(D48,Sheet1!$A$14:$B$16,2,FALSE)) -> 0 | T48: =IF(E48=0,"-",VLOOKUP(E48,Sheet1!$D$8:$E$72,2,FALSE)) -> 1 | U48: =IF(F48=0,"-",VLOOKUP(F48,Sheet1!$A$19:$B$21,2,FALSE)) -> 1 | V48: =IF(G48=0,"-",VLOOKUP(G48,Sheet1!$D$3:$E$5,2,FALSE)) -> 1 | W48: =IF(H48=0,"-",VLOOKUP(H48,Sheet1!$A$76:$B$77,2,FALSE)) -> 0 | X48: =IF(I48=0,"-",VLOOKUP(I48,Sheet1!$A$80:$B$85,2,FALSE)) -> - | AB48: =IF(M48=0,"-",VLOOKUP(M48,Sheet1!$D$76:$E$136,2,FALSE)) -> - | AC48: =IF(N48=0,"-",VLOOKUP(N48,Sheet1!$A$93:$B$95,2,FALSE)) -> -
A49: เคย | B49: สะดวก สามารถอ่านได้ทุกที่, ไม่มีค่าใช้จ่าย หรือค่าใช้จ่ายน้อยกว่าซื้อหนังสือ | C49: น้อยกว่า 7 ชั่วโมง | D49: Application | E49: Dek-D | F49: ไม่ใช่แฟนฟิคชั่น | G49: โทรศัพท์มือถือ | H49: ไม่เคย | P49: =IF(A49=0,"-",VLOOKUP(A49,Sheet1!$A$3:$B$4,2,FALSE)) -> 1 | Q49: =IF(B49=0,"-",VLOOKUP(B49, Sheet1!$G$3:$H$44, 2, FALSE)) -> 33 | R49: =IF(C49=0,"-",VLOOKUP(C49,Sheet1!$A$7:$B$11,2,FALSE)) -> 0 | S49: =IF(D49=0,"-",VLOOKUP(D49,Sheet1!$A$14:$B$16,2,FALSE)) -> 1 | T49: =IF(E49=0,"-",VLOOKUP(E49,Sheet1!$D$8:$E$72,2,FALSE)) -> 1 | U49: =IF(F49=0,"-",VLOOKUP(F49,Sheet1!$A$19:$B$21,2,FALSE)) -> 1 | V49: =IF(G49=0,"-",VLOOKUP(G49,Sheet1!$D$3:$E$5,2,FALSE)) -> 1 | W49: =IF(H49=0,"-",VLOOKUP(H49,Sheet1!$A$76:$B$77,2,FALSE)) -> 0 | X49: =IF(I49=0,"-",VLOOKUP(I49,Sheet1!$A$80:$B$85,2,FALSE)) -> - | AB49: =IF(M49=0,"-",VLOOKUP(M49,Sheet1!$D$76:$E$136,2,FALSE)) -> - | AC49: =IF(N49=0,"-",VLOOKUP(N49,Sheet1!$A$93:$B$95,2,FALSE)) -> -
P50: =IF(A50=0,"-",VLOOKUP(A50,Sheet1!$A$3:$B$4,2,FALSE)) -> - | Q50: =IF(B50=0,"-",VLOOKUP(B50, Sheet1!$G$3:$H$44, 2, FALSE)) -> - | R50: =IF(C50=0,"-",VLOOKUP(C50,Sheet1!$A$7:$B$11,2,FALSE)) -> - | S50: =IF(D50=0,"-",VLOOKUP(D50,Sheet1!$A$14:$B$16,2,FALSE)) -> - | T50: =IF(E50=0,"-",VLOOKUP(E50,Sheet1!$D$8:$E$72,2,FALSE)) -> - | U50: =IF(F50=0,"-",VLOOKUP(F50,Sheet1!$A$19:$B$21,2,FALSE)) -> - | V50: =IF(G50=0,"-",VLOOKUP(G50,Sheet1!$D$3:$E$5,2,FALSE)) -> - | W50: =IF(H50=0,"-",VLOOKUP(H50,Sheet1!$A$76:$B$77,2,FALSE)) -> - | X50: =IF(I50=0,"-",VLOOKUP(I50,Sheet1!$A$80:$B$85,2,FALSE)) -> - | AB50: =IF(M50=0,"-",VLOOKUP(M50,Sheet1!$D$76:$E$136,2,FALSE)) -> - | AC50: =IF(N50=0,"-",VLOOKUP(N50,Sheet1!$A$93:$B$95,2,FALSE)) -> -
