Workbook

Sheet Risk and return
A1: Year | B1: Stocks | C1: Deviation | D1: Dev squared | E1: Corporate bonds | F1: Deviation | G1: Dev squared | H1: Stock dev x Bond dev
A2: 2002 | B2: 0.20267 | C2: =B2-B$21 -> 0.027426241 | D2: =C2^2 -> 0.00075219867 | E2: 0.096112978 | F2: =E2-E$21 -> 0.048890394 | G2: =F2^2 -> 0.0023902707 | H2: =C2*F2 -> 0.0013408797
A3: 2003 | B3: 1.2635386 | C3: =B3-B$21 -> 1.0882949 | D3: =C3^2 -> 1.1843857 | E3: 0.022118006 | F3: =E3-E$21 -> -0.025104577 | G3: =F3^2 -> 0.00063023981 | H3: =C3*F3 -> -0.027321183
A4: 2004 | B4: -0.10641776 | C4: =B4-B$21 -> -0.28166152 | D4: =C4^2 -> 0.079333211 | E4: 0.040423636 | F4: =E4-E$21 -> -0.0067989475 | G4: =F4^2 -> 4.6225687e-05 | H4: =C4*F4 -> 0.0019150019
A5: 2005 | B5: 0.11219318 | C5: =B5-B$21 -> -0.063050583 | D5: =C5^2 -> 0.003975376 | E5: 0.011708545 | F5: =E5-E$21 -> -0.035514038 | G5: =F5^2 -> 0.0012612469 | H5: =C5*F5 -> 0.0022391808
A6: 2006 | B6: -0.0025799202 | C6: =B6-B$21 -> -0.17782368 | D6: =C6^2 -> 0.031621261 | E6: 0.06576389 | F6: =E6-E$21 -> 0.018541307 | G6: =F6^2 -> 0.00034378005 | H6: =C6*F6 -> -0.0032970834
A7: 2007 | B7: 0.31371895 | C7: =B7-B$21 -> 0.13847519 | D7: =C7^2 -> 0.019175379 | E7: 0.07318128 | F7: =E7-E$21 -> 0.025958697 | G7: =F7^2 -> 0.00067385394 | H7: =C7*F7 -> 0.0035946355
A8: 2008 | B8: -0.45096767 | C8: =B8-B$21 -> -0.62621143 | D8: =C8^2 -> 0.39214076 | E8: 0.080530356 | F8: =E8-E$21 -> 0.033307773 | G8: =F8^2 -> 0.0011094077 | H8: =C8*F8 -> -0.020857708
A9: 2009 | B9: 0.7134578 | C9: =B9-B$21 -> 0.53821404 | D9: =C9^2 -> 0.28967436 | E9: 0.040751744 | F9: =E9-E$21 -> -0.0064708395 | G9: =F9^2 -> 4.1871763e-05 | H9: =C9*F9 -> -0.0034826967
A10: 2010 | B10: 0.47803924 | C10: =B10-B$21 -> 0.30279548 | D10: =C10^2 -> 0.091685105 | E10: 0.052559727 | F10: =E10-E$21 -> 0.0053371438 | G10: =F10^2 -> 2.8485103e-05 | H10: =C10*F10 -> 0.001616063
A11: 2011 | B11: 0.036915842 | C11: =B11-B$21 -> -0.13832792 | D11: =C11^2 -> 0.019134613 | E11: 0.039676925 | F11: =E11-E$21 -> -0.0075456583 | G11: =F11^2 -> 5.6936959e-05 | H11: =C11*F11 -> 0.0010437752
A12: 2012 | B12: 0.40533016 | C12: =B12-B$21 -> 0.2300864 | D12: =C12^2 -> 0.052939752 | E12: 0.045591154 | F12: =E12-E$21 -> -0.0016314293 | G12: =F12^2 -> 2.6615614e-06 | H12: =C12*F12 -> -0.00037536969
A13: 2013 | B13: -0.036296559 | C13: =B13-B$21 -> -0.21154032 | D13: =C13^2 -> 0.044749306 | E13: 0.039047671 | F13: =E13-E$21 -> -0.0081749125 | G13: =F13^2 -> 6.6829195e-05 | H13: =C13*F13 -> 0.0017293236
... A20: 2020 | B20: -0.052412709 | C20: =B20-B$21 -> -0.22765647 | D20: =C20^2 -> 0.051827468 | E20: 0.030848433 | F20: =E20-E$21 -> -0.01637415 | G20: =F20^2 -> 0.00026811279 | H20: =C20*F20 -> 0.0037276812
B21: =AVERAGE(B2:B20) -> 0.17524376 | C21: Sum | D21: =SUM(D2:D20) -> 2.431431 | E21: =AVERAGE(E2:E20) -> 0.047222583 | F21: Sum | G21: =SUM(G2:G20) -> 0.0085636157 | H21: =SUM(H2:H20) -> -0.03470654 | I21: =_xlfn.FORMULATEXT(H21) -> =SUM(H2:H20)
C22: Variance | D22: =D21/(A20-A2) -> 0.1350795 | F22: Variance | G22: =G21/(A20-A2) -> 0.00047575643
C23: SD | D23: =SQRT(D22) -> 0.36753163 | F23: SD | G23: =SQRT(G22) -> 0.021811842
G24: Covariance | H24: =H21/(A20-A2) -> -0.0019281411 | I24: =_xlfn.FORMULATEXT(H24) -> =H21/(A20-A2)
G25: Correlation | H25: =H24/D23/G23 -> -0.24052032 | I25: =_xlfn.FORMULATEXT(H25) -> =H24/D23/G23
H26: =CORREL(B2:B20,E2:E20) -> -0.24052032 | I26: =_xlfn.FORMULATEXT(H26) -> =CORREL(B2:B20,E2:E20)
B29: Stock allocation | C29: 0.7
B30: Bond allocation | C30: =1-C29 -> 0.3 | D30: =_xlfn.FORMULATEXT(C30) -> =1-C29
B31: Portfolio return | C31: =C29*B21+C30*E21 -> 0.13683741 | D31: =_xlfn.FORMULATEXT(C31) -> =C29*B21+C30*E21
B32: Portfolio var | C32: =C29^2*D23^2+C30^2*G23^2+2*C29*C30*H24 -> 0.065421953 | D32: =_xlfn.FORMULATEXT(C32) -> =C29^2*D23^2+C30^2*G23^2+2*C29*C30*H24
B33: Portfolio SD | C33: =SQRT(C32) -> 0.25577715 | D33: =_xlfn.FORMULATEXT(C33) -> =SQRT(C32)
B34: Portfolio SD (no diversification benefits) | C34: =C29*D23+C30*G23 -> 0.26381569 | D34: =_xlfn.FORMULATEXT(C34) -> =C29*D23+C30*G23

Sheet Port risk-return
A1: The investment opportunity set with the stock and bond funds
C2: Input Data
A3: E(rS) | B3: E(rB) | C3: sS | D3: sB | E3: rBS
A4: ='Risk and return'!B21 -> 0.17524376 | B4: ='Risk and return'!E21 -> 0.047222583 | C4: ='Risk and return'!D23 -> 0.36753163 | D4: ='Risk and return'!G23 -> 0.021811842 | E4: ='Risk and return'!H25 -> -0.24052032
A5: Portfolio Weights | C5: Expected Return, E(rP) | E5: Std Dev
A6: wS = 1–wB | B6: wB
A7: -0.2 | B7: =1-A7 -> 1.2 | C7: =A7*$A$4+B7*$B$4 -> 0.021618348 | E7: =SQRT((A7*$C$4)^2+(B7*$D$4)^2+2*A7*B7*$C$4*$D$4*$E$4) -> 0.083748295 | F7: =_xlfn.FORMULATEXT(E7) -> =SQRT((A7*$C$4)^2+(B7*$D$4)^2+2*A7*B7*$C$4*$D$4*$E$4)
A8: -0.1 | B8: =1-A8 -> 1.1 | C8: =A8*$A$4+B8*$B$4 -> 0.034420466 | E8: =SQRT((A8*$C$4)^2+(B8*$D$4)^2+2*A8*B8*$C$4*$D$4*$E$4) -> 0.048483516
A9: 0 | B9: =1-A9 -> 1 | C9: =A9*$A$4+B9*$B$4 -> 0.047222583 | E9: =SQRT((A9*$C$4)^2+(B9*$D$4)^2+2*A9*B9*$C$4*$D$4*$E$4) -> 0.021811842
A10: 0.1 | B10: =1-A10 -> 0.9 | C10: =A10*$A$4+B10*$B$4 -> 0.060024701 | E10: =SQRT((A10*$C$4)^2+(B10*$D$4)^2+2*A10*B10*$C$4*$D$4*$E$4) -> 0.037270528
A11: 0.2 | B11: =1-A11 -> 0.8 | C11: =A11*$A$4+B11*$B$4 -> 0.072826818 | E11: =SQRT((A11*$C$4)^2+(B11*$D$4)^2+2*A11*B11*$C$4*$D$4*$E$4) -> 0.071348853
A12: 0.3 | B12: =1-A12 -> 0.7 | C12: =A12*$A$4+B12*$B$4 -> 0.085628936 | E12: =SQRT((A12*$C$4)^2+(B12*$D$4)^2+2*A12*B12*$C$4*$D$4*$E$4) -> 0.10761253
A13: 0.4 | B13: =1-A13 -> 0.6 | C13: =A13*$A$4+B13*$B$4 -> 0.098431054 | E13: =SQRT((A13*$C$4)^2+(B13*$D$4)^2+2*A13*B13*$C$4*$D$4*$E$4) -> 0.14442467
A14: 0.5 | B14: =1-A14 -> 0.5 | C14: =A14*$A$4+B14*$B$4 -> 0.11123317 | E14: =SQRT((A14*$C$4)^2+(B14*$D$4)^2+2*A14*B14*$C$4*$D$4*$E$4) -> 0.18145176
A15: 0.6 | B15: =1-A15 -> 0.4 | C15: =A15*$A$4+B15*$B$4 -> 0.12403529 | E15: =SQRT((A15*$C$4)^2+(B15*$D$4)^2+2*A15*B15*$C$4*$D$4*$E$4) -> 0.21858461
A16: 0.7 | B16: =1-A16 -> 0.3 | C16: =A16*$A$4+B16*$B$4 -> 0.13683741 | E16: =SQRT((A16*$C$4)^2+(B16*$D$4)^2+2*A16*B16*$C$4*$D$4*$E$4) -> 0.25577715
A17: 0.8 | B17: =1-A17 -> 0.2 | C17: =A17*$A$4+B17*$B$4 -> 0.14963952 | E17: =SQRT((A17*$C$4)^2+(B17*$D$4)^2+2*A17*B17*$C$4*$D$4*$E$4) -> 0.29300666
A18: 0.9 | B18: =1-A18 -> 0.1 | C18: =A18*$A$4+B18*$B$4 -> 0.16244164 | E18: =SQRT((A18*$C$4)^2+(B18*$D$4)^2+2*A18*B18*$C$4*$D$4*$E$4) -> 0.33026063
A19: 1 | B19: =1-A19 -> 0 | C19: =A19*$A$4+B19*$B$4 -> 0.17524376 | E19: =SQRT((A19*$C$4)^2+(B19*$D$4)^2+2*A19*B19*$C$4*$D$4*$E$4) -> 0.36753163
... A21: 1.2 | B21: =1-A21 -> -0.2 | C21: =A21*$A$4+B21*$B$4 -> 0.20084799 | E21: =SQRT((A21*$C$4)^2+(B21*$D$4)^2+2*A21*B21*$C$4*$D$4*$E$4) -> 0.44210747
A22: Notes:
A23: 1. Negative weights indicate short positions
A24: 2. The weights of the minimum-variance portfolio are
A25: computed using the formula in footnote 1.

Sheet Various correlation
A1: E(rS) | B1: E(rB) | C1: sS | D1: sB
A2: 0.17524376 | B2: 0.047222583 | C2: 0.36753163 | D2: 0.021811842
B3: Portoflio
A4: Weight in stocks | B4: Expected return | C4: Portfolio Standard Deviation for Given Correlation, r
A5: wS | C5: -1 | D5: 0 | E5: 0.2 | F5: 0.5 | G5: 1
A6: 0 | B6: =A6*$A$2+(1-A6)*$B$2 -> 0.047222583 | C6: =SQRT($A6^2*$C$2^2+(1-$A6)^2*$D$2^2+2*$A6*(1-$A6)*$C$2*$D$2*C$5) -> 0.021811842 | D6: =SQRT($A6^2*$C$2^2+(1-$A6)^2*$D$2^2+2*$A6*(1-$A6)*$C$2*$D$2*D$5) -> 0.021811842 | E6: =SQRT($A6^2*$C$2^2+(1-$A6)^2*$D$2^2+2*$A6*(1-$A6)*$C$2*$D$2*E$5) -> 0.021811842 | F6: =SQRT($A6^2*$C$2^2+(1-$A6)^2*$D$2^2+2*$A6*(1-$A6)*$C$2*$D$2*F$5) -> 0.021811842 | G6: =SQRT($A6^2*$C$2^2+(1-$A6)^2*$D$2^2+2*$A6*(1-$A6)*$C$2*$D$2*G$5) -> 0.021811842 | H6: =_xlfn.FORMULATEXT(G6) -> =SQRT($A6^2*$C$2^2+(1-$A6)^2*$D$2^2+2*$A6*(1-$A6)*$C$2*$D$2*G$5)
A7: 0.05 | B7: =A7*$A$2+(1-A7)*$B$2 -> 0.053623642 | C7: =SQRT($A7^2*$C$2^2+(1-$A7)^2*$D$2^2+2*$A7*(1-$A7)*$C$2*$D$2*C$5) -> 0.002344668 | D7: =SQRT($A7^2*$C$2^2+(1-$A7)^2*$D$2^2+2*$A7*(1-$A7)*$C$2*$D$2*D$5) -> 0.027696009 | E7: =SQRT($A7^2*$C$2^2+(1-$A7)^2*$D$2^2+2*$A7*(1-$A7)*$C$2*$D$2*E$5) -> 0.030321333 | F7: =SQRT($A7^2*$C$2^2+(1-$A7)^2*$D$2^2+2*$A7*(1-$A7)*$C$2*$D$2*F$5) -> 0.033880004 | G7: =SQRT($A7^2*$C$2^2+(1-$A7)^2*$D$2^2+2*$A7*(1-$A7)*$C$2*$D$2*G$5) -> 0.039097831
A8: 0.1 | B8: =A8*$A$2+(1-A8)*$B$2 -> 0.060024701 | C8: =SQRT($A8^2*$C$2^2+(1-$A8)^2*$D$2^2+2*$A8*(1-$A8)*$C$2*$D$2*C$5) -> 0.017122505 | D8: =SQRT($A8^2*$C$2^2+(1-$A8)^2*$D$2^2+2*$A8*(1-$A8)*$C$2*$D$2*D$5) -> 0.041667226 | E8: =SQRT($A8^2*$C$2^2+(1-$A8)^2*$D$2^2+2*$A8*(1-$A8)*$C$2*$D$2*E$5) -> 0.044997258 | F8: =SQRT($A8^2*$C$2^2+(1-$A8)^2*$D$2^2+2*$A8*(1-$A8)*$C$2*$D$2*F$5) -> 0.049574655 | G8: =SQRT($A8^2*$C$2^2+(1-$A8)^2*$D$2^2+2*$A8*(1-$A8)*$C$2*$D$2*G$5) -> 0.05638382
A9: 0.2 | B9: =A9*$A$2+(1-A9)*$B$2 -> 0.072826818 | C9: =SQRT($A9^2*$C$2^2+(1-$A9)^2*$D$2^2+2*$A9*(1-$A9)*$C$2*$D$2*C$5) -> 0.056056852 | D9: =SQRT($A9^2*$C$2^2+(1-$A9)^2*$D$2^2+2*$A9*(1-$A9)*$C$2*$D$2*D$5) -> 0.075549084 | E9: =SQRT($A9^2*$C$2^2+(1-$A9)^2*$D$2^2+2*$A9*(1-$A9)*$C$2*$D$2*E$5) -> 0.078871558 | F9: =SQRT($A9^2*$C$2^2+(1-$A9)^2*$D$2^2+2*$A9*(1-$A9)*$C$2*$D$2*F$5) -> 0.083608078 | G9: =SQRT($A9^2*$C$2^2+(1-$A9)^2*$D$2^2+2*$A9*(1-$A9)*$C$2*$D$2*G$5) -> 0.090955799
A10: 0.3 | B10: =A10*$A$2+(1-A10)*$B$2 -> 0.085628936 | C10: =SQRT($A10^2*$C$2^2+(1-$A10)^2*$D$2^2+2*$A10*(1-$A10)*$C$2*$D$2*C$5) -> 0.094991199 | D10: =SQRT($A10^2*$C$2^2+(1-$A10)^2*$D$2^2+2*$A10*(1-$A10)*$C$2*$D$2*D$5) -> 0.11131161 | E10: =SQRT($A10^2*$C$2^2+(1-$A10)^2*$D$2^2+2*$A10*(1-$A10)*$C$2*$D$2*E$5) -> 0.11429639 | F10: =SQRT($A10^2*$C$2^2+(1-$A10)^2*$D$2^2+2*$A10*(1-$A10)*$C$2*$D$2*F$5) -> 0.11863283 | G10: =SQRT($A10^2*$C$2^2+(1-$A10)^2*$D$2^2+2*$A10*(1-$A10)*$C$2*$D$2*G$5) -> 0.12552778
A11: 0.4 | B11: =A11*$A$2+(1-A11)*$B$2 -> 0.098431054 | C11: =SQRT($A11^2*$C$2^2+(1-$A11)^2*$D$2^2+2*$A11*(1-$A11)*$C$2*$D$2*C$5) -> 0.13392555 | D11: =SQRT($A11^2*$C$2^2+(1-$A11)^2*$D$2^2+2*$A11*(1-$A11)*$C$2*$D$2*D$5) -> 0.14759401 | E11: =SQRT($A11^2*$C$2^2+(1-$A11)^2*$D$2^2+2*$A11*(1-$A11)*$C$2*$D$2*E$5) -> 0.15017849 | F11: =SQRT($A11^2*$C$2^2+(1-$A11)^2*$D$2^2+2*$A11*(1-$A11)*$C$2*$D$2*F$5) -> 0.1539739 | G11: =SQRT($A11^2*$C$2^2+(1-$A11)^2*$D$2^2+2*$A11*(1-$A11)*$C$2*$D$2*G$5) -> 0.16009976
A12: 0.5 | B12: =A12*$A$2+(1-A12)*$B$2 -> 0.11123317 | C12: =SQRT($A12^2*$C$2^2+(1-$A12)^2*$D$2^2+2*$A12*(1-$A12)*$C$2*$D$2*C$5) -> 0.17285989 | D12: =SQRT($A12^2*$C$2^2+(1-$A12)^2*$D$2^2+2*$A12*(1-$A12)*$C$2*$D$2*D$5) -> 0.18408915 | E12: =SQRT($A12^2*$C$2^2+(1-$A12)^2*$D$2^2+2*$A12*(1-$A12)*$C$2*$D$2*E$5) -> 0.18625377 | F12: =SQRT($A12^2*$C$2^2+(1-$A12)^2*$D$2^2+2*$A12*(1-$A12)*$C$2*$D$2*F$5) -> 0.18945435 | G12: =SQRT($A12^2*$C$2^2+(1-$A12)^2*$D$2^2+2*$A12*(1-$A12)*$C$2*$D$2*G$5) -> 0.19467173
A13: 0.6 | B13: =A13*$A$2+(1-A13)*$B$2 -> 0.12403529 | C13: =SQRT($A13^2*$C$2^2+(1-$A13)^2*$D$2^2+2*$A13*(1-$A13)*$C$2*$D$2*C$5) -> 0.21179424 | D13: =SQRT($A13^2*$C$2^2+(1-$A13)^2*$D$2^2+2*$A13*(1-$A13)*$C$2*$D$2*D$5) -> 0.2206915 | E13: =SQRT($A13^2*$C$2^2+(1-$A13)^2*$D$2^2+2*$A13*(1-$A13)*$C$2*$D$2*E$5) -> 0.22242825 | F13: =SQRT($A13^2*$C$2^2+(1-$A13)^2*$D$2^2+2*$A13*(1-$A13)*$C$2*$D$2*F$5) -> 0.22500824 | G13: =SQRT($A13^2*$C$2^2+(1-$A13)^2*$D$2^2+2*$A13*(1-$A13)*$C$2*$D$2*G$5) -> 0.22924371
A14: 0.7 | B14: =A14*$A$2+(1-A14)*$B$2 -> 0.13683741 | C14: =SQRT($A14^2*$C$2^2+(1-$A14)^2*$D$2^2+2*$A14*(1-$A14)*$C$2*$D$2*C$5) -> 0.25072859 | D14: =SQRT($A14^2*$C$2^2+(1-$A14)^2*$D$2^2+2*$A14*(1-$A14)*$C$2*$D$2*D$5) -> 0.25735534 | E14: =SQRT($A14^2*$C$2^2+(1-$A14)^2*$D$2^2+2*$A14*(1-$A14)*$C$2*$D$2*E$5) -> 0.25866032 | F14: =SQRT($A14^2*$C$2^2+(1-$A14)^2*$D$2^2+2*$A14*(1-$A14)*$C$2*$D$2*F$5) -> 0.26060554 | G14: =SQRT($A14^2*$C$2^2+(1-$A14)^2*$D$2^2+2*$A14*(1-$A14)*$C$2*$D$2*G$5) -> 0.26381569
A15: 0.8 | B15: =A15*$A$2+(1-A15)*$B$2 -> 0.14963952 | C15: =SQRT($A15^2*$C$2^2+(1-$A15)^2*$D$2^2+2*$A15*(1-$A15)*$C$2*$D$2*C$5) -> 0.28966293 | D15: =SQRT($A15^2*$C$2^2+(1-$A15)^2*$D$2^2+2*$A15*(1-$A15)*$C$2*$D$2*D$5) -> 0.29405766 | E15: =SQRT($A15^2*$C$2^2+(1-$A15)^2*$D$2^2+2*$A15*(1-$A15)*$C$2*$D$2*E$5) -> 0.29492875 | F15: =SQRT($A15^2*$C$2^2+(1-$A15)^2*$D$2^2+2*$A15*(1-$A15)*$C$2*$D$2*F$5) -> 0.29623058 | G15: =SQRT($A15^2*$C$2^2+(1-$A15)^2*$D$2^2+2*$A15*(1-$A15)*$C$2*$D$2*G$5) -> 0.29838767
A16: 0.9 | B16: =A16*$A$2+(1-A16)*$B$2 -> 0.16244164 | C16: =SQRT($A16^2*$C$2^2+(1-$A16)^2*$D$2^2+2*$A16*(1-$A16)*$C$2*$D$2*C$5) -> 0.32859728 | D16: =SQRT($A16^2*$C$2^2+(1-$A16)^2*$D$2^2+2*$A16*(1-$A16)*$C$2*$D$2*D$5) -> 0.33078566 | E16: =SQRT($A16^2*$C$2^2+(1-$A16)^2*$D$2^2+2*$A16*(1-$A16)*$C$2*$D$2*E$5) -> 0.3312216 | F16: =SQRT($A16^2*$C$2^2+(1-$A16)^2*$D$2^2+2*$A16*(1-$A16)*$C$2*$D$2*F$5) -> 0.33187443 | G16: =SQRT($A16^2*$C$2^2+(1-$A16)^2*$D$2^2+2*$A16*(1-$A16)*$C$2*$D$2*G$5) -> 0.33295965
A17: 1 | B17: =A17*$A$2+(1-A17)*$B$2 -> 0.17524376 | C17: =SQRT($A17^2*$C$2^2+(1-$A17)^2*$D$2^2+2*$A17*(1-$A17)*$C$2*$D$2*C$5) -> 0.36753163 | D17: =SQRT($A17^2*$C$2^2+(1-$A17)^2*$D$2^2+2*$A17*(1-$A17)*$C$2*$D$2*D$5) -> 0.36753163 | E17: =SQRT($A17^2*$C$2^2+(1-$A17)^2*$D$2^2+2*$A17*(1-$A17)*$C$2*$D$2*E$5) -> 0.36753163 | F17: =SQRT($A17^2*$C$2^2+(1-$A17)^2*$D$2^2+2*$A17*(1-$A17)*$C$2*$D$2*F$5) -> 0.36753163 | G17: =SQRT($A17^2*$C$2^2+(1-$A17)^2*$D$2^2+2*$A17*(1-$A17)*$C$2*$D$2*G$5) -> 0.36753163
D18: Minimum Variance Portfolio
B19: Stock weight | C19: =($D$2^2-$C$2*$D$2*C$5)/($C$2^2+$D$2^2-2*$C$2*$D$2*C$5) -> 0.056022107 | D19: =($D$2^2-$C$2*$D$2*D$5)/($C$2^2+$D$2^2-2*$C$2*$D$2*D$5) -> 0.0035096864 | E19: =($D$2^2-$C$2*$D$2*E$5)/($C$2^2+$D$2^2-2*$C$2*$D$2*E$5) -> -0.008519558 | F19: =($D$2^2-$C$2*$D$2*F$5)/($C$2^2+$D$2^2-2*$C$2*$D$2*F$5) -> -0.027697585 | G19: =($D$2^2-$C$2*$D$2*G$5)/($C$2^2+$D$2^2-2*$C$2*$D$2*G$5) -> -0.0630911 | H19: =_xlfn.FORMULATEXT(G19) -> =($D$2^2-$C$2*$D$2*G$5)/($C$2^2+$D$2^2-2*$C$2*$D$2*G$5)
B20: Expected return | C20: =C$19*$A$2+(1-C$19)*$B$2 -> 0.054394599 | D20: =D$19*$A$2+(1-D$19)*$B$2 -> 0.047671897 | E20: =E$19*$A$2+(1-E$19)*$B$2 -> 0.046131899 | F20: =F$19*$A$2+(1-F$19)*$B$2 -> 0.043676706 | G20: =G$19*$A$2+(1-G$19)*$B$2 -> 0.039145586 | H20: =_xlfn.FORMULATEXT(G20) -> =G$19*$A$2+(1-G$19)*$B$2
B21: Standard deviation | C21: =IFERROR(SQRT(C$19^2*$C$2^2+(1-C$19)^2*$D$2^2+2*C$19*(1-C$19)*$C$2*$D$2*C$5),0) -> 0 | D21: =SQRT(D$19^2*$C$2^2+(1-D$19)^2*$D$2^2+2*D$19*(1-D$19)*$C$2*$D$2*D$5) -> 0.021773532 | E21: =SQRT(E$19^2*$C$2^2+(1-E$19)^2*$D$2^2+2*E$19*(1-E$19)*$C$2*$D$2*E$5) -> 0.021590511 | F21: =SQRT(F$19^2*$C$2^2+(1-F$19)^2*$D$2^2+2*F$19*(1-F$19)*$C$2*$D$2*F$5) -> 0.019440018 | G21: =SQRT(G$19^2*$C$2^2+(1-G$19)^2*$D$2^2+2*G$19*(1-G$19)*$C$2*$D$2*G$5) -> 0 | H21: =_xlfn.FORMULATEXT(G21) -> =SQRT(G$19^2*$C$2^2+(1-G$19)^2*$D$2^2+2*G$19*(1-G$19)*$C$2*$D$2*G$5)

Sheet Solver
A1: E(rS) | B1: E(rB) | C1: sS | D1: sB | E1: rBS
A2: 0.1 | B2: 0.05 | C2: 0.1863062 | D2: 0.082704293 | E2: 0.2
A4: Objective | B4: Min | C4: Porttolio risk | D4: =D13 -> 0.080254821 | E4: =_xlfn.FORMULATEXT(D4) -> =D13
C6: Stock | D6: Bond
A7: Variables | B7: Weight | C7: 0.10620767 | D7: 0.89379236
A9: Constraints | B9: Port weight | C9: =SUM(C7:D7) -> 1 | D9: 1
B10: Port return | C10: =C13 -> 0.055310385 | D10: 0.11
C12: Port return | D12: Port risk
A13: Where | C13: =C7*A2+D7*B2 -> 0.055310385 | D13: =SQRT(C7^2*C2^2+D7^2*D2^2+2*C7*D7*C2*D2*E2) -> 0.080254821 | E13: =_xlfn.FORMULATEXT(D13) -> =SQRT(C7^2*C2^2+D7^2*D2^2+2*C7*D7*C2*D2*E2)
A15: Target | B15: Weight | D15: Portfolio
A16: return | B16: Stock | C16: Bond | D16: Return | E16: Risk
A17: 0.13 | B17: 1.6000018 | C17: -0.6000018 | D17: =B17*$A$2+C17*$B$2 -> 0.13000009 | E17: =SQRT(B17^2*$C$2^2+C17^2*$D$2^2+2*B17*C17*$C$2*$D$2*$E$2) -> 0.29223859 | F17: =_xlfn.FORMULATEXT(E17) -> =SQRT(B17^2*$C$2^2+C17^2*$D$2^2+2*B17*C17*$C$2*$D$2*$E$2)
A18: =A17-2% -> 0.11 | B18: 1.2 | C18: -0.2 | D18: =B18*$A$2+C18*$B$2 -> 0.11 | E18: =SQRT(B18^2*$C$2^2+C18^2*$D$2^2+2*B18*C18*$C$2*$D$2*$E$2) -> 0.22085471
A19: =A18-2% -> 0.09 | B19: 0.79999779 | C19: 0.20000221 | D19: =B19*$A$2+C19*$B$2 -> 0.08999989 | E19: =SQRT(B19^2*$C$2^2+C19^2*$D$2^2+2*B19*C19*$C$2*$D$2*$E$2) -> 0.15321235
A20: =A19-2% -> 0.07 | B20: 0.4 | C20: 0.6 | D20: =B20*$A$2+C20*$B$2 -> 0.07 | E20: =SQRT(B20^2*$C$2^2+C20^2*$D$2^2+2*B20*C20*$C$2*$D$2*$E$2) -> 0.097443311
A21: =D21 -> 0.055310385 | B21: 0.10620767 | C21: 0.89379236 | D21: =B21*$A$2+C21*$B$2 -> 0.055310385 | E21: =SQRT(B21^2*$C$2^2+C21^2*$D$2^2+2*B21*C21*$C$2*$D$2*$E$2) -> 0.080254821
A22: =A20-2% -> 0.05 | B22: 3.0761417e-14 | C22: 1 | D22: =B22*$A$2+C22*$B$2 -> 0.05 | E22: =SQRT(B22^2*$C$2^2+C22^2*$D$2^2+2*B22*C22*$C$2*$D$2*$E$2) -> 0.082704293
A23: =A22-2% -> 0.03 | B23: -0.4 | C23: 1.4 | D23: =B23*$A$2+C23*$B$2 -> 0.03 | E23: =SQRT(B23^2*$C$2^2+C23^2*$D$2^2+2*B23*C23*$C$2*$D$2*$E$2) -> 0.12453327
A24: =A23-2% -> 0.01 | B24: -0.8 | C24: 1.8 | D24: =B24*$A$2+C24*$B$2 -> 0.01 | E24: =SQRT(B24^2*$C$2^2+C24^2*$D$2^2+2*B24*C24*$C$2*$D$2*$E$2) -> 0.18841658
A25: 0 | B25: -1 | C25: 2 | D25: =B25*$A$2+C25*$B$2 -> 0 | E25: =SQRT(B25^2*$C$2^2+C25^2*$D$2^2+2*B25*C25*$C$2*$D$2*$E$2) -> 0.22303215

Sheet Optimal portfolio
A1: E(rS) | B1: E(rB) | C1: sS | D1: sB | E1: rBS
A2: 0.1 | B2: 0.05 | C2: 0.1863062 | D2: 0.082704293 | E2: 0.2
A4: Objective | B4: Max | C4: Utility | D4: =C13-1/2*D5*D13^2 -> 0.40822867 | E4: =_xlfn.FORMULATEXT(D4) -> =C13-1/2*D5*D13^2
C5: Risk aversion | D5: 0.1
C7: Stock | D7: Bond
A8: Variables | B8: Weight | C8: 14.235821 | D8: -13.235821
A10: Constraints | B10: Port weight | C10: =SUM(C8:D8) -> 0.99999966 | D10: 1
C12: Port return | D12: Port risk
A13: Where | C13: =C8*A2+D8*B2 -> 0.76179104 | D13: =SQRT(C8^2*C2^2+D8^2*D2^2+2*C8*D8*C2*D2*E2) -> 2.6591817
A15: Target | B15: Weight | D15: Portfolio | F15: Utility
A16: risk aversion | B16: Stock | C16: Bond | D16: Return | E16: Risk
A17: 0.1 | B17: 14.235821 | C17: -13.235821 | D17: =B17*$A$2+C17*$B$2 -> 0.76179104 | E17: =SQRT(B17^2*$C$2^2+C17^2*$D$2^2+2*B17*C17*$C$2*$D$2*$E$2) -> 2.6591817 | F17: =D17-1/2*A17*E17^2 -> 0.40822867 | G17: =_xlfn.FORMULATEXT(F17) -> =D17-1/2*A17*E17^2
A18: 0.5 | B18: 2.9321305 | C18: -1.93213 | D18: =B18*$A$2+C18*$B$2 -> 0.19660655 | E18: =SQRT(B18^2*$C$2^2+C18^2*$D$2^2+2*B18*C18*$C$2*$D$2*$E$2) -> 0.537618 | F18: =D18-0.5*A18*E18^2 -> 0.12434827
A19: 0.75 | B19: 1.9901563 | C19: -0.99015583 | D19: =B19*$A$2+C19*$B$2 -> 0.14950784 | E19: =SQRT(B19^2*$C$2^2+C19^2*$D$2^2+2*B19*C19*$C$2*$D$2*$E$2) -> 0.36336953 | F19: =D19-0.5*A19*E19^2 -> 0.099993806
A20: 1.5 | B20: 1.048182 | C20: -0.048181562 | D20: =B20*$A$2+C20*$B$2 -> 0.10240912 | E20: =SQRT(B20^2*$C$2^2+C20^2*$D$2^2+2*B20*C20*$C$2*$D$2*$E$2) -> 0.19452502 | F20: =D20-0.5*A20*E20^2 -> 0.074029132
A21: 2 | B21: 0.81268836 | C21: 0.18731164 | D21: =B21*$A$2+C21*$B$2 -> 0.090634418 | E21: =SQRT(B21^2*$C$2^2+C21^2*$D$2^2+2*B21*C21*$C$2*$D$2*$E$2) -> 0.15525094 | F21: =D21-0.5*A21*E21^2 -> 0.066531564
A22: 3 | B22: 0.57719483 | C22: 0.42280559 | D22: =B22*$A$2+C22*$B$2 -> 0.078859763 | E22: =SQRT(B22^2*$C$2^2+C22^2*$D$2^2+2*B22*C22*$C$2*$D$2*$E$2) -> 0.11954341 | F22: =D22-0.5*A22*E22^2 -> 0.057423822
A23: 4 | B23: 0.45944805 | C23: 0.54055236 | D23: =B23*$A$2+C23*$B$2 -> 0.072972424 | E23: =SQRT(B23^2*$C$2^2+C23^2*$D$2^2+2*B23*C23*$C$2*$D$2*$E$2) -> 0.10419379 | F23: =D23-0.5*A23*E23^2 -> 0.051259732
A24: 8 | B24: 0.28282783 | C24: 0.71717217 | D24: =B24*$A$2+C24*$B$2 -> 0.064141392 | E24: =SQRT(B24^2*$C$2^2+C24^2*$D$2^2+2*B24*C24*$C$2*$D$2*$E$2) -> 0.086860302 | F24: =D24-0.5*A24*E24^2 -> 0.033962543
A25: 16 | B25: 0.19451775 | C25: 0.80548226 | D25: =B25*$A$2+C25*$B$2 -> 0.059725888 | E25: =SQRT(B25^2*$C$2^2+C25^2*$D$2^2+2*B25*C25*$C$2*$D$2*$E$2) -> 0.081956117 | F25: =D25-0.5*A25*E25^2 -> 0.005991447
A27: Target | B27: Weight | D27: Portfolio | F27: Indifference curve
A28: return | B28: Stock | C28: Bond | D28: Return | E28: Risk | F28: 8 | G28: =LOOKUP(F28,A17:A25,F17:F25) -> 0.033962543 | H28: =_xlfn.FORMULATEXT(G28) -> =LOOKUP(F28,A17:A25,F17:F25)
A29: 0.13 | B29: =Solver!B17 -> 1.6000018 | C29: =1-B29 -> -0.6000018 | D29: =B29*$A$2+C29*$B$2 -> 0.13000009 | E29: =SQRT(B29^2*$C$2^2+C29^2*$D$2^2+2*B29*C29*$C$2*$D$2*$E$2) -> 0.29223859 | F29: =$G$28+1/2*$F$28*E29^2 -> 0.37557612 | G29: =_xlfn.FORMULATEXT(F29) -> =$G$28+1/2*$F$28*E29^2
A30: =A29-2% -> 0.11 | B30: =Solver!B18 -> 1.2 | C30: =1-B30 -> -0.2 | D30: =B30*$A$2+C30*$B$2 -> 0.11 | E30: =SQRT(B30^2*$C$2^2+C30^2*$D$2^2+2*B30*C30*$C$2*$D$2*$E$2) -> 0.22085471 | F30: =$G$28+1/2*$F$28*E30^2 -> 0.22906975
A31: =A30-2% -> 0.09 | B31: =Solver!B19 -> 0.79999779 | C31: =1-B31 -> 0.20000221 | D31: =B31*$A$2+C31*$B$2 -> 0.08999989 | E31: =SQRT(B31^2*$C$2^2+C31^2*$D$2^2+2*B31*C31*$C$2*$D$2*$E$2) -> 0.15321235 | F31: =$G$28+1/2*$F$28*E31^2 -> 0.12785864
A32: =A31-2% -> 0.07 | B32: =Solver!B20 -> 0.4 | C32: =1-B32 -> 0.6 | D32: =B32*$A$2+C32*$B$2 -> 0.07 | E32: =SQRT(B32^2*$C$2^2+C32^2*$D$2^2+2*B32*C32*$C$2*$D$2*$E$2) -> 0.097443311 | F32: =$G$28+1/2*$F$28*E32^2 -> 0.071943339
A33: =D33 -> 0.064141392 | B33: =LOOKUP(F28,A17:A25,B17:B25) -> 0.28282783 | C33: =1-B33 -> 0.71717217 | D33: =B33*$A$2+C33*$B$2 -> 0.064141392 | E33: =SQRT(B33^2*$C$2^2+C33^2*$D$2^2+2*B33*C33*$C$2*$D$2*$E$2) -> 0.086860302 | F33: =$G$28+1/2*$F$28*E33^2 -> 0.064141392
A34: =[1]Solver!A21 -> 0.055310382 | B34: =Solver!B21 -> 0.10620767 | C34: =1-B34 -> 0.89379233 | D34: =B34*$A$2+C34*$B$2 -> 0.055310383 | E34: =SQRT(B34^2*$C$2^2+C34^2*$D$2^2+2*B34*C34*$C$2*$D$2*$E$2) -> 0.080254819 | F34: =$G$28+0.5*$F$28*E34^2 -> 0.059725887
E35: 0 | F35: =$G$28+0.5*$F$28*E35^2 -> 0.033962543
A36: =A32-2% -> 0.05 | B36: =Solver!B21 -> 0.10620767 | C36: =1-B36 -> 0.89379233 | D36: =B36*$A$2+C36*$B$2 -> 0.055310383 | E36: =SQRT(B36^2*$C$2^2+C36^2*$D$2^2+2*B36*C36*$C$2*$D$2*$E$2) -> 0.080254819
A37: =A36-2% -> 0.03 | B37: =Solver!B22 -> 3.0761417e-14 | C37: =1-B37 -> 1 | D37: =B37*$A$2+C37*$B$2 -> 0.05 | E37: =SQRT(B37^2*$C$2^2+C37^2*$D$2^2+2*B37*C37*$C$2*$D$2*$E$2) -> 0.082704293
A38: =A37-2% -> 0.01 | B38: =Solver!B23 -> -0.4 | C38: =1-B38 -> 1.4 | D38: =B38*$A$2+C38*$B$2 -> 0.03 | E38: =SQRT(B38^2*$C$2^2+C38^2*$D$2^2+2*B38*C38*$C$2*$D$2*$E$2) -> 0.12453327
A39: 0 | B39: =Solver!B24 -> -0.8 | C39: =1-B39 -> 1.8 | D39: =B39*$A$2+C39*$B$2 -> 0.01 | E39: =SQRT(B39^2*$C$2^2+C39^2*$D$2^2+2*B39*C39*$C$2*$D$2*$E$2) -> 0.18841658

Sheet Mail list
A1: 1 | B1: 6002031174 | C1: นางสาว | D1: วรรณรัตน์ ส่งเสริมสุขเจริญ | E1: Ry.wannarat@gmail.com | F1: 66 | G1: 45 | H1: 3.6 | I1: - | J1: Hidden
A2: 2 | B2: 6102031413 | C2: นาย | D2: ธนพัฒน์ พัฒนเสรีเสถียร | E2: dbrittannia6@gmail.com | F2: 34.5 | G2: 18 | H2: 3.33 | I2: - | J2: Hidden
A3: 3 | B3: 6102031421 | C3: นางสาว | D3: สิริมา จุติโชติ | E3: diffi1@hotmail.com | F3: 34.5 | G3: 18 | H3: 3.89 | I3: - | J3: Hidden
A4: 4 | B4: 6102031520 | C4: นางสาว | D4: พิชามญชุ์ ดีดอม | E4: plawan_p@hotmail.com | F4: 37.5 | G4: 18 | H4: 3.22 | I4: - | J4: Hidden
A5: 5 | B5: 6102031538 | C5: นางสาว | D5: ภัทรา เปี่ยมสุขวัฒน์ | E5: pattar1610@hotmail.com | F5: 37.5 | G5: 18 | H5: 3.45 | I5: - | J5: Hidden
A6: 6 | B6: 6102031561 | C6: นางสาว | D6: ปวีณา มงคลสุขวัฒน์ | E6: Fahpavee.m@gmail.com | F6: 37.5 | G6: 18 | H6: 3.28 | I6: - | J6: Hidden
A7: 7 | B7: 6102031629 | C7: นางสาว | D7: วรัทยา เชี่ยววัฒนะกุล | E7: Varattaya.chi@gmail.com | F7: 37.5 | G7: 18 | H7: 3.5 | I7: - | J7: Hidden
A8: 8 | B8: 6102031637 | C8: นาย | D8: นครา วรรณรส | E8: nakara.wanna@gmail.com | F8: 34.5 | G8: 18 | H8: 3.33 | I8: - | J8: Hidden
A9: 9 | B9: 6102031645 | C9: นางสาว | D9: ชลิดา สาธิตวุฒิ | E9: cheryberrylemon@hotmail.com | F9: 37.5 | G9: 18 | H9: 3.56 | I9: - | J9: Hidden
A10: 10 | B10: 6102031702 | C10: นาย | D10: กรณัฐ แสงพุ่มพงษ์ | E10: koranat.arm@gmail.com | F10: 31.5 | G10: 18 | H10: 3.17 | I10: - | J10: Hidden
A11: 11 | B11: 6102031801 | C11: นางสาว | D11: พีระญาณ์ รุ่งสินเฉลิมรัฐ | E11: peraya.rsclr@gmail.com | F11: 37.5 | G11: 18 | H11: 3.33 | I11: - | J11: Hidden
A12: 12 | B12: 6102031819 | C12: นาย | D12: อิทธิวัฒน์ จีนจรรยา | E12: j.ittiwat216@gmail.com | F12: 37.5 | G12: 18 | H12: 3.28 | I12: - | J12: Hidden
... A19: 19 | B19: 6102032106 | C19: นาย | D19: ชัยณรงค์ วงศ์กระจ่าง | E19: Chaina.wj@gmail.com | F19: 37.5 | G19: 24 | H19: 3.63 | I19: - | J19: Hidden
