Workbook

Sheet Data
A1: SET INDEX | B1: 44196
A3: Weighted Average | B3: Market-cap | C3: =SUMPRODUCT(B10:B614,C10:C614) -> 312183 | D3: =_xlfn.FORMULATEXT(C3) -> =SUMPRODUCT(B10:B614,C10:C614)
B4: P/B | C4: =SUMPRODUCT(B10:B614,D10:D614) -> 3.6748811 | D4: =_xlfn.FORMULATEXT(C4) -> =SUMPRODUCT(B10:B614,D10:D614)
B5: Cyclicals | C5: {=SUMPRODUCT($B$10:$B$614,INT($E$10:$E$614=B5))} -> 0.56589621 | D5: =_xlfn.FORMULATEXT(C5) -> =SUMPRODUCT($B$10:$B$614,INT($E$10:$E$614=B5))
B6: Financials | C6: {=SUMPRODUCT($B$10:$B$614,INT($E$10:$E$614=B6))} -> 0.28979956 | D6: =_xlfn.FORMULATEXT(C6) -> =SUMPRODUCT($B$10:$B$614,INT($E$10:$E$614=B6))
B7: NonCyclicals | C7: {=SUMPRODUCT($B$10:$B$614,INT($E$10:$E$614=B7))} -> 0.14430422 | D7: =_xlfn.FORMULATEXT(C7) -> =SUMPRODUCT($B$10:$B$614,INT($E$10:$E$614=B7))
A9: Ticker | B9: Weight | C9: Market cap | D9: P/B | E9: Broad sector | F9: industry | G9: sector
A10: PTT | B10: =C10/SUM($C$10:$C$614) -> 0.076478863 | C10: 1213927 | D10: 1.3762714 | E10: Cyclicals | F10: Resources | G10: Energy & Utilities
A11: AOT | B11: =C11/SUM($C$10:$C$614) -> 0.056025976 | C11: 889284.2 | D11: 6.2521924 | E11: Cyclicals | F11: Services | G11: Transportation & Logistics
A12: DELTA | B12: =C12/SUM($C$10:$C$614) -> 0.038193038 | C12: 606227.1 | D12: 16.118029 | E12: Cyclicals | F12: Technology | G12: Electronic Components
A13: ADVANC | B13: =C13/SUM($C$10:$C$614) -> 0.032971384 | C13: 523345.3 | D13: 6.9258564 | E13: Cyclicals | F13: Technology | G13: Information & Communication Technology
A14: CPALL | B14: =C14/SUM($C$10:$C$614) -> 0.032966351 | C14: 523265.4 | D14: 6.808955 | E14: Noncyclicals | F14: Services | G14: Commerce
A15: SCC | B15: =C15/SUM($C$10:$C$614) -> 0.028577365 | C15: 453600.3 | D15: 1.4132075 | E15: Cyclicals | F15: Property & Construction | G15: Construction Materials
A16: GULF | B16: =C16/SUM($C$10:$C$614) -> 0.025317683 | C16: 401860.3 | D16: 6.2764049 | E16: Cyclicals | F16: Resources | G16: Energy & Utilities
A17: PTTEP | B17: =C17/SUM($C$10:$C$614) -> 0.024573677 | C17: 390050.9 | D17: 1.1162526 | E17: Cyclicals | F17: Resources | G17: Energy & Utilities
A18: BDMS | B18: =C18/SUM($C$10:$C$614) -> 0.020825275 | C18: 330553.6 | D18: 3.7601286 | E18: Noncyclicals | F18: Services | G18: Health Care Services
A19: SCB | B19: =C19/SUM($C$10:$C$614) -> 0.01871854 | C19: 297114 | D19: 0.72223769 | E19: Financials | F19: Financials | G19: Banking
A20: KBANK | B20: =C20/SUM($C$10:$C$614) -> 0.017037945 | C20: 270438.4 | D20: 0.61509457 | E20: Financials | F20: Financials | G20: Banking
A21: PTTGC | B21: =C21/SUM($C$10:$C$614) -> 0.016617677 | C21: 263767.6 | D21: 0.94133021 | E21: Cyclicals | F21: Industrials | G21: Petrochemicals & Chemicals
... A42: BTS | B42: =C42/SUM($C$10:$C$614) -> 0.0077111648 | C42: 122397.1 | D42: 2.2285213 | E42: Cyclicals | F42: Services | G42: Transportation & Logistics
A43: TRUE | B43: =C43/SUM($C$10:$C$614) -> 0.0072316941 | C43: 114786.6 | D43: 1.3490165 | E43: Cyclicals | F43: Technology | G43: Information & Communication Technology
A44: CBG | B44: =C44/SUM($C$10:$C$614) -> 0.0072136316 | C44: 114499.9 | D44: 11.500576 | E44: Financials | F44: Agro & Food Industry | G44: Food & Beverage
A45: STGT | B45: =C45/SUM($C$10:$C$614) -> 0.0068411307 | C45: 108587.3 | D45: 3.4257375 | E45: Cyclicals | F45: Consumer Products | G45: Personal Products & Pharmaceuticals
A46: OSP | B46: =C46/SUM($C$10:$C$614) -> 0.0067180075 | C46: 106633 | D46: 5.5468394 | E46: Financials | F46: Agro & Food Industry | G46: Food & Beverage
A47: TOP | B47: =C47/SUM($C$10:$C$614) -> 0.0066832497 | C47: 106081.3 | D47: 0.91269247 | E47: Cyclicals | F47: Resources | G47: Energy & Utilities
A48: TMB | B48: =C48/SUM($C$10:$C$614) -> 0.0065598177 | C48: 104122.1 | D48: 0.50862568 | E48: Financials | F48: Financials | G48: Banking
A49: EGCO | B49: =C49/SUM($C$10:$C$614) -> 0.0063848256 | C49: 101344.5 | D49: 0.99121013 | E49: Cyclicals | F49: Resources | G49: Energy & Utilities
A50: BH | B50: =C50/SUM($C$10:$C$614) -> 0.0060071806 | C50: 95350.25 | D50: 5.2360459 | E50: Noncyclicals | F50: Services | G50: Health Care Services
A51: LH | B51: =C51/SUM($C$10:$C$614) -> 0.0059851226 | C51: 95000.13 | D51: 1.903672 | E51: Financials | F51: Property & Construction | G51: Property Development
A52: SAWAD | B52: =C52/SUM($C$10:$C$614) -> 0.0059155693 | C52: 93896.13 | D52: 4.251605 | E52: Financials | F52: Financials | G52: Finance & Securities
A53: KEX | B53: =C53/SUM($C$10:$C$614) -> 0.0053988882 | C53: 85695 | D53: 7.8999973 | E53: Cyclicals | F53: Services | G53: Transportation & Logistics
A54: DTAC | B54: =C54/SUM($C$10:$C$614) -> 0.0049600615 | C54: 78729.63 | D54: 3.2378474 | E54: Cyclicals | F54: Technology | G54: Information & Communication Technology
A55: RATCH | B55: =C55/SUM($C$10:$C$614) -> 0.0048416426 | C55: 76850 | D55: 1.2698095 | E55: Cyclicals | F55: Resources | G55: Energy & Utilities
... A614: PE | B614: =C614/SUM($C$10:$C$614) -> 1.5120289e-06 | C614: 24 | D614: 0.18411544 | E614: Financials | F614: Financials | G614: Finance & Securities

Sheet Sort
A1: Step 1: Sort by market cap | H1: Step 2: Sort by P/B | O1: Step 3: Select 100 stocks from the index (30 stocks by market cap and 70 by random)
P2: Weight | Q2: 0.008
P3: Rand no. | Q3: 0.872 | R3: <-- Select the number that will return 100 total stocks
P4: Total | Q4: =SUM(Q7:Q611) -> 100 | R4: =_xlfn.FORMULATEXT(Q4) -> =SUM(Q7:Q611)
A6: No. | B6: Ticker | C6: Weight | D6: Market cap | E6: P/B | F6: Broad sector | H6: No. | I6: Ticker | J6: Weight | K6: Market cap | L6: P/B | M6: Broad sector | O6: Rand no. | P6: Saved rand no. | Q6: Indicator | R6: Saved indicator | S6: Group | T6: Ticker | U6: Weight | V6: Market cap | W6: P/B | X6: Broad sector | AA6: Group | AB6: Group (%)
A7: 1 | B7: PTT | C7: 0.076478863 | D7: 1213927 | E7: 1.3762714 | F7: Cyclicals | H7: 1 | I7: TQM | J7: 0.0025420986 | K7: 40350 | L7: 16.814973 | M7: Financials | O7: =RAND() -> 0.14474823 | P7: 0.094787851 | Q7: =IF(OR(J7>=$Q$2,P7>=$Q$3),1,0) -> 0 | R7: 1 | S7: 2 | T7: PTT | U7: 0.076478863 | V7: 1213927 | W7: 1.3762714 | X7: Cyclicals | AA7: 1 | AB7: {=SUMPRODUCT($R$7:$R$611,INT($S$7:$S$611=AA7))} -> 31 | AC7: =_xlfn.FORMULATEXT(AB7) -> =SUMPRODUCT($R$7:$R$611,INT($S$7:$S$611=AA7))
A8: 2 | B8: AOT | C8: 0.056025976 | D8: 889284.2 | E8: 6.2521924 | F8: Cyclicals | H8: 2 | I8: DELTA | J8: 0.038193038 | K8: 606227.1 | L8: 16.118029 | M8: Cyclicals | O8: =RAND() -> 0.20665297 | P8: 0.72302419 | Q8: =IF(OR(J8>=$Q$2,P8>=$Q$3),1,0) -> 1 | R8: 1 | S8: 1 | T8: AOT | U8: 0.056025976 | V8: 889284.2 | W8: 6.2521924 | X8: Cyclicals | AA8: 2 | AB8: {=SUMPRODUCT($R$7:$R$611,INT($S$7:$S$611=AA8))} -> 24 | AC8: =_xlfn.FORMULATEXT(AB8) -> =SUMPRODUCT($R$7:$R$611,INT($S$7:$S$611=AA8))
A9: 3 | B9: DELTA | C9: 0.038193038 | D9: 606227.1 | E9: 16.118029 | F9: Cyclicals | H9: 3 | I9: STARK | J9: 0.0031955005 | K9: 50721.26 | L9: 13.677017 | M9: Cyclicals | O9: =RAND() -> 0.49669448 | P9: 0.29829984 | Q9: =IF(OR(J9>=$Q$2,P9>=$Q$3),1,0) -> 0 | R9: 1 | S9: 1 | T9: DELTA | U9: 0.038193038 | V9: 606227.1 | W9: 16.118029 | X9: Cyclicals | AA9: 3 | AB9: {=SUMPRODUCT($R$7:$R$611,INT($S$7:$S$611=AA9))} -> 27 | AC9: =_xlfn.FORMULATEXT(AB9) -> =SUMPRODUCT($R$7:$R$611,INT($S$7:$S$611=AA9))
A10: 4 | B10: ADVANC | C10: 0.032971384 | D10: 523345.3 | E10: 6.9258564 | F10: Cyclicals | H10: 4 | I10: Com7 | J10: 0.0029484558 | K10: 46799.99 | L10: 12.148603 | M10: Noncyclicals | O10: =RAND() -> 0.4312262 | P10: 0.67682933 | Q10: =IF(OR(J10>=$Q$2,P10>=$Q$3),1,0) -> 0 | R10: 1 | S10: 1 | T10: ADVANC | U10: 0.032971384 | V10: 523345.3 | W10: 6.9258564 | X10: Cyclicals | AA10: 4 | AB10: {=SUMPRODUCT($R$7:$R$611,INT($S$7:$S$611=AA10))} -> 18 | AC10: =_xlfn.FORMULATEXT(AB10) -> =SUMPRODUCT($R$7:$R$611,INT($S$7:$S$611=AA10))
A11: 5 | B11: CPALL | C11: 0.032966351 | D11: 523265.4 | E11: 6.808955 | F11: Noncyclicals | H11: 5 | I11: CBG | J11: 0.0072136316 | K11: 114499.9 | L11: 11.500576 | M11: Financials | O11: =RAND() -> 0.41632556 | P11: 0.021651469 | Q11: =IF(OR(J11>=$Q$2,P11>=$Q$3),1,0) -> 0 | R11: 1 | S11: 1 | T11: CPALL | U11: 0.032966351 | V11: 523265.4 | W11: 6.808955 | X11: Noncyclicals | AB11: =SUM(AB7:AB10) -> 100 | AC11: =_xlfn.FORMULATEXT(AB11) -> =SUM(AB7:AB10)
A12: 6 | B12: SCC | C12: 0.028577365 | D12: 453600.3 | E12: 1.4132075 | F12: Cyclicals | H12: 6 | I12: MICRO | J12: 0.00028628314 | K12: 4544.09 | L12: 9.1029814 | M12: Financials | O12: =RAND() -> 0.37613492 | P12: 0.71073833 | Q12: =IF(OR(J12>=$Q$2,P12>=$Q$3),1,0) -> 0 | R12: 1 | S12: 2 | T12: SCC | U12: 0.028577365 | V12: 453600.3 | W12: 1.4132075 | X12: Cyclicals
A13: 7 | B13: GULF | C13: 0.025317683 | D13: 401860.3 | E13: 6.2764049 | F13: Cyclicals | H13: 7 | I13: GRAMMY | J13: 0.00047008601 | K13: 7461.54 | L13: 9.0106076 | M13: Cyclicals | O13: =RAND() -> 0.57143201 | P13: 0.56420388 | Q13: =IF(OR(J13>=$Q$2,P13>=$Q$3),1,0) -> 0 | R13: 1 | S13: 1 | T13: GULF | U13: 0.025317683 | V13: 401860.3 | W13: 6.2764049 | X13: Cyclicals
A14: 8 | B14: PTTEP | C14: 0.024573677 | D14: 390050.9 | E14: 1.1162526 | F14: Cyclicals | H14: 8 | I14: SDC | J14: 0.00022117014 | K14: 3510.57 | L14: 8.6280866 | M14: Cyclicals | O14: =RAND() -> 0.034861213 | P14: 0.74986221 | Q14: =IF(OR(J14>=$Q$2,P14>=$Q$3),1,0) -> 0 | R14: 1 | S14: 2 | T14: PTTEP | U14: 0.024573677 | V14: 390050.9 | W14: 1.1162526 | X14: Cyclicals
A15: 9 | B15: BDMS | C15: 0.020825275 | D15: 330553.6 | E15: 3.7601286 | F15: Noncyclicals | H15: 9 | I15: MAKRO | J15: 0.011945022 | K15: 189599.9 | L15: 8.5255039 | M15: Noncyclicals | O15: =RAND() -> 0.74450472 | P15: 0.75324155 | Q15: =IF(OR(J15>=$Q$2,P15>=$Q$3),1,0) -> 1 | R15: 1 | S15: 1 | T15: BDMS | U15: 0.020825275 | V15: 330553.6 | W15: 3.7601286 | X15: Noncyclicals
A16: 10 | B16: SCB | C16: 0.01871854 | D16: 297114 | E16: 0.72223769 | F16: Financials | H16: 10 | I16: RS | J16: 0.0010599449 | K16: 16824.2 | L16: 8.4039566 | M16: Noncyclicals | O16: =RAND() -> 0.57554143 | P16: 0.82742295 | Q16: =IF(OR(J16>=$Q$2,P16>=$Q$3),1,0) -> 0 | R16: 1 | S16: 3 | T16: SCB | U16: 0.01871854 | V16: 297114 | W16: 0.72223769 | X16: Financials
A17: 11 | B17: KBANK | C17: 0.017037945 | D17: 270438.4 | E17: 0.61509457 | F17: Financials | H17: 11 | I17: HMPRO | J17: 0.011351009 | K17: 180171.3 | L17: 8.3547088 | M17: Noncyclicals | O17: =RAND() -> 0.22539105 | P17: 0.95588924 | Q17: =IF(OR(J17>=$Q$2,P17>=$Q$3),1,0) -> 1 | R17: 1 | S17: 4 | T17: KBANK | U17: 0.017037945 | V17: 270438.4 | W17: 0.61509457 | X17: Financials
A18: 12 | B18: PTTGC | C18: 0.016617677 | D18: 263767.6 | E18: 0.94133021 | F18: Cyclicals | H18: 12 | I18: KEX | J18: 0.0053988882 | K18: 85695 | L18: 7.8999973 | M18: Cyclicals | O18: =RAND() -> 0.90880366 | P18: 0.90492775 | Q18: =IF(OR(J18>=$Q$2,P18>=$Q$3),1,0) -> 1 | R18: 1 | S18: 3 | T18: PTTGC | U18: 0.016617677 | V18: 263767.6 | W18: 0.94133021 | X18: Cyclicals
A19: 13 | B19: CPF | C19: 0.014512353 | D19: 230350.4 | E19: 1.3018796 | F19: Financials | H19: 13 | I19: TKN | J19: 0.00090419329 | K19: 14352 | L19: 7.0944072 | M19: Financials | O19: =RAND() -> 0.9845695 | P19: 0.032623445 | Q19: =IF(OR(J19>=$Q$2,P19>=$Q$3),1,0) -> 0 | R19: 1 | S19: 2 | T19: CPF | U19: 0.014512353 | V19: 230350.4 | W19: 1.3018796 | X19: Financials
A20: 14 | B20: BAY | C20: 0.014481929 | D20: 229867.5 | E20: 0.79941628 | F20: Financials | H20: 14 | I20: JAS | J20: 0.001721518 | K20: 27325.16 | L20: 6.9802966 | M20: Cyclicals | O20: =RAND() -> 0.71734917 | P20: 0.45155434 | Q20: =IF(OR(J20>=$Q$2,P20>=$Q$3),1,0) -> 0 | R20: 1 | S20: 3 | T20: BAY | U20: 0.014481929 | V20: 229867.5 | W20: 0.79941628 | X20: Financials
A21: 15 | B21: BBL | C21: 0.014250728 | D21: 226197.7 | E21: 0.50376571 | F21: Financials | H21: 15 | I21: ADVANC | J21: 0.032971384 | K21: 523345.3 | L21: 6.9258564 | M21: Cyclicals | O21: =RAND() -> 0.27055636 | P21: 0.065290253 | Q21: =IF(OR(J21>=$Q$2,P21>=$Q$3),1,0) -> 1 | R21: 1 | S21: 4 | T21: BBL | U21: 0.014250728 | V21: 226197.7 | W21: 0.50376571 | X21: Financials
A22: 16 | B22: CPN | C22: 0.013501278 | D22: 214301.9 | E22: 3.1153038 | F22: Financials | H22: 16 | I22: CPALL | J22: 0.032966351 | K22: 523265.4 | L22: 6.808955 | M22: Noncyclicals | O22: =RAND() -> 0.66393764 | P22: 0.76609293 | Q22: =IF(OR(J22>=$Q$2,P22>=$Q$3),1,0) -> 1 | R22: 1 | S22: 1 | T22: CPN | U22: 0.013501278 | V22: 214301.9 | W22: 3.1153038 | X22: Financials
A23: 17 | B23: GPSC | C23: 0.013101403 | D23: 207954.8 | E23: 2.0209134 | F23: Cyclicals | H23: 17 | I23: KTC | J23: 0.0096650715 | K23: 153410.9 | L23: 6.7288572 | M23: Financials | O23: =RAND() -> 0.0052141149 | P23: 0.22875695 | Q23: =IF(OR(J23>=$Q$2,P23>=$Q$3),1,0) -> 1 | R23: 1 | S23: 1 | T23: GPSC | U23: 0.013101403 | V23: 207954.8 | W23: 2.0209134 | X23: Cyclicals
... A39: 33 | B39: BTS | C39: 0.0077111648 | D39: 122397.1 | E39: 2.2285213 | F39: Cyclicals | H39: 33 | I39: B52 | J39: 4.3312698e-05 | K39: 687.49 | L39: 5.270061 | M39: Cyclicals | O39: =RAND() -> 0.94453092 | P39: 0.018248667 | Q39: =IF(OR(J39>=$Q$2,P39>=$Q$3),1,0) -> 0 | R39: 1 | S39: 2 | T39: TPIPP | U39: 0.0022650193 | V39: 35952 | W39: 1.242804 | X39: Cyclicals
A40: 34 | B40: TRUE | C40: 0.0072316941 | D40: 114786.6 | E40: 1.3490165 | F40: Cyclicals | H40: 34 | I40: BH | J40: 0.0060071806 | K40: 95350.25 | L40: 5.2360459 | M40: Noncyclicals | O40: =RAND() -> 0.051966415 | P40: 0.21983875 | Q40: =IF(OR(J40>=$Q$2,P40>=$Q$3),1,0) -> 0 | R40: 1 | S40: 1 | T40: CENTEL | U40: 0.0020157248 | V40: 31995.02 | W40: 3.2244041 | X40: Cyclicals
A41: 35 | B41: CBG | C41: 0.0072136316 | D41: 114499.9 | E41: 11.500576 | F41: Financials | H41: 35 | I41: CHAYO | J41: 0.00036451867 | K41: 5785.9 | L41: 5.1183631 | M41: Financials | O41: =RAND() -> 0.69251786 | P41: 0.66607134 | Q41: =IF(OR(J41>=$Q$2,P41>=$Q$3),1,0) -> 0 | R41: 1 | S41: 1 | T41: PLANB | U41: 0.0015287904 | V41: 24266.05 | W41: 4.5956844 | X41: Cyclicals
A42: 36 | B42: STGT | C42: 0.0068411307 | D42: 108587.3 | E42: 3.4257375 | F42: Cyclicals | H42: 36 | I42: SFLEX | J42: 0.00027638629 | K42: 4387 | L42: 4.9819098 | M42: Cyclicals | O42: =RAND() -> 0.042892302 | P42: 0.16134927 | Q42: =IF(OR(J42>=$Q$2,P42>=$Q$3),1,0) -> 0 | R42: 1 | S42: 3 | T42: AP | U42: 0.0014369126 | V42: 22807.7 | W42: 0.77891572 | X42: Financials
A43: 37 | B43: OSP | C43: 0.0067180075 | D43: 106633 | E43: 5.5468394 | F43: Financials | H43: 37 | I43: JMART | J43: 0.0011610278 | K43: 18428.66 | L43: 4.9285271 | M43: Cyclicals | O43: =RAND() -> 0.74332573 | P43: 0.66725901 | Q43: =IF(OR(J43>=$Q$2,P43>=$Q$3),1,0) -> 0 | R43: 1 | S43: 4 | T43: LHFG | U43: 0.0014013257 | V43: 22242.84 | W43: 0.57577756 | X43: Financials
A44: 38 | B44: TOP | C44: 0.0066832497 | D44: 106081.3 | E44: 0.91269247 | F44: Cyclicals | H44: 38 | I44: BCH | J44: 0.0021366827 | K44: 33914.95 | L44: 4.9262743 | M44: Noncyclicals | O44: =RAND() -> 0.66932487 | P44: 0.41785597 | Q44: =IF(OR(J44>=$Q$2,P44>=$Q$3),1,0) -> 0 | R44: 1 | S44: 3 | T44: MBK | U44: 0.001345455 | V44: 21356.02 | W44: 1.0251868 | X44: Financials
A45: 39 | B45: TMB | C45: 0.0065598177 | D45: 104122.1 | E45: 0.50862568 | F45: Financials | H45: 39 | I45: HUMAN | J45: 0.00038342533 | K45: 6086 | L45: 4.8087028 | M45: Cyclicals | O45: =RAND() -> 0.14867833 | P45: 0.92604029 | Q45: =IF(OR(J45>=$Q$2,P45>=$Q$3),1,0) -> 1 | R45: 1 | S45: 2 | T45: PTL | U45: 0.0012814445 | V45: 20340 | W45: 1.5783014 | X45: Cyclicals
A46: 40 | B46: EGCO | C46: 0.0063848256 | D46: 101344.5 | E46: 0.99121013 | F46: Cyclicals | H46: 40 | I46: RJH | J46: 0.00044793857 | K46: 7110 | L46: 4.7522386 | M46: Noncyclicals | O46: =RAND() -> 0.46445992 | P46: 0.63713919 | Q46: =IF(OR(J46>=$Q$2,P46>=$Q$3),1,0) -> 0 | R46: 1 | S46: 2 | T46: EPG | U46: 0.001252464 | V46: 19880 | W46: 1.8834451 | X46: Cyclicals
A47: 41 | B47: BH | C47: 0.0060071806 | D47: 95350.25 | E47: 5.2360459 | F47: Noncyclicals | H47: 41 | I47: INTUCH | J47: 0.011363275 | K47: 180366 | L47: 4.7385414 | M47: Cyclicals | O47: =RAND() -> 0.60924345 | P47: 0.93308285 | Q47: =IF(OR(J47>=$Q$2,P47>=$Q$3),1,0) -> 1 | R47: 1 | S47: 2 | T47: GFPT | U47: 0.0011216892 | V47: 17804.25 | W47: 1.2208549 | X47: Noncyclicals
A48: 42 | B48: LH | C48: 0.0059851226 | D48: 95000.13 | E48: 1.903672 | F48: Financials | H48: 42 | I48: PLANB | J48: 0.0015287904 | K48: 24266.05 | L48: 4.5956844 | M48: Cyclicals | O48: =RAND() -> 0.48626247 | P48: 0.94054056 | Q48: =IF(OR(J48>=$Q$2,P48>=$Q$3),1,0) -> 1 | R48: 1 | S48: 3 | T48: STANLY | U48: 0.00081101514 | V48: 12873.01 | W48: 0.7431675 | X48: Cyclicals
A49: 43 | B49: SAWAD | C49: 0.0059155693 | D49: 93896.13 | E49: 4.251605 | F49: Financials | H49: 43 | I49: RBF | J49: 0.0011718224 | K49: 18600 | L49: 4.546639 | M49: Financials | O49: =RAND() -> 0.90745072 | P49: 0.64283799 | Q49: =IF(OR(J49>=$Q$2,P49>=$Q$3),1,0) -> 0 | R49: 1 | S49: 3 | T49: CPTGF | U49: 0.00065795938 | V49: 10443.6 | W49: 1.0368589 | X49: Financials
A50: 44 | B50: KEX | C50: 0.0053988882 | D50: 85695 | E50: 7.8999973 | F50: Cyclicals | H50: 44 | I50: FORTH | J50: 0.00036893505 | K50: 5856 | L50: 4.5311435 | M50: Cyclicals | O50: =RAND() -> 0.68339067 | P50: 0.61434616 | Q50: =IF(OR(J50>=$Q$2,P50>=$Q$3),1,0) -> 0 | R50: 1 | S50: 1 | T50: SVI | U50: 0.00061121753 | V50: 9701.68 | W50: 2.4023544 | X50: Cyclicals
A51: 45 | B51: DTAC | C51: 0.0049600615 | D51: 78729.63 | E51: 3.2378474 | F51: Cyclicals | H51: 45 | I51: MEGA | J51: 0.0019637053 | K51: 31169.33 | L51: 4.479873 | M51: Noncyclicals | O51: =RAND() -> 0.63730038 | P51: 0.074228239 | Q51: =IF(OR(J51>=$Q$2,P51>=$Q$3),1,0) -> 0 | R51: 1 | S51: 1 | T51: JWD | U51: 0.00053658126 | V51: 8517 | W51: 2.7312258 | X51: Cyclicals
A52: 46 | B52: RATCH | C52: 0.0048416426 | D52: 76850 | E52: 1.2698095 | F52: Cyclicals | H52: 46 | I52: VGI | J52: 0.0036077167 | K52: 57264.25 | L52: 4.4794055 | M52: Cyclicals | O52: =RAND() -> 0.63559837 | P52: 0.55602276 | Q52: =IF(OR(J52>=$Q$2,P52>=$Q$3),1,0) -> 0 | R52: 1 | S52: 1 | T52: NRF | U52: 0.00052957805 | V52: 8405.84 | W52: 3.2650823 | X52: Financials
... A110: 104 | B110: TFG | C110: 0.0017169592 | D110: 27252.8 | E110: 2.4515689 | F110: Financials | H110: 104 | I110: RCI | J110: 0.00014145661 | K110: 2245.3 | L110: 2.7114104 | M110: Cyclicals | O110: =RAND() -> 0.61625434 | P110: 0.2135234 | Q110: =IF(OR(J110>=$Q$2,P110>=$Q$3),1,0) -> 0 | R110: 0 | S110: 1 | T110: BTS | U110: 0.0077111648 | V110: 122397.1 | W110: 2.2285213 | X110: Cyclicals
A111: 105 | B111: CHG | C111: 0.0017048126 | D111: 27060 | E111: 6.7238617 | F111: Noncyclicals | H111: 105 | I111: ZEN | J111: 0.00020601394 | K111: 3270 | L111: 2.699969 | M111: Financials | O111: =RAND() -> 0.11241447 | P111: 0.51631658 | Q111: =IF(OR(J111>=$Q$2,P111>=$Q$3),1,0) -> 0 | R111: 0 | S111: 2 | T111: TRUE | U111: 0.0072316941 | V111: 114786.6 | W111: 1.3490165 | X111: Cyclicals
A112: 106 | B112: PTG | C112: 0.001672871 | D112: 26553 | E112: 3.368101 | F112: Cyclicals | H112: 106 | I112: SNP | J112: 0.00039547242 | K112: 6277.22 | L112: 2.6604184 | M112: Financials | O112: =RAND() -> 0.2893565 | P112: 0.46045863 | Q112: =IF(OR(J112>=$Q$2,P112>=$Q$3),1,0) -> 0 | R112: 0 | S112: 1 | T112: CBG | U112: 0.0072136316 | V112: 114499.9 | W112: 11.500576 | X112: Financials
A113: 107 | B113: SUPER | C113: 0.0016541281 | D113: 26255.5 | E113: 1.5645779 | F113: Cyclicals | H113: 107 | I113: AMANAH | J113: 0.00025609801 | K113: 4064.97 | L113: 2.6260175 | M113: Financials | O113: =RAND() -> 0.015350212 | P113: 0.26772028 | Q113: =IF(OR(J113>=$Q$2,P113>=$Q$3),1,0) -> 0 | R113: 0 | S113: 1 | T113: STGT | U113: 0.0068411307 | V113: 108587.3 | W113: 3.4257375 | X113: Cyclicals
A114: 108 | B114: ESSO | C114: 0.0016134829 | D114: 25610.35 | E114: 1.7844332 | F114: Cyclicals | H114: 108 | I114: SMPC | J114: 0.00034749638 | K114: 5515.71 | L114: 2.5588637 | M114: Cyclicals | O114: =RAND() -> 0.73123679 | P114: 0.91675051 | Q114: =IF(OR(J114>=$Q$2,P114>=$Q$3),1,0) -> 1 | R114: 0 | S114: 1 | T114: OSP | U114: 0.0067180075 | V114: 106633 | W114: 5.5468394 | X114: Financials
A115: 109 | B115: QH | C115: 0.0015660436 | D115: 24857.36 | E115: 0.93559731 | F115: Financials | H115: 109 | I115: PRM | J115: 0.0012600241 | K115: 20000 | L115: 2.5457263 | M115: Cyclicals | O115: =RAND() -> 0.44110289 | P115: 0.17448811 | Q115: =IF(OR(J115>=$Q$2,P115>=$Q$3),1,0) -> 0 | R115: 0 | S115: 3 | T115: TOP | U115: 0.0066832497 | V115: 106081.3 | W115: 0.91269247 | X115: Cyclicals
A116: 110 | B116: EGATIF | C116: 0.0015635292 | D116: 24817.45 | E116: 1.1318999 | F116: Cyclicals | H116: 110 | I116: MAJOR | J116: 0.0010314816 | K116: 16372.41 | L116: 2.5256777 | M116: Cyclicals | O116: =RAND() -> 0.76144607 | P116: 0.56280433 | Q116: =IF(OR(J116>=$Q$2,P116>=$Q$3),1,0) -> 0 | R116: 0 | S116: 4 | T116: TMB | U116: 0.0065598177 | V116: 104122.1 | W116: 0.50862568 | X116: Financials
A117: 111 | B117: TGH | C117: 0.0015399498 | D117: 24443.18 | E117: 1.7834701 | F117: Financials | H117: 111 | I117: TFG | J117: 0.0017169592 | K117: 27252.8 | L117: 2.4515689 | M117: Financials | O117: =RAND() -> 0.19409416 | P117: 0.64891223 | Q117: =IF(OR(J117>=$Q$2,P117>=$Q$3),1,0) -> 0 | R117: 0 | S117: 3 | T117: EGCO | U117: 0.0063848256 | V117: 101344.5 | W117: 0.99121013 | X117: Cyclicals
A118: 112 | B118: PLANB | C118: 0.0015287904 | D118: 24266.05 | E118: 4.5956844 | F118: Cyclicals | H118: 112 | I118: AEONTS | J118: 0.0031973093 | K118: 50749.97 | L118: 2.4483802 | M118: Financials | O118: =RAND() -> 0.25088584 | P118: 0.22847615 | Q118: =IF(OR(J118>=$Q$2,P118>=$Q$3),1,0) -> 0 | R118: 0 | S118: 1 | T118: BH | U118: 0.0060071806 | V118: 95350.25 | W118: 5.2360459 | X118: Noncyclicals
A119: 113 | B119: THANI | C119: 0.0014841944 | D119: 23558.19 | E119: 2.1775477 | F119: Financials | H119: 113 | I119: UTP | J119: 0.00053236018 | K119: 8450 | L119: 2.4453437 | M119: Cyclicals | O119: =RAND() -> 0.33919441 | P119: 0.79609316 | Q119: =IF(OR(J119>=$Q$2,P119>=$Q$3),1,0) -> 0 | R119: 0 | S119: 2 | T119: LH | U119: 0.0059851226 | V119: 95000.13 | W119: 1.903672 | X119: Financials
A120: 114 | B120: AP | C120: 0.0014369126 | D120: 22807.7 | E120: 0.77891572 | F120: Financials | H120: 114 | I120: TFMAMA | J120: 0.0039985611 | K120: 63468.01 | L120: 2.4433882 | M120: Financials | O120: =RAND() -> 0.76692727 | P120: 0.56955773 | Q120: =IF(OR(J120>=$Q$2,P120>=$Q$3),1,0) -> 0 | R120: 0 | S120: 1 | T120: SAWAD | U120: 0.0059155693 | V120: 93896.13 | W120: 4.251605 | X120: Financials
A121: 115 | B121: GUNKUL | C121: 0.0014102177 | D121: 22383.98 | E121: 1.8124911 | F121: Cyclicals | H121: 115 | I121: VIBHA | J121: 0.0012572848 | K121: 19956.52 | L121: 2.442463 | M121: Noncyclicals | O121: =RAND() -> 0.57350199 | P121: 0.056651977 | Q121: =IF(OR(J121>=$Q$2,P121>=$Q$3),1,0) -> 0 | R121: 0 | S121: 1 | T121: DTAC | U121: 0.0049600615 | V121: 78729.63 | W121: 3.2378474 | X121: Cyclicals
A122: 116 | B122: LHFG | C122: 0.0014013257 | D122: 22242.84 | E122: 0.57577756 | F122: Financials | H122: 116 | I122: MALEE | J122: 0.00011215474 | K122: 1780.2 | L122: 2.4249475 | M122: Financials | O122: =RAND() -> 0.045272303 | P122: 0.70600571 | Q122: =IF(OR(J122>=$Q$2,P122>=$Q$3),1,0) -> 0 | R122: 0 | S122: 2 | T122: RATCH | U122: 0.0048416426 | V122: 76850 | W122: 1.2698095 | X122: Cyclicals
A123: 117 | B123: THG | C123: 0.0013774457 | D123: 21863.8 | E123: 2.7692904 | F123: Noncyclicals | H123: 117 | I123: SVI | J123: 0.00061121753 | K123: 9701.68 | L123: 2.4023544 | M123: Cyclicals | O123: =RAND() -> 0.9731306 | P123: 0.92329424 | Q123: =IF(OR(J123>=$Q$2,P123>=$Q$3),1,0) -> 1 | R123: 0 | S123: 3 | T123: IRPC | U123: 0.0047890876 | V123: 76015.81 | W123: 1.00648 | X123: Cyclicals
... A229: 223 | B229: HREIT | C229: 0.00040491 | D229: 6427.02 | E229: 0.8673666 | F229: Financials | H229: 223 | I229: WPH | J229: 6.5773258e-05 | K229: 1044 | L229: 1.3535554 | M229: Noncyclicals | O229: =RAND() -> 0.37396572 | P229: 0.065204203 | Q229: =IF(OR(J229>=$Q$2,P229>=$Q$3),1,0) -> 0 | R229: 0 | S229: 3 | T229: S | U229: 0.00069086806 | V229: 10965.95 | W229: 0.7356283 | X229: Financials
A230: 224 | B230: ILM | C230: 0.00040405823 | D230: 6413.5 | E230: 1.2629107 | F230: Noncyclicals | H230: 224 | I230: TRUE | J230: 0.0072316941 | K230: 114786.6 | L230: 1.3490165 | M230: Cyclicals | O230: =RAND() -> 0.33931649 | P230: 0.68258956 | Q230: =IF(OR(J230>=$Q$2,P230>=$Q$3),1,0) -> 0 | R230: 0 | S230: 1 | T230: SINGER | U230: 0.00067572887 | V230: 10725.65 | W230: 3.8167916 | X230: Noncyclicals
A231: 225 | B231: ANAN | C231: 0.00039896647 | D231: 6332.68 | E231: 0.64683874 | F231: Financials | H231: 225 | I231: JTS | J231: 8.5899623e-05 | K231: 1363.46 | L231: 1.3478439 | M231: Cyclicals | O231: =RAND() -> 0.54103805 | P231: 0.60179552 | Q231: =IF(OR(J231>=$Q$2,P231>=$Q$3),1,0) -> 0 | R231: 0 | S231: 3 | T231: SF | U231: 0.00067156764 | V231: 10659.6 | W231: 0.7136981 | X231: Financials
A232: 226 | B232: SNP | C232: 0.00039547242 | D232: 6277.22 | E232: 2.6604184 | F232: Financials | H232: 226 | I232: WGE | J232: 5.5567063e-05 | K232: 882 | L232: 1.3457656 | M232: Cyclicals | O232: =RAND() -> 0.019605927 | P232: 0.099652715 | Q232: =IF(OR(J232>=$Q$2,P232>=$Q$3),1,0) -> 0 | R232: 0 | S232: 2 | T232: GVREIT | U232: 0.00066220062 | V232: 10510.92 | W232: 1.1770961 | X232: Financials
A233: 227 | B233: TMT | C233: 0.0003949829 | D233: 6269.45 | E233: 1.9704699 | F233: Cyclicals | H233: 227 | I233: STEC | J233: 0.0012202747 | K233: 19369.07 | L233: 1.3420117 | M233: Cyclicals | O233: =RAND() -> 0.3427971 | P233: 0.49633583 | Q233: =IF(OR(J233>=$Q$2,P233>=$Q$3),1,0) -> 0 | R233: 0 | S233: 4 | T233: TTA | U233: 0.00064871837 | V233: 10296.92 | W233: 0.63745447 | X233: Cyclicals
A234: 228 | B234: MCS | C234: 0.00039067047 | D234: 6201 | E234: 1.6829004 | F234: Cyclicals | H234: 228 | I234: BRR | J234: 0.00015655988 | K234: 2485.03 | L234: 1.3400116 | M234: Financials | O234: =RAND() -> 0.24400595 | P234: 0.51863344 | Q234: =IF(OR(J234>=$Q$2,P234>=$Q$3),1,0) -> 0 | R234: 0 | S234: 4 | T234: KSL | U234: 0.00063905461 | V234: 10143.53 | W234: 0.53311648 | X234: Financials
A235: 229 | B235: SA | C235: 0.00038865947 | D235: 6169.08 | E235: 1.686807 | F235: Financials | H235: 229 | I235: FTE | J235: 6.1237171e-05 | K235: 972 | L235: 1.332498 | M235: Noncyclicals | O235: =RAND() -> 0.88397835 | P235: 0.67995472 | Q235: =IF(OR(J235>=$Q$2,P235>=$Q$3),1,0) -> 0 | R235: 0 | S235: 4 | T235: SUC | U235: 0.00063316211 | V235: 10050 | W235: 0.4769271 | X235: Cyclicals
A236: 230 | B236: SIS | C236: 0.00038610099 | D236: 6128.47 | E236: 2.1816722 | F236: Cyclicals | H236: 230 | I236: ACC | J236: 4.7383836e-05 | K236: 752.11 | L236: 1.3295303 | M236: Cyclicals | O236: =RAND() -> 0.0011205517 | P236: 0.48781585 | Q236: =IF(OR(J236>=$Q$2,P236>=$Q$3),1,0) -> 0 | R236: 0 | S236: 2 | T236: COTTO | U236: 0.00062358277 | V236: 9897.95 | W236: 1.1232392 | X236: Cyclicals
A237: 231 | B237: HUMAN | C237: 0.00038342533 | D237: 6086 | E237: 4.8087028 | F237: Cyclicals | H237: 231 | I237: KTIS | J237: 0.00070037116 | K237: 11116.79 | L237: 1.3277632 | M237: Financials | O237: =RAND() -> 0.2010042 | P237: 0.40297056 | Q237: =IF(OR(J237>=$Q$2,P237>=$Q$3),1,0) -> 0 | R237: 0 | S237: 4 | T237: CCET | U237: 0.00061980774 | V237: 9838.03 | W237: 0.62037894 | X237: Cyclicals
A238: 232 | B238: SAPPE | C238: 0.00037009995 | D238: 5874.49 | E238: 2.1195386 | F238: Financials | H238: 232 | I238: AHC | J238: 0.00013316691 | K238: 2113.72 | L238: 1.3229544 | M238: Noncyclicals | O238: =RAND() -> 0.14064798 | P238: 0.62979368 | Q238: =IF(OR(J238>=$Q$2,P238>=$Q$3),1,0) -> 0 | R238: 0 | S238: 2 | T238: FUTUREPF | U238: 0.00061722091 | V238: 9796.97 | W238: 1.513021 | X238: Financials
A239: 233 | B239: ITD | C239: 0.00036922801 | D239: 5860.65 | E239: 0.45004056 | F239: Cyclicals | H239: 233 | I239: WHAUP | J239: 0.0010121131 | K239: 16064.98 | L239: 1.3214505 | M239: Cyclicals | O239: =RAND() -> 0.98607326 | P239: 0.64438026 | Q239: =IF(OR(J239>=$Q$2,P239>=$Q$3),1,0) -> 0 | R239: 0 | S239: 3 | T239: GGC | U239: 0.00060622657 | V239: 9622.46 | W239: 0.96290771 | X239: Cyclicals
A240: 234 | B240: FORTH | C240: 0.00036893505 | D240: 5856 | E240: 4.5311435 | F240: Cyclicals | H240: 234 | I240: SPRC | J240: 0.0021989934 | K240: 34903.99 | L240: 1.3207657 | M240: Cyclicals | O240: =RAND() -> 0.56686248 | P240: 0.015339728 | Q240: =IF(OR(J240>=$Q$2,P240>=$Q$3),1,0) -> 0 | R240: 0 | S240: 3 | T240: THCOM | U240: 0.00059042713 | V240: 9371.68 | W240: 0.83325457 | X240: Cyclicals
A241: 235 | B241: CHAYO | C241: 0.00036451867 | D241: 5785.9 | E241: 5.1183631 | F241: Financials | H241: 235 | I241: THIP | J241: 0.0001675832 | K241: 2660 | L241: 1.3206695 | M241: Cyclicals | O241: =RAND() -> 0.76563464 | P241: 0.57187 | Q241: =IF(OR(J241>=$Q$2,P241>=$Q$3),1,0) -> 0 | R241: 0 | S241: 3 | T241: SSC | U241: 0.00057375701 | V241: 9107.08 | W241: 1.0235713 | X241: Financials
A242: 236 | B242: STPI | C242: 0.00036442354 | D242: 5784.39 | E242: 0.7834551 | F242: Cyclicals | H242: 236 | I242: TAE | J242: 0.00014868284 | K242: 2360 | L242: 1.3120638 | M242: Cyclicals | O242: =RAND() -> 0.65718574 | P242: 0.13553599 | Q242: =IF(OR(J242>=$Q$2,P242>=$Q$3),1,0) -> 0 | R242: 0 | S242: 4 | T242: ROJNA | U242: 0.00057281136 | V242: 9092.07 | W242: 0.61717649 | X242: Financials
... A611: 605 | B611: PE | C611: 1.5120289e-06 | D611: 24 | E611: 0.18411544 | F611: Financials | H611: 605 | I611: POST | J611: 3.1500602e-05 | K611: 500 | L611: -2.1719583 | M611: Cyclicals | O611: =RAND() -> 0.19290648 | P611: 0.65495578 | Q611: =IF(OR(J611>=$Q$2,P611>=$Q$3),1,0) -> 0 | R611: 0 | S611: 4 | T611: PE | U611: 1.5120289e-06 | V611: 24 | W611: 0.18411544 | X611: Financials

Sheet Output
A1: Objective | C1: Minimize | D1: =SUM(I13:I112) -> 0.0014379941 | E1: =_xlfn.FORMULATEXT(D1) -> =SUM(I13:I112)
B3: Constraints | C3: Target | D3: Range | E3: Wtd avg
B4: Market-cap | C4: =Data!C3 -> 312183 | D4: 0.1 | E4: =SUMPRODUCT($G$13:$G$112,D13:D112) -> 329707.31 | F4: =_xlfn.FORMULATEXT(E4) -> =SUMPRODUCT($G$13:$G$112,D13:D112)
B5: P/B | C5: =Data!C4 -> 3.6748811 | D5: 0.1 | E5: =SUMPRODUCT($G$13:$G$112,E13:E112) -> 3.4299401 | F5: =_xlfn.FORMULATEXT(E5) -> =SUMPRODUCT($G$13:$G$112,E13:E112)
B6: Cyclicals | C6: =Data!C5 -> 0.56589621 | D6: 0.1 | E6: {=SUMPRODUCT($G$13:$G$112,INT($F$13:$F$112=B6))} -> 0.58082453 | F6: =_xlfn.FORMULATEXT(E6) -> =SUMPRODUCT($G$13:$G$112,INT($F$13:$F$112=B6))
B7: Financials | C7: =Data!C6 -> 0.28979956 | D7: 0.1 | E7: {=SUMPRODUCT($G$13:$G$112,INT($F$13:$F$112=B7))} -> 0.2777565 | F7: =_xlfn.FORMULATEXT(E7) -> =SUMPRODUCT($G$13:$G$112,INT($F$13:$F$112=B7))
B8: NonCyclicals | C8: =Data!C7 -> 0.14430422 | D8: 0.1 | E8: {=SUMPRODUCT($G$13:$G$112,INT($F$13:$F$112=B8))} -> 0.14141897 | F8: =_xlfn.FORMULATEXT(E8) -> =SUMPRODUCT($G$13:$G$112,INT($F$13:$F$112=B8))
B9: Weight | C9: 1 | E9: =SUM(E6:E8) -> 1 | F9: =_xlfn.FORMULATEXT(E9) -> =SUM(E6:E8)
B11: Columns B to F are from Sheet "Sort"
A12: No. | B12: Ticker | C12: Weight | D12: Market cap | E12: P/B | F12: Broad sector | G12: Fund weight | H12: Active weight | I12: Square of active weight
A13: 1 | B13: PTT | C13: 0.076478863 | D13: 1213927 | E13: 1.3762714 | F13: Cyclicals | G13: 0.080270944 | H13: =G13-C13 -> 0.0037920803 | I13: =H13^2 -> 1.4379873e-05 | J13: =_xlfn.FORMULATEXT(I13) -> =H13^2
A14: =A13+1 -> 2 | B14: AOT | C14: 0.056025976 | D14: 889284.2 | E14: 6.2521924 | F14: Cyclicals | G14: 0.059818045 | H14: =G14-C14 -> 0.003792069 | I14: =H14^2 -> 1.4379787e-05
A15: =A14+1 -> 3 | B15: DELTA | C15: 0.038193038 | D15: 606227.1 | E15: 16.118029 | F15: Cyclicals | G15: 0.041985108 | H15: =G15-C15 -> 0.0037920707 | I15: =H15^2 -> 1.43798e-05
A16: =A15+1 -> 4 | B16: ADVANC | C16: 0.032971384 | D16: 523345.3 | E16: 6.9258564 | F16: Cyclicals | G16: 0.036763457 | H16: =G16-C16 -> 0.0037920726 | I16: =H16^2 -> 1.4379815e-05
A17: =A16+1 -> 5 | B17: CPALL | C17: 0.032966351 | D17: 523265.4 | E17: 6.808955 | F17: Noncyclicals | G17: 0.036758432 | H17: =G17-C17 -> 0.0037920813 | I17: =H17^2 -> 1.4379881e-05
A18: =A17+1 -> 6 | B18: SCC | C18: 0.028577365 | D18: 453600.3 | E18: 1.4132075 | F18: Cyclicals | G18: 0.03236944 | H18: =G18-C18 -> 0.0037920751 | I18: =H18^2 -> 1.4379834e-05
A19: =A18+1 -> 7 | B19: GULF | C19: 0.025317683 | D19: 401860.3 | E19: 6.2764049 | F19: Cyclicals | G19: 0.02910976 | H19: =G19-C19 -> 0.0037920773 | I19: =H19^2 -> 1.4379851e-05
A20: =A19+1 -> 8 | B20: PTTEP | C20: 0.024573677 | D20: 390050.9 | E20: 1.1162526 | F20: Cyclicals | G20: 0.028365754 | H20: =G20-C20 -> 0.0037920774 | I20: =H20^2 -> 1.4379851e-05
A21: =A20+1 -> 9 | B21: BDMS | C21: 0.020825275 | D21: 330553.6 | E21: 3.7601286 | F21: Noncyclicals | G21: 0.024617355 | H21: =G21-C21 -> 0.0037920797 | I21: =H21^2 -> 1.4379869e-05
A22: =A21+1 -> 10 | B22: SCB | C22: 0.01871854 | D22: 297114 | E22: 0.72223769 | F22: Financials | G22: 0.022510621 | H22: =G22-C22 -> 0.0037920807 | I22: =H22^2 -> 1.4379876e-05
A23: =A22+1 -> 11 | B23: KBANK | C23: 0.017037945 | D23: 270438.4 | E23: 0.61509457 | F23: Financials | G23: 0.020830027 | H23: =G23-C23 -> 0.003792082 | I23: =H23^2 -> 1.4379886e-05
A24: =A23+1 -> 12 | B24: PTTGC | C24: 0.016617677 | D24: 263767.6 | E24: 0.94133021 | F24: Cyclicals | G24: 0.020409759 | H24: =G24-C24 -> 0.0037920822 | I24: =H24^2 -> 1.4379887e-05
A25: =A24+1 -> 13 | B25: CPF | C25: 0.014512353 | D25: 230350.4 | E25: 1.3018796 | F25: Financials | G25: 0.018304436 | H25: =G25-C25 -> 0.0037920834 | I25: =H25^2 -> 1.4379897e-05
... A112: =A111+1 -> 100 | B112: WIN | C112: 1.2373437e-05 | D112: 196.4 | E112: 0.93845117 | F112: Financials | G112: 0.0038044665 | H112: =G112-C112 -> 0.0037920931 | I112: =H112^2 -> 1.437997e-05
