Workbook

Sheet Q 1.1 2001
B1: Value | F1: Value (Mil$) | J1: Share (%)
A2: Country | B2: Export | C2: Import | D2: Trade | F2: Export | G2: Import | H2: Trade | J2: Export | K2: Import | L2: Trade
A3: Afghanistan | B3: 1578524 | C3: 230959 | D3: 1809483 | F3: =B3/10^6 -> 1.578524 | G3: =C3/10^6 -> 0.230959 | H3: =D3/10^6 -> 1.809483 | J3: =F3/F$225*100 -> 0.0024315201 | K3: =G3/G$225*100 -> 0.00037275151 | L3: =H3/H$225*100 -> 0.0014261395
A4: Albania | B4: 2345668 | C4: 10494 | D4: 2356162 | F4: =B4/10^6 -> 2.345668 | G4: =C4/10^6 -> 0.010494 | H4: =D4/10^6 -> 2.356162 | J4: =F4/F$225*100 -> 0.0036132101 | K4: =G4/G$225*100 -> 1.6936575e-05 | L4: =H4/H$225*100 -> 0.0018570031
A5: Algeria | B5: 33227038 | C5: 8153874 | D5: 41380912 | F5: =B5/10^6 -> 33.227038 | G5: =C5/10^6 -> 8.153874 | H5: =D5/10^6 -> 41.380912 | J5: =F5/F$225*100 -> 0.051182123 | K5: =G5/G$225*100 -> 0.013159777 | L5: =H5/H$225*100 -> 0.032614262
A6: American Samoa | B6: 3454491 | C6: 1905030 | D6: 5359521 | F6: =B6/10^6 -> 3.454491 | G6: =C6/10^6 -> 1.90503 | H6: =D6/10^6 -> 5.359521 | J6: =F6/F$225*100 -> 0.0053212141 | K6: =G6/G$225*100 -> 0.0030745838 | L6: =H6/H$225*100 -> 0.004224093
A7: Andorra | B7: 296966 | C7: 58920 | D7: 355886 | F7: =B7/10^6 -> 0.296966 | G7: =C7/10^6 -> 0.05892 | H7: =D7/10^6 -> 0.355886 | J7: =F7/F$225*100 -> 0.00045743922 | K7: =G7/G$225*100 -> 9.5092718e-05 | L7: =H7/H$225*100 -> 0.00028049065
A8: Angola | B8: 16715441 | C8: 41419731 | D8: 58135172 | F8: =B8/10^6 -> 16.715441 | G8: =C8/10^6 -> 41.419731 | H8: =D8/10^6 -> 58.135172 | J8: =F8/F$225*100 -> 0.02574806 | K8: =G8/G$225*100 -> 0.06684852 | L8: =H8/H$225*100 -> 0.045819089
A9: Antigua and Barbuda | B9: 225137 | C9: 281101 | D9: 506238 | F9: =B9/10^6 -> 0.225137 | G9: =C9/10^6 -> 0.281101 | H9: =D9/10^6 -> 0.506238 | J9: =F9/F$225*100 -> 0.00034679557 | K9: =G9/G$225*100 -> 0.00045367716 | L9: =H9/H$225*100 -> 0.0003989902
A10: Areas, nes | B10: 26571662 | C10: 562757246 | D10: 589328908 | F10: =B10/10^6 -> 26.571662 | G10: =C10/10^6 -> 562.75725 | H10: =D10/10^6 -> 589.32891 | J10: =F10/F$225*100 -> 0.040930343 | K10: =G10/G$225*100 -> 0.90825044 | L10: =H10/H$225*100 -> 0.46447809
A11: Argentina | B11: 77794059 | C11: 383810284 | D11: 461604343 | F11: =B11/10^6 -> 77.794059 | G11: =C11/10^6 -> 383.81028 | H11: =D11/10^6 -> 461.60434 | J11: =F11/F$225*100 -> 0.11983208 | K11: =G11/G$225*100 -> 0.61944269 | L11: =H11/H$225*100 -> 0.3638123
A12: Armenia | B12: 345783 | C12: 10339 | D12: 356122 | F12: =B12/10^6 -> 0.345783 | G12: =C12/10^6 -> 0.010339 | H12: =D12/10^6 -> 0.356122 | J12: =F12/F$225*100 -> 0.00053263574 | K12: =G12/G$225*100 -> 1.6686416e-05 | L12: =H12/H$225*100 -> 0.00028067666
A13: Aruba | B13: 375603 | D13: 375603 | F13: =B13/10^6 -> 0.375603 | G13: =C13/10^6 -> 0 | H13: =D13/10^6 -> 0.375603 | J13: =F13/F$225*100 -> 0.00057856975 | K13: =G13/G$225*100 -> 0 | L13: =H13/H$225*100 -> 0.00029603056
A14: Australia | B14: 1358598241 | C14: 1355248529 | D14: 2713846770 | F14: =B14/10^6 -> 1358.5982 | G14: =C14/10^6 -> 1355.2485 | H14: =D14/10^6 -> 2713.8468 | J14: =F14/F$225*100 -> 2.0927518 | K14: =G14/G$225*100 -> 2.1872754 | L14: =H14/H$225*100 -> 2.1389115
A15: Austria | B15: 99292769 | C15: 93349551 | D15: 192642320 | F15: =B15/10^6 -> 99.292769 | G15: =C15/10^6 -> 93.349551 | H15: =D15/10^6 -> 192.64232 | J15: =F15/F$225*100 -> 0.15294817 | K15: =G15/G$225*100 -> 0.15065958 | L15: =H15/H$225*100 -> 0.15183056
A16: Azerbaijan | B16: 440066 | C16: 1046750 | D16: 1486816 | F16: =B16/10^6 -> 0.440066 | G16: =C16/10^6 -> 1.04675 | H16: =D16/10^6 -> 1.486816 | J16: =F16/F$225*100 -> 0.00067786699 | K16: =G16/G$225*100 -> 0.0016893806 | L16: =H16/H$225*100 -> 0.0011718303
A17: Bahamas | B17: 1011021 | C17: 55370 | D17: 1066391 | F17: =B17/10^6 -> 1.011021 | G17: =C17/10^6 -> 0.05537 | H17: =D17/10^6 -> 1.066391 | J17: =F17/F$225*100 -> 0.0015573522 | K17: =G17/G$225*100 -> 8.9363269e-05 | L17: =H17/H$225*100 -> 0.00084047338
A18: Bahrain | B18: 32970012 | C18: 57139620 | D18: 90109632 | F18: =B18/10^6 -> 32.970012 | G18: =C18/10^6 -> 57.13962 | H18: =D18/10^6 -> 90.109632 | J18: =F18/F$225*100 -> 0.050786206 | K18: =G18/G$225*100 -> 0.09221931 | L18: =H18/H$225*100 -> 0.07101968
A19: Bangladesh | B19: 230924523 | C19: 28940719 | D19: 259865242 | F19: =B19/10^6 -> 230.92452 | G19: =C19/10^6 -> 28.940719 | H19: =D19/10^6 -> 259.86524 | J19: =F19/F$225*100 -> 0.35571053 | K19: =G19/G$225*100 -> 0.046708276 | L19: =H19/H$225*100 -> 0.20481214
A20: Barbados | B20: 1648477 | C20: 242746 | D20: 1891223 | F20: =B20/10^6 -> 1.648477 | G20: =C20/10^6 -> 0.242746 | H20: =D20/10^6 -> 1.891223 | J20: =F20/F$225*100 -> 0.002539274 | K20: =G20/G$225*100 -> 0.0003917749 | L20: =H20/H$225*100 -> 0.0014905626
A21: Belarus | B21: 384395 | C21: 3281126 | D21: 3665521 | F21: =B21/10^6 -> 0.384395 | G21: =C21/10^6 -> 3.281126 | H21: =D21/10^6 -> 3.665521 | J21: =F21/F$225*100 -> 0.00059211273 | K21: =G21/G$225*100 -> 0.0052955056 | L21: =H21/H$225*100 -> 0.0028889711
A22: Belgium | B22: 1417625700 | C22: 456150552 | D22: 1873776252 | F22: =B22/10^6 -> 1417.6257 | G22: =C22/10^6 -> 456.15055 | H22: =D22/10^6 -> 1873.7763 | J22: =F22/F$225*100 -> 2.1836762 | K22: =G22/G$225*100 -> 0.73619477 | L22: =H22/H$225*100 -> 1.476812
A23: Belize | B23: 4126722 | C23: 6327749 | D23: 10454471 | F23: =B23/10^6 -> 4.126722 | G23: =C23/10^6 -> 6.327749 | H23: =D23/10^6 -> 10.454471 | J23: =F23/F$225*100 -> 0.0063567024 | K23: =G23/G$225*100 -> 0.01021254 | L23: =H23/H$225*100 -> 0.008239665
A24: Benin | B24: 38440209 | C24: 13175772 | D24: 51615981 | F24: =B24/10^6 -> 38.440209 | G24: =C24/10^6 -> 13.175772 | H24: =D24/10^6 -> 51.615981 | J24: =F24/F$225*100 -> 0.059212365 | K24: =G24/G$225*100 -> 0.021264765 | L24: =H24/H$225*100 -> 0.040681005
A25: Bermuda | B25: 485029 | D25: 485029 | F25: =B25/10^6 -> 0.485029 | G25: =C25/10^6 -> 0 | H25: =D25/10^6 -> 0.485029 | J25: =F25/F$225*100 -> 0.0007471269 | K25: =G25/G$225*100 -> 0 | L25: =H25/H$225*100 -> 0.00038227439
A26: Bhutan | B26: 924371 | C26: 114028 | D26: 1038399 | F26: =B26/10^6 -> 0.924371 | G26: =C26/10^6 -> 0.114028 | H26: =D26/10^6 -> 1.038399 | J26: =F26/F$225*100 -> 0.0014238787 | K26: =G26/G$225*100 -> 0.00018403314 | L26: =H26/H$225*100 -> 0.00081841156
A27: Bolivia (Plurinational State of) | B27: 1874058 | C27: 1181640 | D27: 3055698 | F27: =B27/10^6 -> 1.874058 | G27: =C27/10^6 -> 1.18164 | H27: =D27/10^6 -> 3.055698 | J27: =F27/F$225*100 -> 0.0028867535 | K27: =G27/G$225*100 -> 0.0019070835 | L27: =H27/H$225*100 -> 0.0024083407
A28: Botswana | B28: 323589 | C28: 456213 | D28: 779802 | F28: =B28/10^6 -> 0.323589 | G28: =C28/10^6 -> 0.456213 | H28: =D28/10^6 -> 0.779802 | J28: =F28/F$225*100 -> 0.00049844864 | K28: =G28/G$225*100 -> 0.00073629555 | L28: =H28/H$225*100 -> 0.00061459898
A29: Bouvet Island | B29: 8086 | D29: 8086 | F29: =B29/10^6 -> 0.008086 | G29: =C29/10^6 -> 0 | H29: =D29/10^6 -> 0.008086 | J29: =F29/F$225*100 -> 1.2455478e-05 | K29: =G29/G$225*100 -> 0 | L29: =H29/H$225*100 -> 6.3729605e-06
A30: Br. Indian Ocean Terr. | B30: 67319 | C30: 596891 | D30: 664210 | F30: =B30/10^6 -> 0.067319 | G30: =C30/10^6 -> 0.596891 | H30: =D30/10^6 -> 0.66421 | J30: =F30/F$225*100 -> 0.00010369655 | K30: =G30/G$225*100 -> 0.00096333991 | L30: =H30/H$225*100 -> 0.00052349544
A31: Br. Virgin Isds | B31: 580999 | C31: 815184 | D31: 1396183 | F31: =B31/10^6 -> 0.580999 | G31: =C31/10^6 -> 0.815184 | H31: =D31/10^6 -> 1.396183 | J31: =F31/F$225*100 -> 0.00089495676 | K31: =G31/G$225*100 -> 0.0013156494 | L31: =H31/H$225*100 -> 0.0011003981
A32: Brazil | B32: 160643250 | C32: 267486531 | D32: 428129781 | F32: =B32/10^6 -> 160.64325 | G32: =C32/10^6 -> 267.48653 | H32: =D32/10^6 -> 428.12978 | J32: =F32/F$225*100 -> 0.24745096 | K32: =G32/G$225*100 -> 0.43170437 | L32: =H32/H$225*100 -> 0.33742941
A33: Brunei Darussalam | B33: 37354369 | C33: 387031938 | D33: 424386307 | F33: =B33/10^6 -> 37.354369 | G33: =C33/10^6 -> 387.03194 | H33: =D33/10^6 -> 424.38631 | J33: =F33/F$225*100 -> 0.057539763 | K33: =G33/G$225*100 -> 0.62464221 | L33: =H33/H$225*100 -> 0.334479
A34: Bulgaria | B34: 8398738 | C34: 7492275 | D34: 15891013 | F34: =B34/10^6 -> 8.398738 | G34: =C34/10^6 -> 7.492275 | H34: =D34/10^6 -> 15.891013 | J34: =F34/F$225*100 -> 0.012937212 | K34: =G34/G$225*100 -> 0.012092003 | L34: =H34/H$225*100 -> 0.012524462
A35: Burkina Faso | B35: 1170417 | C35: 4530498 | D35: 5700915 | F35: =B35/10^6 -> 1.170417 | G35: =C35/10^6 -> 4.530498 | H35: =D35/10^6 -> 5.700915 | J35: =F35/F$225*100 -> 0.0018028819 | K35: =G35/G$225*100 -> 0.0073119037 | L35: =H35/H$225*100 -> 0.0044931618
A36: Burundi | B36: 782100 | C36: 38550 | D36: 820650 | F36: =B36/10^6 -> 0.7821 | G36: =C36/10^6 -> 0.03855 | H36: =D36/10^6 -> 0.82065 | J36: =F36/F$225*100 -> 0.0012047279 | K36: =G36/G$225*100 -> 6.2216977e-05 | L36: =H36/H$225*100 -> 0.00064679323
A37: Cambodia | B37: 467444830 | C37: 12272758 | D37: 479717588 | F37: =B37/10^6 -> 467.44483 | G37: =C37/10^6 -> 12.272758 | H37: =D37/10^6 -> 479.71759 | J37: =F37/F$225*100 -> 0.72004067 | K37: =G37/G$225*100 -> 0.019807364 | L37: =H37/H$225*100 -> 0.37808821
A38: Cameroon | B38: 13289072 | C38: 20542134 | D38: 33831206 | F38: =B38/10^6 -> 13.289072 | G38: =C38/10^6 -> 20.542134 | H38: =D38/10^6 -> 33.831206 | J38: =F38/F$225*100 -> 0.020470164 | K38: =G38/G$225*100 -> 0.033153553 | L38: =H38/H$225*100 -> 0.02666398
A39: Canada | B39: 788239651 | C39: 346071370 | D39: 1134311021 | F39: =B39/10^6 -> 788.23965 | G39: =C39/10^6 -> 346.07137 | H39: =D39/10^6 -> 1134.311 | J39: =F39/F$225*100 -> 1.2141852 | K39: =G39/G$225*100 -> 0.55853474 | L39: =H39/H$225*100 -> 0.89400438
A40: Cape Verde | B40: 44569 | C40: 49756 | D40: 94325 | F40: =B40/10^6 -> 0.044569 | G40: =C40/10^6 -> 0.049756 | H40: =D40/10^6 -> 0.094325 | J40: =F40/F$225*100 -> 6.8653006e-05 | K40: =G40/G$225*100 -> 8.0302669e-05 | L40: =H40/H$225*100 -> 7.4342011e-05
A41: Cayman Isds | B41: 4452503 | C41: 188085 | D41: 4640588 | F41: =B41/10^6 -> 4.452503 | G41: =C41/10^6 -> 0.188085 | H41: =D41/10^6 -> 4.640588 | J41: =F41/F$225*100 -> 0.0068585276 | K41: =G41/G$225*100 -> 0.0003035559 | L41: =H41/H$225*100 -> 0.0036574677
... A50: Colombia | B50: 38515861 | C50: 6486698 | D50: 45002559 | F50: =B50/10^6 -> 38.515861 | G50: =C50/10^6 -> 6.486698 | H50: =D50/10^6 -> 45.002559 | J50: =F50/F$225*100 -> 0.059328898 | K50: =G50/G$225*100 -> 0.010469072 | L50: =H50/H$225*100 -> 0.035468654
A51: Comoros | B51: 3308128 | D51: 3308128 | F51: =B51/10^6 -> 3.308128 | G51: =C51/10^6 -> 0 | H51: =D51/10^6 -> 3.308128 | J51: =F51/F$225*100 -> 0.0050957601 | K51: =G51/G$225*100 -> 0 | L51: =H51/H$225*100 -> 0.0026072928
A52: Congo | B52: 23049692 | C52: 31076647 | D52: 54126339 | F52: =B52/10^6 -> 23.049692 | G52: =C52/10^6 -> 31.076647 | H52: =D52/10^6 -> 54.126339 | J52: =F52/F$225*100 -> 0.035505186 | K52: =G52/G$225*100 -> 0.050155513 | L52: =H52/H$225*100 -> 0.042659538
A53: Cook Isds | B53: 265055 | C53: 52421 | D53: 317476 | F53: =B53/10^6 -> 0.265055 | G53: =C53/10^6 -> 0.052421 | H53: =D53/10^6 -> 0.317476 | J53: =F53/F$225*100 -> 0.00040828429 | K53: =G53/G$225*100 -> 8.4603791e-05 | L53: =H53/H$225*100 -> 0.00025021791
A54: Costa Rica | B54: 13223845 | C54: 1848652 | D54: 15072497 | F54: =B54/10^6 -> 13.223845 | G54: =C54/10^6 -> 1.848652 | H54: =D54/10^6 -> 15.072497 | J54: =F54/F$225*100 -> 0.02036969 | K54: =G54/G$225*100 -> 0.0029835937 | L54: =H54/H$225*100 -> 0.011879351
A55: Croatia | B55: 5931230 | C55: 1365154 | D55: 7296384 | F55: =B55/10^6 -> 5.93123 | G55: =C55/10^6 -> 1.365154 | H55: =D55/10^6 -> 7.296384 | J55: =F55/F$225*100 -> 0.0091363227 | K55: =G55/G$225*100 -> 0.0022032621 | L55: =H55/H$225*100 -> 0.0057506267
A56: Cuba | B56: 4810592 | C56: 744976 | D56: 5555568 | F56: =B56/10^6 -> 4.810592 | G56: =C56/10^6 -> 0.744976 | H56: =D56/10^6 -> 5.555568 | J56: =F56/F$225*100 -> 0.0074101192 | K56: =G56/G$225*100 -> 0.0012023386 | L56: =H56/H$225*100 -> 0.0043786069
A57: Cyprus | B57: 37598442 | C57: 1680374 | D57: 39278816 | F57: =B57/10^6 -> 37.598442 | G57: =C57/10^6 -> 1.680374 | H57: =D57/10^6 -> 39.278816 | J57: =F57/F$225*100 -> 0.057915728 | K57: =G57/G$225*100 -> 0.0027120049 | L57: =H57/H$225*100 -> 0.0309575
A58: Czech Rep. | B58: 45940601 | C58: 87045987 | D58: 132986588 | F58: =B58/10^6 -> 45.940601 | G58: =C58/10^6 -> 87.045987 | H58: =D58/10^6 -> 132.98659 | J58: =F58/F$225*100 -> 0.070765787 | K58: =G58/G$225*100 -> 0.14048607 | L58: =H58/H$225*100 -> 0.10481304
A59: Cรดte d'Ivoire | B59: 77189705 | C59: 14478761 | D59: 91668466 | F59: =B59/10^6 -> 77.189705 | G59: =C59/10^6 -> 14.478761 | H59: =D59/10^6 -> 91.668466 | J59: =F59/F$225*100 -> 0.11890115 | K59: =G59/G$225*100 -> 0.023367697 | L59: =H59/H$225*100 -> 0.072248271
A60: Dem. People's Rep. of Korea | B60: 106047127 | C60: 24124534 | D60: 130171661 | F60: =B60/10^6 -> 106.04713 | G60: =C60/10^6 -> 24.124534 | H60: =D60/10^6 -> 130.17166 | J60: =F60/F$225*100 -> 0.16335242 | K60: =G60/G$225*100 -> 0.038935294 | L60: =H60/H$225*100 -> 0.10259447
A61: Dem. Rep. of the Congo | B61: 652636 | C61: 21965 | D61: 674601 | F61: =B61/10^6 -> 0.652636 | G61: =C61/10^6 -> 0.021965 | H61: =D61/10^6 -> 0.674601 | J61: =F61/F$225*100 -> 0.0010053047 | K61: =G61/G$225*100 -> 3.5449958e-05 | L61: =H61/H$225*100 -> 0.00053168508
A62: Denmark | B62: 170974021 | C62: 203208598 | D62: 374182619 | F62: =B62/10^6 -> 170.97402 | G62: =C62/10^6 -> 203.2086 | H62: =D62/10^6 -> 374.18262 | J62: =F62/F$225*100 -> 0.26336423 | K62: =G62/G$225*100 -> 0.32796432 | L62: =H62/H$225*100 -> 0.29491109
A63: Djibouti | B63: 3659286 | C63: 1259 | D63: 3660545 | F63: =B63/10^6 -> 3.659286 | G63: =C63/10^6 -> 0.001259 | H63: =D63/10^6 -> 3.660545 | J63: =F63/F$225*100 -> 0.0056366753 | K63: =G63/G$225*100 -> 2.0319371e-06 | L63: =H63/H$225*100 -> 0.0028850493
... A68: El Salvador | B68: 13707249 | C68: 397929 | D68: 14105178 | F68: =B68/10^6 -> 13.707249 | G68: =C68/10^6 -> 0.397929 | H68: =D68/10^6 -> 14.105178 | J68: =F68/F$225*100 -> 0.021114314 | K68: =G68/G$225*100 -> 0.0006422293 | L68: =H68/H$225*100 -> 0.011116961
A69: Equatorial Guinea | B69: 318821 | D69: 318821 | F69: =B69/10^6 -> 0.318821 | G69: =C69/10^6 -> 0 | H69: =D69/10^6 -> 0.318821 | J69: =F69/F$225*100 -> 0.00049110413 | K69: =G69/G$225*100 -> 0 | L69: =H69/H$225*100 -> 0.00025127797
A70: Eritrea | B70: 1666517 | C70: 28362 | D70: 1694879 | F70: =B70/10^6 -> 1.666517 | G70: =C70/10^6 -> 0.028362 | H70: =D70/10^6 -> 1.694879 | J70: =F70/F$225*100 -> 0.0025670623 | K70: =G70/G$225*100 -> 4.5774264e-05 | L70: =H70/H$225*100 -> 0.0013358146
A71: Estonia | B71: 4390462 | C71: 5745886 | D71: 10136348 | F71: =B71/10^6 -> 4.390462 | G71: =C71/10^6 -> 5.745886 | H71: =D71/10^6 -> 10.136348 | J71: =F71/F$225*100 -> 0.0067629611 | K71: =G71/G$225*100 -> 0.0092734541 | L71: =H71/H$225*100 -> 0.0079889372
A72: Ethiopia | B72: 7645024 | C72: 1878293 | D72: 9523317 | F72: =B72/10^6 -> 7.645024 | G72: =C72/10^6 -> 1.878293 | H72: =D72/10^6 -> 9.523317 | J72: =F72/F$225*100 -> 0.011776209 | K72: =G72/G$225*100 -> 0.0030314322 | L72: =H72/H$225*100 -> 0.0075057783
A73: Faeroe Isds | B73: 357131 | C73: 744563 | D73: 1101694 | F73: =B73/10^6 -> 0.357131 | G73: =C73/10^6 -> 0.744563 | H73: =D73/10^6 -> 1.101694 | J73: =F73/F$225*100 -> 0.00055011592 | K73: =G73/G$225*100 -> 0.0012016721 | L73: =H73/H$225*100 -> 0.00086829735
A74: Falkland Isds (Malvinas) | B74: 2868 | C74: 2518 | D74: 5386 | F74: =B74/10^6 -> 0.002868 | G74: =C74/10^6 -> 0.002518 | H74: =D74/10^6 -> 0.005386 | J74: =F74/F$225*100 -> 4.4177976e-06 | K74: =G74/G$225*100 -> 4.0638741e-06 | L74: =H74/H$225*100 -> 4.2449623e-06
A75: Fiji | B75: 14766768 | C75: 1442239 | D75: 16209007 | F75: =B75/10^6 -> 14.766768 | G75: =C75/10^6 -> 1.442239 | H75: =D75/10^6 -> 16.209007 | J75: =F75/F$225*100 -> 0.022746371 | K75: =G75/G$225*100 -> 0.0023276719 | L75: =H75/H$225*100 -> 0.012775088
A76: Finland | B76: 117087058 | C76: 403727374 | D76: 520814432 | F76: =B76/10^6 -> 117.08706 | G76: =C76/10^6 -> 403.72737 | H76: =D76/10^6 -> 520.81443 | J76: =F76/F$225*100 -> 0.18035806 | K76: =G76/G$225*100 -> 0.65158746 | L76: =H76/H$225*100 -> 0.41047858
A77: Fr. South Antarctic Terr. | B77: 82227 | C77: 16247 | D77: 98474 | F77: =B77/10^6 -> 0.082227 | G77: =C77/10^6 -> 0.016247 | H77: =D77/10^6 -> 0.098474 | J77: =F77/F$225*100 -> 0.00012666048 | K77: =G77/G$225*100 -> 2.622151e-05 | L77: =H77/H$225*100 -> 7.7612035e-05
A78: France | B78: 852939115 | C78: 931957134 | D78: 1784896249 | F78: =B78/10^6 -> 852.93912 | G78: =C78/10^6 -> 931.95713 | H78: =D78/10^6 -> 1784.8962 | J78: =F78/F$225*100 -> 1.3138467 | K78: =G78/G$225*100 -> 1.504113 | L78: =H78/H$225*100 -> 1.4067615
A79: French Polynesia | B79: 6872844 | C79: 2326058 | D79: 9198902 | F79: =B79/10^6 -> 6.872844 | G79: =C79/10^6 -> 2.326058 | H79: =D79/10^6 -> 9.198902 | J79: =F79/F$225*100 -> 0.010586762 | K79: =G79/G$225*100 -> 0.0037540933 | L79: =H79/H$225*100 -> 0.0072500914
A80: FS Micronesia | B80: 1340010 | C80: 57139432 | D80: 58479442 | F80: =B80/10^6 -> 1.34001 | G80: =C80/10^6 -> 57.139432 | H80: =D80/10^6 -> 58.479442 | J80: =F80/F$225*100 -> 0.0020641189 | K80: =G80/G$225*100 -> 0.092219007 | L80: =H80/H$225*100 -> 0.046090425
A81: Gabon | B81: 15473401 | C81: 1413770 | D81: 16887171 | F81: =B81/10^6 -> 15.473401 | G81: =C81/10^6 -> 1.41377 | H81: =D81/10^6 -> 16.887171 | J81: =F81/F$225*100 -> 0.023834851 | K81: =G81/G$225*100 -> 0.0022817249 | L81: =H81/H$225*100 -> 0.013309581
... A95: Haiti | B95: 3426367 | C95: 675 | D95: 3427042 | F95: =B95/10^6 -> 3.426367 | G95: =C95/10^6 -> 0.000675 | H95: =D95/10^6 -> 3.427042 | J95: =F95/F$225*100 -> 0.0052778926 | K95: =G95/G$225*100 -> 1.0894023e-06 | L95: =H95/H$225*100 -> 0.0027010145
A96: Heard Island and McDonald Islands | B96: 473 | D96: 473 | F96: =B96/10^6 -> 0.000473 | G96: =C96/10^6 -> 0 | H96: =D96/10^6 -> 0.000473 | J96: =F96/F$225*100 -> 7.2859772e-07 | K96: =G96/G$225*100 -> 0 | L96: =H96/H$225*100 -> 3.7279376e-07
A97: Honduras | B97: 10822833 | C97: 25151 | D97: 10847984 | F97: =B97/10^6 -> 10.822833 | G97: =C97/10^6 -> 0.025151 | H97: =D97/10^6 -> 10.847984 | J97: =F97/F$225*100 -> 0.016671229 | K97: =G97/G$225*100 -> 4.0591937e-05 | L97: =H97/H$225*100 -> 0.0085498113
A98: Hungary | B98: 137350764 | C98: 22112927 | D98: 159463691 | F98: =B98/10^6 -> 137.35076 | G98: =C98/10^6 -> 22.112927 | H98: =D98/10^6 -> 159.46369 | J98: =F98/F$225*100 -> 0.21157178 | K98: =G98/G$225*100 -> 0.035688702 | L98: =H98/H$225*100 -> 0.12568091
A99: Iceland | B99: 8843702 | C99: 9272288 | D99: 18115990 | F99: =B99/10^6 -> 8.843702 | G99: =C99/10^6 -> 9.272288 | H99: =D99/10^6 -> 18.11599 | J99: =F99/F$225*100 -> 0.013622624 | K99: =G99/G$225*100 -> 0.014964818 | L99: =H99/H$225*100 -> 0.014278072
A100: India | B100: 482061445 | C100: 673138980 | D100: 1155200425 | F100: =B100/10^6 -> 482.06144 | G100: =C100/10^6 -> 673.13898 | H100: =D100/10^6 -> 1155.2004 | J100: =F100/F$225*100 -> 0.74255575 | K100: =G100/G$225*100 -> 1.0863988 | L100: =H100/H$225*100 -> 0.91046831
A101: Indonesia | B101: 1362197379 | C101: 1362610556 | D101: 2724807935 | F101: =B101/10^6 -> 1362.1974 | G101: =C101/10^6 -> 1362.6106 | H101: =D101/10^6 -> 2724.8079 | J101: =F101/F$225*100 -> 2.0982958 | K101: =G101/G$225*100 -> 2.1991572 | L101: =H101/H$225*100 -> 2.1475505
A102: Iran | B102: 131922366 | C102: 76377965 | D102: 208300331 | F102: =B102/10^6 -> 131.92237 | G102: =C102/10^6 -> 76.377965 | H102: =D102/10^6 -> 208.30033 | J102: =F102/F$225*100 -> 0.20321001 | K102: =G102/G$225*100 -> 0.12326864 | L102: =H102/H$225*100 -> 0.16417138
A103: Iraq | B103: 57733811 | C103: 78230263 | D103: 135964074 | F103: =B103/10^6 -> 57.733811 | G103: =C103/10^6 -> 78.230263 | H103: =D103/10^6 -> 135.96407 | J103: =F103/F$225*100 -> 0.088931761 | K103: =G103/G$225*100 -> 0.12625812 | L103: =H103/H$225*100 -> 0.10715974
A104: Ireland | B104: 241677379 | C104: 165061766 | D104: 406739145 | F104: =B104/10^6 -> 241.67738 | G104: =C104/10^6 -> 165.06177 | H104: =D104/10^6 -> 406.73915 | J104: =F104/F$225*100 -> 0.37227397 | K104: =G104/G$225*100 -> 0.26639803 | L104: =H104/H$225*100 -> 0.32057043
A105: Israel | B105: 455553449 | C105: 324003105 | D105: 779556554 | F105: =B105/10^6 -> 455.55345 | G105: =C105/10^6 -> 324.00311 | H105: =D105/10^6 -> 779.55655 | J105: =F105/F$225*100 -> 0.70172348 | K105: =G105/G$225*100 -> 0.52291812 | L105: =H105/H$225*100 -> 0.61440554
A106: Italy | B106: 673317638 | C106: 667885279 | D106: 1341202917 | F106: =B106/10^6 -> 673.31764 | G106: =C106/10^6 -> 667.88528 | H106: =D106/10^6 -> 1341.2029 | J106: =F106/F$225*100 -> 1.0371621 | K106: =G106/G$225*100 -> 1.0779197 | L106: =H106/H$225*100 -> 1.0570657
A107: Jamaica | B107: 11084177 | C107: 123519 | D107: 11207696 | F107: =B107/10^6 -> 11.084177 | G107: =C107/10^6 -> 0.123519 | H107: =D107/10^6 -> 11.207696 | J107: =F107/F$225*100 -> 0.017073797 | K107: =G107/G$225*100 -> 0.00019935094 | L107: =H107/H$225*100 -> 0.0088333174
A108: Japan | B108: 9898255680 | C108: 13811060334 | D108: 23709316014 | F108: =B108/10^6 -> 9898.2557 | G108: =C108/10^6 -> 13811.06 | H108: =D108/10^6 -> 23709.316 | J108: =F108/F$225*100 -> 15.247033 | K108: =G108/G$225*100 -> 22.290076 | L108: =H108/H$225*100 -> 18.686438
... A149: Niue | B149: 3341 | C149: 6240 | D149: 9581 | F149: =B149/10^6 -> 0.003341 | G149: =C149/10^6 -> 0.00624 | H149: =D149/10^6 -> 0.009581 | J149: =F149/F$225*100 -> 5.1463953e-06 | K149: =G149/G$225*100 -> 1.0070919e-05 | L149: =H149/H$225*100 -> 7.551241e-06
A150: Norfolk Isds | B150: 21409 | D150: 21409 | F150: =B150/10^6 -> 0.021409 | G150: =C150/10^6 -> 0 | H150: =D150/10^6 -> 0.021409 | J150: =F150/F$225*100 -> 3.2977904e-05 | K150: =G150/G$225*100 -> 0 | L150: =H150/H$225*100 -> 1.6873449e-05
A151: Norway | B151: 48942510 | C151: 100172324 | D151: 149114834 | F151: =B151/10^6 -> 48.94251 | G151: =C151/10^6 -> 100.17232 | H151: =D151/10^6 -> 149.11483 | J151: =F151/F$225*100 -> 0.075389855 | K151: =G151/G$225*100 -> 0.16167105 | L151: =H151/H$225*100 -> 0.11752448
A152: Oman | B152: 40199449 | C152: 1270061651 | D152: 1310261100 | F152: =B152/10^6 -> 40.199449 | G152: =C152/10^6 -> 1270.0617 | H152: =D152/10^6 -> 1310.2611 | J152: =F152/F$225*100 -> 0.061922256 | K152: =G152/G$225*100 -> 2.0497898 | L152: =H152/H$225*100 -> 1.032679
A153: Other Asia, nes | B153: 1915833215 | C153: 2601461903 | D153: 4517295118 | F153: =B153/10^6 -> 1915.8332 | G153: =C153/10^6 -> 2601.4619 | H153: =D153/10^6 -> 4517.2951 | J153: =F153/F$225*100 -> 2.951103 | K153: =G153/G$225*100 -> 4.1985757 | L153: =H153/H$225*100 -> 3.5602948
A154: Pakistan | B154: 178215048 | C154: 53923097 | D154: 232138145 | F154: =B154/10^6 -> 178.21505 | G154: =C154/10^6 -> 53.923097 | H154: =D154/10^6 -> 232.13815 | J154: =F154/F$225*100 -> 0.27451813 | K154: =G154/G$225*100 -> 0.087028069 | L154: =H154/H$225*100 -> 0.18295909
A155: Palau | B155: 73229 | D155: 73229 | F155: =B155/10^6 -> 0.073229 | G155: =C155/10^6 -> 0 | H155: =D155/10^6 -> 0.073229 | J155: =F155/F$225*100 -> 0.00011280017 | K155: =G155/G$225*100 -> 0 | L155: =H155/H$225*100 -> 5.7715252e-05
A156: Panama | B156: 73300416 | C156: 2223614 | D156: 75524030 | F156: =B156/10^6 -> 73.300416 | G156: =C156/10^6 -> 2.223614 | H156: =D156/10^6 -> 75.52403 | J156: =F156/F$225*100 -> 0.11291018 | K156: =G156/G$225*100 -> 0.0035887559 | L156: =H156/H$225*100 -> 0.059524074
A157: Papua New Guinea | B157: 15316129 | C157: 70567494 | D157: 85883623 | F157: =B157/10^6 -> 15.316129 | G157: =C157/10^6 -> 70.567494 | H157: =D157/10^6 -> 85.883623 | J157: =F157/F$225*100 -> 0.023592593 | K157: =G157/G$225*100 -> 0.11389095 | L157: =H157/H$225*100 -> 0.067688961
A158: Paraguay | B158: 5931177 | C158: 5675463 | D158: 11606640 | F158: =B158/10^6 -> 5.931177 | G158: =C158/10^6 -> 5.675463 | H158: =D158/10^6 -> 11.60664 | J158: =F158/F$225*100 -> 0.0091362411 | K158: =G158/G$225*100 -> 0.0091597964 | L158: =H158/H$225*100 -> 0.0091477441
A159: Peru | B159: 13557110 | C159: 91748887 | D159: 105305997 | F159: =B159/10^6 -> 13.55711 | G159: =C159/10^6 -> 91.748887 | H159: =D159/10^6 -> 105.306 | J159: =F159/F$225*100 -> 0.020883043 | K159: =G159/G$225*100 -> 0.14807622 | L159: =H159/H$225*100 -> 0.082996656
A160: Philippines | B160: 1155752616 | C160: 1127509410 | D160: 2283262026 | F160: =B160/10^6 -> 1155.7526 | G160: =C160/10^6 -> 1127.5094 | H160: =D160/10^6 -> 2283.262 | J160: =F160/F$225*100 -> 1.7802933 | K160: =G160/G$225*100 -> 1.8197205 | L160: =H160/H$225*100 -> 1.7995472
A161: Pitcairn | B161: 3615 | C161: 27066 | D161: 30681 | F161: =B161/10^6 -> 0.003615 | G161: =C161/10^6 -> 0.027066 | H161: =D161/10^6 -> 0.030681 | J161: =F161/F$225*100 -> 5.5684583e-06 | K161: =G161/G$225*100 -> 4.3682612e-05 | L161: =H161/H$225*100 -> 2.4181153e-05
A162: Poland | B162: 73399184 | C162: 61971520 | D162: 135370704 | F162: =B162/10^6 -> 73.399184 | G162: =C162/10^6 -> 61.97152 | H162: =D162/10^6 -> 135.3707 | J162: =F162/F$225*100 -> 0.11306232 | K162: =G162/G$225*100 -> 0.10001766 | L162: =H162/H$225*100 -> 0.10669208
A163: Portugal | B163: 111144891 | C163: 22146436 | D163: 133291327 | F163: =B163/10^6 -> 111.14489 | G163: =C163/10^6 -> 22.146436 | H163: =D163/10^6 -> 133.29133 | J163: =F163/F$225*100 -> 0.17120489 | K163: =G163/G$225*100 -> 0.035742783 | L163: =H163/H$225*100 -> 0.10505322
A164: Qatar | B164: 19450958 | C164: 256291594 | D164: 275742552 | F164: =B164/10^6 -> 19.450958 | G164: =C164/10^6 -> 256.29159 | H164: =D164/10^6 -> 275.74255 | J164: =F164/F$225*100 -> 0.029961784 | K164: =G164/G$225*100 -> 0.41363653 | L164: =H164/H$225*100 -> 0.2173258
A165: Rep. of Korea | B165: 1228788019 | C165: 2121588656 | D165: 3350376675 | F165: =B165/10^6 -> 1228.788 | G165: =C165/10^6 -> 2121.5887 | H165: =D165/10^6 -> 3350.3767 | J165: =F165/F$225*100 -> 1.8927952 | K165: =G165/G$225*100 -> 3.4240942 | L165: =H165/H$225*100 -> 2.6405909
...

Sheet Q1.1 2010 
B1: Value | F1: Value ($ million) | J1: Share | O1: Top 50
A2: Country | B2: Export | C2: Import | D2: Trade | F2: Export | G2: Import | H2: Trade | J2: Export | K2: Import | L2: Trade
A3: Afghanistan | B3: 145999422 | C3: 58633 | D3: =SUM(B3:C3) -> 146058055 | F3: =B3/10^6 -> 145.99942 | G3: =C3/10^6 -> 0.058633 | H3: =D3/10^6 -> 146.05805 | J3: =B3/B$230*100 -> 0.074752079 | K3: =C3/C$230*100 -> 3.2146452e-05 | L3: =D3/D$230*100 -> 0.038669886 | N3: 1 | O3: USA | P3: 20.286649
A4: Albania | B4: 3724262 | C4: 172909 | D4: =SUM(B4:C4) -> 3897171 | F4: =B4/10^6 -> 3.724262 | G4: =C4/10^6 -> 0.172909 | H4: =D4/10^6 -> 3.897171 | J4: =B4/B$230*100 -> 0.0019068317 | K4: =C4/C$230*100 -> 9.4800042e-05 | L4: =D4/D$230*100 -> 0.0010318031 | N4: 2 | O4: Japan | P4: 15.247033
A5: Algeria | B5: 217772780 | C5: 366896190 | D5: =SUM(B5:C5) -> 584668970 | F5: =B5/10^6 -> 217.77278 | G5: =C5/10^6 -> 366.89619 | H5: =D5/10^6 -> 584.66897 | J5: =B5/B$230*100 -> 0.11150022 | K5: =C5/C$230*100 -> 0.20115653 | L5: =D5/D$230*100 -> 0.15479518 | N5: 3 | O5: Singapore | P5: 8.0794853
A6: American Samoa | B6: 1198356 | C6: 1010340 | D6: =SUM(B6:C6) -> 2208696 | F6: =B6/10^6 -> 1.198356 | G6: =C6/10^6 -> 1.01034 | H6: =D6/10^6 -> 2.208696 | J6: =B6/B$230*100 -> 0.00061356135 | K6: =C6/C$230*100 -> 0.00055393458 | L6: =D6/D$230*100 -> 0.00058476763 | N6: 4 | O6: China, Hong Kong SAR | P6: 5.07479
A7: Andorra | B7: 1347867 | C7: 303932 | D7: =SUM(B7:C7) -> 1651799 | F7: =B7/10^6 -> 1.347867 | G7: =C7/10^6 -> 0.303932 | H7: =D7/10^6 -> 1.651799 | J7: =B7/B$230*100 -> 0.00069011137 | K7: =C7/C$230*100 -> 0.00016663543 | L7: =D7/D$230*100 -> 0.00043732528 | N7: 5 | O7: China | P7: 4.4096615
A8: Angola | B8: 142922768 | C8: 83217295 | D8: =SUM(B8:C8) -> 226140063 | F8: =B8/10^6 -> 142.92277 | G8: =C8/10^6 -> 83.217295 | H8: =D8/10^6 -> 226.14006 | J8: =B8/B$230*100 -> 0.073176824 | K8: =C8/C$230*100 -> 0.045625173 | L8: =D8/D$230*100 -> 0.059872155 | N8: 6 | O8: Malaysia | P8: 4.1939796
A9: Anguilla | C9: 12026 | D9: =SUM(B9:C9) -> 12026 | F9: =B9/10^6 -> 0 | G9: =C9/10^6 -> 0.012026 | H9: =D9/10^6 -> 0.012026 | J9: =B9/B$230*100 -> 0 | K9: =C9/C$230*100 -> 6.5934411e-06 | L9: =D9/D$230*100 -> 3.1839672e-06 | N9: 7 | O9: United Kingdom | P9: 3.5849227
A10: Antigua and Barbuda | B10: 995495 | C10: 26643 | D10: =SUM(B10:C10) -> 1022138 | F10: =B10/10^6 -> 0.995495 | G10: =C10/10^6 -> 0.026643 | H10: =D10/10^6 -> 1.022138 | J10: =B10/B$230*100 -> 0.000509696 | K10: =C10/C$230*100 -> 1.4607438e-05 | L10: =D10/D$230*100 -> 0.00027061815 | N10: 8 | O10: Netherlands | P10: 3.1186514
A11: Areas, nes | B11: 587931345 | C11: 24335910 | D11: =SUM(B11:C11) -> 612267255 | F11: =B11/10^6 -> 587.93134 | G11: =C11/10^6 -> 24.33591 | H11: =D11/10^6 -> 612.26725 | J11: =B11/B$230*100 -> 0.30102236 | K11: =C11/C$230*100 -> 0.01334254 | L11: =D11/D$230*100 -> 0.16210202 | N11: 9 | O11: Other Asia, nes | P11: 2.951103
A12: Argentina | B12: 594461398 | C12: 525259574 | D12: =SUM(B12:C12) -> 1119720972 | F12: =B12/10^6 -> 594.4614 | G12: =C12/10^6 -> 525.25957 | H12: =D12/10^6 -> 1119.721 | J12: =B12/B$230*100 -> 0.30436576 | K12: =C12/C$230*100 -> 0.28798171 | L12: =D12/D$230*100 -> 0.29645392 | N12: 10 | O12: Germany | P12: 2.4117589
A13: Armenia | B13: 16077481 | C13: 1668964 | D13: =SUM(B13:C13) -> 17746445 | F13: =B13/10^6 -> 16.077481 | G13: =C13/10^6 -> 1.668964 | H13: =D13/10^6 -> 17.746445 | J13: =B13/B$230*100 -> 0.0082317116 | K13: =C13/C$230*100 -> 0.0009150354 | L13: =D13/D$230*100 -> 0.0046984948 | N13: 11 | O13: Belgium | P13: 2.1836762
A14: Aruba | B14: 3066537 | C14: 118601 | D14: =SUM(B14:C14) -> 3185138 | F14: =B14/10^6 -> 3.066537 | G14: =C14/10^6 -> 0.118601 | H14: =D14/10^6 -> 3.185138 | J14: =B14/B$230*100 -> 0.0015700748 | K14: =C14/C$230*100 -> 6.5024838e-05 | L14: =D14/D$230*100 -> 0.00084328744 | N14: 12 | O14: Indonesia | P14: 2.0982958
A15: Australia | B15: 9369584237 | C15: 5895853150 | D15: =SUM(B15:C15) -> 15265437387 | F15: =B15/10^6 -> 9369.5842 | G15: =C15/10^6 -> 5895.8531 | H15: =D15/10^6 -> 15265.437 | J15: =B15/B$230*100 -> 4.7972512 | K15: =C15/C$230*100 -> 3.232493 | L15: =D15/D$230*100 -> 4.0416307 | N15: 13 | O15: Australia | P15: 2.0927518
A16: Austria | B16: 204092910 | C16: 259464952 | D16: =SUM(B16:C16) -> 463557862 | F16: =B16/10^6 -> 204.09291 | G16: =C16/10^6 -> 259.46495 | H16: =D16/10^6 -> 463.55786 | J16: =B16/B$230*100 -> 0.10449609 | K16: =C16/C$230*100 -> 0.14225569 | L16: =D16/D$230*100 -> 0.12273017 | N16: 14 | O16: Rep. of Korea | P16: 1.8927952
A17: Azerbaijan | B17: 5813085 | C17: 775943069 | D17: =SUM(B17:C17) -> 781756154 | F17: =B17/10^6 -> 5.813085 | G17: =C17/10^6 -> 775.94307 | H17: =D17/10^6 -> 781.75615 | J17: =B17/B$230*100 -> 0.0029763145 | K17: =C17/C$230*100 -> 0.42542282 | L17: =D17/D$230*100 -> 0.20697538 | N17: 15 | O17: Philippines | P17: 1.7802933
A18: Bahamas | B18: 1988717 | C18: 6461643 | D18: =SUM(B18:C18) -> 8450360 | F18: =B18/10^6 -> 1.988717 | G18: =C18/10^6 -> 6.461643 | H18: =D18/10^6 -> 8.45036 | J18: =B18/B$230*100 -> 0.0010182282 | K18: =C18/C$230*100 -> 0.003542696 | L18: =D18/D$230*100 -> 0.0022372916 | N18: 16 | O18: France | P18: 1.3138467
A19: Bahrain | B19: 131048997 | C19: 199533870 | D19: =SUM(B19:C19) -> 330582867 | F19: =B19/10^6 -> 131.049 | G19: =C19/10^6 -> 199.53387 | H19: =D19/10^6 -> 330.58287 | J19: =B19/B$230*100 -> 0.067097423 | K19: =C19/C$230*100 -> 0.10939754 | L19: =D19/D$230*100 -> 0.087524114 | N19: 17 | O19: Viet Nam | P19: 1.2285264
A20: Bangladesh | B20: 885600966 | C20: 24349528 | D20: =SUM(B20:C20) -> 909950494 | F20: =B20/10^6 -> 885.60097 | G20: =C20/10^6 -> 24.349528 | H20: =D20/10^6 -> 909.95049 | J20: =B20/B$230*100 -> 0.45342997 | K20: =C20/C$230*100 -> 0.013350006 | L20: =D20/D$230*100 -> 0.24091572 | N20: 18 | O20: Canada | P20: 1.2141852
A21: Barbados | B21: 8991227 | C21: 1465287 | D21: =SUM(B21:C21) -> 10456514 | F21: =B21/10^6 -> 8.991227 | G21: =C21/10^6 -> 1.465287 | H21: =D21/10^6 -> 10.456514 | J21: =B21/B$230*100 -> 0.0046035313 | K21: =C21/C$230*100 -> 0.00080336633 | L21: =D21/D$230*100 -> 0.0027684348 | N21: 19 | O21: Italy | P21: 1.0371621
... A49: Christmas Isds | B49: 2955 | C49: 716 | D49: =SUM(B49:C49) -> 3671 | F49: =B49/10^6 -> 0.002955 | G49: =C49/10^6 -> 0.000716 | H49: =D49/10^6 -> 0.003671 | J49: =B49/B$230*100 -> 1.5129676e-06 | K49: =C49/C$230*100 -> 3.9255811e-07 | L49: =D49/D$230*100 -> 9.7192279e-07 | N49: 47 | O49: Dem. People's Rep. of Korea | P49: 0.16335242
A50: Cocos Isds | C50: 313 | D50: =SUM(B50:C50) -> 313 | F50: =B50/10^6 -> 0 | G50: =C50/10^6 -> 0.000313 | H50: =D50/10^6 -> 0.000313 | J50: =B50/B$230*100 -> 0 | K50: =C50/C$230*100 -> 1.7160711e-07 | L50: =D50/D$230*100 -> 8.2868928e-08 | N50: 48 | O50: Austria | P50: 0.15294817
A51: Colombia | B51: 380972771 | C51: 44663249 | D51: =SUM(B51:C51) -> 425636020 | F51: =B51/10^6 -> 380.97277 | G51: =C51/10^6 -> 44.663249 | H51: =D51/10^6 -> 425.63602 | J51: =B51/B$230*100 -> 0.19505904 | K51: =C51/C$230*100 -> 0.024487319 | L51: =D51/D$230*100 -> 0.1126901 | N51: 49 | O51: Turkey | P51: 0.14979783
A52: Comoros | B52: 3958782 | C52: 19896 | D52: =SUM(B52:C52) -> 3978678 | F52: =B52/10^6 -> 3.958782 | G52: =C52/10^6 -> 0.019896 | H52: =D52/10^6 -> 3.978678 | J52: =B52/B$230*100 -> 0.0020269066 | K52: =C52/C$230*100 -> 1.0908291e-05 | L52: =D52/D$230*100 -> 0.0010533827 | N52: 50 | O52: Russian Federation | P52: 0.12434199
A53: Congo | B53: 89175314 | C53: 34539421 | D53: =SUM(B53:C53) -> 123714735 | F53: =B53/10^6 -> 89.175314 | G53: =C53/10^6 -> 34.539421 | H53: =D53/10^6 -> 123.71474 | J53: =B53/B$230*100 -> 0.04565799 | K53: =C53/C$230*100 -> 0.018936773 | L53: =D53/D$230*100 -> 0.032754337 | O53: Argentina | P53: 0.11983208
A54: Cook Isds | B54: 812829 | C54: 2088 | D54: =SUM(B54:C54) -> 814917 | F54: =B54/10^6 -> 0.812829 | G54: =C54/10^6 -> 0.002088 | H54: =D54/10^6 -> 0.814917 | J54: =B54/B$230*100 -> 0.00041617054 | K54: =C54/C$230*100 -> 1.1447784e-06 | L54: =D54/D$230*100 -> 0.00021575495 | O54: Cรดte d'Ivoire | P54: 0.11890115
A55: Costa Rica | B55: 76469923 | C55: 50472251 | D55: =SUM(B55:C55) -> 126942174 | F55: =B55/10^6 -> 76.469923 | G55: =C55/10^6 -> 50.472251 | H55: =D55/10^6 -> 126.94217 | J55: =B55/B$230*100 -> 0.039152797 | K55: =C55/C$230*100 -> 0.027672195 | L55: =D55/D$230*100 -> 0.033608824 | O55: Poland | P55: 0.11306232
A56: Croatia | B56: 30597208 | C56: 1906173 | D56: =SUM(B56:C56) -> 32503381 | F56: =B56/10^6 -> 30.597208 | G56: =C56/10^6 -> 1.906173 | H56: =D56/10^6 -> 32.503381 | J56: =B56/B$230*100 -> 0.015665849 | K56: =C56/C$230*100 -> 0.0010450889 | L56: =D56/D$230*100 -> 0.0086054962 | O56: Panama | P56: 0.11291018
A57: Cuba | B57: 2107387 | C57: 1334487 | D57: =SUM(B57:C57) -> 3441874 | F57: =B57/10^6 -> 2.107387 | G57: =C57/10^6 -> 1.334487 | H57: =D57/10^6 -> 3.441874 | J57: =B57/B$230*100 -> 0.0010789876 | K57: =C57/C$230*100 -> 0.0007316532 | L57: =D57/D$230*100 -> 0.00091126009 | O57: Kuwait | P57: 0.10011557
A58: Cyprus | B58: 48114754 | C58: 2657094 | D58: =SUM(B58:C58) -> 50771848 | F58: =B58/10^6 -> 48.114754 | G58: =C58/10^6 -> 2.657094 | H58: =D58/10^6 -> 50.771848 | J58: =B58/B$230*100 -> 0.024634878 | K58: =C58/C$230*100 -> 0.001456793 | L58: =D58/D$230*100 -> 0.0134422 | O58: Chile | P58: 0.099287449
A59: Czech Rep. | B59: 1134966897 | C59: 128450507 | D59: =SUM(B59:C59) -> 1263417404 | F59: =B59/10^6 -> 1134.9669 | G59: =C59/10^6 -> 128.45051 | H59: =D59/10^6 -> 1263.4174 | J59: =B59/B$230*100 -> 0.58110597 | K59: =C59/C$230*100 -> 0.070424983 | L59: =D59/D$230*100 -> 0.33449855 | O59: Yemen | P59: 0.088994773
A60: Cรดte d'Ivoire | B60: 370962033 | C60: 22703524 | D60: =SUM(B60:C60) -> 393665557 | F60: =B60/10^6 -> 370.96203 | G60: =C60/10^6 -> 22.703524 | H60: =D60/10^6 -> 393.66556 | J60: =B60/B$230*100 -> 0.18993351 | K60: =C60/C$230*100 -> 0.012447559 | L60: =D60/D$230*100 -> 0.10422569 | O60: Iraq | P60: 0.088931761
A61: Dem. People's Rep. of Korea | B61: 29684797 | C61: 21367458 | D61: =SUM(B61:C61) -> 51052255 | F61: =B61/10^6 -> 29.684797 | G61: =C61/10^6 -> 21.367458 | H61: =D61/10^6 -> 51.052255 | J61: =B61/B$230*100 -> 0.015198692 | K61: =C61/C$230*100 -> 0.01171504 | L61: =D61/D$230*100 -> 0.01351644 | O61: Lebanon | P61: 0.082130667
A62: Dem. Rep. of the Congo | B62: 488144 | C62: 105 | D62: =SUM(B62:C62) -> 488249 | F62: =B62/10^6 -> 0.488144 | G62: =C62/10^6 -> 0.000105 | H62: =D62/10^6 -> 0.488249 | J62: =B62/B$230*100 -> 0.00024993098 | K62: =C62/C$230*100 -> 5.7567879e-08 | L62: =D62/D$230*100 -> 0.00012926732 | O62: Norway | P62: 0.075389855
A63: Denmark | B63: 723016815 | C63: 229371998 | D63: =SUM(B63:C63) -> 952388813 | F63: =B63/10^6 -> 723.01681 | G63: =C63/10^6 -> 229.372 | H63: =D63/10^6 -> 952.38881 | J63: =B63/B$230*100 -> 0.37018647 | K63: =C63/C$230*100 -> 0.12575676 | L63: =D63/D$230*100 -> 0.25215156 | O63: Czech Rep. | P63: 0.070765787
A64: Djibouti | B64: 30687288 | C64: 64763 | D64: =SUM(B64:C64) -> 30752051 | F64: =B64/10^6 -> 30.687288 | G64: =C64/10^6 -> 0.064763 | H64: =D64/10^6 -> 30.752051 | J64: =B64/B$230*100 -> 0.01571197 | K64: =C64/C$230*100 -> 3.5507319e-05 | L64: =D64/D$230*100 -> 0.0081418194 | O64: Syria | P64: 0.068482363
... A69: El Salvador | B69: 38175212 | C69: 1467003 | D69: =SUM(B69:C69) -> 39642215 | F69: =B69/10^6 -> 38.175212 | G69: =C69/10^6 -> 1.467003 | H69: =D69/10^6 -> 39.642215 | J69: =B69/B$230*100 -> 0.019545807 | K69: =C69/C$230*100 -> 0.00080430715 | L69: =D69/D$230*100 -> 0.010495552 | O69: Benin | P69: 0.059212365
A70: Equatorial Guinea | B70: 3932173 | D70: =SUM(B70:C70) -> 3932173 | F70: =B70/10^6 -> 3.932173 | G70: =C70/10^6 -> 0 | H70: =D70/10^6 -> 3.932173 | J70: =B70/B$230*100 -> 0.0020132827 | K70: =C70/C$230*100 -> 0 | L70: =D70/D$230*100 -> 0.0010410702 | O70: Cyprus | P70: 0.057915728
A71: Eritrea | B71: 249864 | C71: 23448 | D71: =SUM(B71:C71) -> 273312 | F71: =B71/10^6 -> 0.249864 | G71: =C71/10^6 -> 0.023448 | H71: =D71/10^6 -> 0.273312 | J71: =B71/B$230*100 -> 0.00012793101 | K71: =C71/C$230*100 -> 1.285573e-05 | L71: =D71/D$230*100 -> 7.2361253e-05 | O71: Brunei Darussalam | P71: 0.057539763
A72: Estonia | B72: 59921447 | C72: 25625887 | D72: =SUM(B72:C72) -> 85547334 | F72: =B72/10^6 -> 59.921447 | G72: =C72/10^6 -> 25.625887 | H72: =D72/10^6 -> 85.547334 | J72: =B72/B$230*100 -> 0.030679935 | K72: =C72/C$230*100 -> 0.01404979 | L72: =D72/D$230*100 -> 0.022649252 | O72: United Rep. of Tanzania | P72: 0.052377208
A73: Ethiopia | B73: 61920390 | C73: 2412185 | D73: =SUM(B73:C73) -> 64332575 | F73: =B73/10^6 -> 61.92039 | G73: =C73/10^6 -> 2.412185 | H73: =D73/10^6 -> 64.332575 | J73: =B73/B$230*100 -> 0.031703399 | K73: =C73/C$230*100 -> 0.0013225178 | L73: =D73/D$230*100 -> 0.017032497 | O73: Ghana | P73: 0.051551887
A74: Faeroe Isds | C74: 4850257 | D74: =SUM(B74:C74) -> 4850257 | F74: =B74/10^6 -> 0 | G74: =C74/10^6 -> 4.850257 | H74: =D74/10^6 -> 4.850257 | J74: =B74/B$230*100 -> 0 | K74: =C74/C$230*100 -> 0.0026592286 | L74: =D74/D$230*100 -> 0.0012841393 | O74: Algeria | P74: 0.051182123
A75: Falkland Isds (Malvinas) | B75: 313 | C75: 68775 | D75: =SUM(B75:C75) -> 69088 | F75: =B75/10^6 -> 0.000313 | G75: =C75/10^6 -> 0.068775 | H75: =D75/10^6 -> 0.069088 | J75: =B75/B$230*100 -> 1.602568e-07 | K75: =C75/C$230*100 -> 3.7706961e-05 | L75: =D75/D$230*100 -> 1.8291529e-05 | O75: Bahrain | P75: 0.050786206
A76: Fiji | B76: 51643445 | C76: 10247099 | D76: =SUM(B76:C76) -> 61890544 | F76: =B76/10^6 -> 51.643445 | G76: =C76/10^6 -> 10.247099 | H76: =D76/10^6 -> 61.890544 | J76: =B76/B$230*100 -> 0.026441576 | K76: =C76/C$230*100 -> 0.005618131 | L76: =D76/D$230*100 -> 0.016385952 | O76: Nepal | P76: 0.046405242
A77: Finland | B77: 361474761 | C77: 308321478 | D77: =SUM(B77:C77) -> 669796239 | F77: =B77/10^6 -> 361.47476 | G77: =C77/10^6 -> 308.32148 | H77: =D77/10^6 -> 669.79624 | J77: =B77/B$230*100 -> 0.18507601 | K77: =C77/C$230*100 -> 0.16904203 | L77: =D77/D$230*100 -> 0.17733321 | O77: Kenya | P77: 0.044834105
A78: Fr. South Antarctic Terr. | B78: 71756 | D78: =SUM(B78:C78) -> 71756 | F78: =B78/10^6 -> 0.071756 | G78: =C78/10^6 -> 0 | H78: =D78/10^6 -> 0.071756 | J78: =B78/B$230*100 -> 3.6739256e-05 | K78: =C78/C$230*100 -> 0 | L78: =D78/D$230*100 -> 1.89979e-05 | O78: Mauritius | P78: 0.042157651
A79: France | B79: 1820798823 | C79: 1445592573 | D79: =SUM(B79:C79) -> 3266391396 | F79: =B79/10^6 -> 1820.7988 | G79: =C79/10^6 -> 1445.5926 | H79: =D79/10^6 -> 3266.3914 | J79: =B79/B$230*100 -> 0.93225367 | K79: =C79/C$230*100 -> 0.79256855 | L79: =D79/D$230*100 -> 0.86479985 | O79: Areas, nes | P79: 0.040930343
A80: Free Zones | C80: 47333 | D80: =SUM(B80:C80) -> 47333 | F80: =B80/10^6 -> 0 | G80: =C80/10^6 -> 0.047333 | H80: =D80/10^6 -> 0.047333 | J80: =B80/B$230*100 -> 0 | K80: =C80/C$230*100 -> 2.5951052e-05 | L80: =D80/D$230*100 -> 1.2531741e-05 | O80: Venezuela | P80: 0.040144676
A81: French Polynesia | B81: 25145071 | C81: 2518387 | D81: =SUM(B81:C81) -> 27663458 | F81: =B81/10^6 -> 25.145071 | G81: =C81/10^6 -> 2.518387 | H81: =D81/10^6 -> 27.663458 | J81: =B81/B$230*100 -> 0.012874341 | K81: =C81/C$230*100 -> 0.0013807447 | L81: =D81/D$230*100 -> 0.007324093 | O81: Togo | P81: 0.038725875
A82: FS Micronesia | B82: 2219490 | C82: 22188255 | D82: =SUM(B82:C82) -> 24407745 | F82: =B82/10^6 -> 2.21949 | G82: =C82/10^6 -> 22.188255 | H82: =D82/10^6 -> 24.407745 | J82: =B82/B$230*100 -> 0.0011363846 | K82: =C82/C$230*100 -> 0.012165055 | L82: =D82/D$230*100 -> 0.0064621203 | O82: Romania | P82: 0.035849725
A83: Gabon | B83: 43031338 | C83: 1204825 | D83: =SUM(B83:C83) -> 44236163 | F83: =B83/10^6 -> 43.031338 | G83: =C83/10^6 -> 1.204825 | H83: =D83/10^6 -> 44.236163 | J83: =B83/B$230*100 -> 0.022032156 | K83: =C83/C$230*100 -> 0.000660564 | L83: =D83/D$230*100 -> 0.011711832 | O83: Congo | P83: 0.035505186
A84: Gambia | B84: 18675756 | C84: 1496028 | D84: =SUM(B84:C84) -> 20171784 | F84: =B84/10^6 -> 18.675756 | G84: =C84/10^6 -> 1.496028 | H84: =D84/10^6 -> 20.171784 | J84: =B84/B$230*100 -> 0.009562035 | K84: =C84/C$230*100 -> 0.00082022056 | L84: =D84/D$230*100 -> 0.0053406201 | O84: Ecuador | P84: 0.031350736
A85: Georgia | B85: 23351250 | C85: 4019730 | D85: =SUM(B85:C85) -> 27370980 | F85: =B85/10^6 -> 23.35125 | G85: =C85/10^6 -> 4.01973 | H85: =D85/10^6 -> 27.37098 | J85: =B85/B$230*100 -> 0.0119559 | K85: =C85/C$230*100 -> 0.0022038793 | L85: =D85/D$230*100 -> 0.0072466574 | O85: Qatar | P85: 0.029961784
A86: Germany | B86: 3302105490 | C86: 4629318899 | D86: =SUM(B86:C86) -> 7931424389 | F86: =B86/10^6 -> 3302.1055 | G86: =C86/10^6 -> 4629.3189 | H86: =D86/10^6 -> 7931.4244 | J86: =B86/B$230*100 -> 1.6906865 | K86: =C86/C$230*100 -> 2.5380959 | L86: =D86/D$230*100 -> 2.0998998 | O86: Sudan | P86: 0.028103561
A87: Ghana | B87: 211727458 | C87: 30068358 | D87: =SUM(B87:C87) -> 241795816 | F87: =B87/10^6 -> 211.72746 | G87: =C87/10^6 -> 30.068358 | H87: =D87/10^6 -> 241.79582 | J87: =B87/B$230*100 -> 0.108405 | K87: =C87/C$230*100 -> 0.016485444 | L87: =D87/D$230*100 -> 0.064017124 | O87: Uruguay | P87: 0.027165164
A88: Gibraltar | B88: 144256 | C88: 1526 | D88: =SUM(B88:C88) -> 145782 | F88: =B88/10^6 -> 0.144256 | G88: =C88/10^6 -> 0.001526 | H88: =D88/10^6 -> 0.145782 | J88: =B88/B$230*100 -> 7.3859443e-05 | K88: =C88/C$230*100 -> 8.3665317e-07 | L88: =D88/D$230*100 -> 3.8596799e-05 | O88: Libya | P88: 0.026622355
A89: Greece | B89: 202024129 | C89: 37091263 | D89: =SUM(B89:C89) -> 239115392 | F89: =B89/10^6 -> 202.02413 | G89: =C89/10^6 -> 37.091263 | H89: =D89/10^6 -> 239.11539 | J89: =B89/B$230*100 -> 0.10343687 | K89: =C89/C$230*100 -> 0.02033586 | L89: =D89/D$230*100 -> 0.063307464 | O89: Somalia | P89: 0.026320385
A90: Greenland | B90: 69408 | C90: 9211237 | D90: =SUM(B90:C90) -> 9280645 | F90: =B90/10^6 -> 0.069408 | G90: =C90/10^6 -> 9.211237 | H90: =D90/10^6 -> 9.280645 | J90: =B90/B$230*100 -> 3.5537074e-05 | K90: =C90/C$230*100 -> 0.0050502036 | L90: =D90/D$230*100 -> 0.0024571153 | O90: Angola | P90: 0.02574806
A91: Grenada | B91: 1125372 | C91: 58585 | D91: =SUM(B91:C91) -> 1183957 | F91: =B91/10^6 -> 1.125372 | G91: =C91/10^6 -> 0.058585 | H91: =D91/10^6 -> 1.183957 | J91: =B91/B$230*100 -> 0.00057619335 | K91: =C91/C$230*100 -> 3.2120135e-05 | L91: =D91/D$230*100 -> 0.00031346085 | O91: Morocco | P91: 0.025719459
A92: Guam | B92: 41430492 | C92: 131948 | D92: =SUM(B92:C92) -> 41562440 | F92: =B92/10^6 -> 41.430492 | G92: =C92/10^6 -> 0.131948 | H92: =D92/10^6 -> 41.56244 | J92: =B92/B$230*100 -> 0.021212518 | K92: =C92/C$230*100 -> 7.2342538e-05 | L92: =D92/D$230*100 -> 0.011003945 | O92: Guatemala | P92: 0.024597274
... A98: Heard Island and McDonald Islands | B98: 2971 | C98: 8641 | D98: =SUM(B98:C98) -> 11612 | F98: =B98/10^6 -> 0.002971 | G98: =C98/10^6 -> 0.008641 | H98: =D98/10^6 -> 0.011612 | J98: =B98/B$230*100 -> 1.5211596e-06 | K98: =C98/C$230*100 -> 4.7375623e-06 | L98: =D98/D$230*100 -> 3.0743578e-06 | O98: El Salvador | P98: 0.021114314
A99: Holy See (Vatican City State) | C99: 76207 | D99: =SUM(B99:C99) -> 76207 | F99: =B99/10^6 -> 0 | G99: =C99/10^6 -> 0.076207 | H99: =D99/10^6 -> 0.076207 | J99: =B99/B$230*100 -> 0 | K99: =C99/C$230*100 -> 4.178167e-05 | L99: =D99/D$230*100 -> 2.0176333e-05 | O99: Peru | P99: 0.020883043
A100: Honduras | B100: 71003057 | C100: 1308756 | D100: =SUM(B100:C100) -> 72311813 | F100: =B100/10^6 -> 71.003057 | G100: =C100/10^6 -> 1.308756 | H100: =D100/10^6 -> 72.311813 | J100: =B100/B$230*100 -> 0.036353748 | K100: =C100/C$230*100 -> 0.00071754578 | L100: =D100/D$230*100 -> 0.019145056 | O100: Cameroon | P100: 0.020470164
A101: Hungary | B101: 375526619 | C101: 119047033 | D101: =SUM(B101:C101) -> 494573652 | F101: =B101/10^6 -> 375.52662 | G101: =C101/10^6 -> 119.04703 | H101: =D101/10^6 -> 494.57365 | J101: =B101/B$230*100 -> 0.19227059 | K101: =C101/C$230*100 -> 0.065269383 | L101: =D101/D$230*100 -> 0.13094182 | O101: Costa Rica | P101: 0.02036969
A102: Iceland | B102: 5427940 | C102: 5262324 | D102: =SUM(B102:C102) -> 10690264 | F102: =B102/10^6 -> 5.42794 | G102: =C102/10^6 -> 5.262324 | H102: =D102/10^6 -> 10.690264 | J102: =B102/B$230*100 -> 0.0027791192 | K102: =C102/C$230*100 -> 0.0028851508 | L102: =D102/D$230*100 -> 0.0028303218 | O102: Trinidad and Tobago | P102: 0.019568143
A103: India | B103: 4393575640 | C103: 2252737814 | D103: =SUM(B103:C103) -> 6646313454 | F103: =B103/10^6 -> 4393.5756 | G103: =C103/10^6 -> 2252.7378 | H103: =D103/10^6 -> 6646.3135 | J103: =B103/B$230*100 -> 2.249522 | K103: =C103/C$230*100 -> 1.2350985 | L103: =D103/D$230*100 -> 1.7596577 | O103: Maldives | P103: 0.019553725
A104: Indonesia | B104: 7346572358 | C104: 5675790547 | D104: =SUM(B104:C104) -> 13022362905 | F104: =B104/10^6 -> 7346.5724 | G104: =C104/10^6 -> 5675.7905 | H104: =D104/10^6 -> 13022.363 | J104: =B104/B$230*100 -> 3.7614639 | K104: =C104/C$230*100 -> 3.1118402 | L104: =D104/D$230*100 -> 3.4477612 | O104: Malta | P104: 0.017773778
A105: Iran | B105: 512681347 | C105: 281783594 | D105: =SUM(B105:C105) -> 794464941 | F105: =B105/10^6 -> 512.68135 | G105: =C105/10^6 -> 281.78359 | H105: =D105/10^6 -> 794.46494 | J105: =B105/B$230*100 -> 0.26249417 | K105: =C105/C$230*100 -> 0.15449223 | L105: =D105/D$230*100 -> 0.21034012 | O105: Jamaica | P105: 0.017073797
A106: Iraq | B106: 452341712 | C106: 20463 | D106: =SUM(B106:C106) -> 452362175 | F106: =B106/10^6 -> 452.34171 | G106: =C106/10^6 -> 0.020463 | H106: =D106/10^6 -> 452.36217 | J106: =B106/B$230*100 -> 0.23160012 | K106: =C106/C$230*100 -> 1.1219157e-05 | L106: =D106/D$230*100 -> 0.11976603 | O106: Uganda | P106: 0.017056761
A107: Ireland | B107: 262731181 | C107: 255305702 | D107: =SUM(B107:C107) -> 518036883 | F107: =B107/10^6 -> 262.73118 | G107: =C107/10^6 -> 255.3057 | H107: =D107/10^6 -> 518.03688 | J107: =B107/B$230*100 -> 0.13451904 | K107: =C107/C$230*100 -> 0.13997531 | L107: =D107/D$230*100 -> 0.13715387 | O107: Honduras | P107: 0.016671229
A108: Israel | B108: 668091471 | C108: 382155739 | D108: =SUM(B108:C108) -> 1050247210 | F108: =B108/10^6 -> 668.09147 | G108: =C108/10^6 -> 382.15574 | H108: =D108/10^6 -> 1050.2472 | J108: =B108/B$230*100 -> 0.34206455 | K108: =C108/C$230*100 -> 0.20952281 | L108: =D108/D$230*100 -> 0.27806026 | O108: Mozambique | P108: 0.016648724
A109: Italy | B109: 1708205927 | C109: 1458912962 | D109: =SUM(B109:C109) -> 3167118889 | F109: =B109/10^6 -> 1708.2059 | G109: =C109/10^6 -> 1458.913 | H109: =D109/10^6 -> 3167.1189 | J109: =B109/B$230*100 -> 0.87460582 | K109: =C109/C$230*100 -> 0.79987166 | L109: =D109/D$230*100 -> 0.83851676 | O109: Gibraltar | P109: 0.016360734
A110: Jamaica | B110: 31246792 | C110: 1193835 | D110: =SUM(B110:C110) -> 32440627 | F110: =B110/10^6 -> 31.246792 | G110: =C110/10^6 -> 1.193835 | H110: =D110/10^6 -> 32.440627 | J110: =B110/B$230*100 -> 0.015998438 | K110: =C110/C$230*100 -> 0.00065453856 | L110: =D110/D$230*100 -> 0.0085888817 | O110: Iceland | P110: 0.013622624
A111: Japan | B111: 20415711476 | C111: 37856128941 | D111: =SUM(B111:C111) -> 58271840417 | F111: =B111/10^6 -> 20415.711 | G111: =C111/10^6 -> 37856.129 | H111: =D111/10^6 -> 58271.84 | J111: =B111/B$230*100 -> 10.452897 | K111: =C111/C$230*100 -> 20.75521 | L111: =D111/D$230*100 -> 15.427875 | O111: Bulgaria | P111: 0.012937212
... A134: Mauritius | B134: 125828789 | C134: 8585338 | D134: =SUM(B134:C134) -> 134414127 | F134: =B134/10^6 -> 125.82879 | G134: =C134/10^6 -> 8.585338 | H134: =D134/10^6 -> 134.41413 | J134: =B134/B$230*100 -> 0.064424663 | K134: =C134/C$230*100 -> 0.0047070447 | L134: =D134/D$230*100 -> 0.035587075 | O134: Latvia | P134: 0.0060886616
A135: Mayotte | B135: 14798047 | D135: =SUM(B135:C135) -> 14798047 | F135: =B135/10^6 -> 14.798047 | G135: =C135/10^6 -> 0 | H135: =D135/10^6 -> 14.798047 | J135: =B135/B$230*100 -> 0.0075766381 | K135: =C135/C$230*100 -> 0 | L135: =D135/D$230*100 -> 0.0039178859 | O135: Zimbabwe | P135: 0.0056366861
A136: Mexico | B136: 967033493 | C136: 398501571 | D136: =SUM(B136:C136) -> 1365535064 | F136: =B136/10^6 -> 967.03349 | G136: =C136/10^6 -> 398.50157 | H136: =D136/10^6 -> 1365.5351 | J136: =B136/B$230*100 -> 0.49512363 | K136: =C136/C$230*100 -> 0.21848467 | L136: =D136/D$230*100 -> 0.36153491 | O136: Djibouti | P136: 0.0056366753
A137: Mongolia | B137: 9598522 | C137: 4217529 | D137: =SUM(B137:C137) -> 13816051 | F137: =B137/10^6 -> 9.598522 | G137: =C137/10^6 -> 4.217529 | H137: =D137/10^6 -> 13.816051 | J137: =B137/B$230*100 -> 0.0049144679 | K137: =C137/C$230*100 -> 0.0023123257 | L137: =D137/D$230*100 -> 0.0036578956 | O137: American Samoa | P137: 0.0053212141
A138: Montenegro | B138: 3344360 | C138: 147088 | D138: =SUM(B138:C138) -> 3491448 | F138: =B138/10^6 -> 3.34436 | G138: =C138/10^6 -> 0.147088 | H138: =D138/10^6 -> 3.491448 | J138: =B138/B$230*100 -> 0.0017123209 | K138: =C138/C$230*100 -> 8.0643278e-05 | L138: =D138/D$230*100 -> 0.00092438515 | O138: Haiti | P138: 0.0052778926
A139: Montserrat | B139: 3485 | C139: 21940 | D139: =SUM(B139:C139) -> 25425 | F139: =B139/10^6 -> 0.003485 | G139: =C139/10^6 -> 0.02194 | H139: =D139/10^6 -> 0.025425 | J139: =B139/B$230*100 -> 1.784329e-06 | K139: =C139/C$230*100 -> 1.2028945e-05 | L139: =D139/D$230*100 -> 6.7314456e-06 | O139: Swaziland | P139: 0.0052647116
A140: Morocco | B140: 170293450 | C140: 98609010 | D140: =SUM(B140:C140) -> 268902460 | F140: =B140/10^6 -> 170.29345 | G140: =C140/10^6 -> 98.60901 | H140: =D140/10^6 -> 268.90246 | J140: =B140/B$230*100 -> 0.087190684 | K140: =C140/C$230*100 -> 0.054063919 | L140: =D140/D$230*100 -> 0.071193797 | O140: Comoros | P140: 0.0050957601
A141: Mozambique | B141: 112477450 | C141: 10898677 | D141: =SUM(B141:C141) -> 123376127 | F141: =B141/10^6 -> 112.47745 | G141: =C141/10^6 -> 10.898677 | H141: =D141/10^6 -> 123.37613 | J141: =B141/B$230*100 -> 0.057588743 | K141: =C141/C$230*100 -> 0.0059753687 | L141: =D141/D$230*100 -> 0.032664688 | O141: Slovakia | P141: 0.0046620565
A142: Myanmar | B142: 2072955025 | C142: 2813865697 | D142: =SUM(B142:C142) -> 4886820722 | F142: =B142/10^6 -> 2072.955 | G142: =C142/10^6 -> 2813.8657 | H142: =D142/10^6 -> 4886.8207 | J142: =B142/B$230*100 -> 1.0613583 | K142: =C142/C$230*100 -> 1.5427455 | L142: =D142/D$230*100 -> 1.2938198 | O142: Suriname | P142: 0.0046281837
A143: N. Mariana Isds | B143: 1157363 | C143: 19000 | D143: =SUM(B143:C143) -> 1176363 | F143: =B143/10^6 -> 1.157363 | G143: =C143/10^6 -> 0.019 | H143: =D143/10^6 -> 1.176363 | J143: =B143/B$230*100 -> 0.00059257283 | K143: =C143/C$230*100 -> 1.0417045e-05 | L143: =D143/D$230*100 -> 0.00031145029 | O143: Mauritania | P143: 0.00446241
A144: Namibia | B144: 5677446 | C144: 8090538 | D144: =SUM(B144:C144) -> 13767984 | F144: =B144/10^6 -> 5.677446 | G144: =C144/10^6 -> 8.090538 | H144: =D144/10^6 -> 13.767984 | J144: =B144/B$230*100 -> 0.0029068669 | K144: =C144/C$230*100 -> 0.004435763 | L144: =D144/D$230*100 -> 0.0036451695 | O144: Solomon Isds | P144: 0.0043381987
A145: Nauru | B145: 10468 | C145: 771361 | D145: =SUM(B145:C145) -> 781829 | F145: =B145/10^6 -> 0.010468 | G145: =C145/10^6 -> 0.771361 | H145: =D145/10^6 -> 0.781829 | J145: =B145/B$230*100 -> 5.3596429e-06 | K145: =C145/C$230*100 -> 0.00042291063 | L145: =D145/D$230*100 -> 0.00020699467 | O145: Lithuania | P145: 0.0040963597
A146: Nepal | B146: 69932054 | C146: 340897 | D146: =SUM(B146:C146) -> 70272951 | F146: =B146/10^6 -> 69.932054 | G146: =C146/10^6 -> 0.340897 | H146: =D146/10^6 -> 70.272951 | J146: =B146/B$230*100 -> 0.035805391 | K146: =C146/C$230*100 -> 0.00018690207 | L146: =D146/D$230*100 -> 0.018605253 | O146: Albania | P146: 0.0036132101
A147: Neth. Antilles | B147: 12289849 | C147: 2725596 | D147: =SUM(B147:C147) -> 15015445 | F147: =B147/10^6 -> 12.289849 | G147: =C147/10^6 -> 2.725596 | H147: =D147/10^6 -> 15.015445 | J147: =B147/B$230*100 -> 0.0062924343 | K147: =C147/C$230*100 -> 0.0014943503 | L147: =D147/D$230*100 -> 0.0039754435 | O147: Uzbekistan | P147: 0.0035141808
... A153: Nigeria | B153: 931689577 | C153: 68532244 | D153: =SUM(B153:C153) -> 1000221821 | F153: =B153/10^6 -> 931.68958 | G153: =C153/10^6 -> 68.532244 | H153: =D153/10^6 -> 1000.2218 | J153: =B153/B$230*100 -> 0.47702746 | K153: =C153/C$230*100 -> 0.037573866 | L153: =D153/D$230*100 -> 0.26481569 | O153: Bolivia (Plurinational State of) | P153: 0.0028867535
A154: Niue | C154: 980 | D154: =SUM(B154:C154) -> 980 | F154: =B154/10^6 -> 0 | G154: =C154/10^6 -> 0.00098 | H154: =D154/10^6 -> 0.00098 | J154: =B154/B$230*100 -> 0 | K154: =C154/C$230*100 -> 5.373002e-07 | L154: =D154/D$230*100 -> 2.5946182e-07 | O154: Georgia | P154: 0.0027297245
A155: Norfolk Isds | B155: 142310 | D155: =SUM(B155:C155) -> 142310 | F155: =B155/10^6 -> 0.14231 | G155: =C155/10^6 -> 0 | H155: =D155/10^6 -> 0.14231 | J155: =B155/B$230*100 -> 7.2863086e-05 | K155: =C155/C$230*100 -> 0 | L155: =D155/D$230*100 -> 3.7677563e-05 | O155: Timor-Leste | P155: 0.0026784931
A156: Norway | B156: 176402322 | C156: 292171176 | D156: =SUM(B156:C156) -> 468573498 | F156: =B156/10^6 -> 176.40232 | G156: =C156/10^6 -> 292.17118 | H156: =D156/10^6 -> 468.5735 | J156: =B156/B$230*100 -> 0.090318442 | K156: =C156/C$230*100 -> 0.16018738 | L156: =D156/D$230*100 -> 0.12405809 | O156: Eritrea | P156: 0.0025670623
A157: Oman | B157: 554376889 | C157: 2407850708 | D157: =SUM(B157:C157) -> 2962227597 | F157: =B157/10^6 -> 554.37689 | G157: =C157/10^6 -> 2407.8507 | H157: =D157/10^6 -> 2962.2276 | J157: =B157/B$230*100 -> 0.28384239 | K157: =C157/C$230*100 -> 1.3201415 | L157: =D157/D$230*100 -> 0.78427036 | O157: Barbados | P157: 0.002539274
A158: Other Asia, nes | B158: 3230726066 | C158: 6815469835 | D158: =SUM(B158:C158) -> 10046195901 | F158: =B158/10^6 -> 3230.7261 | G158: =C158/10^6 -> 6815.4698 | H158: =D158/10^6 -> 10046.196 | J158: =B158/B$230*100 -> 1.65414 | K158: =C158/C$230*100 -> 3.7366871 | L158: =D158/D$230*100 -> 2.6598003 | O158: Afghanistan | P158: 0.0024315201
A159: Pakistan | B159: 835693088 | C159: 80354152 | D159: =SUM(B159:C159) -> 916047240 | F159: =B159/10^6 -> 835.69309 | G159: =C159/10^6 -> 80.354152 | H159: =D159/10^6 -> 916.04724 | J159: =B159/B$230*100 -> 0.42787701 | K159: =C159/C$230*100 -> 0.04405541 | L159: =D159/D$230*100 -> 0.24252988 | O159: Namibia | P159: 0.0021909195
A160: Palau | B160: 584212 | C160: 5080 | D160: =SUM(B160:C160) -> 589292 | F160: =B160/10^6 -> 0.584212 | G160: =C160/10^6 -> 0.00508 | H160: =D160/10^6 -> 0.589292 | J160: =B160/B$230*100 -> 0.00029911804 | K160: =C160/C$230*100 -> 2.7851888e-06 | L160: =D160/D$230*100 -> 0.00015601916 | O160: Malawi | P160: 0.0021841111
A161: Panama | B161: 223074987 | C161: 10601097 | D161: =SUM(B161:C161) -> 233676084 | F161: =B161/10^6 -> 223.07499 | G161: =C161/10^6 -> 10.601097 | H161: =D161/10^6 -> 233.67608 | J161: =B161/B$230*100 -> 0.11421497 | K161: =C161/C$230*100 -> 0.0058122159 | L161: =D161/D$230*100 -> 0.061867369 | O161: Zambia | P161: 0.002096895
A162: Papua New Guinea | B162: 140134971 | C162: 58201539 | D162: =SUM(B162:C162) -> 198336510 | F162: =B162/10^6 -> 140.13497 | G162: =C162/10^6 -> 58.201539 | H162: =D162/10^6 -> 198.33651 | J162: =B162/B$230*100 -> 0.071749465 | K162: =C162/C$230*100 -> 0.031909897 | L162: =D162/D$230*100 -> 0.052510971 | O162: FS Micronesia | P162: 0.0020641189
A163: Paraguay | B163: 49408114 | C163: 30662625 | D163: =SUM(B163:C163) -> 80070739 | F163: =B163/10^6 -> 49.408114 | G163: =C163/10^6 -> 30.662625 | H163: =D163/10^6 -> 80.070739 | J163: =B163/B$230*100 -> 0.025297081 | K163: =C163/C$230*100 -> 0.01681126 | L163: =D163/D$230*100 -> 0.021199285 | O163: Burkina Faso | P163: 0.0018028819
...

Sheet Q2
A1: 2010
B2: Country | C2: Export | F2: Country | G2: Import | J2: Country | K2: Trade
A3: 1 | B3: China | C3: 10.994331 | E3: 1 | F3: Japan | G3: 20.75521 | I3: 1 | J3: Japan | K3: 15.427875
A4: 2 | B4: Japan | C4: 10.452897 | E4: 2 | F4: China | G4: 13.289609 | I4: 2 | J4: China | K4: 12.102719
A5: 3 | B5: USA | C5: 10.358069 | E5: 3 | F5: USA | G5: 5.8942833 | I5: 3 | J5: USA | K5: 8.2025104
A6: 4 | B6: China, Hong Kong SAR | C6: 6.7235139 | E6: 4 | F6: Malaysia | G6: 5.8713183 | I6: 4 | J6: Malaysia | K6: 5.6328577
A7: 5 | B7: Malaysia | C7: 5.4101691 | E7: 5 | F7: United Arab Emirates | G7: 4.7451756 | I7: 5 | J7: Singapore | K7: 4.0517587
A8: 6 | B8: Australia | C8: 4.7972512 | E8: 6 | F8: Rep. of Korea | G8: 4.4171167 | I8: 6 | J8: Australia | K8: 4.0416307
A9: 7 | B9: Singapore | C9: 4.6128643 | E9: 7 | F9: Other Asia, nes | G9: 3.7366871 | I9: 7 | J9: China, Hong Kong SAR | K9: 3.9579386
A10: 8 | B10: Indonesia | C10: 3.7614639 | E10: 8 | F10: Singapore | G10: 3.4509123 | I10: 8 | J10: Indonesia | K10: 3.4477612
A11: 9 | B11: Viet Nam | C11: 2.9928875 | E11: 9 | F11: Australia | G11: 3.232493 | I11: 9 | J11: Rep. of Korea | K11: 3.0887664
A12: 10 | B12: Philippines | C12: 2.5017159 | E12: 10 | F12: Indonesia | G12: 3.1118402 | I12: 10 | J12: United Arab Emirates | K12: 3.0442952
A13: 11 | B13: India | C13: 2.249522 | E13: 11 | F13: Saudi Arabia | G13: 3.0955326 | I13: 11 | J13: Other Asia, nes | K13: 2.6598003
A14: 12 | B14: Switzerland | C14: 2.1633016 | E14: 12 | F14: Switzerland | G14: 2.837471 | I14: 12 | J14: Switzerland | K14: 2.4888575
... A52: 50 | B52: Colombia | C52: 0.19505904 | E52: 50 | F52: Denmark | G52: 0.12575676 | I52: 50 | J52: Yemen | K52: 0.20057883

Sheet Q3
A1: 2001
D2: Export | H2: Import | L2: Trade
C3: USA | D3: 20.286649 | G3: Japan | H3: 22.290076 | K3: Japan | L3: 18.686438
C4: Japan | D4: 15.247033 | G4: USA | H4: 11.594456 | K4: USA | L4: 16.041897
C5: Singapore | D5: 8.0794853 | G5: China | H5: 5.9970798 | K5: Singapore | L5: 6.3805736
C6: China, Hong Kong SAR | D6: 5.07479 | G6: Malaysia | H6: 4.9663488 | K6: China | L6: 5.1848626
C7: China | D7: 4.4096615 | G7: Singapore | H7: 4.6005381 | K7: Malaysia | L7: 4.571159
C8: Malaysia | D8: 4.1939796 | G8: Other Asia, nes | H8: 4.1985757 | K8: Other Asia, nes | L8: 3.5602948
C9: United Kingdom | D9: 3.5849227 | G9: Germany | H9: 4.1357141 | K9: Germany | L9: 3.2536365
C10: Netherlands | D10: 3.1186514 | G10: Rep. of Korea | H10: 3.4240942 | K10: China, Hong Kong SAR | L10: 3.2466512
C11: Other Asia, nes | D11: 2.951103 | G11: United Arab Emirates | H11: 2.4686626 | K11: Rep. of Korea | L11: 2.6405909
C12: Germany | D12: 2.4117589 | G12: Indonesia | H12: 2.1991572 | K12: United Kingdom | L12: 2.6088675
C13: Belgium | D13: 2.1836762 | G13: Australia | H13: 2.1872754 | K13: Indonesia | L13: 2.1475505
C14: Indonesia | D14: 2.0982958 | G14: Saudi Arabia | H14: 2.1828778 | K14: Australia | L14: 2.1389115
... C224: Thailand | D224: 0 | G224: United States Minor Outlying Islands | H224: 0 | K224: Heard Island and McDonald Islands | L224: 3.7279376e-07

Sheet Q4
B1: Export
D2: Exchange Rate (local currency/$)
D3: 2001Q1 | E3: 2001Q2 | F3: 2001Q3 | G3: 2001Q4 | H3: 2002Q1 | I3: 2002Q2 | J3: 2002Q3 | K3: 2002Q4 | L3: 2003Q1 | M3: 2003Q2 | N3: 2003Q3 | O3: 2003Q4 | P3: 2004Q1 | Q3: 2004Q2 | R3: 2004Q3 | S3: 2004Q4 | T3: 2005Q1 | U3: 2005Q2 | V3: 2005Q3 | W3: 2005Q4 | X3: 2006Q1 | Y3: 2006Q2 | Z3: 2006Q3 | AA3: 2006Q4 | AB3: 2007Q1 | AC3: 2007Q2 | AD3: 2007Q3 | AE3: 2007Q4 | AF3: 2008Q1 | AG3: 2008Q2 | AH3: 2008Q3 | AI3: 2008Q4 | AJ3: 2009Q1 | AK3: 2009Q2 | AL3: 2009Q3 | AM3: 2009Q4 | AN3: 2010Q1 | AO3: 2010Q2 | AP3: 2010Q3 | AQ3: 2010Q4
B4: China | C4: 10.994331 | D4: 8.2774 | E4: 8.27713 | F4: 8.27689 | G4: 8.27685 | H4: 8.2768 | I4: 8.27708 | J4: 8.27682 | K4: 8.27713 | L4: 8.2771 | M4: 8.27704 | N4: 8.27712 | O4: 8.2769 | P4: 8.27708 | Q4: 8.27688 | R4: 8.27673 | S4: 8.27651 | T4: 8.2765 | U4: 8.2765 | V4: 8.1412 | W4: 8.08307 | X4: 8.05031 | Y4: 8.01226 | Z4: 7.96676 | AA4: 7.86442 | AB4: 7.76107 | AC4: 7.67738 | AD4: 7.55971 | AE4: 7.43197 | AF4: 7.16269 | AG4: 6.95775 | AH4: 6.83991 | AI4: 6.83427 | AJ4: 6.83735 | AK4: 6.82966 | AL4: 6.83105 | AM4: 6.82761 | AN4: 6.82694 | AO4: 6.82335 | AP4: 6.76994 | AQ4: 6.66085
B5: Japan | C5: 10.452897 | D5: 118.086 | E5: 122.637 | F5: 121.744 | G5: 123.649 | H5: 132.46 | I5: 127.051 | J5: 119.146 | K5: 122.895 | L5: 118.821 | M5: 118.44 | N5: 117.569 | O5: 108.904 | P5: 107.228 | Q5: 109.748 | R5: 109.909 | S5: 105.886 | T5: 104.713 | U5: 107.635 | V5: 111.238 | W5: 117.288 | X5: 116.883 | Y5: 114.416 | Z5: 116.187 | AA5: 117.712 | AB5: 119.433 | AC5: 120.739 | AD5: 117.776 | AE5: 113.065 | AF5: 105.204 | AG5: 104.511 | AH5: 107.613 | AI5: 96.1105 | AJ5: 93.7161 | AK5: 97.275 | AL5: 93.6091 | AM5: 89.6802 | AN5: 90.6534 | AO5: 92.0213 | AP5: 85.8553 | AQ5: 82.5895
B6: USA | C6: 10.358069 | D6: 43.17 | E6: 45.35 | F6: 44.91 | G6: 44.3 | H6: 43.7 | I6: 42.75 | J6: 42.02 | K6: 43.37 | L6: 42.76 | M6: 42.18 | N6: 41.27 | O6: 39.73 | P6: 39.17 | Q6: 40.22 | R6: 41.25 | S6: 40.25 | T6: 38.57 | U6: 40.04 | V6: 41.29 | W6: 40.99 | X6: 39.29 | Y6: 38.07 | Z6: 37.64 | AA6: 36.53 | AB6: 35.54 | AC6: 34.65 | AD6: 34.01 | AE6: 33.87 | AF6: 32.37 | AG6: 32.25 | AH6: 33.83 | AI6: 34.8 | AJ6: 35.29 | AK6: 34.68 | AL6: 33.92 | AM6: 33.26 | AN6: 32.85 | AO6: 32.33 | AP6: 31.59 | AQ6: 29.98
B7: China, Hong Kong SAR | C7: 6.7235139 | D7: 7.799 | E7: 7.798 | F7: 7.79867 | G7: 7.79933 | H7: 7.799 | I7: 7.799 | J7: 7.799 | K7: 7.79867 | L7: 7.79867 | M7: 7.79833 | N7: 7.79367 | O7: 7.75633 | P7: 7.777 | Q7: 7.796 | R7: 7.79933 | S7: 7.77967 | T7: 7.79767 | U7: 7.788 | V7: 7.76933 | W7: 7.75433 | X7: 7.757 | Y7: 7.75767 | Z7: 7.77633 | AA7: 7.78033 | AB7: 7.80767 | AC7: 7.81567 | AD7: 7.806 | AE7: 7.77633 | AF7: 7.79467 | AG7: 7.79967 | AH7: 7.79933 | AI7: 7.75367 | AJ7: 7.75433 | AK7: 7.751 | AL7: 7.75067 | AM7: 7.751 | AN7: 7.76367 | AO7: 7.779 | AP7: 7.77133 | AQ7: 7.76267
B8: Malaysia | C8: 5.4101691 | D8: 3.8 | E8: 3.8 | F8: 3.8 | G8: 3.8 | H8: 3.8 | I8: 3.8 | J8: 3.8 | K8: 3.8 | L8: 3.8 | M8: 3.8 | N8: 3.8 | O8: 3.8 | P8: 3.8 | Q8: 3.8 | R8: 3.8 | S8: 3.8 | T8: 3.8 | U8: 3.8 | V8: 3.7717 | W8: 3.77667 | X8: 3.72753 | Y8: 3.64803 | Z8: 3.67193 | AA8: 3.62521 | AB8: 3.49845 | AC8: 3.42842 | AD8: 3.46667 | AE8: 3.35673 | AF8: 3.22567 | AG8: 3.21283 | AH8: 3.3396 | AI8: 3.56523 | AJ8: 3.62592 | AK8: 3.55021 | AL8: 3.52027 | AM8: 3.40162 | AN8: 3.37212 | AO8: 3.24142 | AP8: 3.15616 | AQ8: 3.11464
B9: Australia | C9: 4.7972512 | D9: 1.88335 | E9: 1.9498 | F9: 1.94704 | G9: 1.95358 | H9: 1.93014 | I9: 1.81419 | J9: 1.82557 | K9: 1.79235 | L9: 1.68708 | M9: 1.56339 | N9: 1.51956 | O9: 1.39763 | P9: 1.30668 | Q9: 1.39965 | R9: 1.41012 | S9: 1.32256 | T9: 1.28704 | U9: 1.30126 | V9: 1.31646 | W9: 1.33314 | X9: 1.35246 | Y9: 1.34034 | Z9: 1.32105 | AA9: 1.29805 | AB9: 1.27227 | AC9: 1.20374 | AD9: 1.18048 | AE9: 1.1238 | AF9: 1.10351 | AG9: 1.06002 | AH9: 1.11838 | AI9: 1.4868 | AJ9: 1.50692 | AK9: 1.32068 | AL9: 1.2015 | AM9: 1.09966 | AN9: 1.10646 | AO9: 1.13374 | AP9: 1.10783 | AQ9: 1.0126
B10: Singapore | C10: 4.6128643 | D10: 1.75012 | E10: 1.81355 | F10: 1.77798 | G10: 1.82523 | H10: 1.83297 | I10: 1.80396 | J10: 1.75755 | K10: 1.76788 | L10: 1.74457 | M10: 1.74827 | N10: 1.75163 | O10: 1.72427 | P10: 1.69483 | Q10: 1.70185 | R10: 1.70746 | S10: 1.65677 | T10: 1.63564 | U10: 1.65866 | V10: 1.67514 | W10: 1.68815 | X10: 1.62803 | Y10: 1.58974 | Z10: 1.5793 | AA10: 1.55867 | AB10: 1.53224 | AC10: 1.52453 | AD10: 1.51744 | AE10: 1.4542 | AF10: 1.40927 | AG10: 1.36617 | AH10: 1.39679 | AI10: 1.48722 | AJ10: 1.51203 | AK10: 1.4728 | AL10: 1.43883 | AM10: 1.3944 | AN10: 1.4029 | AO10: 1.3911 | AP10: 1.35667 | AQ10: 1.30337
B11: Indonesia | C11: 3.7614639 | D11: 9779.7 | E11: 11241.7 | F11: 9614.1 | G11: 10407.9 | H11: 10157.8 | I11: 9076.6 | J11: 8955.7 | K11: 9054.67 | L11: 8905.5 | M11: 8479.3 | N11: 8441.27 | O11: 8482.47 | P11: 8469.6 | Q11: 9001.43 | R11: 9156.17 | S11: 9128.2 | T11: 9274.3 | U11: 9550.53 | V11: 9994.53 | W11: 9999.6 | X11: 9274.87 | Y11: 9115 | Z11: 9122.53 | AA11: 9124.87 | AB11: 9107.17 | AC11: 8968.27 | AD11: 9242.27 | AE11: 9246.3 | AF11: 9248.2 | AG11: 9265.27 | AH11: 9222.45 | AI11: 11059.9 | AJ11: 11630.8 | AK11: 10509 | AL11: 9965.7 | AM11: 9454.25 | AN11: 9270.5 | AO11: 9131.93 | AP11: 8995.03 | AQ11: 8964.27
B12: Viet Nam | C12: 2.9928875 | D12: 14547.7 | E12: 14643.3 | F12: 14658.3 | G12: 15051.3 | H12: 15164.7 | I12: 15253.3 | J12: 15323.7 | K12: 15376.3 | L12: 15426 | M12: 15472 | N12: 15522 | O12: 15618.3 | P12: 15717.3 | Q12: 15735 | R12: 15750.7 | S12: 15781 | T12: 15808.7 | U12: 15842 | V12: 15878 | W12: 15907 | X12: 15920.7 | Y12: 15964 | Z12: 16015.3 | AA12: 16077 | AB12: 16022.3 | AC12: 16070 | AD12: 16205.8 | AE12: 16122.3 | AF12: 16059.3 | AG12: 16109.7 | AH12: 16503.3 | AI12: 16536.7 | AJ12: 16974 | AK12: 16941.7 | AL12: 16971 | AM12: 17373.7 | AN12: 18242.7 | AO12: 18544 | AP12: 18733 | AQ12: 18932
B13: Philippines | C13: 2.5017159 | D13: 49.242 | E13: 50.7373 | F13: 52.154 | G13: 51.8373 | H13: 51.2525 | I13: 50.4107 | J13: 51.5062 | K13: 53.2449 | L13: 54.0764 | M13: 52.9044 | N13: 54.5762 | O13: 55.2563 | P13: 55.9662 | Q13: 55.9113 | R13: 56 | S13: 56.2821 | T13: 55.0064 | U13: 54.6706 | V13: 56.0382 | W13: 54.6267 | X13: 51.8843 | Y13: 52.2146 | Z13: 51.3869 | AA13: 49.7714 | AB13: 48.6043 | AC13: 46.9322 | AD13: 45.9434 | AE13: 43.1136 | AF13: 40.9539 | AG13: 43.0007 | AH13: 44.9034 | AI13: 48.4352 | AJ13: 47.9198 | AK13: 47.882 | AL13: 48.1487 | AM13: 46.7682 | AN13: 46.0272 | AO13: 45.5088 | AP13: 45.2721 | AQ13: 43.6305
B14: India | C14: 2.249522 | D14: 46.5598 | E14: 46.9028 | F14: 47.3047 | G14: 47.9783 | H14: 48.5889 | I14: 48.9602 | J14: 48.5982 | K14: 48.294 | L14: 47.7716 | M14: 47.0594 | N14: 46.0032 | O14: 45.499 | P14: 45.248 | Q14: 44.8962 | R14: 46.1592 | S14: 44.9624 | T14: 43.7083 | U14: 43.6046 | V14: 43.6919 | W14: 45.3952 | X14: 44.4023 | Y14: 45.4708 | Z14: 46.3704 | AA14: 44.9845 | AB14: 44.1723 | AC14: 41.2344 | AD14: 40.525 | AE14: 39.4624 | AF14: 39.8208 | AG14: 41.6559 | AH14: 43.7796 | AI14: 48.7644 | AJ14: 49.7745 | AK14: 48.7891 | AL14: 48.4174 | AM14: 46.64 | AN14: 45.9281 | AO14: 45.6252 | AP14: 46.4875 | AQ14: 44.8625
B15: Switzerland | C15: 2.1633016 | D15: 1.66182 | E15: 1.75063 | F15: 1.69219 | G15: 1.64583 | H15: 1.68059 | I15: 1.59428 | J15: 1.48861 | K15: 1.47094 | L15: 1.36674 | M15: 1.33729 | N15: 1.37503 | O15: 1.30754 | P15: 1.25441 | Q15: 1.27803 | R15: 1.25731 | S15: 1.18424 | T15: 1.17738 | U15: 1.22707 | V15: 1.27426 | W15: 1.302 | X15: 1.29666 | Y15: 1.24536 | Z15: 1.23737 | AA15: 1.23599 | AB15: 1.23507 | AC15: 1.22263 | AD15: 1.19822 | AE15: 1.14555 | AF15: 1.06745 | AG15: 1.0317 | AH15: 1.07394 | AI15: 1.15927 | AJ15: 1.15617 | AK15: 1.11285 | AL15: 1.06286 | AM15: 1.02069 | AN15: 1.05792 | AO15: 1.10811 | AP15: 1.0319 | AQ15: 0.973683
... B19: Germany | C19: 1.6906865 | D19: 2.1194547 | E19: 2.2412247 | F19: 2.197551 | G19: 2.1843883 | H19: 2.2320128 | I19: 2.1296251 | J19: 1.9886293 | K19: 1.9624016 | L19: 1.8225148 | M19: 1.7237708 | N19: 1.7400433 | O19: 1.6454007 | P19: 1.5642142 | Q19: 1.6243501 | R19: 1.6006767 | S19: 1.5113872 | T19: 1.4875398 | U19: 1.553549 | V19: 1.6040407 | W19: 1.6457586 | X19: 1.6272173 | Y19: 1.5573238 | Z19: 1.5351564 | AA19: 1.5165897 | AB19: 1.4925975 | AC19: 1.4507623 | AD19: 1.4231851 | AE19: 1.349464 | AF19: 1.3050667 | AG19: 1.2522515 | AH19: 1.3027784 | AI19: 1.4806865 | AJ19: 1.5024041 | AK19: 1.4378754 | AL19: 1.3675242 | AM19: 1.3237605 | AN19: 1.412917 | AO19: 1.539424 | AP19: 1.5148021 | AQ19: 1.4398155
B20: Other Asia, nes | C20: 1.65414 | D20: n.a. | E20: n.a. | F20: n.a. | G20: n.a. | H20: n.a. | I20: n.a. | J20: n.a. | K20: n.a. | L20: n.a. | M20: n.a. | N20: n.a. | O20: n.a. | P20: n.a. | Q20: n.a. | R20: n.a. | S20: n.a. | T20: n.a. | U20: n.a. | V20: n.a. | W20: n.a. | X20: n.a. | Y20: n.a. | Z20: n.a. | AA20: n.a. | AB20: n.a. | AC20: n.a. | AD20: n.a. | AE20: n.a. | AF20: n.a. | AG20: n.a. | AH20: n.a. | AI20: n.a. | AJ20: n.a. | AK20: n.a. | AL20: n.a. | AM20: n.a. | AN20: n.a. | AO20: n.a. | AP20: n.a. | AQ20: n.a.
B21: United Arab Emirates | C21: 1.4559131 | D21: 3.6725 | E21: 3.6725 | F21: 3.6725 | G21: 3.6725 | H21: 3.6725 | I21: 3.6725 | J21: 3.6725 | K21: 3.6725 | L21: 3.6725 | M21: 3.6725 | N21: 3.6725 | O21: 3.6725 | P21: 3.6725 | Q21: 3.6725 | R21: 3.6725 | S21: 3.6725 | T21: 3.6725 | U21: 3.6725 | V21: 3.6725 | W21: 3.6725 | X21: 3.6725 | Y21: 3.6725 | Z21: 3.6725 | AA21: 3.6725 | AB21: 3.6725 | AC21: 3.6725 | AD21: 3.6725 | AE21: 3.6725 | AF21: 3.6725 | AG21: 3.6725 | AH21: 3.6725 | AI21: 3.6725 | AJ21: 3.6725 | AK21: 3.6725 | AL21: 3.6725 | AM21: 3.6725 | AN21: 3.6725 | AO21: 3.6725 | AP21: 3.6725 | AQ21: 3.6725
B22: Cambodia | C22: 1.1991583 | D22: 3910 | E22: 3916.67 | F22: 3924 | G22: 3914.67 | H22: 3897.67 | I22: 3900.67 | J22: 3918.67 | K22: 3931.33 | L22: 3932 | M22: 3976 | N22: 3998.33 | O22: 3987 | P22: 3990.33 | Q22: 4005.33 | R22: 4034.67 | S22: 4034.67 | T22: 4027 | U22: 4054.33 | V22: 4134.33 | W22: 4154.33 | X22: 4081.33 | Y22: 4095.33 | Z22: 4125 | AA22: 4111.33 | AB22: 4055 | AC22: 4065.67 | AD22: 4078 | AE22: 4026 | AF22: 3991.33 | AG22: 4025.67 | AH22: 4113.67 | AI22: 4086 | AJ22: 4108 | AK22: 4123.33 | AL22: 4162 | AM22: 4164 | AN22: 4176.33 | AO22: 4204 | AP22: 4232.33 | AQ22: 4127
B23: Lao People's Dem. Rep. | C23: 1.0936044 | D23: 8590.67 | E23: 8535 | F23: 9181.33 | G23: 9511.33 | H23: 9489 | I23: 9601.67 | J23: 10370.3 | K23: 10764.3 | L23: 10619.1 | M23: 10579.3 | N23: 10601.7 | O23: 10476 | P23: 10429 | Q23: 10556.7 | R23: 10809 | S23: 10546.8 | T23: 10341.2 | U23: 10577 | V23: 10871.5 | W23: 10831 | X23: 10493.5 | Y23: 10142.3 | Z23: 10116 | AA23: 9887.94 | AB23: 9689 | AC23: 9616.86 | AD23: 9588.66 | AE23: 9518.12 | AF23: 9062.16 | AG23: 8730.77 | AH23: 8634.59 | AI23: 8549.38 | AJ23: 8521.64 | AK23: 8542.14 | AL23: 8513.36 | AM23: 8487.07 | AN23: 8481.57 | AO23: 8301.09 | AP23: 8206.31 | AQ23: 8046.12
B24: Saudi Arabia | C24: 1.0844348 | D24: 3.75 | E24: 3.75 | F24: 3.75 | G24: 3.75 | H24: 3.75 | I24: 3.75 | J24: 3.75 | K24: 3.75 | L24: 3.75 | M24: 3.75 | N24: 3.75 | O24: 3.75 | P24: 3.75 | Q24: 3.75 | R24: 3.75 | S24: 3.75 | T24: 3.75 | U24: 3.74833 | V24: 3.745 | W24: 3.745 | X24: 3.745 | Y24: 3.745 | Z24: 3.745 | AA24: 3.745 | AB24: 3.745 | AC24: 3.74667 | AD24: 3.74833 | AE24: 3.75 | AF24: 3.75 | AG24: 3.75 | AH24: 3.75 | AI24: 3.75 | AJ24: 3.75 | AK24: 3.75 | AL24: 3.75 | AM24: 3.75 | AN24: 3.75 | AO24: 3.75 | AP24: 3.75 | AQ24: 3.75
B25: Myanmar | C25: 1.0613583 | D25: 6.58678 | E25: 6.75283 | F25: 6.69673 | G25: 6.69994 | H25: 6.8114 | I25: 6.65816 | J25: 6.42446 | K25: 6.39965 | L25: 6.21679 | M25: 6.09016 | N25: 6.10735 | O25: 5.89121 | P25: 5.72277 | Q25: 5.83085 | R25: 5.79841 | S25: 5.63173 | T25: 5.58368 | U25: 5.70473 | V25: 5.82442 | W25: 5.93114 | X25: 5.90655 | Y25: 5.77827 | Z25: 5.74089 | AA25: 5.70961 | AB25: 5.67316 | AC25: 5.61168 | AD25: 5.54642 | AE25: 5.40747 | AF25: 5.31694 | AG25: 5.23172 | AH25: 5.35181 | AI25: 5.64957 | AJ25: 5.68665 | AK25: 5.59892 | AL25: 5.44283 | AM25: 5.34952 | AN25: 5.51302 | AO25: 5.71753 | AP25: 5.61154 | AQ25: 5.46928
C26: =SUM(C4:C19,C21:C25) -> 80.190238
D28: Exchange Rate (baht/ foreign currency)
B29: Conversion Exchange Rate to be Baht/US$ | C29: Reweight | D29: 2001Q1 | E29: 2001Q2 | F29: 2001Q3 | G29: 2001Q4 | H29: 2002Q1 | I29: 2002Q2 | J29: 2002Q3 | K29: 2002Q4 | L29: 2003Q1 | M29: 2003Q2 | N29: 2003Q3 | O29: 2003Q4 | P29: 2004Q1 | Q29: 2004Q2 | R29: 2004Q3 | S29: 2004Q4 | T29: 2005Q1 | U29: 2005Q2 | V29: 2005Q3 | W29: 2005Q4 | X29: 2006Q1 | Y29: 2006Q2 | Z29: 2006Q3 | AA29: 2006Q4 | AB29: 2007Q1 | AC29: 2007Q2 | AD29: 2007Q3 | AE29: 2007Q4 | AF29: 2008Q1 | AG29: 2008Q2 | AH29: 2008Q3 | AI29: 2008Q4 | AJ29: 2009Q1 | AK29: 2009Q2 | AL29: 2009Q3 | AM29: 2009Q4 | AN29: 2010Q1 | AO29: 2010Q2 | AP29: 2010Q3 | AQ29: 2010Q4
B30: China | C30: =C4/C$26 -> 0.13710311 | D30: =D$6/D4 -> 5.2154058 | E30: =E$6/E4 -> 5.4789522 | F30: =F$6/F4 -> 5.4259511 | G30: =G$6/G4 -> 5.3522777 | H30: =H$6/H4 -> 5.2798183 | I30: =I$6/I4 -> 5.1648649 | J30: =J$6/J4 -> 5.076829 | K30: =K$6/K4 -> 5.2397389 | ... AQ30: =AQ$6/AQ4 -> 4.5009271
B31: Japan | C31: =C5/C$26 -> 0.13035124 | D31: =D$6/D5 -> 0.36558102 | E31: =E$6/E5 -> 0.36979052 | F31: =F$6/F5 -> 0.36888882 | G31: =G$6/G5 -> 0.35827221 | H31: =H$6/H5 -> 0.32991092 | I31: =I$6/I5 -> 0.33647905 | J31: =J$6/J5 -> 0.35267655 | K31: =K$6/K5 -> 0.35290288 | ... AQ31: =AQ$6/AQ5 -> 0.36300014
B32: USA | C32: =C6/C$26 -> 0.1291687 | D32: =D6 -> 43.17 | E32: =E6 -> 45.35 | F32: =F6 -> 44.91 | G32: =G6 -> 44.3 | H32: =H6 -> 43.7 | I32: =I6 -> 42.75 | J32: =J6 -> 42.02 | K32: =K6 -> 43.37 | ... AQ32: =AQ6 -> 29.98
B33: China, Hong Kong SAR | C33: =C7/C$26 -> 0.083844544 | D33: =D$6/D7 -> 5.535325 | E33: =E$6/E7 -> 5.8155937 | F33: =F$6/F7 -> 5.7586742 | G33: =G$6/G7 -> 5.6799751 | H33: =H$6/H7 -> 5.6032825 | I33: =I$6/I7 -> 5.481472 | J33: =J$6/J7 -> 5.3878702 | K33: =K$6/K7 -> 5.5612047 | ... AQ33: =AQ$6/AQ7 -> 3.8620732
B34: Malaysia | C34: =C8/C$26 -> 0.06746668 | D34: =D$6/D8 -> 11.360526 | E34: =E$6/E8 -> 11.934211 | F34: =F$6/F8 -> 11.818421 | G34: =G$6/G8 -> 11.657895 | H34: =H$6/H8 -> 11.5 | I34: =I$6/I8 -> 11.25 | J34: =J$6/J8 -> 11.057895 | K34: =K$6/K8 -> 11.413158 | ... AQ34: =AQ$6/AQ8 -> 9.6255105
B35: Australia | C35: =C9/C$26 -> 0.059823381 | D35: =D$6/D9 -> 22.921921 | E35: =E$6/E9 -> 23.258796 | F35: =F$6/F9 -> 23.065782 | G35: =G$6/G9 -> 22.676317 | H35: =H$6/H9 -> 22.640845 | I35: =I$6/I9 -> 23.564235 | J35: =J$6/J9 -> 23.017469 | K35: =K$6/K9 -> 24.197283 | ... AQ35: =AQ$6/AQ9 -> 29.606952
B36: Singapore | C36: =C10/C$26 -> 0.057524013 | D36: =D$6/D10 -> 24.66688 | E36: =E$6/E10 -> 25.006203 | F36: =F$6/F10 -> 25.259002 | G36: =G$6/G10 -> 24.270914 | H36: =H$6/H10 -> 23.841089 | I36: =I$6/I10 -> 23.697865 | J36: =J$6/J10 -> 23.908281 | K36: =K$6/K10 -> 24.532208 | ... AQ36: =AQ$6/AQ10 -> 23.00191
B37: Indonesia | C37: =C11/C$26 -> 0.046906756 | D37: =D$6/D11 -> 0.0044142458 | E37: =E$6/E11 -> 0.0040340874 | F37: =F$6/F11 -> 0.0046712641 | G37: =G$6/G11 -> 0.0042563822 | H37: =H$6/H11 -> 0.0043021127 | I37: =I$6/I11 -> 0.0047099134 | J37: =J$6/J11 -> 0.0046919839 | K37: =K$6/K11 -> 0.0047897936 | ... AQ37: =AQ$6/AQ11 -> 0.0033443883
B38: Viet Nam | C38: =C12/C$26 -> 0.037322342 | D38: =D$6/D12 -> 0.0029674794 | E38: =E$6/E12 -> 0.0030969795 | F38: =F$6/F12 -> 0.0030637932 | G38: =G$6/G12 -> 0.0029432674 | H38: =H$6/H12 -> 0.0028816924 | I38: =I$6/I12 -> 0.0028026722 | J38: =J$6/J12 -> 0.0027421576 | K38: =K$6/K12 -> 0.0028205745 | ... AQ38: =AQ$6/AQ12 -> 0.0015835622
B39: Philippines | C39: =C13/C$26 -> 0.031197262 | D39: =D$6/D13 -> 0.87669063 | E39: =E$6/E13 -> 0.89381973 | F39: =F$6/F13 -> 0.86110365 | G39: =G$6/G13 -> 0.85459698 | H39: =H$6/H13 -> 0.85264133 | I39: =I$6/I13 -> 0.84803425 | J39: =J$6/J13 -> 0.81582411 | K39: =K$6/K13 -> 0.81453811 | ... AQ39: =AQ$6/AQ13 -> 0.687134
B40: India | C40: =C14/C$26 -> 0.028052317 | D40: =D$6/D14 -> 0.9271947 | E40: =E$6/E14 -> 0.96689323 | F40: =F$6/F14 -> 0.94937712 | G40: =G$6/G14 -> 0.92333409 | H40: =H$6/H14 -> 0.89938237 | I40: =I$6/I14 -> 0.8731582 | J40: =J$6/J14 -> 0.86464108 | K40: =K$6/K14 -> 0.89804116 | ... AQ40: =AQ$6/AQ14 -> 0.66826414
B41: Switzerland | C41: =C15/C$26 -> 0.026977119 | D41: =D$6/D15 -> 25.977543 | E41: =E$6/E15 -> 25.90496 | F41: =F$6/F15 -> 26.539573 | G41: =G$6/G15 -> 26.91651 | H41: =H$6/H15 -> 26.002773 | I41: =I$6/I15 -> 26.814612 | J41: =J$6/J15 -> 28.227675 | K41: =K$6/K15 -> 29.484547 | ... AQ41: =AQ$6/AQ15 -> 30.790309
B42: United Kingdom | C42: =C16/C$26 -> 0.023358908 | D42: =D$6*D16 -> 63.0282 | E42: =E$6*E16 -> 64.397 | F42: =F$6*F16 -> 64.6704 | G42: =G$6*G16 -> 63.792 | H42: =H$6*H16 -> 62.491 | I42: =I$6*I16 -> 62.415 | J42: =J$6*J16 -> 65.131 | K42: =K$6*K16 -> 68.0909 | ... AQ42: =AQ$6*AQ16 -> 47.3684
B43: Netherlands | C43: =C17/C$26 -> 0.023265494 | D43: =D$6/D17 -> 18.077342 | E43: =E$6/E17 -> 17.958438 | F43: =F$6/F17 -> 18.137639 | G43: =G$6/G17 -> 17.99909 | H43: =H$6/H17 -> 17.376465 | I43: =I$6/I17 -> 17.815977 | J43: =J$6/J17 -> 18.753351 | K43: =K$6/K17 -> 19.614543 | ... AQ43: =AQ$6/AQ17 -> 18.479977
B44: Rep. of Korea | C44: =C18/C$26 -> 0.023048627 | D44: =D$6/D18 -> 0.033943483 | E44: =E$6/E18 -> 0.034733924 | F44: =F$6/F18 -> 0.034699097 | G44: =G$6/G18 -> 0.034281292 | H44: =H$6/H18 -> 0.033109572 | I44: =I$6/I18 -> 0.033740854 | J44: =J$6/J18 -> 0.035085376 | K44: =K$6/K18 -> 0.035554135 | ... AQ44: =AQ$6/AQ18 -> 0.026479888
B45: Germany | C45: =C19/C$26 -> 0.021083445 | D45: =D$6/D19 -> 20.368446 | E45: =E$6/E19 -> 20.234473 | F45: =F$6/F19 -> 20.436386 | G45: =G$6/G19 -> 20.280277 | H45: =H$6/H19 -> 19.578741 | I45: =I$6/I19 -> 20.073956 | J45: =J$6/J19 -> 21.130133 | K45: =K$6/K19 -> 22.100471 | ... AQ45: =AQ$6/AQ19 -> 20.822112
B46: United Arab Emirates | C46: =C21/C$26 -> 0.01815574 | D46: =D$6/D21 -> 11.754935 | E46: =E$6/E21 -> 12.348536 | F46: =F$6/F21 -> 12.228727 | G46: =G$6/G21 -> 12.062628 | H46: =H$6/H21 -> 11.899251 | I46: =I$6/I21 -> 11.640572 | J46: =J$6/J21 -> 11.441797 | K46: =K$6/K21 -> 11.809394 | ... AQ46: =AQ$6/AQ21 -> 8.1633764
B47: Cambodia | C47: =C22/C$26 -> 0.014953919 | D47: =D$6/D22 -> 0.011040921 | E47: =E$6/E22 -> 0.011578714 | F47: =F$6/F22 -> 0.011444954 | G47: =G$6/G22 -> 0.011316407 | H47: =H$6/H22 -> 0.011211827 | I47: =I$6/I22 -> 0.010959656 | J47: =J$6/J22 -> 0.010723026 | K47: =K$6/K22 -> 0.01103189 | ... AQ47: =AQ$6/AQ22 -> 0.0072643567
B48: Lao People's Dem. Rep. | C48: =C23/C$26 -> 0.013637625 | D48: =D$6/D23 -> 0.0050252192 | E48: =E$6/E23 -> 0.0053134153 | F48: =F$6/F23 -> 0.0048914482 | G48: =G$6/G23 -> 0.0046576031 | H48: =H$6/H23 -> 0.0046053325 | I48: =I$6/I23 -> 0.0044523505 | J48: =J$6/J23 -> 0.0040519561 | K48: =K$6/K23 -> 0.004029059 | ... AQ48: =AQ$6/AQ23 -> 0.0037260195
B49: Saudi Arabia | C49: =C24/C$26 -> 0.013523277 | D49: =D$6/D24 -> 11.512 | E49: =E$6/E24 -> 12.093333 | F49: =F$6/F24 -> 11.976 | G49: =G$6/G24 -> 11.813333 | H49: =H$6/H24 -> 11.653333 | I49: =I$6/I24 -> 11.4 | J49: =J$6/J24 -> 11.205333 | K49: =K$6/K24 -> 11.565333 | ... AQ49: =AQ$6/AQ24 -> 7.9946667
B50: Myanmar | C50: =C25/C$26 -> 0.013235505 | D50: =D$6/D25 -> 6.554037 | E50: =E$6/E25 -> 6.7157029 | F50: =F$6/F25 -> 6.7062581 | G50: =G$6/G25 -> 6.6119995 | H50: =H$6/H25 -> 6.4157148 | I50: =I$6/I25 -> 6.4206928 | J50: =J$6/J25 -> 6.5406275 | K50: =K$6/K25 -> 6.7769331 | ... AQ50: =AQ$6/AQ25 -> 5.4815259
B53: NEER | D53: =D30^($C$30)*D31^($C$31)*D32^($C$32)*D33^($C$33)*D34^($C$34)*D35^($C$35)*D36^($C$36)*D37^($C$37)*D38^($C$38)*D39^($C$39)*D40^($C$40)*D41^($C$41)*D42^($C$42)*D43^($C$43)*D44^($C$44)*D45^($C$45)*D46^($C$46)*D47^($C$47)*D48^($C$48)*D49^($C$49)*D50^($C$50) -> 2.6742162 | E53: =E30^($C$30)*E31^($C$31)*E32^($C$32)*E33^($C$33)*E34^($C$34)*E35^($C$35)*E36^($C$36)*E37^($C$37)*E38^($C$38)*E39^($C$39)*E40^($C$40)*E41^($C$41)*E42^($C$42)*E43^($C$43)*E44^($C$44)*E45^($C$45)*E46^($C$46)*E47^($C$47)*E48^($C$48)*E49^($C$49)*E50^($C$50) -> 2.7471485 | F53: =F30^($C$30)*F31^($C$31)*F32^($C$32)*F33^($C$33)*F34^($C$34)*F35^($C$35)*F36^($C$36)*F37^($C$37)*F38^($C$38)*F39^($C$39)*F40^($C$40)*F41^($C$41)*F42^($C$42)*F43^($C$43)*F44^($C$44)*F45^($C$45)*F46^($C$46)*F47^($C$47)*F48^($C$48)*F49^($C$49)*F50^($C$50) -> 2.7472235 | G53: =G30^($C$30)*G31^($C$31)*G32^($C$32)*G33^($C$33)*G34^($C$34)*G35^($C$35)*G36^($C$36)*G37^($C$37)*G38^($C$38)*G39^($C$39)*G40^($C$40)*G41^($C$41)*G42^($C$42)*G43^($C$43)*G44^($C$44)*G45^($C$45)*G46^($C$46)*G47^($C$47)*G48^($C$48)*G49^($C$49)*G50^($C$50) -> 2.6881666 | H53: =H30^($C$30)*H31^($C$31)*H32^($C$32)*H33^($C$33)*H34^($C$34)*H35^($C$35)*H36^($C$36)*H37^($C$37)*H38^($C$38)*H39^($C$39)*H40^($C$40)*H41^($C$41)*H42^($C$42)*H43^($C$43)*H44^($C$44)*H45^($C$45)*H46^($C$46)*H47^($C$47)*H48^($C$48)*H49^($C$49)*H50^($C$50) -> 2.6255797 | I53: =I30^($C$30)*I31^($C$31)*I32^($C$32)*I33^($C$33)*I34^($C$34)*I35^($C$35)*I36^($C$36)*I37^($C$37)*I38^($C$38)*I39^($C$39)*I40^($C$40)*I41^($C$41)*I42^($C$42)*I43^($C$43)*I44^($C$44)*I45^($C$45)*I46^($C$46)*I47^($C$47)*I48^($C$48)*I49^($C$49)*I50^($C$50) -> 2.6216445 | J53: =J30^($C$30)*J31^($C$31)*J32^($C$32)*J33^($C$33)*J34^($C$34)*J35^($C$35)*J36^($C$36)*J37^($C$37)*J38^($C$38)*J39^($C$39)*J40^($C$40)*J41^($C$41)*J42^($C$42)*J43^($C$43)*J44^($C$44)*J45^($C$45)*J46^($C$46)*J47^($C$47)*J48^($C$48)*J49^($C$49)*J50^($C$50) -> 2.6195768 | K53: =K30^($C$30)*K31^($C$31)*K32^($C$32)*K33^($C$33)*K34^($C$34)*K35^($C$35)*K36^($C$36)*K37^($C$37)*K38^($C$38)*K39^($C$39)*K40^($C$40)*K41^($C$41)*K42^($C$42)*K43^($C$43)*K44^($C$44)*K45^($C$45)*K46^($C$46)*K47^($C$47)*K48^($C$48)*K49^($C$49)*K50^($C$50) -> 2.6915992 | ... AQ53: =AQ30^($C$30)*AQ31^($C$31)*AQ32^($C$32)*AQ33^($C$33)*AQ34^($C$34)*AQ35^($C$35)*AQ36^($C$36)*AQ37^($C$37)*AQ38^($C$38)*AQ39^($C$39)*AQ40^($C$40)*AQ41^($C$41)*AQ42^($C$42)*AQ43^($C$43)*AQ44^($C$44)*AQ45^($C$45)*AQ46^($C$46)*AQ47^($C$47)*AQ48^($C$48)*AQ49^($C$49)*AQ50^($C$50) -> 2.2278365
B54: NEER Index (2001Q1 =100) | D54: =D53/$D53*100 -> 100 | E54: =E53/$D53*100 -> 102.72724 | F54: =F53/$D53*100 -> 102.73004 | G54: =G53/$D53*100 -> 100.52166 | H54: =H53/$D53*100 -> 98.181277 | I54: =I53/$D53*100 -> 98.034127 | J54: =J53/$D53*100 -> 97.956806 | K54: =K53/$D53*100 -> 100.65002 | ... AQ54: =AQ53/$D53*100 -> 83.308015

Sheet Q4 vs Q5
B3: 2001Q1 | C3: 2001Q2 | D3: 2001Q3 | E3: 2001Q4 | F3: 2002Q1 | G3: 2002Q2 | H3: 2002Q3 | I3: 2002Q4 | J3: 2003Q1 | K3: 2003Q2 | L3: 2003Q3 | M3: 2003Q4 | N3: 2004Q1 | O3: 2004Q2 | P3: 2004Q3 | Q3: 2004Q4 | R3: 2005Q1 | S3: 2005Q2 | T3: 2005Q3 | U3: 2005Q4 | V3: 2006Q1 | W3: 2006Q2 | X3: 2006Q3 | Y3: 2006Q4 | Z3: 2007Q1 | AA3: 2007Q2 | AB3: 2007Q3 | AC3: 2007Q4 | AD3: 2008Q1 | AE3: 2008Q2 | AF3: 2008Q3 | AG3: 2008Q4 | AH3: 2009Q1 | AI3: 2009Q2 | AJ3: 2009Q3 | AK3: 2009Q4 | AL3: 2010Q1 | AM3: 2010Q2 | AN3: 2010Q3 | AO3: 2010Q4
A4: Q4 | B4: 100 | C4: 102.72724 | D4: 102.73004 | E4: 100.52166 | F4: 98.181277 | G4: 98.034127 | H4: 97.956806 | I4: 100.65002 | J4: 100.8211 | K4: 100.6089 | L4: 98.590611 | M4: 96.978026 | N4: 96.777139 | O4: 98.079832 | P4: 100.43983 | Q4: 99.779926 | R4: 96.336533 | S4: 99.020689 | T4: 101.04439 | U4: 99.316892 | V4: 96.304528 | W4: 94.445812 | X4: 93.414522 | Y4: 91.243133 | Z4: 89.42248 | AA4: 88.151886 | AB4: 87.172781 | AC4: 88.847471 | AD4: 86.980117 | AE4: 87.356571 | AF4: 90.061316 | AG4: 88.839437 | AH4: 89.464814 | AI4: 89.586343 | AJ4: 89.475707 | AK4: 89.74335 | AL4: 88.065676 | AM4: 86.104848 | AN4: 85.689486 | AO4: 83.308015
A5: Q5 | B5: 100 | C5: 102.43715 | D5: 102.34753 | E5: 100.23398 | F5: 97.072379 | G5: 97.132472 | H5: 97.66822 | I5: 99.812835 | J5: 100.24924 | K5: 99.983133 | L5: 98.169611 | M5: 97.137737 | N5: 96.985515 | O5: 98.273406 | P5: 100.7598 | Q5: 100.49947 | R5: 97.273055 | S5: 99.918162 | T5: 101.83709 | U5: 99.59246 | V5: 96.570823 | W5: 94.974864 | X5: 93.76272 | Y5: 91.350303 | Z5: 89.259436 | AA5: 87.738084 | AB5: 87.025473 | AC5: 88.920747 | AD5: 87.633812 | AE5: 88.028434 | AF5: 90.706754 | AG5: 90.721592 | AH5: 91.398757 | AI5: 91.084853 | AJ5: 91.30011 | AK5: 92.097132 | AL5: 90.490078 | AM5: 88.423871 | AN5: 88.616178 | AO5: 86.316137

Sheet Q5
B1: Import
D2: Exchange Rate
D3: 2001Q1 | E3: 2001Q2 | F3: 2001Q3 | G3: 2001Q4 | H3: 2002Q1 | I3: 2002Q2 | J3: 2002Q3 | K3: 2002Q4 | L3: 2003Q1 | M3: 2003Q2 | N3: 2003Q3 | O3: 2003Q4 | P3: 2004Q1 | Q3: 2004Q2 | R3: 2004Q3 | S3: 2004Q4 | T3: 2005Q1 | U3: 2005Q2 | V3: 2005Q3 | W3: 2005Q4 | X3: 2006Q1 | Y3: 2006Q2 | Z3: 2006Q3 | AA3: 2006Q4 | AB3: 2007Q1 | AC3: 2007Q2 | AD3: 2007Q3 | AE3: 2007Q4 | AF3: 2008Q1 | AG3: 2008Q2 | AH3: 2008Q3 | AI3: 2008Q4 | AJ3: 2009Q1 | AK3: 2009Q2 | AL3: 2009Q3 | AM3: 2009Q4 | AN3: 2010Q1 | AO3: 2010Q2 | AP3: 2010Q3 | AQ3: 2010Q4
B4: Japan | C4: 20.75521 | D4: 118.086 | E4: 122.637 | F4: 121.744 | G4: 123.649 | H4: 132.46 | I4: 127.051 | J4: 119.146 | K4: 122.895 | L4: 118.821 | M4: 118.44 | N4: 117.569 | O4: 108.904 | P4: 107.228 | Q4: 109.748 | R4: 109.909 | S4: 105.886 | T4: 104.713 | U4: 107.635 | V4: 111.238 | W4: 117.288 | X4: 116.883 | Y4: 114.416 | Z4: 116.187 | AA4: 117.712 | AB4: 119.433 | AC4: 120.739 | AD4: 117.776 | AE4: 113.065 | AF4: 105.204 | AG4: 104.511 | AH4: 107.613 | AI4: 96.1105 | AJ4: 93.7161 | AK4: 97.275 | AL4: 93.6091 | AM4: 89.6802 | AN4: 90.6534 | AO4: 92.0213 | AP4: 85.8553 | AQ4: 82.5895
B5: China | C5: 13.289609 | D5: 8.2774 | E5: 8.27713 | F5: 8.27689 | G5: 8.27685 | H5: 8.2768 | I5: 8.27708 | J5: 8.27682 | K5: 8.27713 | L5: 8.2771 | M5: 8.27704 | N5: 8.27712 | O5: 8.2769 | P5: 8.27708 | Q5: 8.27688 | R5: 8.27673 | S5: 8.27651 | T5: 8.2765 | U5: 8.2765 | V5: 8.1412 | W5: 8.08307 | X5: 8.05031 | Y5: 8.01226 | Z5: 7.96676 | AA5: 7.86442 | AB5: 7.76107 | AC5: 7.67738 | AD5: 7.55971 | AE5: 7.43197 | AF5: 7.16269 | AG5: 6.95775 | AH5: 6.83991 | AI5: 6.83427 | AJ5: 6.83735 | AK5: 6.82966 | AL5: 6.83105 | AM5: 6.82761 | AN5: 6.82694 | AO5: 6.82335 | AP5: 6.76994 | AQ5: 6.66085
B6: USA | C6: 5.8942833 | D6: 43.17 | E6: 45.35 | F6: 44.91 | G6: 44.3 | H6: 43.7 | I6: 42.75 | J6: 42.02 | K6: 43.37 | L6: 42.76 | M6: 42.18 | N6: 41.27 | O6: 39.73 | P6: 39.17 | Q6: 40.22 | R6: 41.25 | S6: 40.25 | T6: 38.57 | U6: 40.04 | V6: 41.29 | W6: 40.99 | X6: 39.29 | Y6: 38.07 | Z6: 37.64 | AA6: 36.53 | AB6: 35.54 | AC6: 34.65 | AD6: 34.01 | AE6: 33.87 | AF6: 32.37 | AG6: 32.25 | AH6: 33.83 | AI6: 34.8 | AJ6: 35.29 | AK6: 34.68 | AL6: 33.92 | AM6: 33.26 | AN6: 32.85 | AO6: 32.33 | AP6: 31.59 | AQ6: 29.98
B7: Malaysia | C7: 5.8713183 | D7: 3.8 | E7: 3.8 | F7: 3.8 | G7: 3.8 | H7: 3.8 | I7: 3.8 | J7: 3.8 | K7: 3.8 | L7: 3.8 | M7: 3.8 | N7: 3.8 | O7: 3.8 | P7: 3.8 | Q7: 3.8 | R7: 3.8 | S7: 3.8 | T7: 3.8 | U7: 3.8 | V7: 3.7717 | W7: 3.77667 | X7: 3.72753 | Y7: 3.64803 | Z7: 3.67193 | AA7: 3.62521 | AB7: 3.49845 | AC7: 3.42842 | AD7: 3.46667 | AE7: 3.35673 | AF7: 3.22567 | AG7: 3.21283 | AH7: 3.3396 | AI7: 3.56523 | AJ7: 3.62592 | AK7: 3.55021 | AL7: 3.52027 | AM7: 3.40162 | AN7: 3.37212 | AO7: 3.24142 | AP7: 3.15616 | AQ7: 3.11464
B8: United Arab Emirates | C8: 4.7451756 | D8: 3.6725 | E8: 3.6725 | F8: 3.6725 | G8: 3.6725 | H8: 3.6725 | I8: 3.6725 | J8: 3.6725 | K8: 3.6725 | L8: 3.6725 | M8: 3.6725 | N8: 3.6725 | O8: 3.6725 | P8: 3.6725 | Q8: 3.6725 | R8: 3.6725 | S8: 3.6725 | T8: 3.6725 | U8: 3.6725 | V8: 3.6725 | W8: 3.6725 | X8: 3.6725 | Y8: 3.6725 | Z8: 3.6725 | AA8: 3.6725 | AB8: 3.6725 | AC8: 3.6725 | AD8: 3.6725 | AE8: 3.6725 | AF8: 3.6725 | AG8: 3.6725 | AH8: 3.6725 | AI8: 3.6725 | AJ8: 3.6725 | AK8: 3.6725 | AL8: 3.6725 | AM8: 3.6725 | AN8: 3.6725 | AO8: 3.6725 | AP8: 3.6725 | AQ8: 3.6725
B9: Rep. of Korea | C9: 4.4171167 | D9: 1271.82 | E9: 1305.64 | F9: 1294.27 | G9: 1292.25 | H9: 1319.86 | I9: 1267.01 | J9: 1197.65 | K9: 1219.83 | L9: 1202.33 | M9: 1207.88 | N9: 1174.32 | O9: 1181.92 | P9: 1171.18 | Q9: 1162.29 | R9: 1154.7 | S9: 1093.12 | T9: 1022.22 | U9: 1008.11 | V9: 1029.51 | W9: 1036.63 | X9: 976.353 | Y9: 949.769 | Z9: 954.783 | AA9: 938.257 | AB9: 939.1 | AC9: 928.616 | AD9: 928.087 | AE9: 921.227 | AF9: 956.55 | AG9: 1018.84 | AH9: 1067.31 | AI9: 1365.49 | AJ9: 1416.07 | AK9: 1284.73 | AL9: 1238.88 | AM9: 1168.04 | AN9: 1143.9 | AO9: 1165.54 | AP9: 1182.62 | AQ9: 1132.18
B10: Other Asia, nes | C10: 3.7366871 | D10: n.a. | E10: n.a. | F10: n.a. | G10: n.a. | H10: n.a. | I10: n.a. | J10: n.a. | K10: n.a. | L10: n.a. | M10: n.a. | N10: n.a. | O10: n.a. | P10: n.a. | Q10: n.a. | R10: n.a. | S10: n.a. | T10: n.a. | U10: n.a. | V10: n.a. | W10: n.a. | X10: n.a. | Y10: n.a. | Z10: n.a. | AA10: n.a. | AB10: n.a. | AC10: n.a. | AD10: n.a. | AE10: n.a. | AF10: n.a. | AG10: n.a. | AH10: n.a. | AI10: n.a. | AJ10: n.a. | AK10: n.a. | AL10: n.a. | AM10: n.a. | AN10: n.a. | AO10: n.a. | AP10: n.a. | AQ10: n.a.
B11: Singapore | C11: 3.4509123 | D11: 1.75012 | E11: 1.81355 | F11: 1.77798 | G11: 1.82523 | H11: 1.83297 | I11: 1.80396 | J11: 1.75755 | K11: 1.76788 | L11: 1.74457 | M11: 1.74827 | N11: 1.75163 | O11: 1.72427 | P11: 1.69483 | Q11: 1.70185 | R11: 1.70746 | S11: 1.65677 | T11: 1.63564 | U11: 1.65866 | V11: 1.67514 | W11: 1.68815 | X11: 1.62803 | Y11: 1.58974 | Z11: 1.5793 | AA11: 1.55867 | AB11: 1.53224 | AC11: 1.52453 | AD11: 1.51744 | AE11: 1.4542 | AF11: 1.40927 | AG11: 1.36617 | AH11: 1.39679 | AI11: 1.48722 | AJ11: 1.51203 | AK11: 1.4728 | AL11: 1.43883 | AM11: 1.3944 | AN11: 1.4029 | AO11: 1.3911 | AP11: 1.35667 | AQ11: 1.30337
B12: Australia | C12: 3.232493 | D12: 1.88335 | E12: 1.9498 | F12: 1.94704 | G12: 1.95358 | H12: 1.93014 | I12: 1.81419 | J12: 1.82557 | K12: 1.79235 | L12: 1.68708 | M12: 1.56339 | N12: 1.51956 | O12: 1.39763 | P12: 1.30668 | Q12: 1.39965 | R12: 1.41012 | S12: 1.32256 | T12: 1.28704 | U12: 1.30126 | V12: 1.31646 | W12: 1.33314 | X12: 1.35246 | Y12: 1.34034 | Z12: 1.32105 | AA12: 1.29805 | AB12: 1.27227 | AC12: 1.20374 | AD12: 1.18048 | AE12: 1.1238 | AF12: 1.10351 | AG12: 1.06002 | AH12: 1.11838 | AI12: 1.4868 | AJ12: 1.50692 | AK12: 1.32068 | AL12: 1.2015 | AM12: 1.09966 | AN12: 1.10646 | AO12: 1.13374 | AP12: 1.10783 | AQ12: 1.0126
B13: Indonesia | C13: 3.1118402 | D13: 9779.7 | E13: 11241.7 | F13: 9614.1 | G13: 10407.9 | H13: 10157.8 | I13: 9076.6 | J13: 8955.7 | K13: 9054.67 | L13: 8905.5 | M13: 8479.3 | N13: 8441.27 | O13: 8482.47 | P13: 8469.6 | Q13: 9001.43 | R13: 9156.17 | S13: 9128.2 | T13: 9274.3 | U13: 9550.53 | V13: 9994.53 | W13: 9999.6 | X13: 9274.87 | Y13: 9115 | Z13: 9122.53 | AA13: 9124.87 | AB13: 9107.17 | AC13: 8968.27 | AD13: 9242.27 | AE13: 9246.3 | AF13: 9248.2 | AG13: 9265.27 | AH13: 9222.45 | AI13: 11059.9 | AJ13: 11630.8 | AK13: 10509 | AL13: 9965.7 | AM13: 9454.25 | AN13: 9270.5 | AO13: 9131.93 | AP13: 8995.03 | AQ13: 8964.27
B14: Saudi Arabia | C14: 3.0955326 | D14: 3.75 | E14: 3.75 | F14: 3.75 | G14: 3.75 | H14: 3.75 | I14: 3.75 | J14: 3.75 | K14: 3.75 | L14: 3.75 | M14: 3.75 | N14: 3.75 | O14: 3.75 | P14: 3.75 | Q14: 3.75 | R14: 3.75 | S14: 3.75 | T14: 3.75 | U14: 3.74833 | V14: 3.745 | W14: 3.745 | X14: 3.745 | Y14: 3.745 | Z14: 3.745 | AA14: 3.745 | AB14: 3.745 | AC14: 3.74667 | AD14: 3.74833 | AE14: 3.75 | AF14: 3.75 | AG14: 3.75 | AH14: 3.75 | AI14: 3.75 | AJ14: 3.75 | AK14: 3.75 | AL14: 3.75 | AM14: 3.75 | AN14: 3.75 | AO14: 3.75 | AP14: 3.75 | AQ14: 3.75
B15: Switzerland | C15: 2.837471 | D15: 1.66182 | E15: 1.75063 | F15: 1.69219 | G15: 1.64583 | H15: 1.68059 | I15: 1.59428 | J15: 1.48861 | K15: 1.47094 | L15: 1.36674 | M15: 1.33729 | N15: 1.37503 | O15: 1.30754 | P15: 1.25441 | Q15: 1.27803 | R15: 1.25731 | S15: 1.18424 | T15: 1.17738 | U15: 1.22707 | V15: 1.27426 | W15: 1.302 | X15: 1.29666 | Y15: 1.24536 | Z15: 1.23737 | AA15: 1.23599 | AB15: 1.23507 | AC15: 1.22263 | AD15: 1.19822 | AE15: 1.14555 | AF15: 1.06745 | AG15: 1.0317 | AH15: 1.07394 | AI15: 1.15927 | AJ15: 1.15617 | AK15: 1.11285 | AL15: 1.06286 | AM15: 1.02069 | AN15: 1.05792 | AO15: 1.10811 | AP15: 1.0319 | AQ15: 0.973683
B16: Germany | C16: 2.5380959 | D16: 2.1194547 | E16: 2.2412247 | F16: 2.197551 | G16: 2.1843883 | H16: 2.2320128 | I16: 2.1296251 | J16: 1.9886293 | K16: 1.9624016 | L16: 1.8225148 | M16: 1.7237708 | N16: 1.7400433 | O16: 1.6454007 | P16: 1.5642142 | Q16: 1.6243501 | R16: 1.6006767 | S16: 1.5113872 | T16: 1.4875398 | U16: 1.553549 | V16: 1.6040407 | W16: 1.6457586 | X16: 1.6272173 | Y16: 1.5573238 | Z16: 1.5351564 | AA16: 1.5165897 | AB16: 1.4925975 | AC16: 1.4507623 | AD16: 1.4231851 | AE16: 1.349464 | AF16: 1.3050667 | AG16: 1.2522515 | AH16: 1.3027784 | AI16: 1.4806865 | AJ16: 1.5024041 | AK16: 1.4378754 | AL16: 1.3675242 | AM16: 1.3237605 | AN16: 1.412917 | AO16: 1.539424 | AP16: 1.5148021 | AQ16: 1.4398155
B17: Russian Federation | C17: 1.7680361 | D17: 28.5434 | E17: 28.993 | F17: 29.3304 | G17: 29.8072 | H17: 30.7755 | I17: 31.2738 | J17: 31.5653 | K17: 31.7793 | L17: 31.6569 | M17: 30.871 | N17: 30.4343 | O17: 29.8059 | P17: 28.6574 | Q17: 28.898 | R17: 29.1722 | S17: 28.5274 | T17: 27.8415 | U17: 28.0817 | V17: 28.5096 | W17: 28.7049 | X17: 28.1622 | Y17: 27.2047 | Z17: 26.8082 | AA17: 26.5887 | AB17: 26.3069 | AC17: 25.862 | AD17: 25.51 | AE17: 24.6445 | AF17: 24.2655 | AG17: 23.6266 | AH17: 24.2552 | AI17: 27.2642 | AJ17: 33.9659 | AK17: 32.2131 | AL17: 31.318 | AM17: 29.4644 | AN17: 29.8988 | AO17: 30.2389 | AP17: 30.6209 | AQ17: 30.713
B18: Myanmar | C18: 1.5427455 | D18: 6.58678 | E18: 6.75283 | F18: 6.69673 | G18: 6.69994 | H18: 6.8114 | I18: 6.65816 | J18: 6.42446 | K18: 6.39965 | L18: 6.21679 | M18: 6.09016 | N18: 6.10735 | O18: 5.89121 | P18: 5.72277 | Q18: 5.83085 | R18: 5.79841 | S18: 5.63173 | T18: 5.58368 | U18: 5.70473 | V18: 5.82442 | W18: 5.93114 | X18: 5.90655 | Y18: 5.77827 | Z18: 5.74089 | AA18: 5.70961 | AB18: 5.67316 | AC18: 5.61168 | AD18: 5.54642 | AE18: 5.40747 | AF18: 5.31694 | AG18: 5.23172 | AH18: 5.35181 | AI18: 5.64957 | AJ18: 5.68665 | AK18: 5.59892 | AL18: 5.44283 | AM18: 5.34952 | AN18: 5.51302 | AO18: 5.71753 | AP18: 5.61154 | AQ18: 5.46928
B19: Oman | C19: 1.3201415 | D19: 0.3845 | E19: 0.3845 | F19: 0.3845 | G19: 0.3845 | H19: 0.3845 | I19: 0.3845 | J19: 0.3845 | K19: 0.3845 | L19: 0.3845 | M19: 0.3845 | N19: 0.3845 | O19: 0.3845 | P19: 0.3845 | Q19: 0.3845 | R19: 0.3845 | S19: 0.3845 | T19: 0.3845 | U19: 0.3845 | V19: 0.3845 | W19: 0.3845 | X19: 0.3845 | Y19: 0.3845 | Z19: 0.3845 | AA19: 0.3845 | AB19: 0.3845 | AC19: 0.3845 | AD19: 0.3845 | AE19: 0.3845 | AF19: 0.3845 | AG19: 0.3845 | AH19: 0.3845 | AI19: 0.3845 | AJ19: 0.3845 | AK19: 0.3845 | AL19: 0.3845 | AM19: 0.3845 | AN19: 0.3845 | AO19: 0.3845 | AP19: 0.3845 | AQ19: 0.3845
B20: Philippines | C20: 1.3023455 | D20: 49.242 | E20: 50.7373 | F20: 52.154 | G20: 51.8373 | H20: 51.2525 | I20: 50.4107 | J20: 51.5062 | K20: 53.2449 | L20: 54.0764 | M20: 52.9044 | N20: 54.5762 | O20: 55.2563 | P20: 55.9662 | Q20: 55.9113 | R20: 56 | S20: 56.2821 | T20: 55.0064 | U20: 54.6706 | V20: 56.0382 | W20: 54.6267 | X20: 51.8843 | Y20: 52.2146 | Z20: 51.3869 | AA20: 49.7714 | AB20: 48.6043 | AC20: 46.9322 | AD20: 45.9434 | AE20: 43.1136 | AF20: 40.9539 | AG20: 43.0007 | AH20: 44.9034 | AI20: 48.4352 | AJ20: 47.9198 | AK20: 47.882 | AL20: 48.1487 | AM20: 46.7682 | AN20: 46.0272 | AO20: 45.5088 | AP20: 45.2721 | AQ20: 43.6305
B21: Thailand | C21: 1.2500686 | D21: 43.1703 | E21: 45.35 | F21: 44.906 | G21: 44.3013 | H21: 43.7014 | I21: 42.7506 | J21: 42.0182 | K21: 43.3701 | L21: 42.756 | M21: 42.1802 | N21: 41.269 | O21: 39.7333 | P21: 39.1662 | Q21: 40.2207 | R21: 41.2531 | S21: 40.2497 | T21: 38.5662 | U21: 40.0404 | V21: 41.2868 | W21: 40.9871 | X21: 39.2881 | Y21: 38.0707 | Z21: 37.643 | AA21: 36.5261 | AB21: 35.5442 | AC21: 34.6471 | AD21: 34.0075 | AE21: 33.874 | AF21: 32.3743 | AG21: 32.2494 | AH21: 33.8319 | AI21: 34.7976 | AJ21: 35.2913 | AK21: 34.6776 | AL21: 33.9152 | AM21: 33.2589 | AN21: 32.8479 | AO21: 32.3324 | AP21: 31.5874 | AQ21: 29.9751
B22: India | C22: 1.2350985 | D22: 46.5598 | E22: 46.9028 | F22: 47.3047 | G22: 47.9783 | H22: 48.5889 | I22: 48.9602 | J22: 48.5982 | K22: 48.294 | L22: 47.7716 | M22: 47.0594 | N22: 46.0032 | O22: 45.499 | P22: 45.248 | Q22: 44.8962 | R22: 46.1592 | S22: 44.9624 | T22: 43.7083 | U22: 43.6046 | V22: 43.6919 | W22: 45.3952 | X22: 44.4023 | Y22: 45.4708 | Z22: 46.3704 | AA22: 44.9845 | AB22: 44.1723 | AC22: 41.2344 | AD22: 40.525 | AE22: 39.4624 | AF22: 39.8208 | AG22: 41.6559 | AH22: 43.7796 | AI22: 48.7644 | AJ22: 49.7745 | AK22: 48.7891 | AL22: 48.4174 | AM22: 46.64 | AN22: 45.9281 | AO22: 45.6252 | AP22: 46.4875 | AQ22: 44.8625
... B25: China, Hong Kong SAR | C25: 0.99648937 | D25: 7.799 | E25: 7.798 | F25: 7.79867 | G25: 7.79933 | H25: 7.799 | I25: 7.799 | J25: 7.799 | K25: 7.79867 | L25: 7.79867 | M25: 7.79833 | N25: 7.79367 | O25: 7.75633 | P25: 7.777 | Q25: 7.796 | R25: 7.79933 | S25: 7.77967 | T25: 7.79767 | U25: 7.788 | V25: 7.76933 | W25: 7.75433 | X25: 7.757 | Y25: 7.75767 | Z25: 7.77633 | AA25: 7.78033 | AB25: 7.80767 | AC25: 7.81567 | AD25: 7.806 | AE25: 7.77633 | AF25: 7.79467 | AG25: 7.79967 | AH25: 7.79933 | AI25: 7.75367 | AJ25: 7.75433 | AK25: 7.751 | AL25: 7.75067 | AM25: 7.751 | AN25: 7.76367 | AO25: 7.779 | AP25: 7.77133 | AQ25: 7.76267
B26: Brazil | C26: 0.98994453 | D26: 2.01 | E26: 2.29 | F26: 2.55 | G26: 2.55 | H26: 2.38 | I26: 2.5 | J26: 3.13 | K26: 3.67 | L26: 3.49 | M26: 2.99 | N26: 2.93 | O26: 2.9 | P26: 2.9 | Q26: 3.04 | R26: 2.98 | S26: 2.78 | T26: 2.66 | U26: 2.48 | V26: 2.34 | W26: 2.25 | X26: 2.2 | Y26: 2.18 | Z26: 2.17 | AA26: 2.15 | AB26: 2.11 | AC26: 1.98 | AD26: 1.92 | AE26: 1.78 | AF26: 1.74 | AG26: 1.66 | AH26: 1.67 | AI26: 2.28 | AJ26: 2.32 | AK26: 2.08 | AL26: 1.87 | AM26: 1.74 | AN26: 1.8 | AO26: 1.79 | AP26: 1.75 | AQ26: 1.7 | AR26: 1.67 | AS26: 1.6 | AT26: 1.63 | AU26: 1.79
C27: =SUM(C4:C9,C11:C20,C22:C26) -> 84.592304
D29: Exchange Rate
D30: 2001Q1 | E30: 2001Q2 | F30: 2001Q3 | G30: 2001Q4 | H30: 2002Q1 | I30: 2002Q2 | J30: 2002Q3 | K30: 2002Q4 | L30: 2003Q1 | M30: 2003Q2 | N30: 2003Q3 | O30: 2003Q4 | P30: 2004Q1 | Q30: 2004Q2 | R30: 2004Q3 | S30: 2004Q4 | T30: 2005Q1 | U30: 2005Q2 | V30: 2005Q3 | W30: 2005Q4 | X30: 2006Q1 | Y30: 2006Q2 | Z30: 2006Q3 | AA30: 2006Q4 | AB30: 2007Q1 | AC30: 2007Q2 | AD30: 2007Q3 | AE30: 2007Q4 | AF30: 2008Q1 | AG30: 2008Q2 | AH30: 2008Q3 | AI30: 2008Q4 | AJ30: 2009Q1 | AK30: 2009Q2 | AL30: 2009Q3 | AM30: 2009Q4 | AN30: 2010Q1 | AO30: 2010Q2 | AP30: 2010Q3 | AQ30: 2010Q4
B31: Japan | C31: =C4/C$27 -> 0.24535577 | D31: =D$6/D4 -> 0.36558102 | E31: =E$6/E4 -> 0.36979052 | F31: =F$6/F4 -> 0.36888882 | G31: =G$6/G4 -> 0.35827221 | H31: =H$6/H4 -> 0.32991092 | I31: =I$6/I4 -> 0.33647905 | J31: =J$6/J4 -> 0.35267655 | K31: =K$6/K4 -> 0.35290288 | ... AQ31: =AQ$6/AQ4 -> 0.36300014
B32: China | C32: =C5/C$27 -> 0.15710187 | D32: =D$6/D5 -> 5.2154058 | E32: =E$6/E5 -> 5.4789522 | F32: =F$6/F5 -> 5.4259511 | G32: =G$6/G5 -> 5.3522777 | H32: =H$6/H5 -> 5.2798183 | I32: =I$6/I5 -> 5.1648649 | J32: =J$6/J5 -> 5.076829 | K32: =K$6/K5 -> 5.2397389 | ... AQ32: =AQ$6/AQ5 -> 4.5009271
B33: USA | C33: =C6/C$27 -> 0.069678718 | D33: =D6 -> 43.17 | E33: =E6 -> 45.35 | F33: =F6 -> 44.91 | G33: =G6 -> 44.3 | H33: =H6 -> 43.7 | I33: =I6 -> 42.75 | J33: =J6 -> 42.02 | K33: =K6 -> 43.37 | ... AQ33: =AQ6 -> 29.98
B34: Malaysia | C34: =C7/C$27 -> 0.069407239 | D34: =D$6/D7 -> 11.360526 | E34: =E$6/E7 -> 11.934211 | F34: =F$6/F7 -> 11.818421 | G34: =G$6/G7 -> 11.657895 | H34: =H$6/H7 -> 11.5 | I34: =I$6/I7 -> 11.25 | J34: =J$6/J7 -> 11.057895 | K34: =K$6/K7 -> 11.413158 | ... AQ34: =AQ$6/AQ7 -> 9.6255105
B35: United Arab Emirates | C35: =C8/C$27 -> 0.056094649 | D35: =D$6/D8 -> 11.754935 | E35: =E$6/E8 -> 12.348536 | F35: =F$6/F8 -> 12.228727 | G35: =G$6/G8 -> 12.062628 | H35: =H$6/H8 -> 11.899251 | I35: =I$6/I8 -> 11.640572 | J35: =J$6/J8 -> 11.441797 | K35: =K$6/K8 -> 11.809394 | ... AQ35: =AQ$6/AQ8 -> 8.1633764
B36: Rep. of Korea | C36: =C9/C$27 -> 0.052216531 | D36: =D$6/D9 -> 0.033943483 | E36: =E$6/E9 -> 0.034733924 | F36: =F$6/F9 -> 0.034699097 | G36: =G$6/G9 -> 0.034281292 | H36: =H$6/H9 -> 0.033109572 | I36: =I$6/I9 -> 0.033740854 | J36: =J$6/J9 -> 0.035085376 | K36: =K$6/K9 -> 0.035554135 | ... AQ36: =AQ$6/AQ9 -> 0.026479888
B37: Singapore | C37: =C11/C$27 -> 0.040794637 | D37: =D$6/D11 -> 24.66688 | E37: =E$6/E11 -> 25.006203 | F37: =F$6/F11 -> 25.259002 | G37: =G$6/G11 -> 24.270914 | H37: =H$6/H11 -> 23.841089 | I37: =I$6/I11 -> 23.697865 | J37: =J$6/J11 -> 23.908281 | K37: =K$6/K11 -> 24.532208 | ... AQ37: =AQ$6/AQ11 -> 23.00191
B38: Australia | C38: =C12/C$27 -> 0.038212613 | D38: =D$6/D12 -> 22.921921 | E38: =E$6/E12 -> 23.258796 | F38: =F$6/F12 -> 23.065782 | G38: =G$6/G12 -> 22.676317 | H38: =H$6/H12 -> 22.640845 | I38: =I$6/I12 -> 23.564235 | J38: =J$6/J12 -> 23.017469 | K38: =K$6/K12 -> 24.197283 | ... AQ38: =AQ$6/AQ12 -> 29.606952
B39: Indonesia | C39: =C13/C$27 -> 0.036786328 | D39: =D$6/D13 -> 0.0044142458 | E39: =E$6/E13 -> 0.0040340874 | F39: =F$6/F13 -> 0.0046712641 | G39: =G$6/G13 -> 0.0042563822 | H39: =H$6/H13 -> 0.0043021127 | I39: =I$6/I13 -> 0.0047099134 | J39: =J$6/J13 -> 0.0046919839 | K39: =K$6/K13 -> 0.0047897936 | ... AQ39: =AQ$6/AQ13 -> 0.0033443883
B40: Saudi Arabia | C40: =C14/C$27 -> 0.036593549 | D40: =D$6/D14 -> 11.512 | E40: =E$6/E14 -> 12.093333 | F40: =F$6/F14 -> 11.976 | G40: =G$6/G14 -> 11.813333 | H40: =H$6/H14 -> 11.653333 | I40: =I$6/I14 -> 11.4 | J40: =J$6/J14 -> 11.205333 | K40: =K$6/K14 -> 11.565333 | ... AQ40: =AQ$6/AQ14 -> 7.9946667
B41: Switzerland | C41: =C15/C$27 -> 0.033542898 | D41: =D$6/D15 -> 25.977543 | E41: =E$6/E15 -> 25.90496 | F41: =F$6/F15 -> 26.539573 | G41: =G$6/G15 -> 26.91651 | H41: =H$6/H15 -> 26.002773 | I41: =I$6/I15 -> 26.814612 | J41: =J$6/J15 -> 28.227675 | K41: =K$6/K15 -> 29.484547 | ... AQ41: =AQ$6/AQ15 -> 30.790309
B42: Germany | C42: =C16/C$27 -> 0.030003863 | D42: =D$6/D16 -> 20.368446 | E42: =E$6/E16 -> 20.234473 | F42: =F$6/F16 -> 20.436386 | G42: =G$6/G16 -> 20.280277 | H42: =H$6/H16 -> 19.578741 | I42: =I$6/I16 -> 20.073956 | J42: =J$6/J16 -> 21.130133 | K42: =K$6/K16 -> 22.100471 | ... AQ42: =AQ$6/AQ16 -> 20.822112
B43: Russian Federation | C43: =C17/C$27 -> 0.020900673 | D43: =D$6/D17 -> 1.5124337 | E43: =E$6/E17 -> 1.5641707 | F43: =F$6/F17 -> 1.5311758 | G43: =G$6/G17 -> 1.4862181 | H43: =H$6/H17 -> 1.4199607 | I43: =I$6/I17 -> 1.3669589 | J43: =J$6/J17 -> 1.3312086 | K43: =K$6/K17 -> 1.3647248 | ... AQ43: =AQ$6/AQ17 -> 0.97613388
B44: Myanmar | C44: =C18/C$27 -> 0.018237422 | D44: =D$6/D18 -> 6.554037 | E44: =E$6/E18 -> 6.7157029 | F44: =F$6/F18 -> 6.7062581 | G44: =G$6/G18 -> 6.6119995 | H44: =H$6/H18 -> 6.4157148 | I44: =I$6/I18 -> 6.4206928 | J44: =J$6/J18 -> 6.5406275 | K44: =K$6/K18 -> 6.7769331 | ... AQ44: =AQ$6/AQ18 -> 5.4815259
B45: Oman | C45: =C19/C$27 -> 0.015605929 | D45: =D$6/D19 -> 112.27568 | E45: =E$6/E19 -> 117.94538 | F45: =F$6/F19 -> 116.80104 | G45: =G$6/G19 -> 115.21456 | H45: =H$6/H19 -> 113.6541 | I45: =I$6/I19 -> 111.18336 | J45: =J$6/J19 -> 109.28479 | K45: =K$6/K19 -> 112.79584 | ... AQ45: =AQ$6/AQ19 -> 77.971391
B46: Philippines | C46: =C20/C$27 -> 0.015395555 | D46: =D$6/D20 -> 0.87669063 | E46: =E$6/E20 -> 0.89381973 | F46: =F$6/F20 -> 0.86110365 | G46: =G$6/G20 -> 0.85459698 | H46: =H$6/H20 -> 0.85264133 | I46: =I$6/I20 -> 0.84803425 | J46: =J$6/J20 -> 0.81582411 | K46: =K$6/K20 -> 0.81453811 | ... AQ46: =AQ$6/AQ20 -> 0.687134
B47: India | C47: =C22/C$27 -> 0.014600601 | D47: =D$6/D22 -> 0.9271947 | E47: =E$6/E22 -> 0.96689323 | F47: =F$6/F22 -> 0.94937712 | G47: =G$6/G22 -> 0.92333409 | H47: =H$6/H22 -> 0.89938237 | I47: =I$6/I22 -> 0.8731582 | J47: =J$6/J22 -> 0.86464108 | K47: =K$6/K22 -> 0.89804116 | ... AQ47: =AQ$6/AQ22 -> 0.66826414
B48: Qatar | C48: =C23/C$27 -> 0.013622967 | D48: =D$6/D23 -> 11.85989 | E48: =E$6/E23 -> 12.458791 | F48: =F$6/F23 -> 12.337912 | G48: =G$6/G23 -> 12.17033 | H48: =H$6/H23 -> 12.005495 | I48: =I$6/I23 -> 11.744505 | J48: =J$6/J23 -> 11.543956 | K48: =K$6/K23 -> 11.914835 | ... AQ48: =AQ$6/AQ23 -> 8.2362637
B49: United Kingdom | C49: =C24/C$27 -> 0.012365749 | D49: =D$6*D24 -> 63.0282 | E49: =E$6*E24 -> 64.397 | F49: =F$6*F24 -> 64.6704 | G49: =G$6*G24 -> 63.792 | H49: =H$6*H24 -> 62.491 | I49: =I$6*I24 -> 62.415 | J49: =J$6*J24 -> 65.131 | K49: =K$6*K24 -> 68.0909 | ... AQ49: =AQ$6*AQ24 -> 47.3684
B50: China, Hong Kong SAR | C50: =C25/C$27 -> 0.011779906 | D50: =D$6/D25 -> 5.535325 | E50: =E$6/E25 -> 5.8155937 | F50: =F$6/F25 -> 5.7586742 | G50: =G$6/G25 -> 5.6799751 | H50: =H$6/H25 -> 5.6032825 | I50: =I$6/I25 -> 5.481472 | J50: =J$6/J25 -> 5.3878702 | K50: =K$6/K25 -> 5.5612047 | ... AQ50: =AQ$6/AQ25 -> 3.8620732
B51: Brazil | C51: =C26/C$27 -> 0.011702536 | D51: =D$6/D26 -> 21.477612 | E51: =E$6/E26 -> 19.803493 | F51: =F$6/F26 -> 17.611765 | G51: =G$6/G26 -> 17.372549 | H51: =H$6/H26 -> 18.361345 | I51: =I$6/I26 -> 17.1 | J51: =J$6/J26 -> 13.42492 | K51: =K$6/K26 -> 11.817439 | ... AQ51: =AQ$6/AQ26 -> 17.635294
B53: NEER | D53: =D31^($C$31)*D32^($C$32)*D33^($C$33)*D34^($C$34)*D35^($C$35)*D36^($C$36)*D37^($C$37)*D38^($C$38)*D39^($C$39)*D40^($C$40)*D41^($C$41)*D42^($C$42)*D43^($C$43)*D44^($C$44)*D45^($C$45)*D46^($C$46)*D47^($C$47)*D48^($C$48)*D49^($C$49)*D50^($C$50)*D51^($C$51) -> 2.7174706 | E53: =E31^($C$31)*E32^($C$32)*E33^($C$33)*E34^($C$34)*E35^($C$35)*E36^($C$36)*E37^($C$37)*E38^($C$38)*E39^($C$39)*E40^($C$40)*E41^($C$41)*E42^($C$42)*E43^($C$43)*E44^($C$44)*E45^($C$45)*E46^($C$46)*E47^($C$47)*E48^($C$48)*E49^($C$49)*E50^($C$50)*E51^($C$51) -> 2.7836994 | F53: =F31^($C$31)*F32^($C$32)*F33^($C$33)*F34^($C$34)*F35^($C$35)*F36^($C$36)*F37^($C$37)*F38^($C$38)*F39^($C$39)*F40^($C$40)*F41^($C$41)*F42^($C$42)*F43^($C$43)*F44^($C$44)*F45^($C$45)*F46^($C$46)*F47^($C$47)*F48^($C$48)*F49^($C$49)*F50^($C$50)*F51^($C$51) -> 2.781264 | G53: =G31^($C$31)*G32^($C$32)*G33^($C$33)*G34^($C$34)*G35^($C$35)*G36^($C$36)*G37^($C$37)*G38^($C$38)*G39^($C$39)*G40^($C$40)*G41^($C$41)*G42^($C$42)*G43^($C$43)*G44^($C$44)*G45^($C$45)*G46^($C$46)*G47^($C$47)*G48^($C$48)*G49^($C$49)*G50^($C$50)*G51^($C$51) -> 2.723829 | H53: =H31^($C$31)*H32^($C$32)*H33^($C$33)*H34^($C$34)*H35^($C$35)*H36^($C$36)*H37^($C$37)*H38^($C$38)*H39^($C$39)*H40^($C$40)*H41^($C$41)*H42^($C$42)*H43^($C$43)*H44^($C$44)*H45^($C$45)*H46^($C$46)*H47^($C$47)*H48^($C$48)*H49^($C$49)*H50^($C$50)*H51^($C$51) -> 2.6379133 | I53: =I31^($C$31)*I32^($C$32)*I33^($C$33)*I34^($C$34)*I35^($C$35)*I36^($C$36)*I37^($C$37)*I38^($C$38)*I39^($C$39)*I40^($C$40)*I41^($C$41)*I42^($C$42)*I43^($C$43)*I44^($C$44)*I45^($C$45)*I46^($C$46)*I47^($C$47)*I48^($C$48)*I49^($C$49)*I50^($C$50)*I51^($C$51) -> 2.6395463 | J53: =J31^($C$31)*J32^($C$32)*J33^($C$33)*J34^($C$34)*J35^($C$35)*J36^($C$36)*J37^($C$37)*J38^($C$38)*J39^($C$39)*J40^($C$40)*J41^($C$41)*J42^($C$42)*J43^($C$43)*J44^($C$44)*J45^($C$45)*J46^($C$46)*J47^($C$47)*J48^($C$48)*J49^($C$49)*J50^($C$50)*J51^($C$51) -> 2.6541052 | K53: =K31^($C$31)*K32^($C$32)*K33^($C$33)*K34^($C$34)*K35^($C$35)*K36^($C$36)*K37^($C$37)*K38^($C$38)*K39^($C$39)*K40^($C$40)*K41^($C$41)*K42^($C$42)*K43^($C$43)*K44^($C$44)*K45^($C$45)*K46^($C$46)*K47^($C$47)*K48^($C$48)*K49^($C$49)*K50^($C$50)*K51^($C$51) -> 2.7123844 | ... AQ53: =AQ31^($C$31)*AQ32^($C$32)*AQ33^($C$33)*AQ34^($C$34)*AQ35^($C$35)*AQ36^($C$36)*AQ37^($C$37)*AQ38^($C$38)*AQ39^($C$39)*AQ40^($C$40)*AQ41^($C$41)*AQ42^($C$42)*AQ43^($C$43)*AQ44^($C$44)*AQ45^($C$45)*AQ46^($C$46)*AQ47^($C$47)*AQ48^($C$48)*AQ49^($C$49)*AQ50^($C$50)*AQ51^($C$51) -> 2.3456156
B54: NEER Index (2001Q1 =100) | D54: =D53/$D53*100 -> 100 | E54: =E53/$D53*100 -> 102.43715 | F54: =F53/$D53*100 -> 102.34753 | G54: =G53/$D53*100 -> 100.23398 | H54: =H53/$D53*100 -> 97.072379 | I54: =I53/$D53*100 -> 97.132472 | J54: =J53/$D53*100 -> 97.66822 | K54: =K53/$D53*100 -> 99.812835 | ... AQ54: =AQ53/$D53*100 -> 86.316137

Sheet Q6
D2: CPI
D3: 2001Q1 | E3: 2001Q2 | F3: 2001Q3 | G3: 2001Q4 | H3: 2002Q1 | I3: 2002Q2 | J3: 2002Q3 | K3: 2002Q4 | L3: 2003Q1 | M3: 2003Q2 | N3: 2003Q3 | O3: 2003Q4 | P3: 2004Q1 | Q3: 2004Q2 | R3: 2004Q3 | S3: 2004Q4 | T3: 2005Q1 | U3: 2005Q2 | V3: 2005Q3 | W3: 2005Q4 | X3: 2006Q1 | Y3: 2006Q2 | Z3: 2006Q3 | AA3: 2006Q4 | AB3: 2007Q1 | AC3: 2007Q2 | AD3: 2007Q3 | AE3: 2007Q4 | AF3: 2008Q1 | AG3: 2008Q2 | AH3: 2008Q3 | AI3: 2008Q4 | AJ3: 2009Q1 | AK3: 2009Q2 | AL3: 2009Q3 | AM3: 2009Q4 | AN3: 2010Q1 | AO3: 2010Q2 | AP3: 2010Q3 | AQ3: 2010Q4
B4: China | C4: 10.994331 | D4: 0.663301 | E4: 1.56674 | F4: 0.799121 | G4: -0.135633 | H4: -0.599376 | I4: -1.0689 | J4: -0.766827 | K4: -0.632466 | L4: 0.496979 | M4: 0.669229 | N4: 0.832668 | O4: 2.67204 | P4: 2.76465 | Q4: 4.39409 | R4: 5.26684 | S4: 3.15468 | T4: 2.83181 | U4: 1.7338 | V4: 1.3338 | W4: 1.36752 | X4: 1.19958 | Y4: 1.36561 | Z4: 1.26572 | AA4: 2.03752 | AB4: 2.72995 | AC4: 3.59632 | AD4: 6.10079 | AE4: 6.63364 | AF4: 8.03457 | AG4: 7.76765 | AH4: 5.26516 | AI4: 2.45018 | AJ4: -0.608552 | AK4: -1.49999 | AL4: -1.33645 | AM4: 0.667903 | AN4: 2.19832 | AO4: 2.93294 | AP4: 3.46652 | AQ4: 4.70164
B5: Japan | C5: 10.452897 | D5: 101.743 | E5: 101.643 | F5: 101.378 | G5: 101.012 | H5: 100.316 | I5: 100.747 | J5: 100.581 | K5: 100.481 | L5: 100.083 | M5: 100.515 | N5: 100.349 | O5: 100.183 | P5: 99.9502 | Q5: 100.216 | R5: 100.249 | S5: 100.68 | T5: 99.9834 | U5: 100.116 | V5: 99.9502 | W5: 99.9502 | X5: 99.8506 | Y5: 100.282 | Z5: 100.548 | AA5: 100.282 | AB5: 99.751 | AC5: 100.216 | AD5: 100.415 | AE5: 100.813 | AF5: 100.714 | AG5: 101.577 | AH5: 102.573 | AI5: 101.842 | AJ5: 100.581 | AK5: 100.581 | AL5: 100.282 | AM5: 99.7842 | AN5: 99.7178 | AO5: 99.8506 | AP5: 99.2863 | AQ5: 99.4855
B6: USA | C6: 10.358069 | D6: 89.968 | E6: 90.9068 | F6: 91.0262 | G6: 90.7702 | H6: 91.0945 | I6: 92.0845 | J6: 92.4771 | K6: 92.7672 | L6: 93.706 | M6: 94.0474 | N6: 94.5082 | O6: 94.5253 | P6: 95.3787 | Q6: 96.7442 | R6: 97.0856 | S6: 97.6659 | T6: 98.2803 | U6: 99.5946 | V6: 100.806 | W6: 101.319 | X6: 101.865 | Y6: 103.589 | Z6: 104.169 | AA6: 103.281 | AB6: 104.334 | AC6: 106.334 | AD6: 106.628 | AE6: 107.386 | AF6: 108.607 | AG6: 110.991 | AH6: 112.282 | AI6: 109.106 | AJ6: 108.563 | AK6: 109.714 | AL6: 110.459 | AM6: 110.682 | AN6: 111.126 | AO6: 111.654 | AP6: 111.758 | AQ6: 112.088
B7: China, Hong Kong SAR | C7: 6.7235139 | D7: 105.66 | E7: 105.882 | F7: 105.549 | G7: 104.44 | H7: 102.886 | I7: 102.442 | J7: 101.887 | K7: 101.332 | L7: 100.888 | M7: 100 | N7: 98.1132 | O7: 99.0011 | P7: 99.1121 | Q7: 99.1121 | R7: 98.8901 | S7: 99.4451 | T7: 99.4451 | U7: 99.778 | V7: 100.111 | W7: 100.777 | X7: 100.999 | Y7: 101.887 | Z7: 102.442 | AA7: 102.886 | AB7: 102.664 | AC7: 103.219 | AD7: 104.107 | AE7: 106.437 | AF7: 107.436 | AG7: 109.101 | AH7: 108.879 | AI7: 108.879 | AJ7: 109.212 | AK7: 108.99 | AL7: 107.88 | AM7: 110.655 | AN7: 111.543 | AO7: 112.098 | AP7: 109.656 | AQ7: 113.651
B8: Malaysia | C8: 5.4101691 | D8: 92.9188 | E8: 92.9799 | F8: 92.9188 | G8: 93.3776 | H8: 94.2645 | I8: 94.7845 | J8: 94.8457 | K8: 95.0292 | L8: 95.488 | M8: 95.6409 | N8: 95.7938 | O8: 95.7632 | P8: 96.3749 | Q8: 96.742 | R8: 97.2007 | S8: 98.1795 | T8: 98.6913 | U8: 99.5249 | V8: 100.458 | W8: 101.325 | X8: 102.392 | Y8: 103.626 | Z8: 104.026 | AA8: 104.393 | AB8: 105.093 | AC8: 105.16 | AD8: 105.893 | AE8: 106.693 | AF8: 107.794 | AG8: 110.261 | AH8: 114.795 | AI8: 112.995 | AJ8: 111.795 | AK8: 111.695 | AL8: 112.161 | AM8: 112.795 | AN8: 113.325 | AO8: 113.515 | AP8: 114.276 | AQ8: 114.998
B9: Australia | C9: 4.7972512 | D9: 89.0156 | E9: 89.7535 | F9: 90.0218 | G9: 90.8268 | H9: 91.6317 | I9: 92.3025 | J9: 92.9063 | K9: 93.5771 | L9: 94.7845 | M9: 94.7845 | N9: 95.3211 | O9: 95.7907 | P9: 96.6628 | Q9: 97.1323 | R9: 97.5348 | S9: 98.2727 | T9: 98.9435 | U9: 99.5472 | V9: 100.486 | W9: 101.023 | X9: 101.895 | Y9: 103.505 | Z9: 104.444 | AA9: 104.31 | AB9: 104.377 | AC9: 105.652 | AD9: 106.389 | AE9: 107.396 | AF9: 108.804 | AG9: 110.414 | AH9: 111.689 | AI9: 111.353 | AJ9: 111.488 | AK9: 112.024 | AL9: 113.097 | AM9: 113.701 | AN9: 114.707 | AO9: 115.445 | AP9: 116.25 | AQ9: 116.72
B10: Singapore | C10: 4.6128643 | D10: 98.0359 | E10: 97.9401 | F10: 97.9401 | G10: 97.4292 | H10: 97.2056 | I10: 97.525 | J10: 97.525 | K10: 97.5569 | L10: 97.8762 | M10: 97.7166 | N10: 98.004 | O10: 98.1956 | P10: 99.1036 | Q10: 99.5352 | R10: 99.8672 | S10: 99.8008 | T10: 99.336 | U10: 99.5817 | V10: 100.332 | W10: 100.93 | X10: 100.697 | Y10: 100.797 | Z10: 101.096 | AA10: 101.494 | AB10: 101.228 | AC10: 101.76 | AD10: 103.884 | AE10: 105.677 | AF10: 107.968 | AG10: 109.363 | AH10: 110.657 | AI10: 111.355 | AJ10: 110.745 | AK10: 109.64 | AL10: 110.634 | AM10: 110.966 | AN10: 111.739 | AO10: 113.066 | AP10: 114.315 | AQ10: 115.387
B11: Indonesia | C11: 3.7614639 | D11: 68.2927 | E11: 70.1195 | F11: 72.7225 | G11: 74.7148 | H11: 78.223 | I11: 78.9241 | J11: 80.2662 | K11: 82.3916 | L11: 84.2814 | M11: 84.4519 | N11: 85.1709 | O11: 86.9622 | P11: 88.3959 | Q11: 90.1387 | R11: 91.1007 | S11: 92.5131 | T11: 95.2312 | U11: 97.03 | V11: 98.7648 | W11: 108.974 | X11: 111.341 | Y11: 112.079 | Z11: 113.447 | AA11: 115.57 | AB11: 118.671 | AC11: 119.124 | AD11: 120.753 | AE11: 122.879 | AF11: 126.41 | AG11: 129.872 | AH11: 135.2 | AI11: 137.013 | AJ11: 137.234 | AK11: 137.202 | AL11: 138.939 | AM11: 140.56 | AN11: 142.245 | AO11: 143.199 | AP11: 147.484 | AQ11: 149.438
B12: Viet Nam | C12: 2.9928875 | D12: 80.4518 | E12: 79.6692 | F12: 79.6244 | G12: 80.1164 | H12: 82.5042 | I12: 82.8765 | J12: 83.0457 | K12: 83.6887 | L12: 85.7191 | M12: 85.8545 | N12: 85.3807 | O12: 85.8545 | P12: 89.4078 | Q12: 91.9797 | R12: 93.6717 | S12: 94.3486 | T12: 97.4958 | U12: 99.3909 | V12: 100.745 | W12: 102.369 | X12: 105.584 | Y12: 106.734 | Z12: 107.986 | AA12: 109.239 | AB12: 112.487 | AC12: 114.585 | AD12: 117.259 | AE12: 120.88 | AF12: 130.931 | AG12: 142.673 | AH12: 149.78 | AI12: 149.374 | AJ12: 151.265 | AK12: 152.243 | AL12: 153.408 | AM12: 156.24 | AN12: 162.61 | AO12: 165.117 | AP12: 166.584 | AQ12: 173.181
B13: Philippines | C13: 2.5017159 | D13: 81.0734 | E13: 81.6898 | F13: 82.8711 | G13: 83.359 | H13: 83.8983 | I13: 84.3862 | J13: 85.1567 | K13: 85.4391 | L13: 86.6461 | M13: 87.3909 | N13: 88.2383 | O13: 88.6749 | P13: 89.9589 | Q13: 91.4997 | R13: 94.2732 | S13: 95.8911 | T13: 97.5603 | U13: 98.9728 | V13: 100.976 | W13: 102.542 | X13: 104.7 | Y13: 105.804 | Z13: 107.165 | AA13: 107.473 | AB13: 107.704 | AC13: 108.32 | AD13: 109.861 | AE13: 111.017 | AF13: 113.713 | AG13: 118.875 | AH13: 123.267 | AI13: 121.726 | AJ13: 121.572 | AK13: 122.573 | AL13: 123.575 | AM13: 125.27 | AN13: 126.733 | AO13: 127.812 | AP13: 128.351 | AQ13: 128.968
B14: India | C14: 2.249522 | D14: 82.898 | E14: 84.3284 | F14: 86.6915 | G14: 87.3134 | H14: 87.1269 | I14: 88.1219 | J14: 90.1741 | K14: 90.796 | L14: 90.4229 | M14: 92.2886 | N14: 93.2214 | O14: 93.8433 | P14: 94.0299 | Q14: 94.7761 | R14: 97.1393 | S14: 97.7612 | T14: 98.01 | U14: 98.5697 | V14: 100.746 | W14: 102.674 | X14: 102.76 | Y14: 104.775 | Z14: 107.363 | AA14: 109.669 | AB14: 109.954 | AC14: 111.396 | AD14: 114.565 | AE14: 115.713 | AF14: 116.862 | AG14: 120.031 | AH14: 124.927 | AI14: 127.518 | AJ14: 127.803 | AK14: 130.679 | AL14: 139.607 | AM14: 144.495 | AN14: 147.379 | AO14: 148.528 | AP14: 153.994 | AQ14: 157.742
B15: Switzerland | C15: 2.1633016 | D15: 96.3837 | E15: 97.1212 | F15: 96.9529 | G15: 96.7828 | H15: 96.9251 | I15: 97.7907 | J15: 97.2489 | K15: 97.7647 | L15: 97.9381 | M15: 98.3234 | N15: 97.6828 | O15: 98.273 | P15: 97.9921 | Q15: 99.1747 | R15: 98.5699 | S15: 99.6298 | T15: 99.3171 | U15: 100.225 | V15: 99.7351 | W15: 100.723 | X15: 100.543 | Y15: 101.554 | Z15: 100.954 | AA15: 101.185 | AB15: 100.632 | AC15: 102.087 | AD15: 101.594 | AE15: 102.884 | AF15: 103.119 | AG15: 104.828 | AH15: 104.617 | AI15: 104.513 | AJ15: 103.102 | AK15: 104.044 | AL15: 103.602 | AM15: 104.326 | AN15: 104.284 | AO15: 105.087 | AP15: 103.934 | AQ15: 104.668
... B19: Germany | C19: 1.6906865 | D19: 93.8 | E19: 94.6667 | F19: 94.8667 | G19: 94.7667 | H19: 95.6667 | I19: 95.8667 | J19: 95.9667 | K19: 95.9 | L19: 96.7667 | M19: 96.6667 | N19: 96.9667 | O19: 97 | P19: 97.7333 | Q19: 98.4333 | R19: 98.7333 | S19: 98.9667 | T19: 99.3333 | U19: 99.6667 | V19: 100.4 | W19: 100.6 | X19: 100.967 | Y19: 101.567 | Z19: 101.833 | AA19: 101.933 | AB19: 102.8 | AC19: 103.6 | AD19: 104.167 | AE19: 105.033 | AF19: 105.8 | AG19: 106.6 | AH19: 107.367 | AI19: 106.767 | AJ19: 106.667 | AK19: 106.867 | AL19: 107.1 | AM19: 107.233 | AN19: 107.533 | AO19: 108 | AP19: 108.367 | AQ19: 108.833
B20: Other Asia, nes | C20: 1.65414 | D20: n.a. | E20: n.a. | F20: n.a. | G20: n.a. | H20: n.a. | I20: n.a. | J20: n.a. | K20: n.a. | L20: n.a. | M20: n.a. | N20: n.a. | O20: n.a. | P20: n.a. | Q20: n.a. | R20: n.a. | S20: n.a. | T20: n.a. | U20: n.a. | V20: n.a. | W20: n.a. | X20: n.a. | Y20: n.a. | Z20: n.a. | AA20: n.a. | AB20: n.a. | AC20: n.a. | AD20: n.a. | AE20: n.a. | AF20: n.a. | AG20: n.a. | AH20: n.a. | AI20: n.a. | AJ20: n.a. | AK20: n.a. | AL20: n.a. | AM20: n.a. | AN20: n.a. | AO20: n.a. | AP20: n.a. | AQ20: n.a.
B21: United Arab Emirates | C21: 1.4559131 | D21: n.a. | E21: n.a. | F21: n.a. | G21: n.a. | H21: n.a. | I21: n.a. | J21: n.a. | K21: n.a. | L21: n.a. | M21: n.a. | N21: n.a. | O21: n.a. | P21: n.a. | Q21: n.a. | R21: n.a. | S21: n.a. | T21: n.a. | U21: n.a. | V21: n.a. | W21: n.a. | X21: n.a. | Y21: n.a. | Z21: n.a. | AA21: n.a. | AB21: n.a. | AC21: n.a. | AD21: n.a. | AE21: n.a. | AF21: n.a. | AG21: n.a. | AH21: n.a. | AI21: n.a. | AJ21: n.a. | AK21: n.a. | AL21: n.a. | AM21: n.a. | AN21: n.a. | AO21: n.a. | AP21: n.a. | AQ21: n.a.
B22: Cambodia | C22: 1.1991583 | D22: 85.804 | E22: 86.1145 | F22: 87.0891 | G22: 87.4082 | H22: 88.7221 | I22: 88.9636 | J22: 89.8088 | K22: 90.0935 | L22: 90.3876 | M22: 90.4605 | N22: 90.568 | O22: 90.4987 | P22: 90.8836 | Q22: 92.5787 | R22: 97.2034 | S22: 95.4535 | T22: 95.5967 | U22: 98.8862 | V22: 102.167 | W22: 103.35 | X22: 103.352 | Y22: 104.657 | Z22: 108.343 | AA22: 108.221 | AB22: 108.193 | AC22: 110.665 | AD22: 116.711 | AE22: 121.563 | AF22: 130.477 | AG22: 147.552 | AH22: 150.224 | AI22: 143.147 | AJ22: 136.152 | AK22: 140.406 | AL22: 145.64 | AM22: 145.424 | AN22: 145.625 | AO22: 146.174 | AP22: 148.209 | AQ22: 150.297
B23: Lao People's Dem. Rep. | C23: 1.0936044 | D23: 63.635 | E23: 65.4739 | F23: 67.5394 | G23: 67.8185 | H23: 68.209 | I23: 70.5329 | J23: 76.203 | K23: 77.6384 | L23: 79.3228 | M23: 82.9275 | N23: 87.4602 | O23: 88.192 | P23: 89.2125 | Q23: 93.1416 | R23: 95.7955 | S23: 95.1052 | T23: 95.622 | U23: 98.6702 | V23: 102.048 | W23: 103.659 | X23: 103.544 | Y23: 106.693 | Z23: 108.89 | AA23: 108.089 | AB23: 108.739 | AC23: 110.417 | AD23: 113.013 | AE23: 114.36 | AF23: 116.076 | AG23: 121.168 | AH23: 123.557 | AI23: 119.794 | AJ23: 117.902 | AK23: 119.698 | AL23: 121.278 | AM23: 121.887 | AN23: 123.324 | AO23: 125.504 | AP23: 130.551 | AQ23: 130.147
B24: Saudi Arabia | C24: 1.0844348 | D24: 98.5022 | E24: 98.3014 | F24: 97.8998 | G24: 98.0002 | H24: 98.3014 | I24: 98.1006 | J24: 98.5022 | K24: 98.703 | L24: 98.703 | M24: 98.703 | N24: 99.3055 | O24: 99.2051 | P24: 99.7071 | Q24: 99.1047 | R24: 99.5398 | S24: 99.7406 | T24: 99.6402 | U24: 99.4728 | V24: 100.042 | W24: 100.845 | X24: 101.381 | Y24: 101.715 | Z24: 102.117 | AA24: 103.623 | AB24: 104.56 | AC24: 104.728 | AD24: 106.806 | AE24: 109.778 | AF24: 113.363 | AG24: 115.702 | AH24: 118.313 | AI24: 120.522 | AJ24: 121.195 | AK24: 121.827 | AL24: 123.303 | AM24: 125.211 | AN24: 126.617 | AO24: 128.224 | AP24: 130.734 | AQ24: 132.31
B25: Myanmar | C25: 1.0613583 | D25: 33.7408 | E25: 37.709 | F25: 43.4217 | G25: 48.2026 | H25: 51.7789 | I25: 59.015 | J25: 68.5406 | K25: 76.8135 | L25: 81.976 | M25: 87.2634 | N25: 89.4613 | O25: 91.171 | P25: 89.8532 | Q25: 89.3148 | R25: 92.0695 | S25: 94.4981 | T25: 95.3433 | U25: 97.2646 | V25: 100.258 | W25: 107.134 | X25: 106.443 | Y25: 113.154 | Z25: 124.744 | AA25: 135.645 | AB25: 145.79 | AC25: 157.108 | AD25: 168.405 | AE25: 176.796 | AF25: 196.073 | AG25: 202.51 | AH25: 211.917 | AI25: 211.287 | AJ25: 202.803 | AK25: 205.524 | AL25: 211.614 | AM25: 213.946 | AN25: 216.037 | AO25: 223.416 | AP25: 227.074 | AQ25: 231.722
C26: =SUM(C5:C19,C22:C25) -> 67.739994
D28: CPI
D29: 2001Q1 | E29: 2001Q2 | F29: 2001Q3 | G29: 2001Q4 | H29: 2002Q1 | I29: 2002Q2 | J29: 2002Q3 | K29: 2002Q4 | L29: 2003Q1 | M29: 2003Q2 | N29: 2003Q3 | O29: 2003Q4 | P29: 2004Q1 | Q29: 2004Q2 | R29: 2004Q3 | S29: 2004Q4 | T29: 2005Q1 | U29: 2005Q2 | V29: 2005Q3 | W29: 2005Q4 | X29: 2006Q1 | Y29: 2006Q2 | Z29: 2006Q3 | AA29: 2006Q4 | AB29: 2007Q1 | AC29: 2007Q2 | AD29: 2007Q3 | AE29: 2007Q4 | AF29: 2008Q1 | AG29: 2008Q2 | AH29: 2008Q3 | AI29: 2008Q4 | AJ29: 2009Q1 | AK29: 2009Q2 | AL29: 2009Q3 | AM29: 2009Q4 | AN29: 2010Q1 | AO29: 2010Q2 | AP29: 2010Q3 | AQ29: 2010Q4
B30: Japan | C30: =C5/C$26 -> 0.15430909 | D30: 101.743 | E30: 101.643 | F30: 101.378 | G30: 101.012 | H30: 100.316 | I30: 100.747 | J30: 100.581 | K30: 100.481 | L30: 100.083 | M30: 100.515 | N30: 100.349 | O30: 100.183 | P30: 99.9502 | Q30: 100.216 | R30: 100.249 | S30: 100.68 | T30: 99.9834 | U30: 100.116 | V30: 99.9502 | W30: 99.9502 | X30: 99.8506 | Y30: 100.282 | Z30: 100.548 | AA30: 100.282 | AB30: 99.751 | AC30: 100.216 | AD30: 100.415 | AE30: 100.813 | AF30: 100.714 | AG30: 101.577 | AH30: 102.573 | AI30: 101.842 | AJ30: 100.581 | AK30: 100.581 | AL30: 100.282 | AM30: 99.7842 | AN30: 99.7178 | AO30: 99.8506 | AP30: 99.2863 | AQ30: 99.4855
B31: USA | C31: =C6/C$26 -> 0.15290921 | D31: 89.968 | E31: 90.9068 | F31: 91.0262 | G31: 90.7702 | H31: 91.0945 | I31: 92.0845 | J31: 92.4771 | K31: 92.7672 | L31: 93.706 | M31: 94.0474 | N31: 94.5082 | O31: 94.5253 | P31: 95.3787 | Q31: 96.7442 | R31: 97.0856 | S31: 97.6659 | T31: 98.2803 | U31: 99.5946 | V31: 100.806 | W31: 101.319 | X31: 101.865 | Y31: 103.589 | Z31: 104.169 | AA31: 103.281 | AB31: 104.334 | AC31: 106.334 | AD31: 106.628 | AE31: 107.386 | AF31: 108.607 | AG31: 110.991 | AH31: 112.282 | AI31: 109.106 | AJ31: 108.563 | AK31: 109.714 | AL31: 110.459 | AM31: 110.682 | AN31: 111.126 | AO31: 111.654 | AP31: 111.758 | AQ31: 112.088
B32: China, Hong Kong SAR | C32: =C7/C$26 -> 0.099254717 | D32: 105.66 | E32: 105.882 | F32: 105.549 | G32: 104.44 | H32: 102.886 | I32: 102.442 | J32: 101.887 | K32: 101.332 | L32: 100.888 | M32: 100 | N32: 98.1132 | O32: 99.0011 | P32: 99.1121 | Q32: 99.1121 | R32: 98.8901 | S32: 99.4451 | T32: 99.4451 | U32: 99.778 | V32: 100.111 | W32: 100.777 | X32: 100.999 | Y32: 101.887 | Z32: 102.442 | AA32: 102.886 | AB32: 102.664 | AC32: 103.219 | AD32: 104.107 | AE32: 106.437 | AF32: 107.436 | AG32: 109.101 | AH32: 108.879 | AI32: 108.879 | AJ32: 109.212 | AK32: 108.99 | AL32: 107.88 | AM32: 110.655 | AN32: 111.543 | AO32: 112.098 | AP32: 109.656 | AQ32: 113.651
B33: Malaysia | C33: =C8/C$26 -> 0.079866691 | D33: 92.9188 | E33: 92.9799 | F33: 92.9188 | G33: 93.3776 | H33: 94.2645 | I33: 94.7845 | J33: 94.8457 | K33: 95.0292 | L33: 95.488 | M33: 95.6409 | N33: 95.7938 | O33: 95.7632 | P33: 96.3749 | Q33: 96.742 | R33: 97.2007 | S33: 98.1795 | T33: 98.6913 | U33: 99.5249 | V33: 100.458 | W33: 101.325 | X33: 102.392 | Y33: 103.626 | Z33: 104.026 | AA33: 104.393 | AB33: 105.093 | AC33: 105.16 | AD33: 105.893 | AE33: 106.693 | AF33: 107.794 | AG33: 110.261 | AH33: 114.795 | AI33: 112.995 | AJ33: 111.795 | AK33: 111.695 | AL33: 112.161 | AM33: 112.795 | AN33: 113.325 | AO33: 113.515 | AP33: 114.276 | AQ33: 114.998
B34: Australia | C34: =C9/C$26 -> 0.070818595 | D34: 89.0156 | E34: 89.7535 | F34: 90.0218 | G34: 90.8268 | H34: 91.6317 | I34: 92.3025 | J34: 92.9063 | K34: 93.5771 | L34: 94.7845 | M34: 94.7845 | N34: 95.3211 | O34: 95.7907 | P34: 96.6628 | Q34: 97.1323 | R34: 97.5348 | S34: 98.2727 | T34: 98.9435 | U34: 99.5472 | V34: 100.486 | W34: 101.023 | X34: 101.895 | Y34: 103.505 | Z34: 104.444 | AA34: 104.31 | AB34: 104.377 | AC34: 105.652 | AD34: 106.389 | AE34: 107.396 | AF34: 108.804 | AG34: 110.414 | AH34: 111.689 | AI34: 111.353 | AJ34: 111.488 | AK34: 112.024 | AL34: 113.097 | AM34: 113.701 | AN34: 114.707 | AO34: 115.445 | AP34: 116.25 | AQ34: 116.72
B35: Singapore | C35: =C10/C$26 -> 0.068096615 | D35: 98.0359 | E35: 97.9401 | F35: 97.9401 | G35: 97.4292 | H35: 97.2056 | I35: 97.525 | J35: 97.525 | K35: 97.5569 | L35: 97.8762 | M35: 97.7166 | N35: 98.004 | O35: 98.1956 | P35: 99.1036 | Q35: 99.5352 | R35: 99.8672 | S35: 99.8008 | T35: 99.336 | U35: 99.5817 | V35: 100.332 | W35: 100.93 | X35: 100.697 | Y35: 100.797 | Z35: 101.096 | AA35: 101.494 | AB35: 101.228 | AC35: 101.76 | AD35: 103.884 | AE35: 105.677 | AF35: 107.968 | AG35: 109.363 | AH35: 110.657 | AI35: 111.355 | AJ35: 110.745 | AK35: 109.64 | AL35: 110.634 | AM35: 110.966 | AN35: 111.739 | AO35: 113.066 | AP35: 114.315 | AQ35: 115.387
B36: Indonesia | C36: =C11/C$26 -> 0.055527964 | D36: 68.2927 | E36: 70.1195 | F36: 72.7225 | G36: 74.7148 | H36: 78.223 | I36: 78.9241 | J36: 80.2662 | K36: 82.3916 | L36: 84.2814 | M36: 84.4519 | N36: 85.1709 | O36: 86.9622 | P36: 88.3959 | Q36: 90.1387 | R36: 91.1007 | S36: 92.5131 | T36: 95.2312 | U36: 97.03 | V36: 98.7648 | W36: 108.974 | X36: 111.341 | Y36: 112.079 | Z36: 113.447 | AA36: 115.57 | AB36: 118.671 | AC36: 119.124 | AD36: 120.753 | AE36: 122.879 | AF36: 126.41 | AG36: 129.872 | AH36: 135.2 | AI36: 137.013 | AJ36: 137.234 | AK36: 137.202 | AL36: 138.939 | AM36: 140.56 | AN36: 142.245 | AO36: 143.199 | AP36: 147.484 | AQ36: 149.438
B37: Viet Nam | C37: =C12/C$26 -> 0.044181987 | D37: 80.4518 | E37: 79.6692 | F37: 79.6244 | G37: 80.1164 | H37: 82.5042 | I37: 82.8765 | J37: 83.0457 | K37: 83.6887 | L37: 85.7191 | M37: 85.8545 | N37: 85.3807 | O37: 85.8545 | P37: 89.4078 | Q37: 91.9797 | R37: 93.6717 | S37: 94.3486 | T37: 97.4958 | U37: 99.3909 | V37: 100.745 | W37: 102.369 | X37: 105.584 | Y37: 106.734 | Z37: 107.986 | AA37: 109.239 | AB37: 112.487 | AC37: 114.585 | AD37: 117.259 | AE37: 120.88 | AF37: 130.931 | AG37: 142.673 | AH37: 149.78 | AI37: 149.374 | AJ37: 151.265 | AK37: 152.243 | AL37: 153.408 | AM37: 156.24 | AN37: 162.61 | AO37: 165.117 | AP37: 166.584 | AQ37: 173.181
B38: Philippines | C38: =C13/C$26 -> 0.03693115 | D38: 81.0734 | E38: 81.6898 | F38: 82.8711 | G38: 83.359 | H38: 83.8983 | I38: 84.3862 | J38: 85.1567 | K38: 85.4391 | L38: 86.6461 | M38: 87.3909 | N38: 88.2383 | O38: 88.6749 | P38: 89.9589 | Q38: 91.4997 | R38: 94.2732 | S38: 95.8911 | T38: 97.5603 | U38: 98.9728 | V38: 100.976 | W38: 102.542 | X38: 104.7 | Y38: 105.804 | Z38: 107.165 | AA38: 107.473 | AB38: 107.704 | AC38: 108.32 | AD38: 109.861 | AE38: 111.017 | AF38: 113.713 | AG38: 118.875 | AH38: 123.267 | AI38: 121.726 | AJ38: 121.572 | AK38: 122.573 | AL38: 123.575 | AM38: 125.27 | AN38: 126.733 | AO38: 127.812 | AP38: 128.351 | AQ38: 128.968
B39: India | C39: =C14/C$26 -> 0.033208182 | D39: 82.898 | E39: 84.3284 | F39: 86.6915 | G39: 87.3134 | H39: 87.1269 | I39: 88.1219 | J39: 90.1741 | K39: 90.796 | L39: 90.4229 | M39: 92.2886 | N39: 93.2214 | O39: 93.8433 | P39: 94.0299 | Q39: 94.7761 | R39: 97.1393 | S39: 97.7612 | T39: 98.01 | U39: 98.5697 | V39: 100.746 | W39: 102.674 | X39: 102.76 | Y39: 104.775 | Z39: 107.363 | AA39: 109.669 | AB39: 109.954 | AC39: 111.396 | AD39: 114.565 | AE39: 115.713 | AF39: 116.862 | AG39: 120.031 | AH39: 124.927 | AI39: 127.518 | AJ39: 127.803 | AK39: 130.679 | AL39: 139.607 | AM39: 144.495 | AN39: 147.379 | AO39: 148.528 | AP39: 153.994 | AQ39: 157.742
B40: Switzerland | C40: =C15/C$26 -> 0.031935368 | D40: 96.3837 | E40: 97.1212 | F40: 96.9529 | G40: 96.7828 | H40: 96.9251 | I40: 97.7907 | J40: 97.2489 | K40: 97.7647 | L40: 97.9381 | M40: 98.3234 | N40: 97.6828 | O40: 98.273 | P40: 97.9921 | Q40: 99.1747 | R40: 98.5699 | S40: 99.6298 | T40: 99.3171 | U40: 100.225 | V40: 99.7351 | W40: 100.723 | X40: 100.543 | Y40: 101.554 | Z40: 100.954 | AA40: 101.185 | AB40: 100.632 | AC40: 102.087 | AD40: 101.594 | AE40: 102.884 | AF40: 103.119 | AG40: 104.828 | AH40: 104.617 | AI40: 104.513 | AJ40: 103.102 | AK40: 104.044 | AL40: 103.602 | AM40: 104.326 | AN40: 104.284 | AO40: 105.087 | AP40: 103.934 | AQ40: 104.668
B41: United Kingdom | C41: =C16/C$26 -> 0.027652149 | D41: 93.1411 | E41: 94.5412 | F41: 94.5079 | G41: 94.6412 | H41: 94.6079 | I41: 95.4413 | J41: 95.4746 | K41: 96.0413 | L41: 96.008 | M41: 96.6414 | N41: 96.8081 | O41: 97.3081 | P41: 97.2081 | Q41: 98.0082 | R41: 98.0415 | S41: 98.7082 | T41: 98.9082 | U41: 99.9083 | V41: 100.375 | W41: 100.808 | X41: 100.842 | Y41: 102.142 | Z41: 102.809 | AA41: 103.542 | AB41: 103.709 | AC41: 104.775 | AD41: 104.642 | AE41: 105.709 | AF41: 106.176 | AG41: 108.309 | AH41: 109.676 | AI41: 109.809 | AJ41: 109.376 | AK41: 110.609 | AL41: 111.276 | AM41: 112.109 | AN41: 112.943 | AO41: 114.41 | AP41: 114.71 | AQ41: 115.876
... B48: Myanmar | C48: =C23/C$26 -> 0.016144146 | D48: 33.7408 | E48: 37.709 | F48: 43.4217 | G48: 48.2026 | H48: 51.7789 | I48: 59.015 | J48: 68.5406 | K48: 76.8135 | L48: 81.976 | M48: 87.2634 | N48: 89.4613 | O48: 91.171 | P48: 89.8532 | Q48: 89.3148 | R48: 92.0695 | S48: 94.4981 | T48: 95.3433 | U48: 97.2646 | V48: 100.258 | W48: 107.134 | X48: 106.443 | Y48: 113.154 | Z48: 124.744 | AA48: 135.645 | AB48: 145.79 | AC48: 157.108 | AD48: 168.405 | AE48: 176.796 | AF48: 196.073 | AG48: 202.51 | AH48: 211.917 | AI48: 211.287 | AJ48: 202.803 | AK48: 205.524 | AL48: 211.614 | AM48: 213.946 | AN48: 216.037 | AO48: 223.416 | AP48: 227.074 | AQ48: 231.722
B50: Thailand | D50: 90.2524 | E50: 91.1799 | F50: 91.1442 | G50: 90.6448 | H50: 90.7875 | I50: 91.5009 | J50: 91.4653 | K50: 92.0004 | L50: 92.6068 | M50: 93.0349 | N50: 93.2132 | O50: 93.4986 | P50: 94.3904 | Q50: 95.532 | R50: 96.2811 | S50: 96.4238 | T50: 97.0659 | U50: 99.0279 | V50: 101.703 | W50: 102.203 | X50: 102.595 | Y50: 105.057 | Z50: 105.378 | AA50: 105.52 | AB50: 105.092 | AC50: 107.019 | AD50: 107.126 | AE50: 108.624 | AF50: 110.443 | AG50: 115.045 | AH50: 114.938 | AI50: 110.978 | AJ50: 110.122 | AK50: 111.834 | AL50: 112.37 | AM50: 113.119 | AN50: 114.264 | AO50: 115.462 | AP50: 116.072 | AQ50: 116.361
B53: Price | D53: =D30^($C$30)*D31^($C$31)*D32^($C$32)*D33^($C$33)*D34^($C$34)*D35^($C$35)*D36^($C$36)*D37^($C$37)*D38^($C$38)*D39^($C$39)*D40^($C$40)*D41^($C$41)*D42^($C$42)*D43^($C$43)*D44^($C$44)*D45^($C$45)*D46^($C$46)*D47^($C$47)*D48^($C$48)/D50 -> 1.0591747 | E53: =E30^($C$30)*E31^($C$31)*E32^($C$32)*E33^($C$33)*E34^($C$34)*E35^($C$35)*E36^($C$36)*E37^($C$37)*E38^($C$38)*E39^($C$39)*E40^($C$40)*E41^($C$41)*E42^($C$42)*E43^($C$43)*E44^($C$44)*E45^($C$45)*E46^($C$46)*E47^($C$47)*E48^($C$48)/E50 -> 1.0569946 | F53: =F30^($C$30)*F31^($C$31)*F32^($C$32)*F33^($C$33)*F34^($C$34)*F35^($C$35)*F36^($C$36)*F37^($C$37)*F38^($C$38)*F39^($C$39)*F40^($C$40)*F41^($C$41)*F42^($C$42)*F43^($C$43)*F44^($C$44)*F45^($C$45)*F46^($C$46)*F47^($C$47)*F48^($C$48)/F50 -> 1.0642972 | G53: =G30^($C$30)*G31^($C$31)*G32^($C$32)*G33^($C$33)*G34^($C$34)*G35^($C$35)*G36^($C$36)*G37^($C$37)*G38^($C$38)*G39^($C$39)*G40^($C$40)*G41^($C$41)*G42^($C$42)*G43^($C$43)*G44^($C$44)*G45^($C$45)*G46^($C$46)*G47^($C$47)*G48^($C$48)/G50 -> 1.0731879 | H53: =H30^($C$30)*H31^($C$31)*H32^($C$32)*H33^($C$33)*H34^($C$34)*H35^($C$35)*H36^($C$36)*H37^($C$37)*H38^($C$38)*H39^($C$39)*H40^($C$40)*H41^($C$41)*H42^($C$42)*H43^($C$43)*H44^($C$44)*H45^($C$45)*H46^($C$46)*H47^($C$47)*H48^($C$48)/H50 -> 1.0777168 | I53: =I30^($C$30)*I31^($C$31)*I32^($C$32)*I33^($C$33)*I34^($C$34)*I35^($C$35)*I36^($C$36)*I37^($C$37)*I38^($C$38)*I39^($C$39)*I40^($C$40)*I41^($C$41)*I42^($C$42)*I43^($C$43)*I44^($C$44)*I45^($C$45)*I46^($C$46)*I47^($C$47)*I48^($C$48)/I50 -> 1.0783718 | J53: =J30^($C$30)*J31^($C$31)*J32^($C$32)*J33^($C$33)*J34^($C$34)*J35^($C$35)*J36^($C$36)*J37^($C$37)*J38^($C$38)*J39^($C$39)*J40^($C$40)*J41^($C$41)*J42^($C$42)*J43^($C$43)*J44^($C$44)*J45^($C$45)*J46^($C$46)*J47^($C$47)*J48^($C$48)/J50 -> 1.0863161 | K53: =K30^($C$30)*K31^($C$31)*K32^($C$32)*K33^($C$33)*K34^($C$34)*K35^($C$35)*K36^($C$36)*K37^($C$37)*K38^($C$38)*K39^($C$39)*K40^($C$40)*K41^($C$41)*K42^($C$42)*K43^($C$43)*K44^($C$44)*K45^($C$45)*K46^($C$46)*K47^($C$47)*K48^($C$48)/K50 -> 1.0859175 | ... AQ53: =AQ30^($C$30)*AQ31^($C$31)*AQ32^($C$32)*AQ33^($C$33)*AQ34^($C$34)*AQ35^($C$35)*AQ36^($C$36)*AQ37^($C$37)*AQ38^($C$38)*AQ39^($C$39)*AQ40^($C$40)*AQ41^($C$41)*AQ42^($C$42)*AQ43^($C$43)*AQ44^($C$44)*AQ45^($C$45)*AQ46^($C$46)*AQ47^($C$47)*AQ48^($C$48)/AQ50 -> 1.0992919
B54: Price (2001Q1 =100) | D54: =D53/$D53*100 -> 100 | E54: =E53/$D53*100 -> 99.794166 | F54: =F53/$D53*100 -> 100.48363 | G54: =G53/$D53*100 -> 101.32303 | H54: =H53/$D53*100 -> 101.75061 | I54: =I53/$D53*100 -> 101.81245 | J54: =J53/$D53*100 -> 102.5625 | K54: =K53/$D53*100 -> 102.52487 | ... AQ54: =AQ53/$D53*100 -> 103.78758
B55: REER | D55: =D54*'Q4'!D53 -> 267.42162 | E55: =E54*'Q4'!E53 -> 274.14939 | F55: =F54*'Q4'!F53 -> 276.05099 | G55: =G54*'Q4'!G53 -> 272.37318 | H55: =H54*'Q4'!H53 -> 267.15433 | I55: =I54*'Q4'!I53 -> 266.91606 | J55: =J54*'Q4'!J53 -> 268.67034 | K55: =K54*'Q4'!K53 -> 275.95584 | ... AQ55: =AQ54*'Q4'!AQ53 -> 231.22176
B56: REER (2001Q1=100) | D56: =D55/$D55*100 -> 100 | E56: =E55/$D55*100 -> 102.51579 | F56: =F55/$D55*100 -> 103.22688 | G56: =G55/$D55*100 -> 101.85159 | H56: =H55/$D55*100 -> 99.900049 | I56: =I55/$D55*100 -> 99.810947 | J56: =J55/$D55*100 -> 100.46695 | K56: =K55/$D55*100 -> 103.1913 | ... AQ56: =AQ55/$D55*100 -> 86.463375

Sheet Q7
D2: CPI
D3: 2001Q1 | E3: 2001Q2 | F3: 2001Q3 | G3: 2001Q4 | H3: 2002Q1 | I3: 2002Q2 | J3: 2002Q3 | K3: 2002Q4 | L3: 2003Q1 | M3: 2003Q2 | N3: 2003Q3 | O3: 2003Q4 | P3: 2004Q1 | Q3: 2004Q2 | R3: 2004Q3 | S3: 2004Q4 | T3: 2005Q1 | U3: 2005Q2 | V3: 2005Q3 | W3: 2005Q4 | X3: 2006Q1 | Y3: 2006Q2 | Z3: 2006Q3 | AA3: 2006Q4 | AB3: 2007Q1 | AC3: 2007Q2 | AD3: 2007Q3 | AE3: 2007Q4 | AF3: 2008Q1 | AG3: 2008Q2 | AH3: 2008Q3 | AI3: 2008Q4 | AJ3: 2009Q1 | AK3: 2009Q2 | AL3: 2009Q3 | AM3: 2009Q4 | AN3: 2010Q1 | AO3: 2010Q2 | AP3: 2010Q3 | AQ3: 2010Q4
B4: China | C4: 10.994331 | D4: n.a. | E4: n.a. | F4: n.a. | G4: n.a. | H4: n.a. | I4: n.a. | J4: n.a. | K4: n.a. | L4: n.a. | M4: n.a. | N4: n.a. | O4: n.a. | P4: n.a. | Q4: n.a. | R4: n.a. | S4: n.a. | T4: n.a. | U4: n.a. | V4: n.a. | W4: n.a. | X4: n.a. | Y4: n.a. | Z4: n.a. | AA4: n.a. | AB4: n.a. | AC4: n.a. | AD4: n.a. | AE4: n.a. | AF4: n.a. | AG4: n.a. | AH4: n.a. | AI4: n.a. | AJ4: n.a. | AK4: n.a. | AL4: n.a. | AM4: n.a. | AN4: n.a. | AO4: n.a. | AP4: n.a. | AQ4: n.a.
B5: Japan | C5: 10.452897 | D5: 106.521 | E5: 105.793 | F5: 105.403 | G5: 105.049 | H5: 105.185 | I5: 104.104 | J5: 103.665 | K5: 103.33 | L5: 102.629 | M5: 102.834 | N5: 102.421 | O5: 101.604 | P5: 101.39 | Q5: 101.302 | R5: 101.097 | S5: 101.264 | T5: 100.647 | U5: 100.264 | V5: 99.6729 | W5: 99.5654 | X5: 99.5055 | Y5: 99.1409 | Z5: 98.7991 | AA5: 99.1125 | AB5: 98.8085 | AC5: 98.6736 | AD5: 98.1386 | AE5: 98.0214 | AF5: 97.678 | AG5: 97.2318 | AH5: 96.4736 | AI5: 98.3856 | AJ5: 98.4678 | AK5: 97.2195 | AL5: 96.6853 | AM5: 95.968 | AN5: 95.8997 | AO5: 95.0482 | AP5: 94.4859 | AQ5: 94.2906
B6: USA | C6: 10.358069 | D6: 90.0539 | E6: 90.6669 | F6: 90.9518 | G6: 91.2322 | H6: 91.555 | I6: 91.9657 | J6: 92.3627 | K6: 92.8934 | L6: 93.5432 | M6: 93.8155 | N6: 94.3373 | O6: 94.8183 | P6: 95.6428 | Q6: 96.4496 | R6: 97.1481 | S6: 97.8744 | T6: 98.7759 | U6: 99.4376 | V6: 100.459 | W6: 101.302 | X6: 102.055 | Y6: 102.948 | Z6: 103.725 | AA6: 104.186 | AB6: 105.38 | AC6: 106.097 | AD6: 106.454 | AE6: 106.958 | AF6: 107.591 | AG6: 108.302 | AH6: 109.162 | AI6: 109.3 | AJ6: 109.717 | AK6: 109.594 | AL6: 109.658 | AM6: 109.942 | AN6: 110.359 | AO6: 110.792 | AP6: 111.156 | AQ6: 111.644
B7: China, Hong Kong SAR | C7: 6.7235139 | D7: 115.104 | E7: 114.914 | F7: 114.014 | G7: 114.012 | H7: 111.977 | I7: 111.844 | J7: 110.095 | K7: 108.497 | L7: 106.294 | M7: 104.365 | N7: 102.474 | O7: 102.156 | P7: 101.538 | Q7: 100.639 | R7: 99.1257 | S7: 99.1465 | T7: 99.74 | U7: 100.264 | V7: 99.7854 | W7: 100.196 | X7: 99.3999 | Y7: 99.9132 | Z7: 98.7558 | AA7: 100.718 | AB7: 100.73 | AC7: 101.578 | AD7: 102.37 | AE7: 105.455 | AF7: 103.366 | AG7: 103.747 | AH7: 104.473 | AI7: 104.884 | AJ7: 104.009 | AK7: 103.342 | AL7: 102.431 | AM7: 104.162 | AN7: 104.73 | AO7: 101.039 | AP7: 104.32 | AQ7: 104.849
B8: Malaysia | C8: 5.4101691 | D8: 84.851 | E8: 85.1526 | F8: 84.6665 | G8: 83.8802 | H8: 84.8888 | I8: 86.9378 | J8: 88.412 | K8: 88.623 | L8: 90.6391 | M8: 89.3589 | N8: 89.6549 | O8: 90.9636 | P8: 93.1616 | Q8: 94.4706 | R8: 96.8925 | S8: 97.5778 | T8: 97.2577 | U8: 98.4219 | V8: 101.988 | W8: 102.077 | X8: 102.452 | Y8: 103.493 | Z8: 105.479 | AA8: 103.978 | AB8: 103.343 | AC8: 106.783 | AD8: 109.786 | AE8: 115.646 | AF8: 116.951 | AG8: 122.635 | AH8: 125.164 | AI8: 116.228 | AJ8: 110.887 | AK8: 109.436 | AL8: 111.34 | AM8: 116.027 | AN8: 117.374 | AO8: 115.302 | AP8: 117.011 | AQ8: 121.024
B9: Australia | C9: 4.7972512 | D9: 86.6797 | E9: 87.0177 | F9: 87.9571 | G9: 88.1359 | H9: 89.0584 | I9: 89.4591 | J9: 89.8297 | K9: 90.8953 | L9: 91.7678 | M9: 91.5957 | N9: 92.4298 | O9: 93.6135 | P9: 94.5484 | Q9: 95.28 | R9: 95.9903 | S9: 96.8745 | T9: 98.0518 | U9: 99.4253 | V9: 100.56 | W9: 101.905 | X9: 102.958 | Y9: 104.133 | Z9: 105.98 | AA9: 107.002 | AB9: 107.955 | AC9: 109.068 | AD9: 110.14 | AE9: 111.511 | AF9: 112.825 | AG9: 115.507 | AH9: 119.03 | AI9: 120.268 | AJ9: 117.967 | AK9: 116.098 | AL9: 116.63 | AM9: 118.227 | AN9: 119.738 | AO9: 123.288 | AP9: 124.948 | AQ9: 125.407
B10: Singapore | C10: 4.6128643 | D10: 86.6225 | E10: 88.2683 | F10: 86.4493 | G10: 83.9661 | H10: 83.302 | I10: 85.7851 | J10: 85.1499 | K10: 86.0161 | L10: 88.3693 | M10: 86.1355 | N10: 86.1355 | O10: 86.4334 | P10: 87.8034 | Q10: 90.2159 | R10: 93.0672 | S10: 93.6975 | T10: 93.9391 | U10: 99.2962 | V10: 103.676 | W10: 103.225 | X10: 104.517 | Y10: 106.933 | Z10: 107.458 | AA10: 101.261 | AB10: 100.28 | AC10: 104.482 | AD10: 106.513 | AE10: 109.979 | AF10: 111.975 | AG10: 120.168 | AH10: 122.899 | AI10: 98.1092 | AJ10: 92.1218 | AK10: 96.4286 | AL10: 100.21 | AM10: 101.261 | AN10: 103.046 | AO10: 103.256 | AP10: 100.032 | AQ10: 102.241
B11: Indonesia | C11: 3.7614639 | D11: 68.5198 | E11: 72.8301 | F11: 73.2934 | G11: 73.8326 | H11: 74.8052 | I11: 75.6928 | J11: 76.8096 | K11: 78.1964 | L11: 80.9776 | M11: 79.6453 | N11: 80.301 | O11: 81.401 | P11: 84.1151 | Q11: 86.4698 | R11: 88.6393 | S11: 90.4795 | T11: 93.5407 | U11: 97.021 | V11: 100.305 | W11: 108.915 | X11: 110.145 | Y11: 112.078 | Z11: 115.655 | AA11: 118.256 | AB11: 122.094 | AC11: 124.54 | AD11: 128.401 | AE11: 132.455 | AF11: 138.658 | AG11: 148.363 | AH11: 155.535 | AI11: 156.807 | AJ11: 157.19 | AK11: 161.24 | AL11: 163.853 | AM11: 166.99 | AN11: 169.6 | AO11: 174.261 | AP11: 177.22 | AQ11: 180.785
B12: Viet Nam | C12: 2.9928875 | D12: 80.4518 | E12: 79.6692 | F12: 79.6244 | G12: 80.1164 | H12: 82.5042 | I12: 82.8765 | J12: 83.0457 | K12: 83.6887 | L12: 85.7191 | M12: 85.8545 | N12: 85.3807 | O12: 85.8545 | P12: 89.4078 | Q12: 91.9797 | R12: 93.6717 | S12: 94.3486 | T12: 97.4958 | U12: 99.3909 | V12: 100.745 | W12: 102.369 | X12: 105.584 | Y12: 106.734 | Z12: 107.986 | AA12: 109.239 | AB12: 112.487 | AC12: 114.585 | AD12: 117.259 | AE12: 120.88 | AF12: 130.931 | AG12: 142.673 | AH12: 149.78 | AI12: 149.374 | AJ12: 151.265 | AK12: 152.243 | AL12: 153.408 | AM12: 156.24 | AN12: 162.61 | AO12: 165.117 | AP12: 166.584 | AQ12: 173.181
B13: Philippines | C13: 2.5017159 | D13: 75.1469 | E13: 75.2356 | F13: 77.3103 | G13: 78.0107 | H13: 78.5468 | I13: 79.7154 | J13: 79.1517 | K13: 82.7713 | L13: 76.7041 | M13: 75.8727 | N13: 77.4697 | O13: 79.8529 | P13: 79.2331 | Q13: 79.8657 | R13: 82.8693 | S13: 85.0778 | T13: 84.0056 | U13: 85.2983 | V13: 88.24 | W13: 89.282 | X13: 89.4509 | Y13: 89.2941 | Z13: 93.1486 | AA13: 92.8515 | AB13: 92.3627 | AC13: 90.9991 | AD13: 93.4525 | AE13: 96.9406 | AF13: 111.082 | AG13: 115.18 | AH13: 118.7 | AI13: 119.852 | AJ13: 116.088 | AK13: 116.451 | AL13: 119.793 | AM13: 125.27 | AN13: 121.409 | AO13: 121.959 | AP13: 124.52 | AQ13: 130.078
B14: India | C14: 2.249522 | D14: 81.5558 | E14: 82.0884 | F14: 82.5514 | G14: 82.0038 | H14: 83.6225 | I14: 85.3334 | J14: 84.8825 | K14: 84.6389 | L14: 87.3248 | M14: 87.747 | N14: 88.2756 | O14: 89.0015 | P14: 89.8782 | Q14: 92.3928 | R14: 92.37 | S14: 92.6865 | T14: 95.3771 | U14: 96.9902 | V14: 97.8668 | W14: 96.4357 | X14: 99.5183 | Y14: 101.32 | Z14: 102.893 | AA14: 102.095 | AB14: 110.355 | AC14: 110.748 | AD14: 112.082 | AE14: 114.068 | AF14: 120.919 | AG14: 123.776 | AH14: 122.95 | AI14: 119.559 | AJ14: 124.175 | AK14: 127.248 | AL14: 132.479 | AM14: 134.73 | AN14: 136.347 | AO14: 137.72 | AP14: 143.014 | AQ14: 146.556
B15: Switzerland | C15: 2.1633016 | D15: 97.6841 | E15: 97.8935 | F15: 97.933 | G15: 98.0182 | H15: 97.8944 | I15: 98.3068 | J15: 98.5226 | K15: 98.6463 | L15: 98.9897 | M15: 99.269 | N15: 99.4758 | O15: 99.561 | P15: 99.7124 | Q15: 99.8566 | R15: 99.7991 | S15: 100.198 | T15: 99.8177 | U15: 99.707 | V15: 100.061 | W15: 100.402 | X15: 101.069 | Y15: 101.81 | Z15: 102.504 | AA15: 102.84 | AB15: 103.576 | AC15: 104.261 | AD15: 104.898 | AE15: 105.659 | AF15: 106.295 | AG15: 106.98 | AH15: 107.58 | AI15: 107.808 | AJ15: 107.359 | AK15: 107.219 | AL15: 107.393 | AM15: 107.37 | AN15: 107.502 | AO15: 107.394 | AP15: 107.265 | AQ15: 107.482
B16: United Kingdom | C16: 1.8731564 | D16: 90.5128 | E16: 90.9559 | F16: 90.7937 | G16: 91.6458 | H16: 92.5062 | I16: 93.1124 | J16: 93.6241 | K16: 93.8843 | L16: 94.8883 | M16: 95.5255 | N16: 95.5266 | O16: 95.9568 | P16: 96.332 | Q16: 97.5165 | R16: 98.2346 | S16: 99.3414 | T16: 99.2572 | U16: 99.9406 | V16: 99.8903 | W16: 100.892 | X16: 101.646 | Y16: 102.931 | Z16: 103.711 | AA16: 104.623 | AB16: 104.445 | AC16: 105.695 | AD16: 105.759 | AE16: 106.359 | AF16: 107.47 | AG16: 108.375 | AH16: 109.11 | AI16: 110.665 | AJ16: 109.992 | AK16: 110.097 | AL16: 111.219 | AM16: 111.416 | AN16: 113.192 | AO16: 113.377 | AP16: 113.949 | AQ16: 114.872
... B19: Germany | C19: 1.6906865 | D19: 95.3381 | E19: 95.4631 | F19: 95.8876 | G19: 96.8428 | H19: 97.0577 | I19: 96.678 | J19: 97.4041 | K19: 97.888 | L19: 97.9929 | M19: 98.0253 | N19: 98.6468 | O19: 98.6131 | P19: 99.1955 | Q19: 99.3441 | R19: 99.5218 | S19: 99.4329 | T19: 100.01 | U19: 99.8789 | V19: 100.052 | W19: 100.058 | X19: 100.119 | Y19: 100.315 | Z19: 100.352 | AA19: 100.441 | AB19: 101.652 | AC19: 101.883 | AD19: 102.075 | AE19: 102.138 | AF19: 102.47 | AG19: 102.738 | AH19: 102.766 | AI19: 102.948 | AJ19: 103.337 | AK19: 103.723 | AL19: 104.27 | AM19: 104.391 | AN19: 104.468 | AO19: 104.393 | AP19: 104.624 | AQ19: 104.715
B20: Other Asia, nes | C20: 1.65414 | D20: n.a. | E20: n.a. | F20: n.a. | G20: n.a. | H20: n.a. | I20: n.a. | J20: n.a. | K20: n.a. | L20: n.a. | M20: n.a. | N20: n.a. | O20: n.a. | P20: n.a. | Q20: n.a. | R20: n.a. | S20: n.a. | T20: n.a. | U20: n.a. | V20: n.a. | W20: n.a. | X20: n.a. | Y20: n.a. | Z20: n.a. | AA20: n.a. | AB20: n.a. | AC20: n.a. | AD20: n.a. | AE20: n.a. | AF20: n.a. | AG20: n.a. | AH20: n.a. | AI20: n.a. | AJ20: n.a. | AK20: n.a. | AL20: n.a. | AM20: n.a. | AN20: n.a. | AO20: n.a. | AP20: n.a. | AQ20: n.a.
B21: United Arab Emirates | C21: 1.4559131 | D21: n.a. | E21: n.a. | F21: n.a. | G21: n.a. | H21: n.a. | I21: n.a. | J21: n.a. | K21: n.a. | L21: n.a. | M21: n.a. | N21: n.a. | O21: n.a. | P21: n.a. | Q21: n.a. | R21: n.a. | S21: n.a. | T21: n.a. | U21: n.a. | V21: n.a. | W21: n.a. | X21: n.a. | Y21: n.a. | Z21: n.a. | AA21: n.a. | AB21: n.a. | AC21: n.a. | AD21: n.a. | AE21: n.a. | AF21: n.a. | AG21: n.a. | AH21: n.a. | AI21: n.a. | AJ21: n.a. | AK21: n.a. | AL21: n.a. | AM21: n.a. | AN21: n.a. | AO21: n.a. | AP21: n.a. | AQ21: n.a.
B22: Cambodia | C22: 1.1991583 | D22: 85.804 | E22: 86.1145 | F22: 87.0891 | G22: 87.4082 | H22: 88.7221 | I22: 88.9636 | J22: 89.8088 | K22: 90.0935 | L22: 90.3876 | M22: 90.4605 | N22: 90.568 | O22: 90.4987 | P22: 90.8836 | Q22: 92.5787 | R22: 97.2034 | S22: 95.4535 | T22: 95.5967 | U22: 98.8862 | V22: 102.167 | W22: 103.35 | X22: 103.352 | Y22: 104.657 | Z22: 108.343 | AA22: 108.221 | AB22: 108.193 | AC22: 110.665 | AD22: 116.711 | AE22: 121.563 | AF22: 130.477 | AG22: 147.552 | AH22: 150.224 | AI22: 143.147 | AJ22: 136.152 | AK22: 140.406 | AL22: 145.64 | AM22: 145.424 | AN22: 145.625 | AO22: 146.174 | AP22: 148.209 | AQ22: 150.297
B23: Lao People's Dem. Rep. | C23: 1.0936044 | D23: 63.635 | E23: 65.4739 | F23: 67.5394 | G23: 67.8185 | H23: 68.209 | I23: 70.5329 | J23: 76.203 | K23: 77.6384 | L23: 79.3228 | M23: 82.9275 | N23: 87.4602 | O23: 88.192 | P23: 89.2125 | Q23: 93.1416 | R23: 95.7955 | S23: 95.1052 | T23: 95.622 | U23: 98.6702 | V23: 102.048 | W23: 103.659 | X23: 103.544 | Y23: 106.693 | Z23: 108.89 | AA23: 108.089 | AB23: 108.739 | AC23: 110.417 | AD23: 113.013 | AE23: 114.36 | AF23: 116.076 | AG23: 121.168 | AH23: 123.557 | AI23: 119.794 | AJ23: 117.902 | AK23: 119.698 | AL23: 121.278 | AM23: 121.887 | AN23: 123.324 | AO23: 125.504 | AP23: 130.551 | AQ23: 130.147
B24: Saudi Arabia | C24: 1.0844348 | D24: 93.8808 | E24: 94.2029 | F24: 92.9952 | G24: 93.1562 | H24: 92.8341 | I24: 93.4783 | J24: 93.7198 | K24: 94.1224 | L24: 94.4444 | M24: 94.1224 | N24: 93.8003 | O24: 95.0081 | P24: 96.1353 | Q24: 96.6989 | R24: 97.343 | S24: 98.7118 | T24: 99.1143 | U24: 99.7585 | V24: 100.403 | W24: 100.966 | X24: 101.208 | Y24: 99.4364 | Z24: 100.483 | AA24: 103.543 | AB24: 104.831 | AC24: 105.717 | AD24: 107.488 | AE24: 109.581 | AF24: 114.251 | AG24: 118.357 | AH24: 120.209 | AI24: 113.205 | AJ24: 111.433 | AK24: 112.077 | AL24: 113.768 | AM24: 114.573 | AN24: 115.137 | AO24: 117.391 | AP24: 118.599 | AQ24: 120.37
B25: Myanmar | C25: 1.0613583 | D25: 33.7408 | E25: 37.709 | F25: 43.4217 | G25: 48.2026 | H25: 51.7789 | I25: 59.015 | J25: 68.5406 | K25: 76.8135 | L25: 81.976 | M25: 87.2634 | N25: 89.4613 | O25: 91.171 | P25: 89.8532 | Q25: 89.3148 | R25: 92.0695 | S25: 94.4981 | T25: 95.3433 | U25: 97.2646 | V25: 100.258 | W25: 107.134 | X25: 106.443 | Y25: 113.154 | Z25: 124.744 | AA25: 135.645 | AB25: 145.79 | AC25: 157.108 | AD25: 168.405 | AE25: 176.796 | AF25: 196.073 | AG25: 202.51 | AH25: 211.917 | AI25: 211.287 | AJ25: 202.803 | AK25: 205.524 | AL25: 211.614 | AM25: 213.946 | AN25: 216.037 | AO25: 223.416 | AP25: 227.074 | AQ25: 231.722
C26: =SUM(C5:C19,C22:C25) -> 67.739994
D28: CPI
D29: 2001Q1 | E29: 2001Q2 | F29: 2001Q3 | G29: 2001Q4 | H29: 2002Q1 | I29: 2002Q2 | J29: 2002Q3 | K29: 2002Q4 | L29: 2003Q1 | M29: 2003Q2 | N29: 2003Q3 | O29: 2003Q4 | P29: 2004Q1 | Q29: 2004Q2 | R29: 2004Q3 | S29: 2004Q4 | T29: 2005Q1 | U29: 2005Q2 | V29: 2005Q3 | W29: 2005Q4 | X29: 2006Q1 | Y29: 2006Q2 | Z29: 2006Q3 | AA29: 2006Q4 | AB29: 2007Q1 | AC29: 2007Q2 | AD29: 2007Q3 | AE29: 2007Q4 | AF29: 2008Q1 | AG29: 2008Q2 | AH29: 2008Q3 | AI29: 2008Q4 | AJ29: 2009Q1 | AK29: 2009Q2 | AL29: 2009Q3 | AM29: 2009Q4 | AN29: 2010Q1 | AO29: 2010Q2 | AP29: 2010Q3 | AQ29: 2010Q4
B30: Japan | C30: =C5/C$26 -> 0.15430909 | D30: 101.743 | E30: 101.643 | F30: 101.378 | G30: 101.012 | H30: 100.316 | I30: 100.747 | J30: 100.581 | K30: 100.481 | L30: 100.083 | M30: 100.515 | N30: 100.349 | O30: 100.183 | P30: 99.9502 | Q30: 100.216 | R30: 100.249 | S30: 100.68 | T30: 99.9834 | U30: 100.116 | V30: 99.9502 | W30: 99.9502 | X30: 99.8506 | Y30: 100.282 | Z30: 100.548 | AA30: 100.282 | AB30: 99.751 | AC30: 100.216 | AD30: 100.415 | AE30: 100.813 | AF30: 100.714 | AG30: 101.577 | AH30: 102.573 | AI30: 101.842 | AJ30: 100.581 | AK30: 100.581 | AL30: 100.282 | AM30: 99.7842 | AN30: 99.7178 | AO30: 99.8506 | AP30: 99.2863 | AQ30: 99.4855
B31: USA | C31: =C6/C$26 -> 0.15290921 | D31: 89.968 | E31: 90.9068 | F31: 91.0262 | G31: 90.7702 | H31: 91.0945 | I31: 92.0845 | J31: 92.4771 | K31: 92.7672 | L31: 93.706 | M31: 94.0474 | N31: 94.5082 | O31: 94.5253 | P31: 95.3787 | Q31: 96.7442 | R31: 97.0856 | S31: 97.6659 | T31: 98.2803 | U31: 99.5946 | V31: 100.806 | W31: 101.319 | X31: 101.865 | Y31: 103.589 | Z31: 104.169 | AA31: 103.281 | AB31: 104.334 | AC31: 106.334 | AD31: 106.628 | AE31: 107.386 | AF31: 108.607 | AG31: 110.991 | AH31: 112.282 | AI31: 109.106 | AJ31: 108.563 | AK31: 109.714 | AL31: 110.459 | AM31: 110.682 | AN31: 111.126 | AO31: 111.654 | AP31: 111.758 | AQ31: 112.088
B32: China, Hong Kong SAR | C32: =C7/C$26 -> 0.099254717 | D32: 105.66 | E32: 105.882 | F32: 105.549 | G32: 104.44 | H32: 102.886 | I32: 102.442 | J32: 101.887 | K32: 101.332 | L32: 100.888 | M32: 100 | N32: 98.1132 | O32: 99.0011 | P32: 99.1121 | Q32: 99.1121 | R32: 98.8901 | S32: 99.4451 | T32: 99.4451 | U32: 99.778 | V32: 100.111 | W32: 100.777 | X32: 100.999 | Y32: 101.887 | Z32: 102.442 | AA32: 102.886 | AB32: 102.664 | AC32: 103.219 | AD32: 104.107 | AE32: 106.437 | AF32: 107.436 | AG32: 109.101 | AH32: 108.879 | AI32: 108.879 | AJ32: 109.212 | AK32: 108.99 | AL32: 107.88 | AM32: 110.655 | AN32: 111.543 | AO32: 112.098 | AP32: 109.656 | AQ32: 113.651
B33: Malaysia | C33: =C8/C$26 -> 0.079866691 | D33: 92.9188 | E33: 92.9799 | F33: 92.9188 | G33: 93.3776 | H33: 94.2645 | I33: 94.7845 | J33: 94.8457 | K33: 95.0292 | L33: 95.488 | M33: 95.6409 | N33: 95.7938 | O33: 95.7632 | P33: 96.3749 | Q33: 96.742 | R33: 97.2007 | S33: 98.1795 | T33: 98.6913 | U33: 99.5249 | V33: 100.458 | W33: 101.325 | X33: 102.392 | Y33: 103.626 | Z33: 104.026 | AA33: 104.393 | AB33: 105.093 | AC33: 105.16 | AD33: 105.893 | AE33: 106.693 | AF33: 107.794 | AG33: 110.261 | AH33: 114.795 | AI33: 112.995 | AJ33: 111.795 | AK33: 111.695 | AL33: 112.161 | AM33: 112.795 | AN33: 113.325 | AO33: 113.515 | AP33: 114.276 | AQ33: 114.998
B34: Australia | C34: =C9/C$26 -> 0.070818595 | D34: 89.0156 | E34: 89.7535 | F34: 90.0218 | G34: 90.8268 | H34: 91.6317 | I34: 92.3025 | J34: 92.9063 | K34: 93.5771 | L34: 94.7845 | M34: 94.7845 | N34: 95.3211 | O34: 95.7907 | P34: 96.6628 | Q34: 97.1323 | R34: 97.5348 | S34: 98.2727 | T34: 98.9435 | U34: 99.5472 | V34: 100.486 | W34: 101.023 | X34: 101.895 | Y34: 103.505 | Z34: 104.444 | AA34: 104.31 | AB34: 104.377 | AC34: 105.652 | AD34: 106.389 | AE34: 107.396 | AF34: 108.804 | AG34: 110.414 | AH34: 111.689 | AI34: 111.353 | AJ34: 111.488 | AK34: 112.024 | AL34: 113.097 | AM34: 113.701 | AN34: 114.707 | AO34: 115.445 | AP34: 116.25 | AQ34: 116.72
B35: Singapore | C35: =C10/C$26 -> 0.068096615 | D35: 98.0359 | E35: 97.9401 | F35: 97.9401 | G35: 97.4292 | H35: 97.2056 | I35: 97.525 | J35: 97.525 | K35: 97.5569 | L35: 97.8762 | M35: 97.7166 | N35: 98.004 | O35: 98.1956 | P35: 99.1036 | Q35: 99.5352 | R35: 99.8672 | S35: 99.8008 | T35: 99.336 | U35: 99.5817 | V35: 100.332 | W35: 100.93 | X35: 100.697 | Y35: 100.797 | Z35: 101.096 | AA35: 101.494 | AB35: 101.228 | AC35: 101.76 | AD35: 103.884 | AE35: 105.677 | AF35: 107.968 | AG35: 109.363 | AH35: 110.657 | AI35: 111.355 | AJ35: 110.745 | AK35: 109.64 | AL35: 110.634 | AM35: 110.966 | AN35: 111.739 | AO35: 113.066 | AP35: 114.315 | AQ35: 115.387
B36: Indonesia | C36: =C11/C$26 -> 0.055527964 | D36: 68.2927 | E36: 70.1195 | F36: 72.7225 | G36: 74.7148 | H36: 78.223 | I36: 78.9241 | J36: 80.2662 | K36: 82.3916 | L36: 84.2814 | M36: 84.4519 | N36: 85.1709 | O36: 86.9622 | P36: 88.3959 | Q36: 90.1387 | R36: 91.1007 | S36: 92.5131 | T36: 95.2312 | U36: 97.03 | V36: 98.7648 | W36: 108.974 | X36: 111.341 | Y36: 112.079 | Z36: 113.447 | AA36: 115.57 | AB36: 118.671 | AC36: 119.124 | AD36: 120.753 | AE36: 122.879 | AF36: 126.41 | AG36: 129.872 | AH36: 135.2 | AI36: 137.013 | AJ36: 137.234 | AK36: 137.202 | AL36: 138.939 | AM36: 140.56 | AN36: 142.245 | AO36: 143.199 | AP36: 147.484 | AQ36: 149.438
B37: Viet Nam | C37: =C12/C$26 -> 0.044181987 | D37: 80.4518 | E37: 79.6692 | F37: 79.6244 | G37: 80.1164 | H37: 82.5042 | I37: 82.8765 | J37: 83.0457 | K37: 83.6887 | L37: 85.7191 | M37: 85.8545 | N37: 85.3807 | O37: 85.8545 | P37: 89.4078 | Q37: 91.9797 | R37: 93.6717 | S37: 94.3486 | T37: 97.4958 | U37: 99.3909 | V37: 100.745 | W37: 102.369 | X37: 105.584 | Y37: 106.734 | Z37: 107.986 | AA37: 109.239 | AB37: 112.487 | AC37: 114.585 | AD37: 117.259 | AE37: 120.88 | AF37: 130.931 | AG37: 142.673 | AH37: 149.78 | AI37: 149.374 | AJ37: 151.265 | AK37: 152.243 | AL37: 153.408 | AM37: 156.24 | AN37: 162.61 | AO37: 165.117 | AP37: 166.584 | AQ37: 173.181
B38: Philippines | C38: =C13/C$26 -> 0.03693115 | D38: 81.0734 | E38: 81.6898 | F38: 82.8711 | G38: 83.359 | H38: 83.8983 | I38: 84.3862 | J38: 85.1567 | K38: 85.4391 | L38: 86.6461 | M38: 87.3909 | N38: 88.2383 | O38: 88.6749 | P38: 89.9589 | Q38: 91.4997 | R38: 94.2732 | S38: 95.8911 | T38: 97.5603 | U38: 98.9728 | V38: 100.976 | W38: 102.542 | X38: 104.7 | Y38: 105.804 | Z38: 107.165 | AA38: 107.473 | AB38: 107.704 | AC38: 108.32 | AD38: 109.861 | AE38: 111.017 | AF38: 113.713 | AG38: 118.875 | AH38: 123.267 | AI38: 121.726 | AJ38: 121.572 | AK38: 122.573 | AL38: 123.575 | AM38: 125.27 | AN38: 126.733 | AO38: 127.812 | AP38: 128.351 | AQ38: 128.968
B39: India | C39: =C14/C$26 -> 0.033208182 | D39: 82.898 | E39: 84.3284 | F39: 86.6915 | G39: 87.3134 | H39: 87.1269 | I39: 88.1219 | J39: 90.1741 | K39: 90.796 | L39: 90.4229 | M39: 92.2886 | N39: 93.2214 | O39: 93.8433 | P39: 94.0299 | Q39: 94.7761 | R39: 97.1393 | S39: 97.7612 | T39: 98.01 | U39: 98.5697 | V39: 100.746 | W39: 102.674 | X39: 102.76 | Y39: 104.775 | Z39: 107.363 | AA39: 109.669 | AB39: 109.954 | AC39: 111.396 | AD39: 114.565 | AE39: 115.713 | AF39: 116.862 | AG39: 120.031 | AH39: 124.927 | AI39: 127.518 | AJ39: 127.803 | AK39: 130.679 | AL39: 139.607 | AM39: 144.495 | AN39: 147.379 | AO39: 148.528 | AP39: 153.994 | AQ39: 157.742
B40: Switzerland | C40: =C15/C$26 -> 0.031935368 | D40: 96.3837 | E40: 97.1212 | F40: 96.9529 | G40: 96.7828 | H40: 96.9251 | I40: 97.7907 | J40: 97.2489 | K40: 97.7647 | L40: 97.9381 | M40: 98.3234 | N40: 97.6828 | O40: 98.273 | P40: 97.9921 | Q40: 99.1747 | R40: 98.5699 | S40: 99.6298 | T40: 99.3171 | U40: 100.225 | V40: 99.7351 | W40: 100.723 | X40: 100.543 | Y40: 101.554 | Z40: 100.954 | AA40: 101.185 | AB40: 100.632 | AC40: 102.087 | AD40: 101.594 | AE40: 102.884 | AF40: 103.119 | AG40: 104.828 | AH40: 104.617 | AI40: 104.513 | AJ40: 103.102 | AK40: 104.044 | AL40: 103.602 | AM40: 104.326 | AN40: 104.284 | AO40: 105.087 | AP40: 103.934 | AQ40: 104.668
B41: United Kingdom | C41: =C16/C$26 -> 0.027652149 | D41: 93.1411 | E41: 94.5412 | F41: 94.5079 | G41: 94.6412 | H41: 94.6079 | I41: 95.4413 | J41: 95.4746 | K41: 96.0413 | L41: 96.008 | M41: 96.6414 | N41: 96.8081 | O41: 97.3081 | P41: 97.2081 | Q41: 98.0082 | R41: 98.0415 | S41: 98.7082 | T41: 98.9082 | U41: 99.9083 | V41: 100.375 | W41: 100.808 | X41: 100.842 | Y41: 102.142 | Z41: 102.809 | AA41: 103.542 | AB41: 103.709 | AC41: 104.775 | AD41: 104.642 | AE41: 105.709 | AF41: 106.176 | AG41: 108.309 | AH41: 109.676 | AI41: 109.809 | AJ41: 109.376 | AK41: 110.609 | AL41: 111.276 | AM41: 112.109 | AN41: 112.943 | AO41: 114.41 | AP41: 114.71 | AQ41: 115.876
... B48: Myanmar | C48: =C23/C$26 -> 0.016144146 | D48: 33.7408 | E48: 37.709 | F48: 43.4217 | G48: 48.2026 | H48: 51.7789 | I48: 59.015 | J48: 68.5406 | K48: 76.8135 | L48: 81.976 | M48: 87.2634 | N48: 89.4613 | O48: 91.171 | P48: 89.8532 | Q48: 89.3148 | R48: 92.0695 | S48: 94.4981 | T48: 95.3433 | U48: 97.2646 | V48: 100.258 | W48: 107.134 | X48: 106.443 | Y48: 113.154 | Z48: 124.744 | AA48: 135.645 | AB48: 145.79 | AC48: 157.108 | AD48: 168.405 | AE48: 176.796 | AF48: 196.073 | AG48: 202.51 | AH48: 211.917 | AI48: 211.287 | AJ48: 202.803 | AK48: 205.524 | AL48: 211.614 | AM48: 213.946 | AN48: 216.037 | AO48: 223.416 | AP48: 227.074 | AQ48: 231.722
B50: Thailand | D50: 89.3853 | E50: 91.5199 | F50: 91.992 | G50: 88.6928 | H50: 90.2304 | I50: 91.9048 | J50: 92.0523 | K50: 90.2791 | L50: 91.6691 | M50: 92.6555 | N50: 93.6209 | O50: 91.3739 | P50: 92.4508 | Q50: 95.6934 | R50: 97.0643 | S50: 95.5985 | T50: 96.7035 | U50: 98.5884 | V50: 102.022 | W50: 100.46 | X50: 103.503 | Y50: 105.36 | Z50: 106.426 | AA50: 103.537 | AB50: 106.43 | AC50: 108.513 | AD50: 109.232 | AE50: 108.958 | AF50: 109.034 | AG50: 115.012 | AH50: 115.933 | AI50: 110.395 | AJ50: 112.997 | AK50: 116.625 | AL50: 116.227 | AM50: 113.287 | AN50: 117.404 | AO50: 120.151 | AP50: 120.883 | AQ50: 117.497
B53: Price | D53: =D30^($C$30)*D31^($C$31)*D32^($C$32)*D33^($C$33)*D34^($C$34)*D35^($C$35)*D36^($C$36)*D37^($C$37)*D38^($C$38)*D39^($C$39)*D40^($C$40)*D41^($C$41)*D42^($C$42)*D43^($C$43)*D44^($C$44)*D45^($C$45)*D46^($C$46)*D47^($C$47)*D48^($C$48)/D50 -> 1.0694495 | E53: =E30^($C$30)*E31^($C$31)*E32^($C$32)*E33^($C$33)*E34^($C$34)*E35^($C$35)*E36^($C$36)*E37^($C$37)*E38^($C$38)*E39^($C$39)*E40^($C$40)*E41^($C$41)*E42^($C$42)*E43^($C$43)*E44^($C$44)*E45^($C$45)*E46^($C$46)*E47^($C$47)*E48^($C$48)/E50 -> 1.0530678 | F53: =F30^($C$30)*F31^($C$31)*F32^($C$32)*F33^($C$33)*F34^($C$34)*F35^($C$35)*F36^($C$36)*F37^($C$37)*F38^($C$38)*F39^($C$39)*F40^($C$40)*F41^($C$41)*F42^($C$42)*F43^($C$43)*F44^($C$44)*F45^($C$45)*F46^($C$46)*F47^($C$47)*F48^($C$48)/F50 -> 1.0544886 | G53: =G30^($C$30)*G31^($C$31)*G32^($C$32)*G33^($C$33)*G34^($C$34)*G35^($C$35)*G36^($C$36)*G37^($C$37)*G38^($C$38)*G39^($C$39)*G40^($C$40)*G41^($C$41)*G42^($C$42)*G43^($C$43)*G44^($C$44)*G45^($C$45)*G46^($C$46)*G47^($C$47)*G48^($C$48)/G50 -> 1.0968072 | H53: =H30^($C$30)*H31^($C$31)*H32^($C$32)*H33^($C$33)*H34^($C$34)*H35^($C$35)*H36^($C$36)*H37^($C$37)*H38^($C$38)*H39^($C$39)*H40^($C$40)*H41^($C$41)*H42^($C$42)*H43^($C$43)*H44^($C$44)*H45^($C$45)*H46^($C$46)*H47^($C$47)*H48^($C$48)/H50 -> 1.0843708 | I53: =I30^($C$30)*I31^($C$31)*I32^($C$32)*I33^($C$33)*I34^($C$34)*I35^($C$35)*I36^($C$36)*I37^($C$37)*I38^($C$38)*I39^($C$39)*I40^($C$40)*I41^($C$41)*I42^($C$42)*I43^($C$43)*I44^($C$44)*I45^($C$45)*I46^($C$46)*I47^($C$47)*I48^($C$48)/I50 -> 1.0736326 | J53: =J30^($C$30)*J31^($C$31)*J32^($C$32)*J33^($C$33)*J34^($C$34)*J35^($C$35)*J36^($C$36)*J37^($C$37)*J38^($C$38)*J39^($C$39)*J40^($C$40)*J41^($C$41)*J42^($C$42)*J43^($C$43)*J44^($C$44)*J45^($C$45)*J46^($C$46)*J47^($C$47)*J48^($C$48)/J50 -> 1.0793888 | K53: =K30^($C$30)*K31^($C$31)*K32^($C$32)*K33^($C$33)*K34^($C$34)*K35^($C$35)*K36^($C$36)*K37^($C$37)*K38^($C$38)*K39^($C$39)*K40^($C$40)*K41^($C$41)*K42^($C$42)*K43^($C$43)*K44^($C$44)*K45^($C$45)*K46^($C$46)*K47^($C$47)*K48^($C$48)/K50 -> 1.106622 | ... AQ53: =AQ30^($C$30)*AQ31^($C$31)*AQ32^($C$32)*AQ33^($C$33)*AQ34^($C$34)*AQ35^($C$35)*AQ36^($C$36)*AQ37^($C$37)*AQ38^($C$38)*AQ39^($C$39)*AQ40^($C$40)*AQ41^($C$41)*AQ42^($C$42)*AQ43^($C$43)*AQ44^($C$44)*AQ45^($C$45)*AQ46^($C$46)*AQ47^($C$47)*AQ48^($C$48)/AQ50 -> 1.0886635
B54: Price (2001Q1 =100) | D54: =D53/$D53*100 -> 100 | E54: =E53/$D53*100 -> 98.468216 | F54: =F53/$D53*100 -> 98.60107 | G54: =G53/$D53*100 -> 102.55811 | H54: =H53/$D53*100 -> 101.39523 | I54: =I53/$D53*100 -> 100.39114 | J54: =J53/$D53*100 -> 100.92939 | K54: =K53/$D53*100 -> 103.47586 | ... AQ54: =AQ53/$D53*100 -> 101.79663
B55: REER | D55: =D54*'Q4'!D53 -> 267.42162 | E55: =E54*'Q4'!E53 -> 270.50681 | F55: =F54*'Q4'!F53 -> 270.87918 | G55: =G54*'Q4'!G53 -> 275.6933 | H55: =H54*'Q4'!H53 -> 266.22126 | I55: =I54*'Q4'!I53 -> 263.1899 | J55: =J54*'Q4'!J53 -> 264.39229 | K55: =K54*'Q4'!K53 -> 278.51554 | ... AQ55: =AQ54*'Q4'!AQ53 -> 226.78625
B56: REER (2001Q1=100) | D56: =D55/$D55*100 -> 100 | E56: =E55/$D55*100 -> 101.15368 | F56: =F55/$D55*100 -> 101.29292 | G56: =G55/$D55*100 -> 103.09312 | H56: =H55/$D55*100 -> 99.551136 | I56: =I55/$D55*100 -> 98.417582 | J56: =J55/$D55*100 -> 98.867207 | K56: =K55/$D55*100 -> 104.14847 | ... AQ56: =AQ55/$D55*100 -> 84.804753

Sheet Q6 vs Q7
B2: 2001Q1 | C2: 2001Q2 | D2: 2001Q3 | E2: 2001Q4 | F2: 2002Q1 | G2: 2002Q2 | H2: 2002Q3 | I2: 2002Q4 | J2: 2003Q1 | K2: 2003Q2 | L2: 2003Q3 | M2: 2003Q4 | N2: 2004Q1 | O2: 2004Q2 | P2: 2004Q3 | Q2: 2004Q4 | R2: 2005Q1 | S2: 2005Q2 | T2: 2005Q3 | U2: 2005Q4 | V2: 2006Q1 | W2: 2006Q2 | X2: 2006Q3 | Y2: 2006Q4 | Z2: 2007Q1 | AA2: 2007Q2 | AB2: 2007Q3 | AC2: 2007Q4 | AD2: 2008Q1 | AE2: 2008Q2 | AF2: 2008Q3 | AG2: 2008Q4 | AH2: 2009Q1 | AI2: 2009Q2 | AJ2: 2009Q3 | AK2: 2009Q4 | AL2: 2010Q1 | AM2: 2010Q2 | AN2: 2010Q3 | AO2: 2010Q4
A3: Q6 | B3: 100 | C3: 102.51579 | D3: 103.22688 | E3: 101.85159 | F3: 99.900049 | G3: 99.810947 | H3: 100.46695 | I3: 103.1913 | J3: 103.43983 | K3: 103.17516 | L3: 101.11538 | M3: 99.550043 | N3: 99.088057 | O3: 100.13591 | P3: 102.47745 | Q3: 102.25654 | R3: 98.57649 | S3: 100.23429 | T3: 100.53169 | U3: 99.582913 | V3: 96.748697 | W3: 93.720488 | X3: 93.216343 | Y3: 91.214001 | Z3: 90.274818 | AA3: 88.337552 | AB3: 88.194395 | AC3: 89.814679 | AD3: 87.98527 | AE3: 86.95544 | AF3: 91.349647 | AG3: 92.622323 | AH3: 93.509324 | AI3: 92.656168 | AJ3: 92.705557 | AK3: 93.044501 | AL3: 91.083573 | AM3: 88.73976 | AN3: 88.195986 | AO3: 86.463375
A4: Q7 | B4: 100 | C4: 101.15368 | D4: 101.29292 | E4: 103.09312 | F4: 99.551136 | G4: 98.417582 | H4: 98.867207 | I4: 104.14847 | J4: 103.49397 | K4: 102.60232 | L4: 99.707805 | M4: 100.88619 | N4: 100.19494 | O4: 99.006579 | P4: 100.67396 | Q4: 102.14841 | R4: 97.995286 | S4: 99.713833 | T4: 99.254508 | U4: 100.33735 | V4: 94.978591 | W4: 92.553131 | X4: 91.411664 | Y4: 92.067862 | Z4: 88.283504 | AA4: 86.284308 | AB4: 85.663011 | AC4: 88.679112 | AD4: 88.266024 | AE4: 86.144726 | AF4: 89.695525 | AG4: 92.216896 | AH4: 90.254619 | AI4: 87.996193 | AJ4: 88.768006 | AK4: 92.01392 | AL4: 87.795839 | AM4: 84.457317 | AN4: 83.872271 | AO4: 84.804753

Sheet Fill in Q7
D2: GDP deflator
D3: 2001Q1 | E3: 2001Q2 | F3: 2001Q3 | G3: 2001Q4 | H3: 2002Q1 | I3: 2002Q2 | J3: 2002Q3 | K3: 2002Q4 | L3: 2003Q1 | M3: 2003Q2 | N3: 2003Q3 | O3: 2003Q4 | P3: 2004Q1 | Q3: 2004Q2 | R3: 2004Q3 | S3: 2004Q4 | T3: 2005Q1 | U3: 2005Q2 | V3: 2005Q3 | W3: 2005Q4 | X3: 2006Q1 | Y3: 2006Q2 | Z3: 2006Q3 | AA3: 2006Q4 | AB3: 2007Q1 | AC3: 2007Q2 | AD3: 2007Q3 | AE3: 2007Q4 | AF3: 2008Q1 | AG3: 2008Q2 | AH3: 2008Q3 | AI3: 2008Q4 | AJ3: 2009Q1 | AK3: 2009Q2 | AL3: 2009Q3 | AM3: 2009Q4 | AN3: 2010Q1 | AO3: 2010Q2 | AP3: 2010Q3 | AQ3: 2010Q4
B4: China | C4: 10.994331 | D4: n.a. | E4: n.a. | F4: n.a. | G4: n.a. | H4: n.a. | I4: n.a. | J4: n.a. | K4: n.a. | L4: n.a. | M4: n.a. | N4: n.a. | O4: n.a. | P4: n.a. | Q4: n.a. | R4: n.a. | S4: n.a. | T4: n.a. | U4: n.a. | V4: n.a. | W4: n.a. | X4: n.a. | Y4: n.a. | Z4: n.a. | AA4: n.a. | AB4: n.a. | AC4: n.a. | AD4: n.a. | AE4: n.a. | AF4: n.a. | AG4: n.a. | AH4: n.a. | AI4: n.a. | AJ4: n.a. | AK4: n.a. | AL4: n.a. | AM4: n.a. | AN4: n.a. | AO4: n.a. | AP4: n.a. | AQ4: n.a.
B5: Japan | C5: 10.452897 | D5: 106.521 | E5: 105.793 | F5: 105.403 | G5: 105.049 | H5: 105.185 | I5: 104.104 | J5: 103.665 | K5: 103.33 | L5: 102.629 | M5: 102.834 | N5: 102.421 | O5: 101.604 | P5: 101.39 | Q5: 101.302 | R5: 101.097 | S5: 101.264 | T5: 100.647 | U5: 100.264 | V5: 99.6729 | W5: 99.5654 | X5: 99.5055 | Y5: 99.1409 | Z5: 98.7991 | AA5: 99.1125 | AB5: 98.8085 | AC5: 98.6736 | AD5: 98.1386 | AE5: 98.0214 | AF5: 97.678 | AG5: 97.2318 | AH5: 96.4736 | AI5: 98.3856 | AJ5: 98.4678 | AK5: 97.2195 | AL5: 96.6853 | AM5: 95.968 | AN5: 95.8997 | AO5: 95.0482 | AP5: 94.4859 | AQ5: 94.2906
B6: USA | C6: 10.358069 | D6: 90.0539 | E6: 90.6669 | F6: 90.9518 | G6: 91.2322 | H6: 91.555 | I6: 91.9657 | J6: 92.3627 | K6: 92.8934 | L6: 93.5432 | M6: 93.8155 | N6: 94.3373 | O6: 94.8183 | P6: 95.6428 | Q6: 96.4496 | R6: 97.1481 | S6: 97.8744 | T6: 98.7759 | U6: 99.4376 | V6: 100.459 | W6: 101.302 | X6: 102.055 | Y6: 102.948 | Z6: 103.725 | AA6: 104.186 | AB6: 105.38 | AC6: 106.097 | AD6: 106.454 | AE6: 106.958 | AF6: 107.591 | AG6: 108.302 | AH6: 109.162 | AI6: 109.3 | AJ6: 109.717 | AK6: 109.594 | AL6: 109.658 | AM6: 109.942 | AN6: 110.359 | AO6: 110.792 | AP6: 111.156 | AQ6: 111.644
B7: China, Hong Kong SAR | C7: 6.7235139 | D7: 115.104 | E7: 114.914 | F7: 114.014 | G7: 114.012 | H7: 111.977 | I7: 111.844 | J7: 110.095 | K7: 108.497 | L7: 106.294 | M7: 104.365 | N7: 102.474 | O7: 102.156 | P7: 101.538 | Q7: 100.639 | R7: 99.1257 | S7: 99.1465 | T7: 99.74 | U7: 100.264 | V7: 99.7854 | W7: 100.196 | X7: 99.3999 | Y7: 99.9132 | Z7: 98.7558 | AA7: 100.718 | AB7: 100.73 | AC7: 101.578 | AD7: 102.37 | AE7: 105.455 | AF7: 103.366 | AG7: 103.747 | AH7: 104.473 | AI7: 104.884 | AJ7: 104.009 | AK7: 103.342 | AL7: 102.431 | AM7: 104.162 | AN7: 104.73 | AO7: 101.039 | AP7: 104.32 | AQ7: 104.849
B8: Malaysia | C8: 5.4101691 | D8: 84.851 | E8: 85.1526 | F8: 84.6665 | G8: 83.8802 | H8: 84.8888 | I8: 86.9378 | J8: 88.412 | K8: 88.623 | L8: 90.6391 | M8: 89.3589 | N8: 89.6549 | O8: 90.9636 | P8: 93.1616 | Q8: 94.4706 | R8: 96.8925 | S8: 97.5778 | T8: 97.2577 | U8: 98.4219 | V8: 101.988 | W8: 102.077 | X8: 102.452 | Y8: 103.493 | Z8: 105.479 | AA8: 103.978 | AB8: 103.343 | AC8: 106.783 | AD8: 109.786 | AE8: 115.646 | AF8: 116.951 | AG8: 122.635 | AH8: 125.164 | AI8: 116.228 | AJ8: 110.887 | AK8: 109.436 | AL8: 111.34 | AM8: 116.027 | AN8: 117.374 | AO8: 115.302 | AP8: 117.011 | AQ8: 121.024
B9: Australia | C9: 4.7972512 | D9: 86.6797 | E9: 87.0177 | F9: 87.9571 | G9: 88.1359 | H9: 89.0584 | I9: 89.4591 | J9: 89.8297 | K9: 90.8953 | L9: 91.7678 | M9: 91.5957 | N9: 92.4298 | O9: 93.6135 | P9: 94.5484 | Q9: 95.28 | R9: 95.9903 | S9: 96.8745 | T9: 98.0518 | U9: 99.4253 | V9: 100.56 | W9: 101.905 | X9: 102.958 | Y9: 104.133 | Z9: 105.98 | AA9: 107.002 | AB9: 107.955 | AC9: 109.068 | AD9: 110.14 | AE9: 111.511 | AF9: 112.825 | AG9: 115.507 | AH9: 119.03 | AI9: 120.268 | AJ9: 117.967 | AK9: 116.098 | AL9: 116.63 | AM9: 118.227 | AN9: 119.738 | AO9: 123.288 | AP9: 124.948 | AQ9: 125.407
B10: Singapore | C10: 4.6128643 | D10: n.a. | E10: n.a. | F10: n.a. | G10: n.a. | H10: n.a. | I10: n.a. | J10: n.a. | K10: n.a. | L10: n.a. | M10: n.a. | N10: n.a. | O10: n.a. | P10: n.a. | Q10: n.a. | R10: n.a. | S10: n.a. | T10: n.a. | U10: n.a. | V10: n.a. | W10: n.a. | X10: n.a. | Y10: n.a. | Z10: n.a. | AA10: n.a. | AB10: n.a. | AC10: n.a. | AD10: n.a. | AE10: n.a. | AF10: n.a. | AG10: n.a. | AH10: n.a. | AI10: n.a. | AJ10: n.a. | AK10: n.a. | AL10: n.a. | AM10: n.a. | AN10: n.a. | AO10: n.a. | AP10: n.a. | AQ10: n.a.
B11: Indonesia | C11: 3.7614639 | D11: 68.5198 | E11: 72.8301 | F11: 73.2934 | G11: 73.8326 | H11: 74.8052 | I11: 75.6928 | J11: 76.8096 | K11: 78.1964 | L11: 80.9776 | M11: 79.6453 | N11: 80.301 | O11: 81.401 | P11: 84.1151 | Q11: 86.4698 | R11: 88.6393 | S11: 90.4795 | T11: 93.5407 | U11: 97.021 | V11: 100.305 | W11: 108.915 | X11: 110.145 | Y11: 112.078 | Z11: 115.655 | AA11: 118.256 | AB11: 122.094 | AC11: 124.54 | AD11: 128.401 | AE11: 132.455 | AF11: 138.658 | AG11: 148.363 | AH11: 155.535 | AI11: 156.807 | AJ11: 157.19 | AK11: 161.24 | AL11: 163.853 | AM11: 166.99 | AN11: 169.6 | AO11: 174.261 | AP11: 177.22 | AQ11: 180.785
B12: Viet Nam | C12: 2.9928875 | D12: n.a. | E12: n.a. | F12: n.a. | G12: n.a. | H12: n.a. | I12: n.a. | J12: n.a. | K12: n.a. | L12: n.a. | M12: n.a. | N12: n.a. | O12: n.a. | P12: n.a. | Q12: n.a. | R12: n.a. | S12: n.a. | T12: n.a. | U12: n.a. | V12: n.a. | W12: n.a. | X12: n.a. | Y12: n.a. | Z12: n.a. | AA12: n.a. | AB12: n.a. | AC12: n.a. | AD12: n.a. | AE12: n.a. | AF12: n.a. | AG12: n.a. | AH12: n.a. | AI12: n.a. | AJ12: n.a. | AK12: n.a. | AL12: n.a. | AM12: n.a. | AN12: n.a. | AO12: n.a. | AP12: n.a. | AQ12: n.a.
B13: Philippines | C13: 2.5017159 | D13: 75.1469 | E13: 75.2356 | F13: 77.3103 | G13: 78.0107 | H13: 78.5468 | I13: 79.7154 | J13: 79.1517 | K13: 82.7713 | L13: 76.7041 | M13: 75.8727 | N13: 77.4697 | O13: 79.8529 | P13: 79.2331 | Q13: 79.8657 | R13: 82.8693 | S13: 85.0778 | T13: 84.0056 | U13: 85.2983 | V13: 88.24 | W13: 89.282 | X13: 89.4509 | Y13: 89.2941 | Z13: 93.1486 | AA13: 92.8515 | AB13: 92.3627 | AC13: 90.9991 | AD13: 93.4525 | AE13: 96.9406 | AF13: 111.082 | AG13: 115.18 | AH13: 118.7 | AI13: 119.852 | AJ13: 116.088 | AK13: 116.451 | AL13: 119.793 | AM13: 125.27 | AN13: 121.409 | AO13: 121.959 | AP13: 124.52 | AQ13: 130.078
B14: India | C14: 2.249522 | D14: 81.5558 | E14: 82.0884 | F14: 82.5514 | G14: 82.0038 | H14: 83.6225 | I14: 85.3334 | J14: 84.8825 | K14: 84.6389 | L14: 87.3248 | M14: 87.747 | N14: 88.2756 | O14: 89.0015 | P14: 89.8782 | Q14: 92.3928 | R14: 92.37 | S14: 92.6865 | T14: 95.3771 | U14: 96.9902 | V14: 97.8668 | W14: 96.4357 | X14: 99.5183 | Y14: 101.32 | Z14: 102.893 | AA14: 102.095 | AB14: 110.355 | AC14: 110.748 | AD14: 112.082 | AE14: 114.068 | AF14: 120.919 | AG14: 123.776 | AH14: 122.95 | AI14: 119.559 | AJ14: 124.175 | AK14: 127.248 | AL14: 132.479 | AM14: 134.73 | AN14: 136.347 | AO14: 137.72 | AP14: 143.014 | AQ14: 146.556
B15: Switzerland | C15: 2.1633016 | D15: 97.6841 | E15: 97.8935 | F15: 97.933 | G15: 98.0182 | H15: 97.8944 | I15: 98.3068 | J15: 98.5226 | K15: 98.6463 | L15: 98.9897 | M15: 99.269 | N15: 99.4758 | O15: 99.561 | P15: 99.7124 | Q15: 99.8566 | R15: 99.7991 | S15: 100.198 | T15: 99.8177 | U15: 99.707 | V15: 100.061 | W15: 100.402 | X15: 101.069 | Y15: 101.81 | Z15: 102.504 | AA15: 102.84 | AB15: 103.576 | AC15: 104.261 | AD15: 104.898 | AE15: 105.659 | AF15: 106.295 | AG15: 106.98 | AH15: 107.58 | AI15: 107.808 | AJ15: 107.359 | AK15: 107.219 | AL15: 107.393 | AM15: 107.37 | AN15: 107.502 | AO15: 107.394 | AP15: 107.265 | AQ15: 107.482
B16: United Kingdom | C16: 1.8731564 | D16: 90.5128 | E16: 90.9559 | F16: 90.7937 | G16: 91.6458 | H16: 92.5062 | I16: 93.1124 | J16: 93.6241 | K16: 93.8843 | L16: 94.8883 | M16: 95.5255 | N16: 95.5266 | O16: 95.9568 | P16: 96.332 | Q16: 97.5165 | R16: 98.2346 | S16: 99.3414 | T16: 99.2572 | U16: 99.9406 | V16: 99.8903 | W16: 100.892 | X16: 101.646 | Y16: 102.931 | Z16: 103.711 | AA16: 104.623 | AB16: 104.445 | AC16: 105.695 | AD16: 105.759 | AE16: 106.359 | AF16: 107.47 | AG16: 108.375 | AH16: 109.11 | AI16: 110.665 | AJ16: 109.992 | AK16: 110.097 | AL16: 111.219 | AM16: 111.416 | AN16: 113.192 | AO16: 113.377 | AP16: 113.949 | AQ16: 114.872
B17: Netherlands | C17: 1.8656655 | D17: 90.3809 | E17: 90.8492 | F17: 91.7432 | G17: 92.4083 | H17: 93.7664 | I17: 94.1662 | J17: 95.5975 | K17: 95.81 | L17: 96.3339 | M17: 96.8608 | N17: 97.0648 | O17: 97.3701 | P17: 96.909 | Q17: 97.4252 | R17: 97.7711 | S17: 98.3584 | T17: 99.1536 | U17: 99.7746 | V17: 100.236 | W17: 100.814 | X17: 101.256 | Y17: 101.363 | Z17: 101.747 | AA17: 102.678 | AB17: 102.94 | AC17: 103.878 | AD17: 103.846 | AE17: 103.908 | AF17: 104.757 | AG17: 105.521 | AH17: 106.021 | AI17: 107.062 | AJ17: 105.714 | AK17: 105.564 | AL17: 105.138 | AM17: 105.23 | AN17: 105.608 | AO17: 106.811 | AP17: 107.236 | AQ17: 107.484
B18: Rep. of Korea | C18: 1.8482749 | D18: 84.8768 | E18: 84.9246 | F18: 86.1249 | G18: 88.4156 | H18: 86.778 | I18: 87.2717 | J18: 88.0076 | K18: 91.3145 | L18: 89.468 | M18: 89.8094 | N18: 91.0222 | O18: 93.7327 | P18: 91.5268 | Q18: 91.9497 | R18: 94.3953 | S18: 96.4065 | T18: 92.1843 | U18: 91.8003 | V18: 94.0525 | W18: 96.3608 | X18: 99.5708 | Y18: 98.6768 | Z18: 101.092 | AA18: 100.052 | AB18: 101.015 | AC18: 100.644 | AD18: 103.166 | AE18: 102.786 | AF18: 102.913 | AG18: 104.654 | AH18: 106.338 | AI18: 105.597 | AJ18: 106.364 | AK18: 108.211 | AL18: 110.388 | AM18: 108.789 | AN18: 110.04 | AO18: 111.945 | AP18: 114.377 | AQ18: 113.586
B19: Germany | C19: 1.6906865 | D19: 95.3381 | E19: 95.4631 | F19: 95.8876 | G19: 96.8428 | H19: 97.0577 | I19: 96.678 | J19: 97.4041 | K19: 97.888 | L19: 97.9929 | M19: 98.0253 | N19: 98.6468 | O19: 98.6131 | P19: 99.1955 | Q19: 99.3441 | R19: 99.5218 | S19: 99.4329 | T19: 100.01 | U19: 99.8789 | V19: 100.052 | W19: 100.058 | X19: 100.119 | Y19: 100.315 | Z19: 100.352 | AA19: 100.441 | AB19: 101.652 | AC19: 101.883 | AD19: 102.075 | AE19: 102.138 | AF19: 102.47 | AG19: 102.738 | AH19: 102.766 | AI19: 102.948 | AJ19: 103.337 | AK19: 103.723 | AL19: 104.27 | AM19: 104.391 | AN19: 104.468 | AO19: 104.393 | AP19: 104.624 | AQ19: 104.715
B20: Other Asia, nes | C20: 1.65414 | D20: n.a. | E20: n.a. | F20: n.a. | G20: n.a. | H20: n.a. | I20: n.a. | J20: n.a. | K20: n.a. | L20: n.a. | M20: n.a. | N20: n.a. | O20: n.a. | P20: n.a. | Q20: n.a. | R20: n.a. | S20: n.a. | T20: n.a. | U20: n.a. | V20: n.a. | W20: n.a. | X20: n.a. | Y20: n.a. | Z20: n.a. | AA20: n.a. | AB20: n.a. | AC20: n.a. | AD20: n.a. | AE20: n.a. | AF20: n.a. | AG20: n.a. | AH20: n.a. | AI20: n.a. | AJ20: n.a. | AK20: n.a. | AL20: n.a. | AM20: n.a. | AN20: n.a. | AO20: n.a. | AP20: n.a. | AQ20: n.a.
B21: United Arab Emirates | C21: 1.4559131 | D21: n.a. | E21: n.a. | F21: n.a. | G21: n.a. | H21: n.a. | I21: n.a. | J21: n.a. | K21: n.a. | L21: n.a. | M21: n.a. | N21: n.a. | O21: n.a. | P21: n.a. | Q21: n.a. | R21: n.a. | S21: n.a. | T21: n.a. | U21: n.a. | V21: n.a. | W21: n.a. | X21: n.a. | Y21: n.a. | Z21: n.a. | AA21: n.a. | AB21: n.a. | AC21: n.a. | AD21: n.a. | AE21: n.a. | AF21: n.a. | AG21: n.a. | AH21: n.a. | AI21: n.a. | AJ21: n.a. | AK21: n.a. | AL21: n.a. | AM21: n.a. | AN21: n.a. | AO21: n.a. | AP21: n.a. | AQ21: n.a.
B22: Cambodia | C22: 1.1991583 | D22: n.a. | E22: n.a. | F22: n.a. | G22: n.a. | H22: n.a. | I22: n.a. | J22: n.a. | K22: n.a. | L22: n.a. | M22: n.a. | N22: n.a. | O22: n.a. | P22: n.a. | Q22: n.a. | R22: n.a. | S22: n.a. | T22: n.a. | U22: n.a. | V22: n.a. | W22: n.a. | X22: n.a. | Y22: n.a. | Z22: n.a. | AA22: n.a. | AB22: n.a. | AC22: n.a. | AD22: n.a. | AE22: n.a. | AF22: n.a. | AG22: n.a. | AH22: n.a. | AI22: n.a. | AJ22: n.a. | AK22: n.a. | AL22: n.a. | AM22: n.a. | AN22: n.a. | AO22: n.a. | AP22: n.a. | AQ22: n.a.
B23: Lao People's Dem. Rep. | C23: 1.0936044 | D23: n.a. | E23: n.a. | F23: n.a. | G23: n.a. | H23: n.a. | I23: n.a. | J23: n.a. | K23: n.a. | L23: n.a. | M23: n.a. | N23: n.a. | O23: n.a. | P23: n.a. | Q23: n.a. | R23: n.a. | S23: n.a. | T23: n.a. | U23: n.a. | V23: n.a. | W23: n.a. | X23: n.a. | Y23: n.a. | Z23: n.a. | AA23: n.a. | AB23: n.a. | AC23: n.a. | AD23: n.a. | AE23: n.a. | AF23: n.a. | AG23: n.a. | AH23: n.a. | AI23: n.a. | AJ23: n.a. | AK23: n.a. | AL23: n.a. | AM23: n.a. | AN23: n.a. | AO23: n.a. | AP23: n.a. | AQ23: n.a.
B24: Saudi Arabia | C24: 1.0844348 | D24: n.a. | E24: n.a. | F24: n.a. | G24: n.a. | H24: n.a. | I24: n.a. | J24: n.a. | K24: n.a. | L24: n.a. | M24: n.a. | N24: n.a. | O24: n.a. | P24: n.a. | Q24: n.a. | R24: n.a. | S24: n.a. | T24: n.a. | U24: n.a. | V24: n.a. | W24: n.a. | X24: n.a. | Y24: n.a. | Z24: n.a. | AA24: n.a. | AB24: n.a. | AC24: n.a. | AD24: n.a. | AE24: n.a. | AF24: n.a. | AG24: n.a. | AH24: n.a. | AI24: n.a. | AJ24: n.a. | AK24: n.a. | AL24: n.a. | AM24: n.a. | AN24: n.a. | AO24: n.a. | AP24: n.a. | AQ24: n.a.
B25: Myanmar | C25: 1.0613583 | D25: n.a. | E25: n.a. | F25: n.a. | G25: n.a. | H25: n.a. | I25: n.a. | J25: n.a. | K25: n.a. | L25: n.a. | M25: n.a. | N25: n.a. | O25: n.a. | P25: n.a. | Q25: n.a. | R25: n.a. | S25: n.a. | T25: n.a. | U25: n.a. | V25: n.a. | W25: n.a. | X25: n.a. | Y25: n.a. | Z25: n.a. | AA25: n.a. | AB25: n.a. | AC25: n.a. | AD25: n.a. | AE25: n.a. | AF25: n.a. | AG25: n.a. | AH25: n.a. | AI25: n.a. | AJ25: n.a. | AK25: n.a. | AL25: n.a. | AM25: n.a. | AN25: n.a. | AO25: n.a. | AP25: n.a. | AQ25: n.a.
D28: GDP deflator/PPI/CPI
D29: 2001Q1 | E29: 2001Q2 | F29: 2001Q3 | G29: 2001Q4 | H29: 2002Q1 | I29: 2002Q2 | J29: 2002Q3 | K29: 2002Q4 | L29: 2003Q1 | M29: 2003Q2 | N29: 2003Q3 | O29: 2003Q4 | P29: 2004Q1 | Q29: 2004Q2 | R29: 2004Q3 | S29: 2004Q4 | T29: 2005Q1 | U29: 2005Q2 | V29: 2005Q3 | W29: 2005Q4 | X29: 2006Q1 | Y29: 2006Q2 | Z29: 2006Q3 | AA29: 2006Q4 | AB29: 2007Q1 | AC29: 2007Q2 | AD29: 2007Q3 | AE29: 2007Q4 | AF29: 2008Q1 | AG29: 2008Q2 | AH29: 2008Q3 | AI29: 2008Q4 | AJ29: 2009Q1 | AK29: 2009Q2 | AL29: 2009Q3 | AM29: 2009Q4 | AN29: 2010Q1 | AO29: 2010Q2 | AP29: 2010Q3 | AQ29: 2010Q4
B30: China | C30: 10.994331 | D30: n.a. | E30: n.a. | F30: n.a. | G30: n.a. | H30: n.a. | I30: n.a. | J30: n.a. | K30: n.a. | L30: n.a. | M30: n.a. | N30: n.a. | O30: n.a. | P30: n.a. | Q30: n.a. | R30: n.a. | S30: n.a. | T30: n.a. | U30: n.a. | V30: n.a. | W30: n.a. | X30: n.a. | Y30: n.a. | Z30: n.a. | AA30: n.a. | AB30: n.a. | AC30: n.a. | AD30: n.a. | AE30: n.a. | AF30: n.a. | AG30: n.a. | AH30: n.a. | AI30: n.a. | AJ30: n.a. | AK30: n.a. | AL30: n.a. | AM30: n.a. | AN30: n.a. | AO30: n.a. | AP30: n.a. | AQ30: n.a.
B31: Japan | C31: 10.452897 | D31: 106.521 | E31: 105.793 | F31: 105.403 | G31: 105.049 | H31: 105.185 | I31: 104.104 | J31: 103.665 | K31: 103.33 | L31: 102.629 | M31: 102.834 | N31: 102.421 | O31: 101.604 | P31: 101.39 | Q31: 101.302 | R31: 101.097 | S31: 101.264 | T31: 100.647 | U31: 100.264 | V31: 99.6729 | W31: 99.5654 | X31: 99.5055 | Y31: 99.1409 | Z31: 98.7991 | AA31: 99.1125 | AB31: 98.8085 | AC31: 98.6736 | AD31: 98.1386 | AE31: 98.0214 | AF31: 97.678 | AG31: 97.2318 | AH31: 96.4736 | AI31: 98.3856 | AJ31: 98.4678 | AK31: 97.2195 | AL31: 96.6853 | AM31: 95.968 | AN31: 95.8997 | AO31: 95.0482 | AP31: 94.4859 | AQ31: 94.2906
B32: USA | C32: 10.358069 | D32: 90.0539 | E32: 90.6669 | F32: 90.9518 | G32: 91.2322 | H32: 91.555 | I32: 91.9657 | J32: 92.3627 | K32: 92.8934 | L32: 93.5432 | M32: 93.8155 | N32: 94.3373 | O32: 94.8183 | P32: 95.6428 | Q32: 96.4496 | R32: 97.1481 | S32: 97.8744 | T32: 98.7759 | U32: 99.4376 | V32: 100.459 | W32: 101.302 | X32: 102.055 | Y32: 102.948 | Z32: 103.725 | AA32: 104.186 | AB32: 105.38 | AC32: 106.097 | AD32: 106.454 | AE32: 106.958 | AF32: 107.591 | AG32: 108.302 | AH32: 109.162 | AI32: 109.3 | AJ32: 109.717 | AK32: 109.594 | AL32: 109.658 | AM32: 109.942 | AN32: 110.359 | AO32: 110.792 | AP32: 111.156 | AQ32: 111.644
B33: China, Hong Kong SAR | C33: 6.7235139 | D33: 115.104 | E33: 114.914 | F33: 114.014 | G33: 114.012 | H33: 111.977 | I33: 111.844 | J33: 110.095 | K33: 108.497 | L33: 106.294 | M33: 104.365 | N33: 102.474 | O33: 102.156 | P33: 101.538 | Q33: 100.639 | R33: 99.1257 | S33: 99.1465 | T33: 99.74 | U33: 100.264 | V33: 99.7854 | W33: 100.196 | X33: 99.3999 | Y33: 99.9132 | Z33: 98.7558 | AA33: 100.718 | AB33: 100.73 | AC33: 101.578 | AD33: 102.37 | AE33: 105.455 | AF33: 103.366 | AG33: 103.747 | AH33: 104.473 | AI33: 104.884 | AJ33: 104.009 | AK33: 103.342 | AL33: 102.431 | AM33: 104.162 | AN33: 104.73 | AO33: 101.039 | AP33: 104.32 | AQ33: 104.849
B34: Malaysia | C34: 5.4101691 | D34: 84.851 | E34: 85.1526 | F34: 84.6665 | G34: 83.8802 | H34: 84.8888 | I34: 86.9378 | J34: 88.412 | K34: 88.623 | L34: 90.6391 | M34: 89.3589 | N34: 89.6549 | O34: 90.9636 | P34: 93.1616 | Q34: 94.4706 | R34: 96.8925 | S34: 97.5778 | T34: 97.2577 | U34: 98.4219 | V34: 101.988 | W34: 102.077 | X34: 102.452 | Y34: 103.493 | Z34: 105.479 | AA34: 103.978 | AB34: 103.343 | AC34: 106.783 | AD34: 109.786 | AE34: 115.646 | AF34: 116.951 | AG34: 122.635 | AH34: 125.164 | AI34: 116.228 | AJ34: 110.887 | AK34: 109.436 | AL34: 111.34 | AM34: 116.027 | AN34: 117.374 | AO34: 115.302 | AP34: 117.011 | AQ34: 121.024
B35: Australia | C35: 4.7972512 | D35: 86.6797 | E35: 87.0177 | F35: 87.9571 | G35: 88.1359 | H35: 89.0584 | I35: 89.4591 | J35: 89.8297 | K35: 90.8953 | L35: 91.7678 | M35: 91.5957 | N35: 92.4298 | O35: 93.6135 | P35: 94.5484 | Q35: 95.28 | R35: 95.9903 | S35: 96.8745 | T35: 98.0518 | U35: 99.4253 | V35: 100.56 | W35: 101.905 | X35: 102.958 | Y35: 104.133 | Z35: 105.98 | AA35: 107.002 | AB35: 107.955 | AC35: 109.068 | AD35: 110.14 | AE35: 111.511 | AF35: 112.825 | AG35: 115.507 | AH35: 119.03 | AI35: 120.268 | AJ35: 117.967 | AK35: 116.098 | AL35: 116.63 | AM35: 118.227 | AN35: 119.738 | AO35: 123.288 | AP35: 124.948 | AQ35: 125.407
A36: PPI | B36: Singapore | C36: 4.6128643 | D36: ='Q7 PPI'!D5 -> 86.6225 | E36: ='Q7 PPI'!E5 -> 88.2683 | F36: ='Q7 PPI'!F5 -> 86.4493 | G36: ='Q7 PPI'!G5 -> 83.9661 | H36: ='Q7 PPI'!H5 -> 83.302 | I36: ='Q7 PPI'!I5 -> 85.7851 | J36: ='Q7 PPI'!J5 -> 85.1499 | K36: ='Q7 PPI'!K5 -> 86.0161 | ... AQ36: ='Q7 PPI'!AQ5 -> 102.241
B37: Indonesia | C37: 3.7614639 | D37: 68.5198 | E37: 72.8301 | F37: 73.2934 | G37: 73.8326 | H37: 74.8052 | I37: 75.6928 | J37: 76.8096 | K37: 78.1964 | L37: 80.9776 | M37: 79.6453 | N37: 80.301 | O37: 81.401 | P37: 84.1151 | Q37: 86.4698 | R37: 88.6393 | S37: 90.4795 | T37: 93.5407 | U37: 97.021 | V37: 100.305 | W37: 108.915 | X37: 110.145 | Y37: 112.078 | Z37: 115.655 | AA37: 118.256 | AB37: 122.094 | AC37: 124.54 | AD37: 128.401 | AE37: 132.455 | AF37: 138.658 | AG37: 148.363 | AH37: 155.535 | AI37: 156.807 | AJ37: 157.19 | AK37: 161.24 | AL37: 163.853 | AM37: 166.99 | AN37: 169.6 | AO37: 174.261 | AP37: 177.22 | AQ37: 180.785
A38: CPI | B38: Viet Nam | C38: 2.9928875 | D38: ='Q6'!D12 -> 80.4518 | E38: ='Q6'!E12 -> 79.6692 | F38: ='Q6'!F12 -> 79.6244 | G38: ='Q6'!G12 -> 80.1164 | H38: ='Q6'!H12 -> 82.5042 | I38: ='Q6'!I12 -> 82.8765 | J38: ='Q6'!J12 -> 83.0457 | K38: ='Q6'!K12 -> 83.6887 | ... AQ38: ='Q6'!AQ12 -> 173.181
B39: Philippines | C39: 2.5017159 | D39: 75.1469 | E39: 75.2356 | F39: 77.3103 | G39: 78.0107 | H39: 78.5468 | I39: 79.7154 | J39: 79.1517 | K39: 82.7713 | L39: 76.7041 | M39: 75.8727 | N39: 77.4697 | O39: 79.8529 | P39: 79.2331 | Q39: 79.8657 | R39: 82.8693 | S39: 85.0778 | T39: 84.0056 | U39: 85.2983 | V39: 88.24 | W39: 89.282 | X39: 89.4509 | Y39: 89.2941 | Z39: 93.1486 | AA39: 92.8515 | AB39: 92.3627 | AC39: 90.9991 | AD39: 93.4525 | AE39: 96.9406 | AF39: 111.082 | AG39: 115.18 | AH39: 118.7 | AI39: 119.852 | AJ39: 116.088 | AK39: 116.451 | AL39: 119.793 | AM39: 125.27 | AN39: 121.409 | AO39: 121.959 | AP39: 124.52 | AQ39: 130.078
B40: India | C40: 2.249522 | D40: 81.5558 | E40: 82.0884 | F40: 82.5514 | G40: 82.0038 | H40: 83.6225 | I40: 85.3334 | J40: 84.8825 | K40: 84.6389 | L40: 87.3248 | M40: 87.747 | N40: 88.2756 | O40: 89.0015 | P40: 89.8782 | Q40: 92.3928 | R40: 92.37 | S40: 92.6865 | T40: 95.3771 | U40: 96.9902 | V40: 97.8668 | W40: 96.4357 | X40: 99.5183 | Y40: 101.32 | Z40: 102.893 | AA40: 102.095 | AB40: 110.355 | AC40: 110.748 | AD40: 112.082 | AE40: 114.068 | AF40: 120.919 | AG40: 123.776 | AH40: 122.95 | AI40: 119.559 | AJ40: 124.175 | AK40: 127.248 | AL40: 132.479 | AM40: 134.73 | AN40: 136.347 | AO40: 137.72 | AP40: 143.014 | AQ40: 146.556
B41: Switzerland | C41: 2.1633016 | D41: 97.6841 | E41: 97.8935 | F41: 97.933 | G41: 98.0182 | H41: 97.8944 | I41: 98.3068 | J41: 98.5226 | K41: 98.6463 | L41: 98.9897 | M41: 99.269 | N41: 99.4758 | O41: 99.561 | P41: 99.7124 | Q41: 99.8566 | R41: 99.7991 | S41: 100.198 | T41: 99.8177 | U41: 99.707 | V41: 100.061 | W41: 100.402 | X41: 101.069 | Y41: 101.81 | Z41: 102.504 | AA41: 102.84 | AB41: 103.576 | AC41: 104.261 | AD41: 104.898 | AE41: 105.659 | AF41: 106.295 | AG41: 106.98 | AH41: 107.58 | AI41: 107.808 | AJ41: 107.359 | AK41: 107.219 | AL41: 107.393 | AM41: 107.37 | AN41: 107.502 | AO41: 107.394 | AP41: 107.265 | AQ41: 107.482
B42: United Kingdom | C42: 1.8731564 | D42: 90.5128 | E42: 90.9559 | F42: 90.7937 | G42: 91.6458 | H42: 92.5062 | I42: 93.1124 | J42: 93.6241 | K42: 93.8843 | L42: 94.8883 | M42: 95.5255 | N42: 95.5266 | O42: 95.9568 | P42: 96.332 | Q42: 97.5165 | R42: 98.2346 | S42: 99.3414 | T42: 99.2572 | U42: 99.9406 | V42: 99.8903 | W42: 100.892 | X42: 101.646 | Y42: 102.931 | Z42: 103.711 | AA42: 104.623 | AB42: 104.445 | AC42: 105.695 | AD42: 105.759 | AE42: 106.359 | AF42: 107.47 | AG42: 108.375 | AH42: 109.11 | AI42: 110.665 | AJ42: 109.992 | AK42: 110.097 | AL42: 111.219 | AM42: 111.416 | AN42: 113.192 | AO42: 113.377 | AP42: 113.949 | AQ42: 114.872
B43: Netherlands | C43: 1.8656655 | D43: 90.3809 | E43: 90.8492 | F43: 91.7432 | G43: 92.4083 | H43: 93.7664 | I43: 94.1662 | J43: 95.5975 | K43: 95.81 | L43: 96.3339 | M43: 96.8608 | N43: 97.0648 | O43: 97.3701 | P43: 96.909 | Q43: 97.4252 | R43: 97.7711 | S43: 98.3584 | T43: 99.1536 | U43: 99.7746 | V43: 100.236 | W43: 100.814 | X43: 101.256 | Y43: 101.363 | Z43: 101.747 | AA43: 102.678 | AB43: 102.94 | AC43: 103.878 | AD43: 103.846 | AE43: 103.908 | AF43: 104.757 | AG43: 105.521 | AH43: 106.021 | AI43: 107.062 | AJ43: 105.714 | AK43: 105.564 | AL43: 105.138 | AM43: 105.23 | AN43: 105.608 | AO43: 106.811 | AP43: 107.236 | AQ43: 107.484
B44: Rep. of Korea | C44: 1.8482749 | D44: 84.8768 | E44: 84.9246 | F44: 86.1249 | G44: 88.4156 | H44: 86.778 | I44: 87.2717 | J44: 88.0076 | K44: 91.3145 | L44: 89.468 | M44: 89.8094 | N44: 91.0222 | O44: 93.7327 | P44: 91.5268 | Q44: 91.9497 | R44: 94.3953 | S44: 96.4065 | T44: 92.1843 | U44: 91.8003 | V44: 94.0525 | W44: 96.3608 | X44: 99.5708 | Y44: 98.6768 | Z44: 101.092 | AA44: 100.052 | AB44: 101.015 | AC44: 100.644 | AD44: 103.166 | AE44: 102.786 | AF44: 102.913 | AG44: 104.654 | AH44: 106.338 | AI44: 105.597 | AJ44: 106.364 | AK44: 108.211 | AL44: 110.388 | AM44: 108.789 | AN44: 110.04 | AO44: 111.945 | AP44: 114.377 | AQ44: 113.586
B45: Germany | C45: 1.6906865 | D45: 95.3381 | E45: 95.4631 | F45: 95.8876 | G45: 96.8428 | H45: 97.0577 | I45: 96.678 | J45: 97.4041 | K45: 97.888 | L45: 97.9929 | M45: 98.0253 | N45: 98.6468 | O45: 98.6131 | P45: 99.1955 | Q45: 99.3441 | R45: 99.5218 | S45: 99.4329 | T45: 100.01 | U45: 99.8789 | V45: 100.052 | W45: 100.058 | X45: 100.119 | Y45: 100.315 | Z45: 100.352 | AA45: 100.441 | AB45: 101.652 | AC45: 101.883 | AD45: 102.075 | AE45: 102.138 | AF45: 102.47 | AG45: 102.738 | AH45: 102.766 | AI45: 102.948 | AJ45: 103.337 | AK45: 103.723 | AL45: 104.27 | AM45: 104.391 | AN45: 104.468 | AO45: 104.393 | AP45: 104.624 | AQ45: 104.715
B46: Other Asia, nes | C46: 1.65414 | D46: n.a. | E46: n.a. | F46: n.a. | G46: n.a. | H46: n.a. | I46: n.a. | J46: n.a. | K46: n.a. | L46: n.a. | M46: n.a. | N46: n.a. | O46: n.a. | P46: n.a. | Q46: n.a. | R46: n.a. | S46: n.a. | T46: n.a. | U46: n.a. | V46: n.a. | W46: n.a. | X46: n.a. | Y46: n.a. | Z46: n.a. | AA46: n.a. | AB46: n.a. | AC46: n.a. | AD46: n.a. | AE46: n.a. | AF46: n.a. | AG46: n.a. | AH46: n.a. | AI46: n.a. | AJ46: n.a. | AK46: n.a. | AL46: n.a. | AM46: n.a. | AN46: n.a. | AO46: n.a. | AP46: n.a. | AQ46: n.a.
B47: United Arab Emirates | C47: 1.4559131 | D47: n.a. | E47: n.a. | F47: n.a. | G47: n.a. | H47: n.a. | I47: n.a. | J47: n.a. | K47: n.a. | L47: n.a. | M47: n.a. | N47: n.a. | O47: n.a. | P47: n.a. | Q47: n.a. | R47: n.a. | S47: n.a. | T47: n.a. | U47: n.a. | V47: n.a. | W47: n.a. | X47: n.a. | Y47: n.a. | Z47: n.a. | AA47: n.a. | AB47: n.a. | AC47: n.a. | AD47: n.a. | AE47: n.a. | AF47: n.a. | AG47: n.a. | AH47: n.a. | AI47: n.a. | AJ47: n.a. | AK47: n.a. | AL47: n.a. | AM47: n.a. | AN47: n.a. | AO47: n.a. | AP47: n.a. | AQ47: n.a.
A48: CPI | B48: Cambodia | C48: 1.1991583 | D48: ='Q6'!D22 -> 85.804 | E48: ='Q6'!E22 -> 86.1145 | F48: ='Q6'!F22 -> 87.0891 | G48: ='Q6'!G22 -> 87.4082 | H48: ='Q6'!H22 -> 88.7221 | I48: ='Q6'!I22 -> 88.9636 | J48: ='Q6'!J22 -> 89.8088 | K48: ='Q6'!K22 -> 90.0935 | ... AQ48: ='Q6'!AQ22 -> 150.297
A49: CPI | B49: Lao People's Dem. Rep. | C49: 1.0936044 | D49: ='Q6'!D23 -> 63.635 | E49: ='Q6'!E23 -> 65.4739 | F49: ='Q6'!F23 -> 67.5394 | G49: ='Q6'!G23 -> 67.8185 | H49: ='Q6'!H23 -> 68.209 | I49: ='Q6'!I23 -> 70.5329 | J49: ='Q6'!J23 -> 76.203 | K49: ='Q6'!K23 -> 77.6384 | ... AQ49: ='Q6'!AQ23 -> 130.147
A50: PPI | B50: Saudi Arabia | C50: 1.0844348 | D50: ='Q7 PPI'!D8 -> 93.8808 | E50: ='Q7 PPI'!E8 -> 94.2029 | F50: ='Q7 PPI'!F8 -> 92.9952 | G50: ='Q7 PPI'!G8 -> 93.1562 | H50: ='Q7 PPI'!H8 -> 92.8341 | I50: ='Q7 PPI'!I8 -> 93.4783 | J50: ='Q7 PPI'!J8 -> 93.7198 | K50: ='Q7 PPI'!K8 -> 94.1224 | ... AQ50: ='Q7 PPI'!AQ8 -> 120.37
A51: CPI | B51: Myanmar | C51: 1.0613583 | D51: ='Q6'!D25 -> 33.7408 | E51: ='Q6'!E25 -> 37.709 | F51: ='Q6'!F25 -> 43.4217 | G51: ='Q6'!G25 -> 48.2026 | H51: ='Q6'!H25 -> 51.7789 | I51: ='Q6'!I25 -> 59.015 | J51: ='Q6'!J25 -> 68.5406 | K51: ='Q6'!K25 -> 76.8135 | ... AQ51: ='Q6'!AQ25 -> 231.722

Sheet Q7 PPI
D2: PPI
D3: 2001Q1 | E3: 2001Q2 | F3: 2001Q3 | G3: 2001Q4 | H3: 2002Q1 | I3: 2002Q2 | J3: 2002Q3 | K3: 2002Q4 | L3: 2003Q1 | M3: 2003Q2 | N3: 2003Q3 | O3: 2003Q4 | P3: 2004Q1 | Q3: 2004Q2 | R3: 2004Q3 | S3: 2004Q4 | T3: 2005Q1 | U3: 2005Q2 | V3: 2005Q3 | W3: 2005Q4 | X3: 2006Q1 | Y3: 2006Q2 | Z3: 2006Q3 | AA3: 2006Q4 | AB3: 2007Q1 | AC3: 2007Q2 | AD3: 2007Q3 | AE3: 2007Q4 | AF3: 2008Q1 | AG3: 2008Q2 | AH3: 2008Q3 | AI3: 2008Q4 | AJ3: 2009Q1 | AK3: 2009Q2 | AL3: 2009Q3 | AM3: 2009Q4 | AN3: 2010Q1 | AO3: 2010Q2 | AP3: 2010Q3 | AQ3: 2010Q4
B4: China | C4: 10.994331 | D4: 0.2 | E4: -0.6 | F4: -2.9 | G4: -4 | H4: -4 | I4: -2.5 | J4: -1.4 | K4: 0.4 | L4: 4.6 | M4: 1.3 | N4: 1.4 | O4: 3 | P4: 3.9 | Q4: 6.4 | R4: 7.9 | S4: 7.1 | T4: 5.6 | U4: 5.2 | V4: 4.5 | W4: 3.2 | X4: 2.5 | Y4: 3.5 | Z4: 3.5 | AA4: 3.1 | AB4: 2.7 | AC4: 2.73333 | AD4: 2.56667 | AE4: 4.4 | AF4: 6.9 | AG4: 8.36667 | AH4: 9.73333 | AI4: 2.5 | AJ4: -4.6 | AK4: -7.2 | AL4: -7.7 | AM4: -2.06667 | AN4: 5.2 | AO4: 6.76667 | AP4: 4.46667 | AQ4: 5.66667
B5: Singapore | C5: 4.6128643 | D5: 86.6225 | E5: 88.2683 | F5: 86.4493 | G5: 83.9661 | H5: 83.302 | I5: 85.7851 | J5: 85.1499 | K5: 86.0161 | L5: 88.3693 | M5: 86.1355 | N5: 86.1355 | O5: 86.4334 | P5: 87.8034 | Q5: 90.2159 | R5: 93.0672 | S5: 93.6975 | T5: 93.9391 | U5: 99.2962 | V5: 103.676 | W5: 103.225 | X5: 104.517 | Y5: 106.933 | Z5: 107.458 | AA5: 101.261 | AB5: 100.28 | AC5: 104.482 | AD5: 106.513 | AE5: 109.979 | AF5: 111.975 | AG5: 120.168 | AH5: 122.899 | AI5: 98.1092 | AJ5: 92.1218 | AK5: 96.4286 | AL5: 100.21 | AM5: 101.261 | AN5: 103.046 | AO5: 103.256 | AP5: 100.032 | AQ5: 102.241
B6: Viet Nam | C6: 2.9928875 | D6: n.a. | E6: n.a. | F6: n.a. | G6: n.a. | H6: n.a. | I6: n.a. | J6: n.a. | K6: n.a. | L6: n.a. | M6: n.a. | N6: n.a. | O6: n.a. | P6: n.a. | Q6: n.a. | R6: n.a. | S6: n.a. | T6: n.a. | U6: n.a. | V6: n.a. | W6: n.a. | X6: n.a. | Y6: n.a. | Z6: n.a. | AA6: n.a. | AB6: n.a. | AC6: n.a. | AD6: n.a. | AE6: n.a. | AF6: n.a. | AG6: n.a. | AH6: n.a. | AI6: n.a. | AJ6: n.a. | AK6: n.a. | AL6: n.a. | AM6: n.a. | AN6: n.a. | AO6: n.a. | AP6: n.a. | AQ6: n.a.
B7: United Arab Emirates | C7: 1.4559131 | D7: n.a. | E7: n.a. | F7: n.a. | G7: n.a. | H7: n.a. | I7: n.a. | J7: n.a. | K7: n.a. | L7: n.a. | M7: n.a. | N7: n.a. | O7: n.a. | P7: n.a. | Q7: n.a. | R7: n.a. | S7: n.a. | T7: n.a. | U7: n.a. | V7: n.a. | W7: n.a. | X7: n.a. | Y7: n.a. | Z7: n.a. | AA7: n.a. | AB7: n.a. | AC7: n.a. | AD7: n.a. | AE7: n.a. | AF7: n.a. | AG7: n.a. | AH7: n.a. | AI7: n.a. | AJ7: n.a. | AK7: n.a. | AL7: n.a. | AM7: n.a. | AN7: n.a. | AO7: n.a. | AP7: n.a. | AQ7: n.a.
B8: Saudi Arabia | C8: 1.0844348 | D8: 93.8808 | E8: 94.2029 | F8: 92.9952 | G8: 93.1562 | H8: 92.8341 | I8: 93.4783 | J8: 93.7198 | K8: 94.1224 | L8: 94.4444 | M8: 94.1224 | N8: 93.8003 | O8: 95.0081 | P8: 96.1353 | Q8: 96.6989 | R8: 97.343 | S8: 98.7118 | T8: 99.1143 | U8: 99.7585 | V8: 100.403 | W8: 100.966 | X8: 101.208 | Y8: 99.4364 | Z8: 100.483 | AA8: 103.543 | AB8: 104.831 | AC8: 105.717 | AD8: 107.488 | AE8: 109.581 | AF8: 114.251 | AG8: 118.357 | AH8: 120.209 | AI8: 113.205 | AJ8: 111.433 | AK8: 112.077 | AL8: 113.768 | AM8: 114.573 | AN8: 115.137 | AO8: 117.391 | AP8: 118.599 | AQ8: 120.37

Sheet EURO Conversion
B3: Preceding national currencies of the Eurozone
B4: Currency | C4: Code | D4: Rate[30] | E4: Fixed on | F4: Yielded
C5: (ISO 4217)
B6: Austrian schilling | C6: ATS | D6: 13.7603 | E6: 36160 | F6: 36161
B7: Belgian franc | C7: BEF | D7: 40.3399 | E7: 36160 | F7: 36161
B8: Cypriot pound | C8: CYP | D8: 0.585274 | E8: 39273 | F8: 39448
B9: German mark | C9: DEM | D9: 1.95583 | E9: 36160 | F9: 36161
B10: Estonian kroon | C10: EEK | D10: 15.6466 | E10: 40372 | F10: 40544
B11: Spanish peseta | C11: ESP | D11: 166.386 | E11: 36160 | F11: 36161
B12: Finnish markka | C12: FIM | D12: 5.94573 | E12: 36160 | F12: 36161
B13: French franc | C13: FRF | D13: 6.55957 | E13: 36160 | F13: 36161
B14: Greek drachma | C14: GRD | D14: 340.75 | E14: 36696 | F14: 36892
B15: Irish pound | C15: IEP | D15: 0.787564 | E15: 36160 | F15: 36161
B16: Italian lira | C16: ITL | D16: 1936.27 | E16: 36160 | F16: 36161
B17: Luxembourgish franc | C17: LUF | D17: 40.3399 | E17: 36160 | F17: 36161
... B24: Sammarinese lira | C24: SML | D24: 1936.27 | E24: 36160 | F24: 36161
B25: Vatican lira | C25: VAL | D25: 1936.27 | E25: 36160 | F25: 1999-01-0
