Workbook

Sheet Q 1.1 2001
B1: Value | F1: Value (Mil$) | J1: Share (%)
A2: Country | B2: Export | C2: Import | D2: Trade | F2: Export | G2: Import | H2: Trade | J2: Export | K2: Import | L2: Trade
A3: Afghanistan | B3: 1578524 | C3: 230959 | D3: 1809483 | F3: =B3/10^6 -> 1.578524 | G3: =C3/10^6 -> 0.230959 | H3: =D3/10^6 -> 1.809483 | J3: =F3/F$225*100 -> 0.0024315201 | K3: =G3/G$225*100 -> 0.00037275151 | L3: =H3/H$225*100 -> 0.0014261395
A4: Albania | B4: 2345668 | C4: 10494 | D4: 2356162 | F4: =B4/10^6 -> 2.345668 | G4: =C4/10^6 -> 0.010494 | H4: =D4/10^6 -> 2.356162 | J4: =F4/F$225*100 -> 0.0036132101 | K4: =G4/G$225*100 -> 1.6936575e-05 | L4: =H4/H$225*100 -> 0.0018570031
A5: Algeria | B5: 33227038 | C5: 8153874 | D5: 41380912 | F5: =B5/10^6 -> 33.227038 | G5: =C5/10^6 -> 8.153874 | H5: =D5/10^6 -> 41.380912 | J5: =F5/F$225*100 -> 0.051182123 | K5: =G5/G$225*100 -> 0.013159777 | L5: =H5/H$225*100 -> 0.032614262
A6: American Samoa | B6: 3454491 | C6: 1905030 | D6: 5359521 | F6: =B6/10^6 -> 3.454491 | G6: =C6/10^6 -> 1.90503 | H6: =D6/10^6 -> 5.359521 | J6: =F6/F$225*100 -> 0.0053212141 | K6: =G6/G$225*100 -> 0.0030745838 | L6: =H6/H$225*100 -> 0.004224093
A7: Andorra | B7: 296966 | C7: 58920 | D7: 355886 | F7: =B7/10^6 -> 0.296966 | G7: =C7/10^6 -> 0.05892 | H7: =D7/10^6 -> 0.355886 | J7: =F7/F$225*100 -> 0.00045743922 | K7: =G7/G$225*100 -> 9.5092718e-05 | L7: =H7/H$225*100 -> 0.00028049065
A8: Angola | B8: 16715441 | C8: 41419731 | D8: 58135172 | F8: =B8/10^6 -> 16.715441 | G8: =C8/10^6 -> 41.419731 | H8: =D8/10^6 -> 58.135172 | J8: =F8/F$225*100 -> 0.02574806 | K8: =G8/G$225*100 -> 0.06684852 | L8: =H8/H$225*100 -> 0.045819089
A9: Antigua and Barbuda | B9: 225137 | C9: 281101 | D9: 506238 | F9: =B9/10^6 -> 0.225137 | G9: =C9/10^6 -> 0.281101 | H9: =D9/10^6 -> 0.506238 | J9: =F9/F$225*100 -> 0.00034679557 | K9: =G9/G$225*100 -> 0.00045367716 | L9: =H9/H$225*100 -> 0.0003989902
A10: Areas, nes | B10: 26571662 | C10: 562757246 | D10: 589328908 | F10: =B10/10^6 -> 26.571662 | G10: =C10/10^6 -> 562.75725 | H10: =D10/10^6 -> 589.32891 | J10: =F10/F$225*100 -> 0.040930343 | K10: =G10/G$225*100 -> 0.90825044 | L10: =H10/H$225*100 -> 0.46447809
A11: Argentina | B11: 77794059 | C11: 383810284 | D11: 461604343 | F11: =B11/10^6 -> 77.794059 | G11: =C11/10^6 -> 383.81028 | H11: =D11/10^6 -> 461.60434 | J11: =F11/F$225*100 -> 0.11983208 | K11: =G11/G$225*100 -> 0.61944269 | L11: =H11/H$225*100 -> 0.3638123
A12: Armenia | B12: 345783 | C12: 10339 | D12: 356122 | F12: =B12/10^6 -> 0.345783 | G12: =C12/10^6 -> 0.010339 | H12: =D12/10^6 -> 0.356122 | J12: =F12/F$225*100 -> 0.00053263574 | K12: =G12/G$225*100 -> 1.6686416e-05 | L12: =H12/H$225*100 -> 0.00028067666
A13: Aruba | B13: 375603 | D13: 375603 | F13: =B13/10^6 -> 0.375603 | G13: =C13/10^6 -> 0 | H13: =D13/10^6 -> 0.375603 | J13: =F13/F$225*100 -> 0.00057856975 | K13: =G13/G$225*100 -> 0 | L13: =H13/H$225*100 -> 0.00029603056
A14: Australia | B14: 1358598241 | C14: 1355248529 | D14: 2713846770 | F14: =B14/10^6 -> 1358.5982 | G14: =C14/10^6 -> 1355.2485 | H14: =D14/10^6 -> 2713.8468 | J14: =F14/F$225*100 -> 2.0927518 | K14: =G14/G$225*100 -> 2.1872754 | L14: =H14/H$225*100 -> 2.1389115
A15: Austria | B15: 99292769 | C15: 93349551 | D15: 192642320 | F15: =B15/10^6 -> 99.292769 | G15: =C15/10^6 -> 93.349551 | H15: =D15/10^6 -> 192.64232 | J15: =F15/F$225*100 -> 0.15294817 | K15: =G15/G$225*100 -> 0.15065958 | L15: =H15/H$225*100 -> 0.15183056
A16: Azerbaijan | B16: 440066 | C16: 1046750 | D16: 1486816 | F16: =B16/10^6 -> 0.440066 | G16: =C16/10^6 -> 1.04675 | H16: =D16/10^6 -> 1.486816 | J16: =F16/F$225*100 -> 0.00067786699 | K16: =G16/G$225*100 -> 0.0016893806 | L16: =H16/H$225*100 -> 0.0011718303
A17: Bahamas | B17: 1011021 | C17: 55370 | D17: 1066391 | F17: =B17/10^6 -> 1.011021 | G17: =C17/10^6 -> 0.05537 | H17: =D17/10^6 -> 1.066391 | J17: =F17/F$225*100 -> 0.0015573522 | K17: =G17/G$225*100 -> 8.9363269e-05 | L17: =H17/H$225*100 -> 0.00084047338
A18: Bahrain | B18: 32970012 | C18: 57139620 | D18: 90109632 | F18: =B18/10^6 -> 32.970012 | G18: =C18/10^6 -> 57.13962 | H18: =D18/10^6 -> 90.109632 | J18: =F18/F$225*100 -> 0.050786206 | K18: =G18/G$225*100 -> 0.09221931 | L18: =H18/H$225*100 -> 0.07101968
A19: Bangladesh | B19: 230924523 | C19: 28940719 | D19: 259865242 | F19: =B19/10^6 -> 230.92452 | G19: =C19/10^6 -> 28.940719 | H19: =D19/10^6 -> 259.86524 | J19: =F19/F$225*100 -> 0.35571053 | K19: =G19/G$225*100 -> 0.046708276 | L19: =H19/H$225*100 -> 0.20481214
A20: Barbados | B20: 1648477 | C20: 242746 | D20: 1891223 | F20: =B20/10^6 -> 1.648477 | G20: =C20/10^6 -> 0.242746 | H20: =D20/10^6 -> 1.891223 | J20: =F20/F$225*100 -> 0.002539274 | K20: =G20/G$225*100 -> 0.0003917749 | L20: =H20/H$225*100 -> 0.0014905626
A21: Belarus | B21: 384395 | C21: 3281126 | D21: 3665521 | F21: =B21/10^6 -> 0.384395 | G21: =C21/10^6 -> 3.281126 | H21: =D21/10^6 -> 3.665521 | J21: =F21/F$225*100 -> 0.00059211273 | K21: =G21/G$225*100 -> 0.0052955056 | L21: =H21/H$225*100 -> 0.0028889711
A22: Belgium | B22: 1417625700 | C22: 456150552 | D22: 1873776252 | F22: =B22/10^6 -> 1417.6257 | G22: =C22/10^6 -> 456.15055 | H22: =D22/10^6 -> 1873.7763 | J22: =F22/F$225*100 -> 2.1836762 | K22: =G22/G$225*100 -> 0.73619477 | L22: =H22/H$225*100 -> 1.476812
A23: Belize | B23: 4126722 | C23: 6327749 | D23: 10454471 | F23: =B23/10^6 -> 4.126722 | G23: =C23/10^6 -> 6.327749 | H23: =D23/10^6 -> 10.454471 | J23: =F23/F$225*100 -> 0.0063567024 | K23: =G23/G$225*100 -> 0.01021254 | L23: =H23/H$225*100 -> 0.008239665
A24: Benin | B24: 38440209 | C24: 13175772 | D24: 51615981 | F24: =B24/10^6 -> 38.440209 | G24: =C24/10^6 -> 13.175772 | H24: =D24/10^6 -> 51.615981 | J24: =F24/F$225*100 -> 0.059212365 | K24: =G24/G$225*100 -> 0.021264765 | L24: =H24/H$225*100 -> 0.040681005
A25: Bermuda | B25: 485029 | D25: 485029 | F25: =B25/10^6 -> 0.485029 | G25: =C25/10^6 -> 0 | H25: =D25/10^6 -> 0.485029 | J25: =F25/F$225*100 -> 0.0007471269 | K25: =G25/G$225*100 -> 0 | L25: =H25/H$225*100 -> 0.00038227439
A26: Bhutan | B26: 924371 | C26: 114028 | D26: 1038399 | F26: =B26/10^6 -> 0.924371 | G26: =C26/10^6 -> 0.114028 | H26: =D26/10^6 -> 1.038399 | J26: =F26/F$225*100 -> 0.0014238787 | K26: =G26/G$225*100 -> 0.00018403314 | L26: =H26/H$225*100 -> 0.00081841156
A27: Bolivia (Plurinational State of) | B27: 1874058 | C27: 1181640 | D27: 3055698 | F27: =B27/10^6 -> 1.874058 | G27: =C27/10^6 -> 1.18164 | H27: =D27/10^6 -> 3.055698 | J27: =F27/F$225*100 -> 0.0028867535 | K27: =G27/G$225*100 -> 0.0019070835 | L27: =H27/H$225*100 -> 0.0024083407
A28: Botswana | B28: 323589 | C28: 456213 | D28: 779802 | F28: =B28/10^6 -> 0.323589 | G28: =C28/10^6 -> 0.456213 | H28: =D28/10^6 -> 0.779802 | J28: =F28/F$225*100 -> 0.00049844864 | K28: =G28/G$225*100 -> 0.00073629555 | L28: =H28/H$225*100 -> 0.00061459898
A29: Bouvet Island | B29: 8086 | D29: 8086 | F29: =B29/10^6 -> 0.008086 | G29: =C29/10^6 -> 0 | H29: =D29/10^6 -> 0.008086 | J29: =F29/F$225*100 -> 1.2455478e-05 | K29: =G29/G$225*100 -> 0 | L29: =H29/H$225*100 -> 6.3729605e-06
A30: Br. Indian Ocean Terr. | B30: 67319 | C30: 596891 | D30: 664210 | F30: =B30/10^6 -> 0.067319 | G30: =C30/10^6 -> 0.596891 | H30: =D30/10^6 -> 0.66421 | J30: =F30/F$225*100 -> 0.00010369655 | K30: =G30/G$225*100 -> 0.00096333991 | L30: =H30/H$225*100 -> 0.00052349544
A31: Br. Virgin Isds | B31: 580999 | C31: 815184 | D31: 1396183 | F31: =B31/10^6 -> 0.580999 | G31: =C31/10^6 -> 0.815184 | H31: =D31/10^6 -> 1.396183 | J31: =F31/F$225*100 -> 0.00089495676 | K31: =G31/G$225*100 -> 0.0013156494 | L31: =H31/H$225*100 -> 0.0011003981
A32: Brazil | B32: 160643250 | C32: 267486531 | D32: 428129781 | F32: =B32/10^6 -> 160.64325 | G32: =C32/10^6 -> 267.48653 | H32: =D32/10^6 -> 428.12978 | J32: =F32/F$225*100 -> 0.24745096 | K32: =G32/G$225*100 -> 0.43170437 | L32: =H32/H$225*100 -> 0.33742941
A33: Brunei Darussalam | B33: 37354369 | C33: 387031938 | D33: 424386307 | F33: =B33/10^6 -> 37.354369 | G33: =C33/10^6 -> 387.03194 | H33: =D33/10^6 -> 424.38631 | J33: =F33/F$225*100 -> 0.057539763 | K33: =G33/G$225*100 -> 0.62464221 | L33: =H33/H$225*100 -> 0.334479
A34: Bulgaria | B34: 8398738 | C34: 7492275 | D34: 15891013 | F34: =B34/10^6 -> 8.398738 | G34: =C34/10^6 -> 7.492275 | H34: =D34/10^6 -> 15.891013 | J34: =F34/F$225*100 -> 0.012937212 | K34: =G34/G$225*100 -> 0.012092003 | L34: =H34/H$225*100 -> 0.012524462
A35: Burkina Faso | B35: 1170417 | C35: 4530498 | D35: 5700915 | F35: =B35/10^6 -> 1.170417 | G35: =C35/10^6 -> 4.530498 | H35: =D35/10^6 -> 5.700915 | J35: =F35/F$225*100 -> 0.0018028819 | K35: =G35/G$225*100 -> 0.0073119037 | L35: =H35/H$225*100 -> 0.0044931618
A36: Burundi | B36: 782100 | C36: 38550 | D36: 820650 | F36: =B36/10^6 -> 0.7821 | G36: =C36/10^6 -> 0.03855 | H36: =D36/10^6 -> 0.82065 | J36: =F36/F$225*100 -> 0.0012047279 | K36: =G36/G$225*100 -> 6.2216977e-05 | L36: =H36/H$225*100 -> 0.00064679323
A37: Cambodia | B37: 467444830 | C37: 12272758 | D37: 479717588 | F37: =B37/10^6 -> 467.44483 | G37: =C37/10^6 -> 12.272758 | H37: =D37/10^6 -> 479.71759 | J37: =F37/F$225*100 -> 0.72004067 | K37: =G37/G$225*100 -> 0.019807364 | L37: =H37/H$225*100 -> 0.37808821
A38: Cameroon | B38: 13289072 | C38: 20542134 | D38: 33831206 | F38: =B38/10^6 -> 13.289072 | G38: =C38/10^6 -> 20.542134 | H38: =D38/10^6 -> 33.831206 | J38: =F38/F$225*100 -> 0.020470164 | K38: =G38/G$225*100 -> 0.033153553 | L38: =H38/H$225*100 -> 0.02666398
A39: Canada | B39: 788239651 | C39: 346071370 | D39: 1134311021 | F39: =B39/10^6 -> 788.23965 | G39: =C39/10^6 -> 346.07137 | H39: =D39/10^6 -> 1134.311 | J39: =F39/F$225*100 -> 1.2141852 | K39: =G39/G$225*100 -> 0.55853474 | L39: =H39/H$225*100 -> 0.89400438
A40: Cape Verde | B40: 44569 | C40: 49756 | D40: 94325 | F40: =B40/10^6 -> 0.044569 | G40: =C40/10^6 -> 0.049756 | H40: =D40/10^6 -> 0.094325 | J40: =F40/F$225*100 -> 6.8653006e-05 | K40: =G40/G$225*100 -> 8.0302669e-05 | L40: =H40/H$225*100 -> 7.4342011e-05
...

Sheet Q1.1 2010 
B1: Value | F1: Value ($ million) | J1: Share | O1: Top 50
A2: Country | B2: Export | C2: Import | D2: Trade | F2: Export | G2: Import | H2: Trade | J2: Export | K2: Import | L2: Trade
A3: Afghanistan | B3: 145999422 | C3: 58633 | D3: =SUM(B3:C3) -> 146058055 | F3: =B3/10^6 -> 145.99942 | G3: =C3/10^6 -> 0.058633 | H3: =D3/10^6 -> 146.05805 | J3: =B3/B$230*100 -> 0.074752079 | K3: =C3/C$230*100 -> 3.2146452e-05 | L3: =D3/D$230*100 -> 0.038669886 | N3: 1 | O3: USA | P3: 20.286649
A4: Albania | B4: 3724262 | C4: 172909 | D4: =SUM(B4:C4) -> 3897171 | F4: =B4/10^6 -> 3.724262 | G4: =C4/10^6 -> 0.172909 | H4: =D4/10^6 -> 3.897171 | J4: =B4/B$230*100 -> 0.0019068317 | K4: =C4/C$230*100 -> 9.4800042e-05 | L4: =D4/D$230*100 -> 0.0010318031 | N4: 2 | O4: Japan | P4: 15.247033
A5: Algeria | B5: 217772780 | C5: 366896190 | D5: =SUM(B5:C5) -> 584668970 | F5: =B5/10^6 -> 217.77278 | G5: =C5/10^6 -> 366.89619 | H5: =D5/10^6 -> 584.66897 | J5: =B5/B$230*100 -> 0.11150022 | K5: =C5/C$230*100 -> 0.20115653 | L5: =D5/D$230*100 -> 0.15479518 | N5: 3 | O5: Singapore | P5: 8.0794853
A6: American Samoa | B6: 1198356 | C6: 1010340 | D6: =SUM(B6:C6) -> 2208696 | F6: =B6/10^6 -> 1.198356 | G6: =C6/10^6 -> 1.01034 | H6: =D6/10^6 -> 2.208696 | J6: =B6/B$230*100 -> 0.00061356135 | K6: =C6/C$230*100 -> 0.00055393458 | L6: =D6/D$230*100 -> 0.00058476763 | N6: 4 | O6: China, Hong Kong SAR | P6: 5.07479
A7: Andorra | B7: 1347867 | C7: 303932 | D7: =SUM(B7:C7) -> 1651799 | F7: =B7/10^6 -> 1.347867 | G7: =C7/10^6 -> 0.303932 | H7: =D7/10^6 -> 1.651799 | J7: =B7/B$230*100 -> 0.00069011137 | K7: =C7/C$230*100 -> 0.00016663543 | L7: =D7/D$230*100 -> 0.00043732528 | N7: 5 | O7: China | P7: 4.4096615
A8: Angola | B8: 142922768 | C8: 83217295 | D8: =SUM(B8:C8) -> 226140063 | F8: =B8/10^6 -> 142.92277 | G8: =C8/10^6 -> 83.217295 | H8: =D8/10^6 -> 226.14006 | J8: =B8/B$230*100 -> 0.073176824 | K8: =C8/C$230*100 -> 0.045625173 | L8: =D8/D$230*100 -> 0.059872155 | N8: 6 | O8: Malaysia | P8: 4.1939796
A9: Anguilla | C9: 12026 | D9: =SUM(B9:C9) -> 12026 | F9: =B9/10^6 -> 0 | G9: =C9/10^6 -> 0.012026 | H9: =D9/10^6 -> 0.012026 | J9: =B9/B$230*100 -> 0 | K9: =C9/C$230*100 -> 6.5934411e-06 | L9: =D9/D$230*100 -> 3.1839672e-06 | N9: 7 | O9: United Kingdom | P9: 3.5849227
A10: Antigua and Barbuda | B10: 995495 | C10: 26643 | D10: =SUM(B10:C10) -> 1022138 | F10: =B10/10^6 -> 0.995495 | G10: =C10/10^6 -> 0.026643 | H10: =D10/10^6 -> 1.022138 | J10: =B10/B$230*100 -> 0.000509696 | K10: =C10/C$230*100 -> 1.4607438e-05 | L10: =D10/D$230*100 -> 0.00027061815 | N10: 8 | O10: Netherlands | P10: 3.1186514
A11: Areas, nes | B11: 587931345 | C11: 24335910 | D11: =SUM(B11:C11) -> 612267255 | F11: =B11/10^6 -> 587.93134 | G11: =C11/10^6 -> 24.33591 | H11: =D11/10^6 -> 612.26725 | J11: =B11/B$230*100 -> 0.30102236 | K11: =C11/C$230*100 -> 0.01334254 | L11: =D11/D$230*100 -> 0.16210202 | N11: 9 | O11: Other Asia, nes | P11: 2.951103
A12: Argentina | B12: 594461398 | C12: 525259574 | D12: =SUM(B12:C12) -> 1119720972 | F12: =B12/10^6 -> 594.4614 | G12: =C12/10^6 -> 525.25957 | H12: =D12/10^6 -> 1119.721 | J12: =B12/B$230*100 -> 0.30436576 | K12: =C12/C$230*100 -> 0.28798171 | L12: =D12/D$230*100 -> 0.29645392 | N12: 10 | O12: Germany | P12: 2.4117589
A13: Armenia | B13: 16077481 | C13: 1668964 | D13: =SUM(B13:C13) -> 17746445 | F13: =B13/10^6 -> 16.077481 | G13: =C13/10^6 -> 1.668964 | H13: =D13/10^6 -> 17.746445 | J13: =B13/B$230*100 -> 0.0082317116 | K13: =C13/C$230*100 -> 0.0009150354 | L13: =D13/D$230*100 -> 0.0046984948 | N13: 11 | O13: Belgium | P13: 2.1836762
A14: Aruba | B14: 3066537 | C14: 118601 | D14: =SUM(B14:C14) -> 3185138 | F14: =B14/10^6 -> 3.066537 | G14: =C14/10^6 -> 0.118601 | H14: =D14/10^6 -> 3.185138 | J14: =B14/B$230*100 -> 0.0015700748 | K14: =C14/C$230*100 -> 6.5024838e-05 | L14: =D14/D$230*100 -> 0.00084328744 | N14: 12 | O14: Indonesia | P14: 2.0982958
A15: Australia | B15: 9369584237 | C15: 5895853150 | D15: =SUM(B15:C15) -> 15265437387 | F15: =B15/10^6 -> 9369.5842 | G15: =C15/10^6 -> 5895.8531 | H15: =D15/10^6 -> 15265.437 | J15: =B15/B$230*100 -> 4.7972512 | K15: =C15/C$230*100 -> 3.232493 | L15: =D15/D$230*100 -> 4.0416307 | N15: 13 | O15: Australia | P15: 2.0927518
A16: Austria | B16: 204092910 | C16: 259464952 | D16: =SUM(B16:C16) -> 463557862 | F16: =B16/10^6 -> 204.09291 | G16: =C16/10^6 -> 259.46495 | H16: =D16/10^6 -> 463.55786 | J16: =B16/B$230*100 -> 0.10449609 | K16: =C16/C$230*100 -> 0.14225569 | L16: =D16/D$230*100 -> 0.12273017 | N16: 14 | O16: Rep. of Korea | P16: 1.8927952
A17: Azerbaijan | B17: 5813085 | C17: 775943069 | D17: =SUM(B17:C17) -> 781756154 | F17: =B17/10^6 -> 5.813085 | G17: =C17/10^6 -> 775.94307 | H17: =D17/10^6 -> 781.75615 | J17: =B17/B$230*100 -> 0.0029763145 | K17: =C17/C$230*100 -> 0.42542282 | L17: =D17/D$230*100 -> 0.20697538 | N17: 15 | O17: Philippines | P17: 1.7802933
A18: Bahamas | B18: 1988717 | C18: 6461643 | D18: =SUM(B18:C18) -> 8450360 | F18: =B18/10^6 -> 1.988717 | G18: =C18/10^6 -> 6.461643 | H18: =D18/10^6 -> 8.45036 | J18: =B18/B$230*100 -> 0.0010182282 | K18: =C18/C$230*100 -> 0.003542696 | L18: =D18/D$230*100 -> 0.0022372916 | N18: 16 | O18: France | P18: 1.3138467
A19: Bahrain | B19: 131048997 | C19: 199533870 | D19: =SUM(B19:C19) -> 330582867 | F19: =B19/10^6 -> 131.049 | G19: =C19/10^6 -> 199.53387 | H19: =D19/10^6 -> 330.58287 | J19: =B19/B$230*100 -> 0.067097423 | K19: =C19/C$230*100 -> 0.10939754 | L19: =D19/D$230*100 -> 0.087524114 | N19: 17 | O19: Viet Nam | P19: 1.2285264
A20: Bangladesh | B20: 885600966 | C20: 24349528 | D20: =SUM(B20:C20) -> 909950494 | F20: =B20/10^6 -> 885.60097 | G20: =C20/10^6 -> 24.349528 | H20: =D20/10^6 -> 909.95049 | J20: =B20/B$230*100 -> 0.45342997 | K20: =C20/C$230*100 -> 0.013350006 | L20: =D20/D$230*100 -> 0.24091572 | N20: 18 | O20: Canada | P20: 1.2141852
A21: Barbados | B21: 8991227 | C21: 1465287 | D21: =SUM(B21:C21) -> 10456514 | F21: =B21/10^6 -> 8.991227 | G21: =C21/10^6 -> 1.465287 | H21: =D21/10^6 -> 10.456514 | J21: =B21/B$230*100 -> 0.0046035313 | K21: =C21/C$230*100 -> 0.00080336633 | L21: =D21/D$230*100 -> 0.0027684348 | N21: 19 | O21: Italy | P21: 1.0371621
... A49: Christmas Isds | B49: 2955 | C49: 716 | D49: =SUM(B49:C49) -> 3671 | F49: =B49/10^6 -> 0.002955 | G49: =C49/10^6 -> 0.000716 | H49: =D49/10^6 -> 0.003671 | J49: =B49/B$230*100 -> 1.5129676e-06 | K49: =C49/C$230*100 -> 3.9255811e-07 | L49: =D49/D$230*100 -> 9.7192279e-07 | N49: 47 | O49: Dem. People's Rep. of Korea | P49: 0.16335242
A50: Cocos Isds | C50: 313 | D50: =SUM(B50:C50) -> 313 | F50: =B50/10^6 -> 0 | G50: =C50/10^6 -> 0.000313 | H50: =D50/10^6 -> 0.000313 | J50: =B50/B$230*100 -> 0 | K50: =C50/C$230*100 -> 1.7160711e-07 | L50: =D50/D$230*100 -> 8.2868928e-08 | N50: 48 | O50: Austria | P50: 0.15294817
A51: Colombia | B51: 380972771 | C51: 44663249 | D51: =SUM(B51:C51) -> 425636020 | F51: =B51/10^6 -> 380.97277 | G51: =C51/10^6 -> 44.663249 | H51: =D51/10^6 -> 425.63602 | J51: =B51/B$230*100 -> 0.19505904 | K51: =C51/C$230*100 -> 0.024487319 | L51: =D51/D$230*100 -> 0.1126901 | N51: 49 | O51: Turkey | P51: 0.14979783
A52: Comoros | B52: 3958782 | C52: 19896 | D52: =SUM(B52:C52) -> 3978678 | F52: =B52/10^6 -> 3.958782 | G52: =C52/10^6 -> 0.019896 | H52: =D52/10^6 -> 3.978678 | J52: =B52/B$230*100 -> 0.0020269066 | K52: =C52/C$230*100 -> 1.0908291e-05 | L52: =D52/D$230*100 -> 0.0010533827 | N52: 50 | O52: Russian Federation | P52: 0.12434199
A53: Congo | B53: 89175314 | C53: 34539421 | D53: =SUM(B53:C53) -> 123714735 | F53: =B53/10^6 -> 89.175314 | G53: =C53/10^6 -> 34.539421 | H53: =D53/10^6 -> 123.71474 | J53: =B53/B$230*100 -> 0.04565799 | K53: =C53/C$230*100 -> 0.018936773 | L53: =D53/D$230*100 -> 0.032754337 | O53: Argentina | P53: 0.11983208
A54: Cook Isds | B54: 812829 | C54: 2088 | D54: =SUM(B54:C54) -> 814917 | F54: =B54/10^6 -> 0.812829 | G54: =C54/10^6 -> 0.002088 | H54: =D54/10^6 -> 0.814917 | J54: =B54/B$230*100 -> 0.00041617054 | K54: =C54/C$230*100 -> 1.1447784e-06 | L54: =D54/D$230*100 -> 0.00021575495 | O54: Cรดte d'Ivoire | P54: 0.11890115
A55: Costa Rica | B55: 76469923 | C55: 50472251 | D55: =SUM(B55:C55) -> 126942174 | F55: =B55/10^6 -> 76.469923 | G55: =C55/10^6 -> 50.472251 | H55: =D55/10^6 -> 126.94217 | J55: =B55/B$230*100 -> 0.039152797 | K55: =C55/C$230*100 -> 0.027672195 | L55: =D55/D$230*100 -> 0.033608824 | O55: Poland | P55: 0.11306232
A56: Croatia | B56: 30597208 | C56: 1906173 | D56: =SUM(B56:C56) -> 32503381 | F56: =B56/10^6 -> 30.597208 | G56: =C56/10^6 -> 1.906173 | H56: =D56/10^6 -> 32.503381 | J56: =B56/B$230*100 -> 0.015665849 | K56: =C56/C$230*100 -> 0.0010450889 | L56: =D56/D$230*100 -> 0.0086054962 | O56: Panama | P56: 0.11291018
A57: Cuba | B57: 2107387 | C57: 1334487 | D57: =SUM(B57:C57) -> 3441874 | F57: =B57/10^6 -> 2.107387 | G57: =C57/10^6 -> 1.334487 | H57: =D57/10^6 -> 3.441874 | J57: =B57/B$230*100 -> 0.0010789876 | K57: =C57/C$230*100 -> 0.0007316532 | L57: =D57/D$230*100 -> 0.00091126009 | O57: Kuwait | P57: 0.10011557
A58: Cyprus | B58: 48114754 | C58: 2657094 | D58: =SUM(B58:C58) -> 50771848 | F58: =B58/10^6 -> 48.114754 | G58: =C58/10^6 -> 2.657094 | H58: =D58/10^6 -> 50.771848 | J58: =B58/B$230*100 -> 0.024634878 | K58: =C58/C$230*100 -> 0.001456793 | L58: =D58/D$230*100 -> 0.0134422 | O58: Chile | P58: 0.099287449
A59: Czech Rep. | B59: 1134966897 | C59: 128450507 | D59: =SUM(B59:C59) -> 1263417404 | F59: =B59/10^6 -> 1134.9669 | G59: =C59/10^6 -> 128.45051 | H59: =D59/10^6 -> 1263.4174 | J59: =B59/B$230*100 -> 0.58110597 | K59: =C59/C$230*100 -> 0.070424983 | L59: =D59/D$230*100 -> 0.33449855 | O59: Yemen | P59: 0.088994773
A60: Cรดte d'Ivoire | B60: 370962033 | C60: 22703524 | D60: =SUM(B60:C60) -> 393665557 | F60: =B60/10^6 -> 370.96203 | G60: =C60/10^6 -> 22.703524 | H60: =D60/10^6 -> 393.66556 | J60: =B60/B$230*100 -> 0.18993351 | K60: =C60/C$230*100 -> 0.012447559 | L60: =D60/D$230*100 -> 0.10422569 | O60: Iraq | P60: 0.088931761
A61: Dem. People's Rep. of Korea | B61: 29684797 | C61: 21367458 | D61: =SUM(B61:C61) -> 51052255 | F61: =B61/10^6 -> 29.684797 | G61: =C61/10^6 -> 21.367458 | H61: =D61/10^6 -> 51.052255 | J61: =B61/B$230*100 -> 0.015198692 | K61: =C61/C$230*100 -> 0.01171504 | L61: =D61/D$230*100 -> 0.01351644 | O61: Lebanon | P61: 0.082130667
A62: Dem. Rep. of the Congo | B62: 488144 | C62: 105 | D62: =SUM(B62:C62) -> 488249 | F62: =B62/10^6 -> 0.488144 | G62: =C62/10^6 -> 0.000105 | H62: =D62/10^6 -> 0.488249 | J62: =B62/B$230*100 -> 0.00024993098 | K62: =C62/C$230*100 -> 5.7567879e-08 | L62: =D62/D$230*100 -> 0.00012926732 | O62: Norway | P62: 0.075389855
A63: Denmark | B63: 723016815 | C63: 229371998 | D63: =SUM(B63:C63) -> 952388813 | F63: =B63/10^6 -> 723.01681 | G63: =C63/10^6 -> 229.372 | H63: =D63/10^6 -> 952.38881 | J63: =B63/B$230*100 -> 0.37018647 | K63: =C63/C$230*100 -> 0.12575676 | L63: =D63/D$230*100 -> 0.25215156 | O63: Czech Rep. | P63: 0.070765787
A64: Djibouti | B64: 30687288 | C64: 64763 | D64: =SUM(B64:C64) -> 30752051 | F64: =B64/10^6 -> 30.687288 | G64: =C64/10^6 -> 0.064763 | H64: =D64/10^6 -> 30.752051 | J64: =B64/B$230*100 -> 0.01571197 | K64: =C64/C$230*100 -> 3.5507319e-05 | L64: =D64/D$230*100 -> 0.0081418194 | O64: Syria | P64: 0.068482363
... A69: El Salvador | B69: 38175212 | C69: 1467003 | D69: =SUM(B69:C69) -> 39642215 | F69: =B69/10^6 -> 38.175212 | G69: =C69/10^6 -> 1.467003 | H69: =D69/10^6 -> 39.642215 | J69: =B69/B$230*100 -> 0.019545807 | K69: =C69/C$230*100 -> 0.00080430715 | L69: =D69/D$230*100 -> 0.010495552 | O69: Benin | P69: 0.059212365
A70: Equatorial Guinea | B70: 3932173 | D70: =SUM(B70:C70) -> 3932173 | F70: =B70/10^6 -> 3.932173 | G70: =C70/10^6 -> 0 | H70: =D70/10^6 -> 3.932173 | J70: =B70/B$230*100 -> 0.0020132827 | K70: =C70/C$230*100 -> 0 | L70: =D70/D$230*100 -> 0.0010410702 | O70: Cyprus | P70: 0.057915728
A71: Eritrea | B71: 249864 | C71: 23448 | D71: =SUM(B71:C71) -> 273312 | F71: =B71/10^6 -> 0.249864 | G71: =C71/10^6 -> 0.023448 | H71: =D71/10^6 -> 0.273312 | J71: =B71/B$230*100 -> 0.00012793101 | K71: =C71/C$230*100 -> 1.285573e-05 | L71: =D71/D$230*100 -> 7.2361253e-05 | O71: Brunei Darussalam | P71: 0.057539763
...

Sheet Q2
A1: 2010
B2: Country | C2: Export | F2: Country | G2: Import | J2: Country | K2: Trade
A3: 1 | B3: China | C3: 10.994331 | E3: 1 | F3: Japan | G3: 20.75521 | I3: 1 | J3: Japan | K3: 15.427875
A4: 2 | B4: Japan | C4: 10.452897 | E4: 2 | F4: China | G4: 13.289609 | I4: 2 | J4: China | K4: 12.102719
A5: 3 | B5: USA | C5: 10.358069 | E5: 3 | F5: USA | G5: 5.8942833 | I5: 3 | J5: USA | K5: 8.2025104
A6: 4 | B6: China, Hong Kong SAR | C6: 6.7235139 | E6: 4 | F6: Malaysia | G6: 5.8713183 | I6: 4 | J6: Malaysia | K6: 5.6328577
A7: 5 | B7: Malaysia | C7: 5.4101691 | E7: 5 | F7: United Arab Emirates | G7: 4.7451756 | I7: 5 | J7: Singapore | K7: 4.0517587
A8: 6 | B8: Australia | C8: 4.7972512 | E8: 6 | F8: Rep. of Korea | G8: 4.4171167 | I8: 6 | J8: Australia | K8: 4.0416307
A9: 7 | B9: Singapore | C9: 4.6128643 | E9: 7 | F9: Other Asia, nes | G9: 3.7366871 | I9: 7 | J9: China, Hong Kong SAR | K9: 3.9579386
A10: 8 | B10: Indonesia | C10: 3.7614639 | E10: 8 | F10: Singapore | G10: 3.4509123 | I10: 8 | J10: Indonesia | K10: 3.4477612
A11: 9 | B11: Viet Nam | C11: 2.9928875 | E11: 9 | F11: Australia | G11: 3.232493 | I11: 9 | J11: Rep. of Korea | K11: 3.0887664
A12: 10 | B12: Philippines | C12: 2.5017159 | E12: 10 | F12: Indonesia | G12: 3.1118402 | I12: 10 | J12: United Arab Emirates | K12: 3.0442952
A13: 11 | B13: India | C13: 2.249522 | E13: 11 | F13: Saudi Arabia | G13: 3.0955326 | I13: 11 | J13: Other Asia, nes | K13: 2.6598003
A14: 12 | B14: Switzerland | C14: 2.1633016 | E14: 12 | F14: Switzerland | G14: 2.837471 | I14: 12 | J14: Switzerland | K14: 2.4888575
... A52: 50 | B52: Colombia | C52: 0.19505904 | E52: 50 | F52: Denmark | G52: 0.12575676 | I52: 50 | J52: Yemen | K52: 0.20057883

Sheet Q3
A1: 2001
D2: Export | H2: Import | L2: Trade
C3: USA | D3: 20.286649 | G3: Japan | H3: 22.290076 | K3: Japan | L3: 18.686438
C4: Japan | D4: 15.247033 | G4: USA | H4: 11.594456 | K4: USA | L4: 16.041897
C5: Singapore | D5: 8.0794853 | G5: China | H5: 5.9970798 | K5: Singapore | L5: 6.3805736
C6: China, Hong Kong SAR | D6: 5.07479 | G6: Malaysia | H6: 4.9663488 | K6: China | L6: 5.1848626
C7: China | D7: 4.4096615 | G7: Singapore | H7: 4.6005381 | K7: Malaysia | L7: 4.571159
C8: Malaysia | D8: 4.1939796 | G8: Other Asia, nes | H8: 4.1985757 | K8: Other Asia, nes | L8: 3.5602948
C9: United Kingdom | D9: 3.5849227 | G9: Germany | H9: 4.1357141 | K9: Germany | L9: 3.2536365
C10: Netherlands | D10: 3.1186514 | G10: Rep. of Korea | H10: 3.4240942 | K10: China, Hong Kong SAR | L10: 3.2466512
C11: Other Asia, nes | D11: 2.951103 | G11: United Arab Emirates | H11: 2.4686626 | K11: Rep. of Korea | L11: 2.6405909
C12: Germany | D12: 2.4117589 | G12: Indonesia | H12: 2.1991572 | K12: United Kingdom | L12: 2.6088675
C13: Belgium | D13: 2.1836762 | G13: Australia | H13: 2.1872754 | K13: Indonesia | L13: 2.1475505
C14: Indonesia | D14: 2.0982958 | G14: Saudi Arabia | H14: 2.1828778 | K14: Australia | L14: 2.1389115
... C224: Thailand | D224: 0 | G224: United States Minor Outlying Islands | H224: 0 | K224: Heard Island and McDonald Islands | L224: 3.7279376e-07

Sheet Q4
B1: Export
D2: Exchange Rate (local currency/$)
D3: 2001Q1 | E3: 2001Q2 | F3: 2001Q3 | G3: 2001Q4 | H3: 2002Q1 | I3: 2002Q2 | J3: 2002Q3 | K3: 2002Q4 | L3: 2003Q1 | M3: 2003Q2 | N3: 2003Q3 | O3: 2003Q4 | P3: 2004Q1 | Q3: 2004Q2 | R3: 2004Q3 | S3: 2004Q4 | T3: 2005Q1 | U3: 2005Q2 | V3: 2005Q3 | W3: 2005Q4 | X3: 2006Q1 | Y3: 2006Q2 | Z3: 2006Q3 | AA3: 2006Q4 | AB3: 2007Q1 | AC3: 2007Q2 | AD3: 2007Q3 | AE3: 2007Q4 | AF3: 2008Q1 | AG3: 2008Q2 | AH3: 2008Q3 | AI3: 2008Q4 | AJ3: 2009Q1 | AK3: 2009Q2 | AL3: 2009Q3 | AM3: 2009Q4 | AN3: 2010Q1 | AO3: 2010Q2 | AP3: 2010Q3 | AQ3: 2010Q4
B4: China | C4: 10.994331 | D4: 8.2774 | E4: 8.27713 | F4: 8.27689 | G4: 8.27685 | H4: 8.2768 | I4: 8.27708 | J4: 8.27682 | K4: 8.27713 | L4: 8.2771 | M4: 8.27704 | N4: 8.27712 | O4: 8.2769 | P4: 8.27708 | Q4: 8.27688 | R4: 8.27673 | S4: 8.27651 | T4: 8.2765 | U4: 8.2765 | V4: 8.1412 | W4: 8.08307 | X4: 8.05031 | Y4: 8.01226 | Z4: 7.96676 | AA4: 7.86442 | AB4: 7.76107 | AC4: 7.67738 | AD4: 7.55971 | AE4: 7.43197 | AF4: 7.16269 | AG4: 6.95775 | AH4: 6.83991 | AI4: 6.83427 | AJ4: 6.83735 | AK4: 6.82966 | AL4: 6.83105 | AM4: 6.82761 | AN4: 6.82694 | AO4: 6.82335 | AP4: 6.76994 | AQ4: 6.66085
B5: Japan | C5: 10.452897 | D5: 118.086 | E5: 122.637 | F5: 121.744 | G5: 123.649 | H5: 132.46 | I5: 127.051 | J5: 119.146 | K5: 122.895 | L5: 118.821 | M5: 118.44 | N5: 117.569 | O5: 108.904 | P5: 107.228 | Q5: 109.748 | R5: 109.909 | S5: 105.886 | T5: 104.713 | U5: 107.635 | V5: 111.238 | W5: 117.288 | X5: 116.883 | Y5: 114.416 | Z5: 116.187 | AA5: 117.712 | AB5: 119.433 | AC5: 120.739 | AD5: 117.776 | AE5: 113.065 | AF5: 105.204 | AG5: 104.511 | AH5: 107.613 | AI5: 96.1105 | AJ5: 93.7161 | AK5: 97.275 | AL5: 93.6091 | AM5: 89.6802 | AN5: 90.6534 | AO5: 92.0213 | AP5: 85.8553 | AQ5: 82.5895
B6: USA | C6: 10.358069 | D6: 43.17 | E6: 45.35 | F6: 44.91 | G6: 44.3 | H6: 43.7 | I6: 42.75 | J6: 42.02 | K6: 43.37 | L6: 42.76 | M6: 42.18 | N6: 41.27 | O6: 39.73 | P6: 39.17 | Q6: 40.22 | R6: 41.25 | S6: 40.25 | T6: 38.57 | U6: 40.04 | V6: 41.29 | W6: 40.99 | X6: 39.29 | Y6: 38.07 | Z6: 37.64 | AA6: 36.53 | AB6: 35.54 | AC6: 34.65 | AD6: 34.01 | AE6: 33.87 | AF6: 32.37 | AG6: 32.25 | AH6: 33.83 | AI6: 34.8 | AJ6: 35.29 | AK6: 34.68 | AL6: 33.92 | AM6: 33.26 | AN6: 32.85 | AO6: 32.33 | AP6: 31.59 | AQ6: 29.98
B7: China, Hong Kong SAR | C7: 6.7235139 | D7: 7.799 | E7: 7.798 | F7: 7.79867 | G7: 7.79933 | H7: 7.799 | I7: 7.799 | J7: 7.799 | K7: 7.79867 | L7: 7.79867 | M7: 7.79833 | N7: 7.79367 | O7: 7.75633 | P7: 7.777 | Q7: 7.796 | R7: 7.79933 | S7: 7.77967 | T7: 7.79767 | U7: 7.788 | V7: 7.76933 | W7: 7.75433 | X7: 7.757 | Y7: 7.75767 | Z7: 7.77633 | AA7: 7.78033 | AB7: 7.80767 | AC7: 7.81567 | AD7: 7.806 | AE7: 7.77633 | AF7: 7.79467 | AG7: 7.79967 | AH7: 7.79933 | AI7: 7.75367 | AJ7: 7.75433 | AK7: 7.751 | AL7: 7.75067 | AM7: 7.751 | AN7: 7.76367 | AO7: 7.779 | AP7: 7.77133 | AQ7: 7.76267
B8: Malaysia | C8: 5.4101691 | D8: 3.8 | E8: 3.8 | F8: 3.8 | G8: 3.8 | H8: 3.8 | I8: 3.8 | J8: 3.8 | K8: 3.8 | L8: 3.8 | M8: 3.8 | N8: 3.8 | O8: 3.8 | P8: 3.8 | Q8: 3.8 | R8: 3.8 | S8: 3.8 | T8: 3.8 | U8: 3.8 | V8: 3.7717 | W8: 3.77667 | X8: 3.72753 | Y8: 3.64803 | Z8: 3.67193 | AA8: 3.62521 | AB8: 3.49845 | AC8: 3.42842 | AD8: 3.46667 | AE8: 3.35673 | AF8: 3.22567 | AG8: 3.21283 | AH8: 3.3396 | AI8: 3.56523 | AJ8: 3.62592 | AK8: 3.55021 | AL8: 3.52027 | AM8: 3.40162 | AN8: 3.37212 | AO8: 3.24142 | AP8: 3.15616 | AQ8: 3.11464
B9: Australia | C9: 4.7972512 | D9: 1.88335 | E9: 1.9498 | F9: 1.94704 | G9: 1.95358 | H9: 1.93014 | I9: 1.81419 | J9: 1.82557 | K9: 1.79235 | L9: 1.68708 | M9: 1.56339 | N9: 1.51956 | O9: 1.39763 | P9: 1.30668 | Q9: 1.39965 | R9: 1.41012 | S9: 1.32256 | T9: 1.28704 | U9: 1.30126 | V9: 1.31646 | W9: 1.33314 | X9: 1.35246 | Y9: 1.34034 | Z9: 1.32105 | AA9: 1.29805 | AB9: 1.27227 | AC9: 1.20374 | AD9: 1.18048 | AE9: 1.1238 | AF9: 1.10351 | AG9: 1.06002 | AH9: 1.11838 | AI9: 1.4868 | AJ9: 1.50692 | AK9: 1.32068 | AL9: 1.2015 | AM9: 1.09966 | AN9: 1.10646 | AO9: 1.13374 | AP9: 1.10783 | AQ9: 1.0126
B10: Singapore | C10: 4.6128643 | D10: 1.75012 | E10: 1.81355 | F10: 1.77798 | G10: 1.82523 | H10: 1.83297 | I10: 1.80396 | J10: 1.75755 | K10: 1.76788 | L10: 1.74457 | M10: 1.74827 | N10: 1.75163 | O10: 1.72427 | P10: 1.69483 | Q10: 1.70185 | R10: 1.70746 | S10: 1.65677 | T10: 1.63564 | U10: 1.65866 | V10: 1.67514 | W10: 1.68815 | X10: 1.62803 | Y10: 1.58974 | Z10: 1.5793 | AA10: 1.55867 | AB10: 1.53224 | AC10: 1.52453 | AD10: 1.51744 | AE10: 1.4542 | AF10: 1.40927 | AG10: 1.36617 | AH10: 1.39679 | AI10: 1.48722 | AJ10: 1.51203 | AK10: 1.4728 | AL10: 1.43883 | AM10: 1.3944 | AN10: 1.4029 | AO10: 1.3911 | AP10: 1.35667 | AQ10: 1.30337
B11: Indonesia | C11: 3.7614639 | D11: 9779.7 | E11: 11241.7 | F11: 9614.1 | G11: 10407.9 | H11: 10157.8 | I11: 9076.6 | J11: 8955.7 | K11: 9054.67 | L11: 8905.5 | M11: 8479.3 | N11: 8441.27 | O11: 8482.47 | P11: 8469.6 | Q11: 9001.43 | R11: 9156.17 | S11: 9128.2 | T11: 9274.3 | U11: 9550.53 | V11: 9994.53 | W11: 9999.6 | X11: 9274.87 | Y11: 9115 | Z11: 9122.53 | AA11: 9124.87 | AB11: 9107.17 | AC11: 8968.27 | AD11: 9242.27 | AE11: 9246.3 | AF11: 9248.2 | AG11: 9265.27 | AH11: 9222.45 | AI11: 11059.9 | AJ11: 11630.8 | AK11: 10509 | AL11: 9965.7 | AM11: 9454.25 | AN11: 9270.5 | AO11: 9131.93 | AP11: 8995.03 | AQ11: 8964.27
B12: Viet Nam | C12: 2.9928875 | D12: 14547.7 | E12: 14643.3 | F12: 14658.3 | G12: 15051.3 | H12: 15164.7 | I12: 15253.3 | J12: 15323.7 | K12: 15376.3 | L12: 15426 | M12: 15472 | N12: 15522 | O12: 15618.3 | P12: 15717.3 | Q12: 15735 | R12: 15750.7 | S12: 15781 | T12: 15808.7 | U12: 15842 | V12: 15878 | W12: 15907 | X12: 15920.7 | Y12: 15964 | Z12: 16015.3 | AA12: 16077 | AB12: 16022.3 | AC12: 16070 | AD12: 16205.8 | AE12: 16122.3 | AF12: 16059.3 | AG12: 16109.7 | AH12: 16503.3 | AI12: 16536.7 | AJ12: 16974 | AK12: 16941.7 | AL12: 16971 | AM12: 17373.7 | AN12: 18242.7 | AO12: 18544 | AP12: 18733 | AQ12: 18932
B13: Philippines | C13: 2.5017159 | D13: 49.242 | E13: 50.7373 | F13: 52.154 | G13: 51.8373 | H13: 51.2525 | I13: 50.4107 | J13: 51.5062 | K13: 53.2449 | L13: 54.0764 | M13: 52.9044 | N13: 54.5762 | O13: 55.2563 | P13: 55.9662 | Q13: 55.9113 | R13: 56 | S13: 56.2821 | T13: 55.0064 | U13: 54.6706 | V13: 56.0382 | W13: 54.6267 | X13: 51.8843 | Y13: 52.2146 | Z13: 51.3869 | AA13: 49.7714 | AB13: 48.6043 | AC13: 46.9322 | AD13: 45.9434 | AE13: 43.1136 | AF13: 40.9539 | AG13: 43.0007 | AH13: 44.9034 | AI13: 48.4352 | AJ13: 47.9198 | AK13: 47.882 | AL13: 48.1487 | AM13: 46.7682 | AN13: 46.0272 | AO13: 45.5088 | AP13: 45.2721 | AQ13: 43.6305
B14: India | C14: 2.249522 | D14: 46.5598 | E14: 46.9028 | F14: 47.3047 | G14: 47.9783 | H14: 48.5889 | I14: 48.9602 | J14: 48.5982 | K14: 48.294 | L14: 47.7716 | M14: 47.0594 | N14: 46.0032 | O14: 45.499 | P14: 45.248 | Q14: 44.8962 | R14: 46.1592 | S14: 44.9624 | T14: 43.7083 | U14: 43.6046 | V14: 43.6919 | W14: 45.3952 | X14: 44.4023 | Y14: 45.4708 | Z14: 46.3704 | AA14: 44.9845 | AB14: 44.1723 | AC14: 41.2344 | AD14: 40.525 | AE14: 39.4624 | AF14: 39.8208 | AG14: 41.6559 | AH14: 43.7796 | AI14: 48.7644 | AJ14: 49.7745 | AK14: 48.7891 | AL14: 48.4174 | AM14: 46.64 | AN14: 45.9281 | AO14: 45.6252 | AP14: 46.4875 | AQ14: 44.8625
B15: Switzerland | C15: 2.1633016 | D15: 1.66182 | E15: 1.75063 | F15: 1.69219 | G15: 1.64583 | H15: 1.68059 | I15: 1.59428 | J15: 1.48861 | K15: 1.47094 | L15: 1.36674 | M15: 1.33729 | N15: 1.37503 | O15: 1.30754 | P15: 1.25441 | Q15: 1.27803 | R15: 1.25731 | S15: 1.18424 | T15: 1.17738 | U15: 1.22707 | V15: 1.27426 | W15: 1.302 | X15: 1.29666 | Y15: 1.24536 | Z15: 1.23737 | AA15: 1.23599 | AB15: 1.23507 | AC15: 1.22263 | AD15: 1.19822 | AE15: 1.14555 | AF15: 1.06745 | AG15: 1.0317 | AH15: 1.07394 | AI15: 1.15927 | AJ15: 1.15617 | AK15: 1.11285 | AL15: 1.06286 | AM15: 1.02069 | AN15: 1.05792 | AO15: 1.10811 | AP15: 1.0319 | AQ15: 0.973683
... B19: Germany | C19: 1.6906865 | D19: 2.1194547 | E19: 2.2412247 | F19: 2.197551 | G19: 2.1843883 | H19: 2.2320128 | I19: 2.1296251 | J19: 1.9886293 | K19: 1.9624016 | L19: 1.8225148 | M19: 1.7237708 | N19: 1.7400433 | O19: 1.6454007 | P19: 1.5642142 | Q19: 1.6243501 | R19: 1.6006767 | S19: 1.5113872 | T19: 1.4875398 | U19: 1.553549 | V19: 1.6040407 | W19: 1.6457586 | X19: 1.6272173 | Y19: 1.5573238 | Z19: 1.5351564 | AA19: 1.5165897 | AB19: 1.4925975 | AC19: 1.4507623 | AD19: 1.4231851 | AE19: 1.349464 | AF19: 1.3050667 | AG19: 1.2522515 | AH19: 1.3027784 | AI19: 1.4806865 | AJ19: 1.5024041 | AK19: 1.4378754 | AL19: 1.3675242 | AM19: 1.3237605 | AN19: 1.412917 | AO19: 1.539424 | AP19: 1.5148021 | AQ19: 1.4398155
B20: Other Asia, nes | C20: 1.65414 | D20: n.a. | E20: n.a. | F20: n.a. | G20: n.a. | H20: n.a. | I20: n.a. | J20: n.a. | K20: n.a. | L20: n.a. | M20: n.a. | N20: n.a. | O20: n.a. | P20: n.a. | Q20: n.a. | R20: n.a. | S20: n.a. | T20: n.a. | U20: n.a. | V20: n.a. | W20: n.a. | X20: n.a. | Y20: n.a. | Z20: n.a. | AA20: n.a. | AB20: n.a. | AC20: n.a. | AD20: n.a. | AE20: n.a. | AF20: n.a. | AG20: n.a. | AH20: n.a. | AI20: n.a. | AJ20: n.a. | AK20: n.a. | AL20: n.a. | AM20: n.a. | AN20: n.a. | AO20: n.a. | AP20: n.a. | AQ20: n.a.
B21: United Arab Emirates | C21: 1.4559131 | D21: 3.6725 | E21: 3.6725 | F21: 3.6725 | G21: 3.6725 | H21: 3.6725 | I21: 3.6725 | J21: 3.6725 | K21: 3.6725 | L21: 3.6725 | M21: 3.6725 | N21: 3.6725 | O21: 3.6725 | P21: 3.6725 | Q21: 3.6725 | R21: 3.6725 | S21: 3.6725 | T21: 3.6725 | U21: 3.6725 | V21: 3.6725 | W21: 3.6725 | X21: 3.6725 | Y21: 3.6725 | Z21: 3.6725 | AA21: 3.6725 | AB21: 3.6725 | AC21: 3.6725 | AD21: 3.6725 | AE21: 3.6725 | AF21: 3.6725 | AG21: 3.6725 | AH21: 3.6725 | AI21: 3.6725 | AJ21: 3.6725 | AK21: 3.6725 | AL21: 3.6725 | AM21: 3.6725 | AN21: 3.6725 | AO21: 3.6725 | AP21: 3.6725 | AQ21: 3.6725
B22: Cambodia | C22: 1.1991583 | D22: 3910 | E22: 3916.67 | F22: 3924 | G22: 3914.67 | H22: 3897.67 | I22: 3900.67 | J22: 3918.67 | K22: 3931.33 | L22: 3932 | M22: 3976 | N22: 3998.33 | O22: 3987 | P22: 3990.33 | Q22: 4005.33 | R22: 4034.67 | S22: 4034.67 | T22: 4027 | U22: 4054.33 | V22: 4134.33 | W22: 4154.33 | X22: 4081.33 | Y22: 4095.33 | Z22: 4125 | AA22: 4111.33 | AB22: 4055 | AC22: 4065.67 | AD22: 4078 | AE22: 4026 | AF22: 3991.33 | AG22: 4025.67 | AH22: 4113.67 | AI22: 4086 | AJ22: 4108 | AK22: 4123.33 | AL22: 4162 | AM22: 4164 | AN22: 4176.33 | AO22: 4204 | AP22: 4232.33 | AQ22: 4127
B23: Lao People's Dem. Rep. | C23: 1.0936044 | D23: 8590.67 | E23: 8535 | F23: 9181.33 | G23: 9511.33 | H23: 9489 | I23: 9601.67 | J23: 10370.3 | K23: 10764.3 | L23: 10619.1 | M23: 10579.3 | N23: 10601.7 | O23: 10476 | P23: 10429 | Q23: 10556.7 | R23: 10809 | S23: 10546.8 | T23: 10341.2 | U23: 10577 | V23: 10871.5 | W23: 10831 | X23: 10493.5 | Y23: 10142.3 | Z23: 10116 | AA23: 9887.94 | AB23: 9689 | AC23: 9616.86 | AD23: 9588.66 | AE23: 9518.12 | AF23: 9062.16 | AG23: 8730.77 | AH23: 8634.59 | AI23: 8549.38 | AJ23: 8521.64 | AK23: 8542.14 | AL23: 8513.36 | AM23: 8487.07 | AN23: 8481.57 | AO23: 8301.09 | AP23: 8206.31 | AQ23: 8046.12
B24: Saudi Arabia | C24: 1.0844348 | D24: 3.75 | E24: 3.75 | F24: 3.75 | G24: 3.75 | H24: 3.75 | I24: 3.75 | J24: 3.75 | K24: 3.75 | L24: 3.75 | M24: 3.75 | N24: 3.75 | O24: 3.75 | P24: 3.75 | Q24: 3.75 | R24: 3.75 | S24: 3.75 | T24: 3.75 | U24: 3.74833 | V24: 3.745 | W24: 3.745 | X24: 3.745 | Y24: 3.745 | Z24: 3.745 | AA24: 3.745 | AB24: 3.745 | AC24: 3.74667 | AD24: 3.74833 | AE24: 3.75 | AF24: 3.75 | AG24: 3.75 | AH24: 3.75 | AI24: 3.75 | AJ24: 3.75 | AK24: 3.75 | AL24: 3.75 | AM24: 3.75 | AN24: 3.75 | AO24: 3.75 | AP24: 3.75 | AQ24: 3.75
B25: Myanmar | C25: 1.0613583 | D25: 6.58678 | E25: 6.75283 | F25: 6.69673 | G25: 6.69994 | H25: 6.8114 | I25: 6.65816 | J25: 6.42446 | K25: 6.39965 | L25: 6.21679 | M25: 6.09016 | N25: 6.10735 | O25: 5.89121 | P25: 5.72277 | Q25: 5.83085 | R25: 5.79841 | S25: 5.63173 | T25: 5.58368 | U25: 5.70473 | V25: 5.82442 | W25: 5.93114 | X25: 5.90655 | Y25: 5.77827 | Z25: 5.74089 | AA25: 5.70961 | AB25: 5.67316 | AC25: 5.61168 | AD25: 5.54642 | AE25: 5.40747 | AF25: 5.31694 | AG25: 5.23172 | AH25: 5.35181 | AI25: 5.64957 | AJ25: 5.68665 | AK25: 5.59892 | AL25: 5.44283 | AM25: 5.34952 | AN25: 5.51302 | AO25: 5.71753 | AP25: 5.61154 | AQ25: 5.46928
C26: =SUM(C4:C19,C21:C25) -> 80.190238
D28: Exchange Rate (baht/ foreign currency)
B29: Conversion Exchange Rate to be Baht/US$ | C29: Reweight | D29: 2001Q1 | E29: 2001Q2 | F29: 2001Q3 | G29: 2001Q4 | H29: 2002Q1 | I29: 2002Q2 | J29: 2002Q3 | K29: 2002Q4 | L29: 2003Q1 | M29: 2003Q2 | N29: 2003Q3 | O29: 2003Q4 | P29: 2004Q1 | Q29: 2004Q2 | R29: 2004Q3 | S29: 2004Q4 | T29: 2005Q1 | U29: 2005Q2 | V29: 2005Q3 | W29: 2005Q4 | X29: 2006Q1 | Y29: 2006Q2 | Z29: 2006Q3 | AA29: 2006Q4 | AB29: 2007Q1 | AC29: 2007Q2 | AD29: 2007Q3 | AE29: 2007Q4 | AF29: 2008Q1 | AG29: 2008Q2 | AH29: 2008Q3 | AI29: 2008Q4 | AJ29: 2009Q1 | AK29: 2009Q2 | AL29: 2009Q3 | AM29: 2009Q4 | AN29: 2010Q1 | AO29: 2010Q2 | AP29: 2010Q3 | AQ29: 2010Q4
B30: China | C30: =C4/C$26 -> 0.13710311 | D30: =D$6/D4 -> 5.2154058 | E30: =E$6/E4 -> 5.4789522 | F30: =F$6/F4 -> 5.4259511 | G30: =G$6/G4 -> 5.3522777 | H30: =H$6/H4 -> 5.2798183 | I30: =I$6/I4 -> 5.1648649 | J30: =J$6/J4 -> 5.076829 | K30: =K$6/K4 -> 5.2397389 | ... AQ30: =AQ$6/AQ4 -> 4.5009271
B31: Japan | C31: =C5/C$26 -> 0.13035124 | D31: =D$6/D5 -> 0.36558102 | E31: =E$6/E5 -> 0.36979052 | F31: =F$6/F5 -> 0.36888882 | G31: =G$6/G5 -> 0.35827221 | H31: =H$6/H5 -> 0.32991092 | I31: =I$6/I5 -> 0.33647905 | J31: =J$6/J5 -> 0.35267655 | K31: =K$6/K5 -> 0.35290288 | ... AQ31: =AQ$6/AQ5 -> 0.36300014
B32: USA | C32: =C6/C$26 -> 0.1291687 | D32: =D6 -> 43.17 | E32: =E6 -> 45.35 | F32: =F6 -> 44.91 | G32: =G6 -> 44.3 | H32: =H6 -> 43.7 | I32: =I6 -> 42.75 | J32: =J6 -> 42.02 | K32: =K6 -> 43.37 | ... AQ32: =AQ6 -> 29.98
B33: China, Hong Kong SAR | C33: =C7/C$26 -> 0.083844544 | D33: =D$6/D7 -> 5.535325 | E33: =E$6/E7 -> 5.8155937 | F33: =F$6/F7 -> 5.7586742 | G33: =G$6/G7 -> 5.6799751 | H33: =H$6/H7 -> 5.6032825 | I33: =I$6/I7 -> 5.481472 | J33: =J$6/J7 -> 5.3878702 | K33: =K$6/K7 -> 5.5612047 | ... AQ33: =AQ$6/AQ7 -> 3.8620732
B34: Malaysia | C34: =C8/C$26 -> 0.06746668 | D34: =D$6/D8 -> 11.360526 | E34: =E$6/E8 -> 11.934211 | F34: =F$6/F8 -> 11.818421 | G34: =G$6/G8 -> 11.657895 | H34: =H$6/H8 -> 11.5 | I34: =I$6/I8 -> 11.25 | J34: =J$6/J8 -> 11.057895 | K34: =K$6/K8 -> 11.413158 | ... AQ34: =AQ$6/AQ8 -> 9.6255105
B35: Australia | C35: =C9/C$26 -> 0.059823381 | D35: =D$6/D9 -> 22.921921 | E35: =E$6/E9 -> 23.258796 | F35: =F$6/F9 -> 23.065782 | G35: =G$6/G9 -> 22.676317 | H35: =H$6/H9 -> 22.640845 | I35: =I$6/I9 -> 23.564235 | J35: =J$6/J9 -> 23.017469 | K35: =K$6/K9 -> 24.197283 | ... AQ35: =AQ$6/AQ9 -> 29.606952
B36: Singapore | C36: =C10/C$26 -> 0.057524013 | D36: =D$6/D10 -> 24.66688 | E36: =E$6/E10 -> 25.006203 | F36: =F$6/F10 -> 25.259002 | G36: =G$6/G10 -> 24.270914 | H36: =H$6/H10 -> 23.841089 | I36: =I$6/I10 -> 23.697865 | J36: =J$6/J10 -> 23.908281 | K36: =K$6/K10 -> 24.532208 | ... AQ36: =AQ$6/AQ10 -> 23.00191
B37: Indonesia | C37: =C11/C$26 -> 0.046906756 | D37: =D$6/D11 -> 0.0044142458 | E37: =E$6/E11 -> 0.0040340874 | F37: =F$6/F11 -> 0.0046712641 | G37: =G$6/G11 -> 0.0042563822 | H37: =H$6/H11 -> 0.0043021127 | I37: =I$6/I11 -> 0.0047099134 | J37: =J$6/J11 -> 0.0046919839 | K37: =K$6/K11 -> 0.0047897936 | ... AQ37: =AQ$6/AQ11 -> 0.0033443883
B38: Viet Nam | C38: =C12/C$26 -> 0.037322342 | D38: =D$6/D12 -> 0.0029674794 | E38: =E$6/E12 -> 0.0030969795 | F38: =F$6/F12 -> 0.0030637932 | G38: =G$6/G12 -> 0.0029432674 | H38: =H$6/H12 -> 0.0028816924 | I38: =I$6/I12 -> 0.0028026722 | J38: =J$6/J12 -> 0.0027421576 | K38: =K$6/K12 -> 0.0028205745 | ... AQ38: =AQ$6/AQ12 -> 0.0015835622
B39: Philippines | C39: =C13/C$26 -> 0.031197262 | D39: =D$6/D13 -> 0.87669063 | E39: =E$6/E13 -> 0.89381973 | F39: =F$6/F13 -> 0.86110365 | G39: =G$6/G13 -> 0.85459698 | H39: =H$6/H13 -> 0.85264133 | I39: =I$6/I13 -> 0.84803425 | J39: =J$6/J13 -> 0.81582411 | K39: =K$6/K13 -> 0.81453811 | ... AQ39: =AQ$6/AQ13 -> 0.687134
B40: India | C40: =C14/C$26 -> 0.028052317 | D40: =D$6/D14 -> 0.9271947 | E40: =E$6/E14 -> 0.96689323 | F40: =F$6/F14 -> 0.94937712 | G40: =G$6/G14 -> 0.92333409 | H40: =H$6/H14 -> 0.89938237 | I40: =I$6/I14 -> 0.8731582 | J40: =J$6/J14 -> 0.86464108 | K40: =K$6/K14 -> 0.89804116 | ... AQ40: =AQ$6/AQ14 -> 0.66826414
B41: Switzerland | C41: =C15/C$26 -> 0.026977119 | D41: =D$6/D15 -> 25.977543 | E41: =E$6/E15 -> 25.90496 | F41: =F$6/F15 -> 26.539573 | G41: =G$6/G15 -> 26.91651 | H41: =H$6/H15 -> 26.002773 | I41: =I$6/I15 -> 26.814612 | J41: =J$6/J15 -> 28.227675 | K41: =K$6/K15 -> 29.484547 | ... AQ41: =AQ$6/AQ15 -> 30.790309
B42: United Kingdom | C42: =C16/C$26 -> 0.023358908 | D42: =D$6*D16 -> 63.0282 | E42: =E$6*E16 -> 64.397 | F42: =F$6*F16 -> 64.6704 | G42: =G$6*G16 -> 63.792 | H42: =H$6*H16 -> 62.491 | I42: =I$6*I16 -> 62.415 | J42: =J$6*J16 -> 65.131 | K42: =K$6*K16 -> 68.0909 | ... AQ42: =AQ$6*AQ16 -> 47.3684
B43: Netherlands | C43: =C17/C$26 -> 0.023265494 | D43: =D$6/D17 -> 18.077342 | E43: =E$6/E17 -> 17.958438 | F43: =F$6/F17 -> 18.137639 | G43: =G$6/G17 -> 17.99909 | H43: =H$6/H17 -> 17.376465 | I43: =I$6/I17 -> 17.815977 | J43: =J$6/J17 -> 18.753351 | K43: =K$6/K17 -> 19.614543 | ... AQ43: =AQ$6/AQ17 -> 18.479977
B44: Rep. of Korea | C44: =C18/C$26 -> 0.023048627 | D44: =D$6/D18 -> 0.033943483 | E44: =E$6/E18 -> 0.034733924 | F44: =F$6/F18 -> 0.034699097 | G44: =G$6/G18 -> 0.034281292 | H44: =H$6/H18 -> 0.033109572 | I44: =I$6/I18 -> 0.033740854 | J44: =J$6/J18 -> 0.035085376 | K44: =K$6/K18 -> 0.035554135 | ... AQ44: =AQ$6/AQ18 -> 0.026479888
...

Sheet Q4 vs Q5
B3: 2001Q1 | C3: 2001Q2 | D3: 2001Q3 | E3: 2001Q4 | F3: 2002Q1 | G3: 2002Q2 | H3: 2002Q3 | I3: 2002Q4 | J3: 2003Q1 | K3: 2003Q2 | L3: 2003Q3 | M3: 2003Q4 | N3: 2004Q1 | O3: 2004Q2 | P3: 2004Q3 | Q3: 2004Q4 | R3: 2005Q1 | S3: 2005Q2 | T3: 2005Q3 | U3: 2005Q4 | V3: 2006Q1 | W3: 2006Q2 | X3: 2006Q3 | Y3: 2006Q4 | Z3: 2007Q1 | AA3: 2007Q2 | AB3: 2007Q3 | AC3: 2007Q4 | AD3: 2008Q1 | AE3: 2008Q2 | AF3: 2008Q3 | AG3: 2008Q4 | AH3: 2009Q1 | AI3: 2009Q2 | AJ3: 2009Q3 | AK3: 2009Q4 | AL3: 2010Q1 | AM3: 2010Q2 | AN3: 2010Q3 | AO3: 2010Q4
A4: Q4 | B4: 100 | C4: 102.72724 | D4: 102.73004 | E4: 100.52166 | F4: 98.181277 | G4: 98.034127 | H4: 97.956806 | I4: 100.65002 | J4: 100.8211 | K4: 100.6089 | L4: 98.590611 | M4: 96.978026 | N4: 96.777139 | O4: 98.079832 | P4: 100.43983 | Q4: 99.779926 | R4: 96.336533 | S4: 99.020689 | T4: 101.04439 | U4: 99.316892 | V4: 96.304528 | W4: 94.445812 | X4: 93.414522 | Y4: 91.243133 | Z4: 89.42248 | AA4: 88.151886 | AB4: 87.172781 | AC4: 88.847471 | AD4: 86.980117 | AE4: 87.356571 | AF4: 90.061316 | AG4: 88.839437 | AH4: 89.464814 | AI4: 89.586343 | AJ4: 89.475707 | AK4: 89.74335 | AL4: 88.065676 | AM4: 86.104848 | AN4: 85.689486 | AO4: 83.308015
A5: Q5 | B5: 100 | C5: 102.43715 | D5: 102.34753 | E5: 100.23398 | F5: 97.072379 | G5: 97.132472 | H5: 97.66822 | I5: 99.812835 | J5: 100.24924 | K5: 99.983133 | L5: 98.169611 | M5: 97.137737 | N5: 96.985515 | O5: 98.273406 | P5: 100.7598 | Q5: 100.49947 | R5: 97.273055 | S5: 99.918162 | T5: 101.83709 | U5: 99.59246 | V5: 96.570823 | W5: 94.974864 | X5: 93.76272 | Y5: 91.350303 | Z5: 89.259436 | AA5: 87.738084 | AB5: 87.025473 | AC5: 88.920747 | AD5: 87.633812 | AE5: 88.028434 | AF5: 90.706754 | AG5: 90.721592 | AH5: 91.398757 | AI5: 91.084853 | AJ5: 91.30011 | AK5: 92.097132 | AL5: 90.490078 | AM5: 88.423871 | AN5: 88.616178 | AO5: 86.316137

Sheet Q5
B1: Import
D2: Exchange Rate
D3: 2001Q1 | E3: 2001Q2 | F3: 2001Q3 | G3: 2001Q4 | H3: 2002Q1 | I3: 2002Q2 | J3: 2002Q3 | K3: 2002Q4 | L3: 2003Q1 | M3: 2003Q2 | N3: 2003Q3 | O3: 2003Q4 | P3: 2004Q1 | Q3: 2004Q2 | R3: 2004Q3 | S3: 2004Q4 | T3: 2005Q1 | U3: 2005Q2 | V3: 2005Q3 | W3: 2005Q4 | X3: 2006Q1 | Y3: 2006Q2 | Z3: 2006Q3 | AA3: 2006Q4 | AB3: 2007Q1 | AC3: 2007Q2 | AD3: 2007Q3 | AE3: 2007Q4 | AF3: 2008Q1 | AG3: 2008Q2 | AH3: 2008Q3 | AI3: 2008Q4 | AJ3: 2009Q1 | AK3: 2009Q2 | AL3: 2009Q3 | AM3: 2009Q4 | AN3: 2010Q1 | AO3: 2010Q2 | AP3: 2010Q3 | AQ3: 2010Q4
B4: Japan | C4: 20.75521 | D4: 118.086 | E4: 122.637 | F4: 121.744 | G4: 123.649 | H4: 132.46 | I4: 127.051 | J4: 119.146 | K4: 122.895 | L4: 118.821 | M4: 118.44 | N4: 117.569 | O4: 108.904 | P4: 107.228 | Q4: 109.748 | R4: 109.909 | S4: 105.886 | T4: 104.713 | U4: 107.635 | V4: 111.238 | W4: 117.288 | X4: 116.883 | Y4: 114.416 | Z4: 116.187 | AA4: 117.712 | AB4: 119.433 | AC4: 120.739 | AD4: 117.776 | AE4: 113.065 | AF4: 105.204 | AG4: 104.511 | AH4: 107.613 | AI4: 96.1105 | AJ4: 93.7161 | AK4: 97.275 | AL4: 93.6091 | AM4: 89.6802 | AN4: 90.6534 | AO4: 92.0213 | AP4: 85.8553 | AQ4: 82.5895
B5: China | C5: 13.289609 | D5: 8.2774 | E5: 8.27713 | F5: 8.27689 | G5: 8.27685 | H5: 8.2768 | I5: 8.27708 | J5: 8.27682 | K5: 8.27713 | L5: 8.2771 | M5: 8.27704 | N5: 8.27712 | O5: 8.2769 | P5: 8.27708 | Q5: 8.27688 | R5: 8.27673 | S5: 8.27651 | T5: 8.2765 | U5: 8.2765 | V5: 8.1412 | W5: 8.08307 | X5: 8.05031 | Y5: 8.01226 | Z5: 7.96676 | AA5: 7.86442 | AB5: 7.76107 | AC5: 7.67738 | AD5: 7.55971 | AE5: 7.43197 | AF5: 7.16269 | AG5: 6.95775 | AH5: 6.83991 | AI5: 6.83427 | AJ5: 6.83735 | AK5: 6.82966 | AL5: 6.83105 | AM5: 6.82761 | AN5: 6.82694 | AO5: 6.82335 | AP5: 6.76994 | AQ5: 6.66085
B6: USA | C6: 5.8942833 | D6: 43.17 | E6: 45.35 | F6: 44.91 | G6: 44.3 | H6: 43.7 | I6: 42.75 | J6: 42.02 | K6: 43.37 | L6: 42.76 | M6: 42.18 | N6: 41.27 | O6: 39.73 | P6: 39.17 | Q6: 40.22 | R6: 41.25 | S6: 40.25 | T6: 38.57 | U6: 40.04 | V6: 41.29 | W6: 40.99 | X6: 39.29 | Y6: 38.07 | Z6: 37.64 | AA6: 36.53 | AB6: 35.54 | AC6: 34.65 | AD6: 34.01 | AE6: 33.87 | AF6: 32.37 | AG6: 32.25 | AH6: 33.83 | AI6: 34.8 | AJ6: 35.29 | AK6: 34.68 | AL6: 33.92 | AM6: 33.26 | AN6: 32.85 | AO6: 32.33 | AP6: 31.59 | AQ6: 29.98
B7: Malaysia | C7: 5.8713183 | D7: 3.8 | E7: 3.8 | F7: 3.8 | G7: 3.8 | H7: 3.8 | I7: 3.8 | J7: 3.8 | K7: 3.8 | L7: 3.8 | M7: 3.8 | N7: 3.8 | O7: 3.8 | P7: 3.8 | Q7: 3.8 | R7: 3.8 | S7: 3.8 | T7: 3.8 | U7: 3.8 | V7: 3.7717 | W7: 3.77667 | X7: 3.72753 | Y7: 3.64803 | Z7: 3.67193 | AA7: 3.62521 | AB7: 3.49845 | AC7: 3.42842 | AD7: 3.46667 | AE7: 3.35673 | AF7: 3.22567 | AG7: 3.21283 | AH7: 3.3396 | AI7: 3.56523 | AJ7: 3.62592 | AK7: 3.55021 | AL7: 3.52027 | AM7: 3.40162 | AN7: 3.37212 | AO7: 3.24142 | AP7: 3.15616 | AQ7: 3.11464
B8: United Arab Emirates | C8: 4.7451756 | D8: 3.6725 | E8: 3.6725 | F8: 3.6725 | G8: 3.6725 | H8: 3.6725 | I8: 3.6725 | J8: 3.6725 | K8: 3.6725 | L8: 3.6725 | M8: 3.6725 | N8: 3.6725 | O8: 3.6725 | P8: 3.6725 | Q8: 3.6725 | R8: 3.6725 | S8: 3.6725 | T8: 3.6725 | U8: 3.6725 | V8: 3.6725 | W8: 3.6725 | X8: 3.6725 | Y8: 3.6725 | Z8: 3.6725 | AA8: 3.6725 | AB8: 3.6725 | AC8: 3.6725 | AD8: 3.6725 | AE8: 3.6725 | AF8: 3.6725 | AG8: 3.6725 | AH8: 3.6725 | AI8: 3.6725 | AJ8: 3.6725 | AK8: 3.6725 | AL8: 3.6725 | AM8: 3.6725 | AN8: 3.6725 | AO8: 3.6725 | AP8: 3.6725 | AQ8: 3.6725
B9: Rep. of Korea | C9: 4.4171167 | D9: 1271.82 | E9: 1305.64 | F9: 1294.27 | G9: 1292.25 | H9: 1319.86 | I9: 1267.01 | J9: 1197.65 | K9: 1219.83 | L9: 1202.33 | M9: 1207.88 | N9: 1174.32 | O9: 1181.92 | P9: 1171.18 | Q9: 1162.29 | R9: 1154.7 | S9: 1093.12 | T9: 1022.22 | U9: 1008.11 | V9: 1029.51 | W9: 1036.63 | X9: 976.353 | Y9: 949.769 | Z9: 954.783 | AA9: 938.257 | AB9: 939.1 | AC9: 928.616 | AD9: 928.087 | AE9: 921.227 | AF9: 956.55 | AG9: 1018.84 | AH9: 1067.31 | AI9: 1365.49 | AJ9: 1416.07 | AK9: 1284.73 | AL9: 1238.88 | AM9: 1168.04 | AN9: 1143.9 | AO9: 1165.54 | AP9: 1182.62 | AQ9: 1132.18
B10: Other Asia, nes | C10: 3.7366871 | D10: n.a. | E10: n.a. | F10: n.a. | G10: n.a. | H10: n.a. | I10: n.a. | J10: n.a. | K10: n.a. | L10: n.a. | M10: n.a. | N10: n.a. | O10: n.a. | P10: n.a. | Q10: n.a. | R10: n.a. | S10: n.a. | T10: n.a. | U10: n.a. | V10: n.a. | W10: n.a. | X10: n.a. | Y10: n.a. | Z10: n.a. | AA10: n.a. | AB10: n.a. | AC10: n.a. | AD10: n.a. | AE10: n.a. | AF10: n.a. | AG10: n.a. | AH10: n.a. | AI10: n.a. | AJ10: n.a. | AK10: n.a. | AL10: n.a. | AM10: n.a. | AN10: n.a. | AO10: n.a. | AP10: n.a. | AQ10: n.a.
B11: Singapore | C11: 3.4509123 | D11: 1.75012 | E11: 1.81355 | F11: 1.77798 | G11: 1.82523 | H11: 1.83297 | I11: 1.80396 | J11: 1.75755 | K11: 1.76788 | L11: 1.74457 | M11: 1.74827 | N11: 1.75163 | O11: 1.72427 | P11: 1.69483 | Q11: 1.70185 | R11: 1.70746 | S11: 1.65677 | T11: 1.63564 | U11: 1.65866 | V11: 1.67514 | W11: 1.68815 | X11: 1.62803 | Y11: 1.58974 | Z11: 1.5793 | AA11: 1.55867 | AB11: 1.53224 | AC11: 1.52453 | AD11: 1.51744 | AE11: 1.4542 | AF11: 1.40927 | AG11: 1.36617 | AH11: 1.39679 | AI11: 1.48722 | AJ11: 1.51203 | AK11: 1.4728 | AL11: 1.43883 | AM11: 1.3944 | AN11: 1.4029 | AO11: 1.3911 | AP11: 1.35667 | AQ11: 1.30337
B12: Australia | C12: 3.232493 | D12: 1.88335 | E12: 1.9498 | F12: 1.94704 | G12: 1.95358 | H12: 1.93014 | I12: 1.81419 | J12: 1.82557 | K12: 1.79235 | L12: 1.68708 | M12: 1.56339 | N12: 1.51956 | O12: 1.39763 | P12: 1.30668 | Q12: 1.39965 | R12: 1.41012 | S12: 1.32256 | T12: 1.28704 | U12: 1.30126 | V12: 1.31646 | W12: 1.33314 | X12: 1.35246 | Y12: 1.34034 | Z12: 1.32105 | AA12: 1.29805 | AB12: 1.27227 | AC12: 1.20374 | AD12: 1.18048 | AE12: 1.1238 | AF12: 1.10351 | AG12: 1.06002 | AH12: 1.11838 | AI12: 1.4868 | AJ12: 1.50692 | AK12: 1.32068 | AL12: 1.2015 | AM12: 1.09966 | AN12: 1.10646 | AO12: 1.13374 | AP12: 1.10783 | AQ12: 1.0126
B13: Indonesia | C13: 3.1118402 | D13: 9779.7 | E13: 11241.7 | F13: 9614.1 | G13: 10407.9 | H13: 10157.8 | I13: 9076.6 | J13: 8955.7 | K13: 9054.67 | L13: 8905.5 | M13: 8479.3 | N13: 8441.27 | O13: 8482.47 | P13: 8469.6 | Q13: 9001.43 | R13: 9156.17 | S13: 9128.2 | T13: 9274.3 | U13: 9550.53 | V13: 9994.53 | W13: 9999.6 | X13: 9274.87 | Y13: 9115 | Z13: 9122.53 | AA13: 9124.87 | AB13: 9107.17 | AC13: 8968.27 | AD13: 9242.27 | AE13: 9246.3 | AF13: 9248.2 | AG13: 9265.27 | AH13: 9222.45 | AI13: 11059.9 | AJ13: 11630.8 | AK13: 10509 | AL13: 9965.7 | AM13: 9454.25 | AN13: 9270.5 | AO13: 9131.93 | AP13: 8995.03 | AQ13: 8964.27
B14: Saudi Arabia | C14: 3.0955326 | D14: 3.75 | E14: 3.75 | F14: 3.75 | G14: 3.75 | H14: 3.75 | I14: 3.75 | J14: 3.75 | K14: 3.75 | L14: 3.75 | M14: 3.75 | N14: 3.75 | O14: 3.75 | P14: 3.75 | Q14: 3.75 | R14: 3.75 | S14: 3.75 | T14: 3.75 | U14: 3.74833 | V14: 3.745 | W14: 3.745 | X14: 3.745 | Y14: 3.745 | Z14: 3.745 | AA14: 3.745 | AB14: 3.745 | AC14: 3.74667 | AD14: 3.74833 | AE14: 3.75 | AF14: 3.75 | AG14: 3.75 | AH14: 3.75 | AI14: 3.75 | AJ14: 3.75 | AK14: 3.75 | AL14: 3.75 | AM14: 3.75 | AN14: 3.75 | AO14: 3.75 | AP14: 3.75 | AQ14: 3.75
B15: Switzerland | C15: 2.837471 | D15: 1.66182 | E15: 1.75063 | F15: 1.69219 | G15: 1.64583 | H15: 1.68059 | I15: 1.59428 | J15: 1.48861 | K15: 1.47094 | L15: 1.36674 | M15: 1.33729 | N15: 1.37503 | O15: 1.30754 | P15: 1.25441 | Q15: 1.27803 | R15: 1.25731 | S15: 1.18424 | T15: 1.17738 | U15: 1.22707 | V15: 1.27426 | W15: 1.302 | X15: 1.29666 | Y15: 1.24536 | Z15: 1.23737 | AA15: 1.23599 | AB15: 1.23507 | AC15: 1.22263 | AD15: 1.19822 | AE15: 1.14555 | AF15: 1.06745 | AG15: 1.0317 | AH15: 1.07394 | AI15: 1.15927 | AJ15: 1.15617 | AK15: 1.11285 | AL15: 1.06286 | AM15: 1.02069 | AN15: 1.05792 | AO15: 1.10811 | AP15: 1.0319 | AQ15: 0.973683
B16: Germany | C16: 2.5380959 | D16: 2.1194547 | E16: 2.2412247 | F16: 2.197551 | G16: 2.1843883 | H16: 2.2320128 | I16: 2.1296251 | J16: 1.9886293 | K16: 1.9624016 | L16: 1.8225148 | M16: 1.7237708 | N16: 1.7400433 | O16: 1.6454007 | P16: 1.5642142 | Q16: 1.6243501 | R16: 1.6006767 | S16: 1.5113872 | T16: 1.4875398 | U16: 1.553549 | V16: 1.6040407 | W16: 1.6457586 | X16: 1.6272173 | Y16: 1.5573238 | Z16: 1.5351564 | AA16: 1.5165897 | AB16: 1.4925975 | AC16: 1.4507623 | AD16: 1.4231851 | AE16: 1.349464 | AF16: 1.3050667 | AG16: 1.2522515 | AH16: 1.3027784 | AI16: 1.4806865 | AJ16: 1.5024041 | AK16: 1.4378754 | AL16: 1.3675242 | AM16: 1.3237605 | AN16: 1.412917 | AO16: 1.539424 | AP16: 1.5148021 | AQ16: 1.4398155
B17: Russian Federation | C17: 1.7680361 | D17: 28.5434 | E17: 28.993 | F17: 29.3304 | G17: 29.8072 | H17: 30.7755 | I17: 31.2738 | J17: 31.5653 | K17: 31.7793 | L17: 31.6569 | M17: 30.871 | N17: 30.4343 | O17: 29.8059 | P17: 28.6574 | Q17: 28.898 | R17: 29.1722 | S17: 28.5274 | T17: 27.8415 | U17: 28.0817 | V17: 28.5096 | W17: 28.7049 | X17: 28.1622 | Y17: 27.2047 | Z17: 26.8082 | AA17: 26.5887 | AB17: 26.3069 | AC17: 25.862 | AD17: 25.51 | AE17: 24.6445 | AF17: 24.2655 | AG17: 23.6266 | AH17: 24.2552 | AI17: 27.2642 | AJ17: 33.9659 | AK17: 32.2131 | AL17: 31.318 | AM17: 29.4644 | AN17: 29.8988 | AO17: 30.2389 | AP17: 30.6209 | AQ17: 30.713
B18: Myanmar | C18: 1.5427455 | D18: 6.58678 | E18: 6.75283 | F18: 6.69673 | G18: 6.69994 | H18: 6.8114 | I18: 6.65816 | J18: 6.42446 | K18: 6.39965 | L18: 6.21679 | M18: 6.09016 | N18: 6.10735 | O18: 5.89121 | P18: 5.72277 | Q18: 5.83085 | R18: 5.79841 | S18: 5.63173 | T18: 5.58368 | U18: 5.70473 | V18: 5.82442 | W18: 5.93114 | X18: 5.90655 | Y18: 5.77827 | Z18: 5.74089 | AA18: 5.70961 | AB18: 5.67316 | AC18: 5.61168 | AD18: 5.54642 | AE18: 5.40747 | AF18: 5.31694 | AG18: 5.23172 | AH18: 5.35181 | AI18: 5.64957 | AJ18: 5.68665 | AK18: 5.59892 | AL18: 5.44283 | AM18: 5.34952 | AN18: 5.51302 | AO18: 5.71753 | AP18: 5.61154 | AQ18: 5.46928
B19: Oman | C19: 1.3201415 | D19: 0.3845 | E19: 0.3845 | F19: 0.3845 | G19: 0.3845 | H19: 0.3845 | I19: 0.3845 | J19: 0.3845 | K19: 0.3845 | L19: 0.3845 | M19: 0.3845 | N19: 0.3845 | O19: 0.3845 | P19: 0.3845 | Q19: 0.3845 | R19: 0.3845 | S19: 0.3845 | T19: 0.3845 | U19: 0.3845 | V19: 0.3845 | W19: 0.3845 | X19: 0.3845 | Y19: 0.3845 | Z19: 0.3845 | AA19: 0.3845 | AB19: 0.3845 | AC19: 0.3845 | AD19: 0.3845 | AE19: 0.3845 | AF19: 0.3845 | AG19: 0.3845 | AH19: 0.3845 | AI19: 0.3845 | AJ19: 0.3845 | AK19: 0.3845 | AL19: 0.3845 | AM19: 0.3845 | AN19: 0.3845 | AO19: 0.3845 | AP19: 0.3845 | AQ19: 0.3845
B20: Philippines | C20: 1.3023455 | D20: 49.242 | E20: 50.7373 | F20: 52.154 | G20: 51.8373 | H20: 51.2525 | I20: 50.4107 | J20: 51.5062 | K20: 53.2449 | L20: 54.0764 | M20: 52.9044 | N20: 54.5762 | O20: 55.2563 | P20: 55.9662 | Q20: 55.9113 | R20: 56 | S20: 56.2821 | T20: 55.0064 | U20: 54.6706 | V20: 56.0382 | W20: 54.6267 | X20: 51.8843 | Y20: 52.2146 | Z20: 51.3869 | AA20: 49.7714 | AB20: 48.6043 | AC20: 46.9322 | AD20: 45.9434 | AE20: 43.1136 | AF20: 40.9539 | AG20: 43.0007 | AH20: 44.9034 | AI20: 48.4352 | AJ20: 47.9198 | AK20: 47.882 | AL20: 48.1487 | AM20: 46.7682 | AN20: 46.0272 | AO20: 45.5088 | AP20: 45.2721 | AQ20: 43.6305
B21: Thailand | C21: 1.2500686 | D21: 43.1703 | E21: 45.35 | F21: 44.906 | G21: 44.3013 | H21: 43.7014 | I21: 42.7506 | J21: 42.0182 | K21: 43.3701 | L21: 42.756 | M21: 42.1802 | N21: 41.269 | O21: 39.7333 | P21: 39.1662 | Q21: 40.2207 | R21: 41.2531 | S21: 40.2497 | T21: 38.5662 | U21: 40.0404 | V21: 41.2868 | W21: 40.9871 | X21: 39.2881 | Y21: 38.0707 | Z21: 37.643 | AA21: 36.5261 | AB21: 35.5442 | AC21: 34.6471 | AD21: 34.0075 | AE21: 33.874 | AF21: 32.3743 | AG21: 32.2494 | AH21: 33.8319 | AI21: 34.7976 | AJ21: 35.2913 | AK21: 34.6776 | AL21: 33.9152 | AM21: 33.2589 | AN21: 32.8479 | AO21: 32.3324 | AP21: 31.5874 | AQ21: 29.9751
B22: India | C22: 1.2350985 | D22: 46.5598 | E22: 46.9028 | F22: 47.3047 | G22: 47.9783 | H22: 48.5889 | I22: 48.9602 | J22: 48.5982 | K22: 48.294 | L22: 47.7716 | M22: 47.0594 | N22: 46.0032 | O22: 45.499 | P22: 45.248 | Q22: 44.8962 | R22: 46.1592 | S22: 44.9624 | T22: 43.7083 | U22: 43.6046 | V22: 43.6919 | W22: 45.3952 | X22: 44.4023 | Y22: 45.4708 | Z22: 46.3704 | AA22: 44.9845 | AB22: 44.1723 | AC22: 41.2344 | AD22: 40.525 | AE22: 39.4624 | AF22: 39.8208 | AG22: 41.6559 | AH22: 43.7796 | AI22: 48.7644 | AJ22: 49.7745 | AK22: 48.7891 | AL22: 48.4174 | AM22: 46.64 | AN22: 45.9281 | AO22: 45.6252 | AP22: 46.4875 | AQ22: 44.8625
... B25: China, Hong Kong SAR | C25: 0.99648937 | D25: 7.799 | E25: 7.798 | F25: 7.79867 | G25: 7.79933 | H25: 7.799 | I25: 7.799 | J25: 7.799 | K25: 7.79867 | L25: 7.79867 | M25: 7.79833 | N25: 7.79367 | O25: 7.75633 | P25: 7.777 | Q25: 7.796 | R25: 7.79933 | S25: 7.77967 | T25: 7.79767 | U25: 7.788 | V25: 7.76933 | W25: 7.75433 | X25: 7.757 | Y25: 7.75767 | Z25: 7.77633 | AA25: 7.78033 | AB25: 7.80767 | AC25: 7.81567 | AD25: 7.806 | AE25: 7.77633 | AF25: 7.79467 | AG25: 7.79967 | AH25: 7.79933 | AI25: 7.75367 | AJ25: 7.75433 | AK25: 7.751 | AL25: 7.75067 | AM25: 7.751 | AN25: 7.76367 | AO25: 7.779 | AP25: 7.77133 | AQ25: 7.76267
B26: Brazil | C26: 0.98994453 | D26: 2.01 | E26: 2.29 | F26: 2.55 | G26: 2.55 | H26: 2.38 | I26: 2.5 | J26: 3.13 | K26: 3.67 | L26: 3.49 | M26: 2.99 | N26: 2.93 | O26: 2.9 | P26: 2.9 | Q26: 3.04 | R26: 2.98 | S26: 2.78 | T26: 2.66 | U26: 2.48 | V26: 2.34 | W26: 2.25 | X26: 2.2 | Y26: 2.18 | Z26: 2.17 | AA26: 2.15 | AB26: 2.11 | AC26: 1.98 | AD26: 1.92 | AE26: 1.78 | AF26: 1.74 | AG26: 1.66 | AH26: 1.67 | AI26: 2.28 | AJ26: 2.32 | AK26: 2.08 | AL26: 1.87 | AM26: 1.74 | AN26: 1.8 | AO26: 1.79 | AP26: 1.75 | AQ26: 1.7 | AR26: 1.67 | AS26: 1.6 | AT26: 1.63 | AU26: 1.79
C27: =SUM(C4:C9,C11:C20,C22:C26) -> 84.592304
D29: Exchange Rate
D30: 2001Q1 | E30: 2001Q2 | F30: 2001Q3 | G30: 2001Q4 | H30: 2002Q1 | I30: 2002Q2 | J30: 2002Q3 | K30: 2002Q4 | L30: 2003Q1 | M30: 2003Q2 | N30: 2003Q3 | O30: 2003Q4 | P30: 2004Q1 | Q30: 2004Q2 | R30: 2004Q3 | S30: 2004Q4 | T30: 2005Q1 | U30: 2005Q2 | V30: 2005Q3 | W30: 2005Q4 | X30: 2006Q1 | Y30: 2006Q2 | Z30: 2006Q3 | AA30: 2006Q4 | AB30: 2007Q1 | AC30: 2007Q2 | AD30: 2007Q3 | AE30: 2007Q4 | AF30: 2008Q1 | AG30: 2008Q2 | AH30: 2008Q3 | AI30: 2008Q4 | AJ30: 2009Q1 | AK30: 2009Q2 | AL30: 2009Q3 | AM30: 2009Q4 | AN30: 2010Q1 | AO30: 2010Q2 | AP30: 2010Q3 | AQ30: 2010Q4
B31: Japan | C31: =C4/C$27 -> 0.24535577 | D31: =D$6/D4 -> 0.36558102 | E31: =E$6/E4 -> 0.36979052 | F31: =F$6/F4 -> 0.36888882 | G31: =G$6/G4 -> 0.35827221 | H31: =H$6/H4 -> 0.32991092 | I31: =I$6/I4 -> 0.33647905 | J31: =J$6/J4 -> 0.35267655 | K31: =K$6/K4 -> 0.35290288 | ... AQ31: =AQ$6/AQ4 -> 0.36300014
B32: China | C32: =C5/C$27 -> 0.15710187 | D32: =D$6/D5 -> 5.2154058 | E32: =E$6/E5 -> 5.4789522 | F32: =F$6/F5 -> 5.4259511 | G32: =G$6/G5 -> 5.3522777 | H32: =H$6/H5 -> 5.2798183 | I32: =I$6/I5 -> 5.1648649 | J32: =J$6/J5 -> 5.076829 | K32: =K$6/K5 -> 5.2397389 | ... AQ32: =AQ$6/AQ5 -> 4.5009271
B33: USA | C33: =C6/C$27 -> 0.069678718 | D33: =D6 -> 43.17 | E33: =E6 -> 45.35 | F33: =F6 -> 44.91 | G33: =G6 -> 44.3 | H33: =H6 -> 43.7 | I33: =I6 -> 42.75 | J33: =J6 -> 42.02 | K33: =K6 -> 43.37 | ... AQ33: =AQ6 -> 29.98
B34: Malaysia | C34: =C7/C$27 -> 0.069407239 | D34: =D$6/D7 -> 11.360526 | E34: =E$6/E7 -> 11.934211 | F34: =F$6/F7 -> 11.818421 | G34: =G$6/G7 -> 11.657895 | H34: =H$6/H7 -> 11.5 | I34: =I$6/I7 -> 11.25 | J34: =J$6/J7 -> 11.057895 | K34: =K$6/K7 -> 11.413158 | ... AQ34: =AQ$6/AQ7 -> 9.6255105
