Workbook

Sheet Step
B2: Step
B3: 1 | C3: Building income statement
B4: =+B3+1 -> 2 | C4: Project net working capital
B5: =+B4+1 -> 3 | C5: Project PP&E
B6: =+B5+1 -> 4 | C6: Project debt schedule
B7: =+B6+1 -> 5 | C7: Project other items in balance sheet
B8: =+B7+1 -> 6 | C8: Building balance sheet (except Cash)
B9: =+B8+1 -> 7 | C9: Building cash flow statement
B10: =+B9+1 -> 8 | C10: Calculate FCFF & WACC
B11: =+B10+1 -> 9 | C11: Run sensitivity

Sheet Assumptions
A2: 1 | B2: Income Statement (In THB MM) | D2: 2017 | E2: =+D2+1 -> 2018 | F2: =+E2+1 -> 2019 | G2: =+F2+1 -> 2020 | H2: =+G2+1 -> 2021 | I2: =+H2+1 -> 2022 | J2: =+I2+1 -> 2023 | K2: =+J2+1 -> 2024
B3: Total Revenue | D3: =+FS!D4 -> 1200 | E3: =+FS!E4 -> 1416 | F3: =+FS!F4 -> 1628.4 | G3: =+G5*G7 -> 1891.1522 | H3: =+H5*H7 -> 2162.0742 | I3: =+I5*I7 -> 2458.9805 | J3: =+J5*J7 -> 2784.0314 | K3: =+K5*K7 -> 3139.5535
B4: % Growth | D4: N/A | E4: =+E3/D3-1 -> 0.18 | F4: =+F3/E3-1 -> 0.15 | G4: =+G3/F3-1 -> 0.16135604 | H4: =+H3/G3-1 -> 0.14325764 | I4: =+I3/H3-1 -> 0.13732478 | J4: =+J3/I3-1 -> 0.13218927 | K4: =+K3/J3-1 -> 0.12770048
B5: Selling Price | D5: 2.5775 | E5: 2.6780225 | F5: 2.7904994 | G5: =+F5*(1+G6) -> 2.9021194 | H5: =+G5*(1+H6) -> 2.989183 | I5: =+H5*(1+I6) -> 3.0788585 | J5: =+I5*(1+J6) -> 3.1712243 | K5: =+J5*(1+K6) -> 3.266361
B6: % Growth | D6: 0.031 | E6: 0.039 | F6: 0.042 | G6: 0.04 | H6: 0.03 | I6: 0.03 | J6: 0.03 | K6: 0.03
B7: Quantity Sold | D7: =+D3/D5 -> 465.56741 | E7: =+E3/E5 -> 528.74836 | F7: =+F3/F5 -> 583.55145 | G7: =+G9*G11 -> 651.64519 | H7: =+H9*H11 -> 723.29936 | I7: =+I9*I11 -> 798.6663 | J7: =+J9*J11 -> 877.90428 | K7: =+K9*K11 -> 961.17775
B8: % Growth | D8: N/A | E8: =+E7/D7-1 -> 0.13570741 | F8: =+F7/E7-1 -> 0.10364683 | G8: =+G7/F7-1 -> 0.1166885 | H8: =+H7/G7-1 -> 0.10995887 | I8: =+I7/H7-1 -> 0.10419882 | J8: =+J7/I7-1 -> 0.099212882 | K8: =+K7/J7-1 -> 0.094854834
B9: Market Size (In Units) | D9: 5801.5255 | E9: 6103.2048 | F9: 6377.849 | G9: =+F9*(1+G10) -> 6569.1845 | H9: =+G9*(1+H10) -> 6766.26 | I9: =+H9*(1+I10) -> 6969.2478 | J9: =+I9*(1+J10) -> 7178.3252 | K9: =+J9*(1+K10) -> 7393.675
B10: % Growth | E10: =+E9/D9-1 -> 0.052 | F10: =+F9/E9-1 -> 0.045 | G10: 0.03 | H10: 0.03 | I10: 0.03 | J10: 0.03 | K10: 0.03
B11: % Implied Market Share | D11: =+D7/D9 -> 0.080249137 | E11: =+E7/E9 -> 0.086634543 | F11: =+F7/F9 -> 0.091496593 | G11: =F11+($K$11-$F$11)/($K$2-$F$2) -> 0.099197274 | H11: =G11+($K$11-$F$11)/($K$2-$F$2) -> 0.10689796 | I11: =H11+($K$11-$F$11)/($K$2-$F$2) -> 0.11459864 | J11: =I11+($K$11-$F$11)/($K$2-$F$2) -> 0.12229932 | K11: 0.13
B12: COGS | D12: =+FS!D5 -> -702 | E12: =+FS!E5 -> -828.36 | F12: =+FS!F5 -> -952.614 | G12: =+G13-G3 -> -1106.324 | H12: =+H13-H3 -> -1264.8134 | I12: =+I13-I3 -> -1438.5036 | J12: =+J13-J3 -> -1628.6583 | K12: =+K13-K3 -> -1836.6388
B13: Gross Profit | D13: =+D3+D12 -> 498 | E13: =+E3+E12 -> 587.64 | F13: =+F3+F12 -> 675.786 | G13: =+G3*G14 -> 784.82815 | H13: =+H3*H14 -> 897.26078 | I13: =+I3*I14 -> 1020.4769 | J13: =+J3*J14 -> 1155.373 | K13: =+K3*K14 -> 1302.9147
B14: % Gross Profit Margin | D14: =+D13/D3 -> 0.415 | E14: =+E13/E3 -> 0.415 | F14: =+F13/F3 -> 0.415 | G14: =+F14 -> 0.415 | H14: =+G14 -> 0.415 | I14: =+H14 -> 0.415 | J14: =+I14 -> 0.415 | K14: =+J14 -> 0.415
B15: =+FS!B7 -> Selling Expenses | D15: =+FS!D7 -> -85.2 | E15: =+FS!E7 -> -99.828 | F15: =+FS!F7 -> -113.988 | G15: =-G16*G3 -> -132.38065 | H15: =-H16*H3 -> -151.34519 | I15: =-I16*I3 -> -172.12864 | J15: =-J16*J3 -> -194.88219 | K15: =-K16*K3 -> -219.76874
B16: % to Total Revenue | D16: =-D15/D3 -> 0.071 | E16: =-E15/E3 -> 0.0705 | F16: =-F15/F3 -> 0.07 | G16: =+F16 -> 0.07 | H16: =+G16 -> 0.07 | I16: =+H16 -> 0.07 | J16: =+I16 -> 0.07 | K16: =+J16 -> 0.07
B17: =+FS!B8 -> Administrative Expenses | D17: =+FS!D8 -> -200.2 | E17: =+FS!E8 -> -214.214 | F17: =+FS!F8 -> -224.9247 | G17: =+F17*(1+G18) -> -236.17094 | H17: =+G17*(1+H18) -> -247.97948 | I17: =+H17*(1+I18) -> -260.37846 | J17: =+I17*(1+J18) -> -273.39738 | K17: =+J17*(1+K18) -> -287.06725
B18: % Growth | D18: N/A | E18: =+E17/D17-1 -> 0.07 | F18: =+F17/E17-1 -> 0.05 | G18: 0.05 | H18: 0.05 | I18: 0.05 | J18: 0.05 | K18: 0.05
B19: =+FS!B9 -> DA | D19: =+FS!D9 -> -10 | E19: =+FS!E9 -> -17.2 | F19: =+FS!F9 -> -25.696 | G19: =+PPE!G6 -> -46.813313 | H19: =+PPE!H6 -> -59.785758 | I19: =+PPE!I6 -> -64.539641 | J19: =+PPE!J6 -> -74.043829 | K19: =+PPE!K6 -> -84.38515
B20: EBIT | D20: =+D13+D15+D17+D19 -> 202.6 | E20: =+E13+E15+E17+E19 -> 256.398 | F20: =+F13+F15+F17+F19 -> 311.1773 | G20: =+G13+G15+G17+G19 -> 369.46325 | H20: =+H13+H15+H17+H19 -> 438.15034 | I20: =+I13+I15+I17+I19 -> 523.43018 | J20: =+J13+J15+J17+J19 -> 613.04961 | K20: =+K13+K15+K17+K19 -> 711.69356
B21: % EBIT Margin | D21: =+D20/D3 -> 0.16883333 | E21: =+E20/E3 -> 0.18107203 | F21: =+F20/F3 -> 0.1910939 | G21: =+G20/G3 -> 0.1953641 | H21: =+H20/H3 -> 0.20265278 | I21: =+I20/I3 -> 0.21286471 | J21: =+J20/J3 -> 0.22020212 | K21: =+K20/K3 -> 0.22668623
B22: Interest Expense | D22: =+FS!D11 -> -5.4 | E22: =+FS!E11 -> -4.4420594 | F22: =+FS!F11 -> -3.4266424 | G22: =+'Debt Schedule'!G8 -> -5.3503004 | H22: =+'Debt Schedule'!H8 -> -6.4771887 | I22: =+'Debt Schedule'!I8 -> -4.7036902 | J22: =+'Debt Schedule'!J8 -> -4.1057225 | K22: =+'Debt Schedule'!K8 -> -3.4718766
B23: EBT | D23: =+D20+D22 -> 197.2 | E23: =+E20+E22 -> 251.95594 | F23: =+F20+F22 -> 307.75066 | G23: =+G20+G22 -> 364.11295 | H23: =+H20+H22 -> 431.67316 | I23: =+I20+I22 -> 518.72649 | J23: =+J20+J22 -> 608.94389 | K23: =+K20+K22 -> 708.22168
B24: =+FS!B13 -> Tax Expense | D24: =+FS!D13 -> -44.646 | E24: =+FS!E13 -> -57.45558 | F24: =+FS!F13 -> -71.41714 | G24: =+G23*-G25 -> -72.82259 | H24: =+H23*-H25 -> -86.334631 | I24: =+I23*-I25 -> -103.7453 | J24: =+J23*-J25 -> -121.78878 | K24: =+K23*-K25 -> -141.64434
B25: % Tax Rate | D25: =-D24/D23 -> 0.22639959 | E25: =-E24/E23 -> 0.2280382 | F25: =-F24/F23 -> 0.2320617 | G25: 0.2 | H25: 0.2 | I25: 0.2 | J25: 0.2 | K25: 0.2
B26: Net Profit | D26: =+D23+D24 -> 152.554 | E26: =+E23+E24 -> 194.50036 | F26: =+F23+F24 -> 236.33352 | G26: =+G23+G24 -> 291.29036 | H26: =+H23+H24 -> 345.33852 | I26: =+I23+I24 -> 414.98119 | J26: =+J23+J24 -> 487.15511 | K26: =+K23+K24 -> 566.57734
B27: % Net Profit Margin | D27: =+D26/D3 -> 0.12712833 | E27: =+E26/E3 -> 0.13735901 | F27: =+F26/F3 -> 0.14513235 | G27: =+G26/G3 -> 0.15402799 | H27: =+H26/H3 -> 0.15972557 | I27: =+I26/I3 -> 0.16876148 | J27: =+J26/J3 -> 0.1749819 | K27: =+K26/K3 -> 0.18046431
B29: EBIT | D29: =+D20 -> 202.6 | E29: =+E20 -> 256.398 | F29: =+F20 -> 311.1773 | G29: =+G20 -> 369.46325 | H29: =+H20 -> 438.15034 | I29: =+I20 -> 523.43018 | J29: =+J20 -> 613.04961 | K29: =+K20 -> 711.69356
B30: DA | D30: =+FS!D17 -> 10 | E30: =+FS!E17 -> 17.2 | F30: =+FS!F17 -> 25.696 | G30: =-G19 -> 46.813313 | H30: =-H19 -> 59.785758 | I30: =-I19 -> 64.539641 | J30: =-J19 -> 74.043829 | K30: =-K19 -> 84.38515
B31: EBITDA | D31: =+D29+D30 -> 212.6 | E31: =+E29+E30 -> 273.598 | F31: =+F29+F30 -> 336.8733 | G31: =+G29+G30 -> 416.27656 | H31: =+H29+H30 -> 497.9361 | I31: =+I29+I30 -> 587.96982 | J31: =+J29+J30 -> 687.09344 | K31: =+K29+K30 -> 796.07871
B32: % EBITDA Margin | D32: =+D31/D3 -> 0.17716667 | E32: =+E31/E3 -> 0.19321893 | F32: =+F31/F3 -> 0.2068738 | G32: =+G31/G3 -> 0.22011796 | H32: =+H31/H3 -> 0.23030482 | I32: =+I31/I3 -> 0.23911122 | J32: =+J31/J3 -> 0.24679802 | K32: =+K31/K3 -> 0.25356431
A34: 2 | B34: Balance Sheet | D34: 2017 | E34: =+D34+1 -> 2018 | F34: =+E34+1 -> 2019 | G34: =+F34+1 -> 2020 | H34: =+G34+1 -> 2021 | I34: =+H34+1 -> 2022 | J34: =+I34+1 -> 2023 | K34: =+J34+1 -> 2024
B35: Account Receivables | D35: =+FS!D30 -> 108.49315 | E35: =+FS!E30 -> 120.26301 | F35: =+FS!F30 -> 133.8411 | G35: =+G3/G36 -> 147.55267 | H35: =+H3/H36 -> 168.69072 | I35: =+I3/I36 -> 191.85613 | J35: =+J3/J36 -> 217.21746 | K35: =+K3/K36 -> 244.95623
B36: Account Receivable Turnover | D36: =+FS!D4/AVERAGE(C35:D35) -> 11.060606 | E36: =+FS!E4/AVERAGE(D35:E35) -> 12.379994 | F36: =+FS!F4/AVERAGE(E35:F35) -> 12.816794 | G36: =365/G37 -> 12.816794 | H36: =365/H37 -> 12.816794 | I36: =365/I37 -> 12.816794 | J36: =365/J37 -> 12.816794 | K36: =365/K37 -> 12.816794
B37: Account Receivable Days | D37: =365/D36 -> 33 | E37: =365/E36 -> 29.483051 | F37: =365/F36 -> 28.478261 | G37: =+F37 -> 28.478261 | H37: =+G37 -> 28.478261 | I37: =+H37 -> 28.478261 | J37: =+I37 -> 28.478261 | K37: =+J37 -> 28.478261
B38: Inventory | D38: =+FS!D31 -> 85.009315 | E38: =+FS!E31 -> 94.183397 | F38: =+FS!F31 -> 104.39605 | G38: =-G$12/G39 -> 115.31072 | H38: =-H$12/H39 -> 131.82986 | I38: =-I$12/I39 -> 149.93337 | J38: =-J$12/J39 -> 169.75295 | K38: =-K$12/K39 -> 191.43049
B39: Inventory Turnover | D39: =-FS!D5/AVERAGE(C38:D38) -> 8.2579186 | E39: =-FS!E5/AVERAGE(D38:E38) -> 9.2454653 | F39: =-FS!F5/AVERAGE(E38:F38) -> 9.5942857 | G39: =365/G40 -> 9.5942857 | H39: =365/H40 -> 9.5942857 | I39: =365/I40 -> 9.5942857 | J39: =365/J40 -> 9.5942857 | K39: =365/K40 -> 9.5942857
B40: Inventory Days | D40: =365/D39 -> 44.2 | E40: =365/E39 -> 39.478814 | F40: =365/F39 -> 38.043478 | G40: =+F40 -> 38.043478 | H40: =+G40 -> 38.043478 | I40: =+H40 -> 38.043478 | J40: =+I40 -> 38.043478 | K40: =+J40 -> 38.043478
B41: Other Current Assets | D41: =+FS!D32 -> 12 | E41: =+FS!E32 -> 11 | F41: =+FS!F32 -> 11 | G41: =+F41 -> 11 | H41: =+G41 -> 11 | I41: =+H41 -> 11 | J41: =+I41 -> 11 | K41: =+J41 -> 11
B42: Intangible Assets | D42: =+FS!D35 -> 15 | E42: =+FS!E35 -> 15 | F42: =+FS!F35 -> 15 | G42: =+F42 -> 15 | H42: =+G42 -> 15 | I42: =+H42 -> 15 | J42: =+I42 -> 15 | K42: =+J42 -> 15
B43: Other Non-current Assets | D43: =+FS!D36 -> 7.6 | E43: =+FS!E36 -> 8 | F43: =+FS!F36 -> 8.5 | G43: =+F43 -> 8.5 | H43: =+G43 -> 8.5 | I43: =+H43 -> 8.5 | J43: =+I43 -> 8.5 | K43: =+J43 -> 8.5
...

Sheet FS
D2: 2017 | E2: =+D2+1 -> 2018 | F2: =+E2+1 -> 2019 | G2: =+F2+1 -> 2020 | H2: =+G2+1 -> 2021 | I2: =+H2+1 -> 2022 | J2: =+I2+1 -> 2023 | K2: =+J2+1 -> 2024
A3: 1 | B3: Income Statement
B4: Total Revenue | D4: 1200 | E4: 1416 | F4: 1628.4 | G4: =+Assumptions!G3 -> 1891.1522 | H4: =+Assumptions!H3 -> 2162.0742 | I4: =+Assumptions!I3 -> 2458.9805 | J4: =+Assumptions!J3 -> 2784.0314 | K4: =+Assumptions!K3 -> 3139.5535
B5: COGS | D5: -702 | E5: -828.36 | F5: -952.614 | G5: =+Assumptions!G12 -> -1106.324 | H5: =+Assumptions!H12 -> -1264.8134 | I5: =+Assumptions!I12 -> -1438.5036 | J5: =+Assumptions!J12 -> -1628.6583 | K5: =+Assumptions!K12 -> -1836.6388
B6: Gross Profit | D6: =+D4+D5 -> 498 | E6: =+E4+E5 -> 587.64 | F6: =+F4+F5 -> 675.786 | G6: =+G4+G5 -> 784.82815 | H6: =+H4+H5 -> 897.26078 | I6: =+I4+I5 -> 1020.4769 | J6: =+J4+J5 -> 1155.373 | K6: =+K4+K5 -> 1302.9147
B7: Selling Expenses | D7: -85.2 | E7: -99.828 | F7: -113.988 | G7: =+Assumptions!G15 -> -132.38065 | H7: =+Assumptions!H15 -> -151.34519 | I7: =+Assumptions!I15 -> -172.12864 | J7: =+Assumptions!J15 -> -194.88219 | K7: =+Assumptions!K15 -> -219.76874
B8: Administrative Expenses | D8: -200.2 | E8: -214.214 | F8: -224.9247 | G8: =+Assumptions!G17 -> -236.17094 | H8: =+Assumptions!H17 -> -247.97948 | I8: =+Assumptions!I17 -> -260.37846 | J8: =+Assumptions!J17 -> -273.39738 | K8: =+Assumptions!K17 -> -287.06725
B9: DA | D9: =+PPE!D6 -> -10 | E9: =+PPE!E6 -> -17.2 | F9: =+PPE!F6 -> -25.696 | G9: =+Assumptions!G19 -> -46.813313 | H9: =+Assumptions!H19 -> -59.785758 | I9: =+Assumptions!I19 -> -64.539641 | J9: =+Assumptions!J19 -> -74.043829 | K9: =+Assumptions!K19 -> -84.38515
B10: EBIT | D10: =+D6+D7+D8+D9 -> 202.6 | E10: =+E6+E7+E8+E9 -> 256.398 | F10: =+F6+F7+F8+F9 -> 311.1773 | G10: =+G6+G7+G8+G9 -> 369.46325 | H10: =+H6+H7+H8+H9 -> 438.15034 | I10: =+I6+I7+I8+I9 -> 523.43018 | J10: =+J6+J7+J8+J9 -> 613.04961 | K10: =+K6+K7+K8+K9 -> 711.69356
B11: Interest Expense | D11: =+'Debt Schedule'!D21 -> -5.4 | E11: =+'Debt Schedule'!E21 -> -4.4420594 | F11: =+'Debt Schedule'!F21 -> -3.4266424 | G11: =+Assumptions!G22 -> -5.3503004 | H11: =+Assumptions!H22 -> -6.4771887 | I11: =+Assumptions!I22 -> -4.7036902 | J11: =+Assumptions!J22 -> -4.1057225 | K11: =+Assumptions!K22 -> -3.4718766
B12: EBT | D12: =+D10+D11 -> 197.2 | E12: =+E10+E11 -> 251.95594 | F12: =+F10+F11 -> 307.75066 | G12: =+G10+G11 -> 364.11295 | H12: =+H10+H11 -> 431.67316 | I12: =+I10+I11 -> 518.72649 | J12: =+J10+J11 -> 608.94389 | K12: =+K10+K11 -> 708.22168
B13: Tax Expense | D13: -44.646 | E13: -57.45558 | F13: -71.41714 | G13: =+Assumptions!G24 -> -72.82259 | H13: =+Assumptions!H24 -> -86.334631 | I13: =+Assumptions!I24 -> -103.7453 | J13: =+Assumptions!J24 -> -121.78878 | K13: =+Assumptions!K24 -> -141.64434
B14: Net Income | D14: =+D12+D13 -> 152.554 | E14: =+E12+E13 -> 194.50036 | F14: =+F12+F13 -> 236.33352 | G14: =+G12+G13 -> 291.29036 | H14: =+H12+H13 -> 345.33852 | I14: =+I12+I13 -> 414.98119 | J14: =+J12+J13 -> 487.15511 | K14: =+K12+K13 -> 566.57734
B16: EBIT | D16: =+D10 -> 202.6 | E16: =+E10 -> 256.398 | F16: =+F10 -> 311.1773 | G16: =+G10 -> 369.46325 | H16: =+H10 -> 438.15034 | I16: =+I10 -> 523.43018 | J16: =+J10 -> 613.04961 | K16: =+K10 -> 711.69356
B17: DA | D17: =-D9 -> 10 | E17: =-E9 -> 17.2 | F17: =-F9 -> 25.696 | G17: =-G9 -> 46.813313 | H17: =-H9 -> 59.785758 | I17: =-I9 -> 64.539641 | J17: =-J9 -> 74.043829 | K17: =-K9 -> 84.38515
B18: EBITDA | D18: =+D16+D17 -> 212.6 | E18: =+E16+E17 -> 273.598 | F18: =+F16+F17 -> 336.8733 | G18: =+G16+G17 -> 416.27656 | H18: =+H16+H17 -> 497.9361 | I18: =+I16+I17 -> 587.96982 | J18: =+J16+J17 -> 687.09344 | K18: =+K16+K17 -> 796.07871
B20: Key Performance Ratios
B21: % Revenue Growth | D21: =IFERROR(D4/C4-1,"N/A") -> N/A | E21: =IFERROR(E4/D4-1,"N/A") -> 0.18 | F21: =IFERROR(F4/E4-1,"N/A") -> 0.15 | G21: =IFERROR(G4/F4-1,"N/A") -> 0.16135604 | H21: =IFERROR(H4/G4-1,"N/A") -> 0.14325764 | I21: =IFERROR(I4/H4-1,"N/A") -> 0.13732478 | J21: =IFERROR(J4/I4-1,"N/A") -> 0.13218927 | K21: =IFERROR(K4/J4-1,"N/A") -> 0.12770048
B22: % GPM | D22: =+D6/D4 -> 0.415 | E22: =+E6/E4 -> 0.415 | F22: =+F6/F4 -> 0.415 | G22: =+G6/G4 -> 0.415 | H22: =+H6/H4 -> 0.415 | I22: =+I6/I4 -> 0.415 | J22: =+J6/J4 -> 0.415 | K22: =+K6/K4 -> 0.415
B23: % EBIT Margin | D23: =+D10/D4 -> 0.16883333 | E23: =+E10/E4 -> 0.18107203 | F23: =+F10/F4 -> 0.1910939 | G23: =+G10/G4 -> 0.1953641 | H23: =+H10/H4 -> 0.20265278 | I23: =+I10/I4 -> 0.21286471 | J23: =+J10/J4 -> 0.22020212 | K23: =+K10/K4 -> 0.22668623
B24: % EBITDA Margin | D24: =+D18/D4 -> 0.17716667 | E24: =+E18/E4 -> 0.19321893 | F24: =+F18/F4 -> 0.2068738 | G24: =+G18/G4 -> 0.22011796 | H24: =+H18/H4 -> 0.23030482 | I24: =+I18/I4 -> 0.23911122 | J24: =+J18/J4 -> 0.24679802 | K24: =+K18/K4 -> 0.25356431
B25: % Net Profit Growth | D25: =IFERROR(D8/C8-1,"N/A") -> N/A | E25: =IFERROR(E8/D8-1,"N/A") -> 0.07 | F25: =IFERROR(F8/E8-1,"N/A") -> 0.05 | G25: =IFERROR(G8/F8-1,"N/A") -> 0.05 | H25: =IFERROR(H8/G8-1,"N/A") -> 0.05 | I25: =IFERROR(I8/H8-1,"N/A") -> 0.05 | J25: =IFERROR(J8/I8-1,"N/A") -> 0.05 | K25: =IFERROR(K8/J8-1,"N/A") -> 0.05
B26: % NPM | D26: =+D14/D4 -> 0.12712833 | E26: =+E14/E4 -> 0.13735901 | F26: =+F14/F4 -> 0.14513235 | G26: =+G14/G4 -> 0.15402799 | H26: =+H14/H4 -> 0.15972557 | I26: =+I14/I4 -> 0.16876148 | J26: =+J14/J4 -> 0.1749819 | K26: =+K14/K4 -> 0.18046431
A28: 2 | B28: Balance Sheet | D28: 2017 | E28: =+D28+1 -> 2018 | F28: =+E28+1 -> 2019 | G28: =+F28+1 -> 2020 | H28: =+G28+1 -> 2021 | I28: =+H28+1 -> 2022 | J28: =+I28+1 -> 2023 | K28: =+J28+1 -> 2024
B29: Cash and Cash Equivalent | D29: 238.11264 | E29: 263.83166 | F29: 301.70616 | G29: =+G77 -> 411.98172 | H29: =+H77 -> 528.24639 | I29: =+I77 -> 645.19476 | J29: =+J77 -> 787.33802 | K29: =+K77 -> 917.22868
B30: Account Receivables | D30: 108.49315 | E30: 120.26301 | F30: 133.8411 | G30: =+Assumptions!G35 -> 147.55267 | H30: =+Assumptions!H35 -> 168.69072 | I30: =+Assumptions!I35 -> 191.85613 | J30: =+Assumptions!J35 -> 217.21746 | K30: =+Assumptions!K35 -> 244.95623
B31: Inventory | D31: 85.009315 | E31: 94.183397 | F31: 104.39605 | G31: =+Assumptions!G38 -> 115.31072 | H31: =+Assumptions!H38 -> 131.82986 | I31: =+Assumptions!I38 -> 149.93337 | J31: =+Assumptions!J38 -> 169.75295 | K31: =+Assumptions!K38 -> 191.43049
B32: Other Current Assets | D32: 12 | E32: 11 | F32: 11 | G32: =+Assumptions!G41 -> 11 | H32: =+Assumptions!H41 -> 11 | I32: =+Assumptions!I41 -> 11 | J32: =+Assumptions!J41 -> 11 | K32: =+Assumptions!K41 -> 11
B33: Total Current Assets | D33: =+D29+D30+D31+D32 -> 443.6151 | E33: =+E29+E30+E31+E32 -> 489.27807 | F33: =+F29+F30+F31+F32 -> 550.94331 | G33: =+G29+G30+G31+G32 -> 685.84511 | H33: =+H29+H30+H31+H32 -> 839.76697 | I33: =+I29+I30+I31+I32 -> 997.98427 | J33: =+J29+J30+J31+J32 -> 1185.3084 | K33: =+K29+K30+K31+K32 -> 1364.6154
B34: PP&E | D34: 76 | E34: 101.28 | F34: 124.436 | G34: =+PPE!G7 -> 134.35725 | H34: =+PPE!H7 -> 139.43372 | I34: =+PPE!I7 -> 148.66349 | J34: =+PPE!J7 -> 158.1406 | K34: =+PPE!K7 -> 167.94206
B35: Intangible Assets | D35: 15 | E35: 15 | F35: 15 | G35: =+Assumptions!G42 -> 15 | H35: =+Assumptions!H42 -> 15 | I35: =+Assumptions!I42 -> 15 | J35: =+Assumptions!J42 -> 15 | K35: =+Assumptions!K42 -> 15
B36: Other Non-current Assets | D36: 7.6 | E36: 8 | F36: 8.5 | G36: =+Assumptions!G43 -> 8.5 | H36: =+Assumptions!H43 -> 8.5 | I36: =+Assumptions!I43 -> 8.5 | J36: =+Assumptions!J43 -> 8.5 | K36: =+Assumptions!K43 -> 8.5
B37: Total Non-current Assets | D37: =+D34+D35+D36 -> 98.6 | E37: =+E34+E35+E36 -> 124.28 | F37: =+F34+F35+F36 -> 147.936 | G37: =+G34+G35+G36 -> 157.85725 | H37: =+H34+H35+H36 -> 162.93372 | I37: =+I34+I35+I36 -> 172.16349 | J37: =+J34+J35+J36 -> 181.6406 | K37: =+K34+K35+K36 -> 191.44206
B38: Total Assets | D38: =+D33+D37 -> 542.2151 | E38: =+E33+E37 -> 613.55807 | F38: =+F33+F37 -> 698.87931 | G38: =+G33+G37 -> 843.70237 | H38: =+H33+H37 -> 1002.7007 | I38: =+I33+I37 -> 1170.1478 | J38: =+J33+J37 -> 1366.949 | K38: =+K33+K37 -> 1556.0575
B39: Account Payables | D39: 48.659178 | E39: 58.325622 | F39: 66.552485 | G39: =+Assumptions!G44 -> 72.744593 | H39: =+Assumptions!H44 -> 83.165811 | I39: =+Assumptions!I44 -> 94.586538 | J39: =+Assumptions!J44 -> 107.08986 | K39: =+Assumptions!K44 -> 120.76529
B40: Other Current Liabilities | D40: 3.1 | E40: 3.5 | F40: 3.6 | G40: =+Assumptions!G47 -> 3.6 | H40: =+Assumptions!H47 -> 3.6 | I40: =+Assumptions!I47 -> 3.6 | J40: =+Assumptions!J47 -> 3.6 | K40: =+Assumptions!K47 -> 3.6
B41: Total Current Liabilities | D41: =+D39+D40 -> 51.759178 | E41: =+E39+E40 -> 61.825622 | F41: =+F39+F40 -> 70.152485 | G41: =+G39+G40 -> 76.344593 | H41: =+H39+H40 -> 86.765811 | I41: =+I39+I40 -> 98.186538 | J41: =+J39+J40 -> 110.68986 | K41: =+K39+K40 -> 124.36529
B42: Long-term Loan | D42: 74.034324 | E42: 57.110707 | F42: 39.171674 | G42: =+'Debt Schedule'!G10 -> 61.286478 | H42: =+'Debt Schedule'!H10 -> 71.728171 | I42: =+'Debt Schedule'!I10 -> 61.762041 | J42: =+'Debt Schedule'!J10 -> 51.197943 | K42: =+'Debt Schedule'!K10 -> 0
B43: Non-current Liabilities | D43: 5.4 | E43: 5.8 | F43: 6.2 | G43: =+Assumptions!G48 -> 6.2 | H43: =+Assumptions!H48 -> 6.2 | I43: =+Assumptions!I48 -> 6.2 | J43: =+Assumptions!J48 -> 6.2 | K43: =+Assumptions!K48 -> 6.2
B44: Total Non-current Liabilities | D44: =+D42+D43 -> 79.434324 | E44: =+E42+E43 -> 62.910707 | F44: =+F42+F43 -> 45.371674 | G44: =+G42+G43 -> 67.486478 | H44: =+H42+H43 -> 77.928171 | I44: =+I42+I43 -> 67.962041 | J44: =+J42+J43 -> 57.397943 | K44: =+K42+K43 -> 6.2
...

Sheet PPE
B3: PP&E Schedule | D3: 2017 | E3: =+D3+1 -> 2018 | F3: =+E3+1 -> 2019 | G3: =+F3+1 -> 2020 | H3: =+G3+1 -> 2021 | I3: =+H3+1 -> 2022 | J3: =+I3+1 -> 2023 | K3: =+J3+1 -> 2024 | L3: =+K3+1 -> 2025 | ... O3: =+N3+1 -> 2028
B4: Beginning | D4: =+D18+D26+D34+D42+D50+D58+D66+D74+D82 -> 50 | E4: =+E18+E26+E34+E42+E50+E58+E66+E74+E82 -> 76 | F4: =+F18+F26+F34+F42+F50+F58+F66+F74+F82 -> 101.28 | G4: =+G18+G26+G34+G42+G50+G58+G66+G74+G82 -> 124.436 | H4: =+H18+H26+H34+H42+H50+H58+H66+H74+H82 -> 134.35725 | I4: =+I18+I26+I34+I42+I50+I58+I66+I74+I82 -> 139.43372 | J4: =+J18+J26+J34+J42+J50+J58+J66+J74+J82 -> 148.66349 | K4: =+K18+K26+K34+K42+K50+K58+K66+K74+K82 -> 158.1406
B5: Capex | D5: =+D19+D27+D35+D43+D51+D59+D67+D75+D83 -> 36 | E5: =+E19+E27+E35+E43+E51+E59+E67+E75+E83 -> 42.48 | F5: =+F19+F27+F35+F43+F51+F59+F67+F75+F83 -> 48.852 | G5: =+G19+G27+G35+G43+G51+G59+G67+G75+G83 -> 56.734565 | H5: =+H19+H27+H35+H43+H51+H59+H67+H75+H83 -> 64.862225 | I5: =+I19+I27+I35+I43+I51+I59+I67+I75+I83 -> 73.769416 | J5: =+J19+J27+J35+J43+J51+J59+J67+J75+J83 -> 83.520941 | K5: =+K19+K27+K35+K43+K51+K59+K67+K75+K83 -> 94.186605
B6: Depreciation | D6: =+D20+D28+D36+D44+D52+D60+D68+D76+D84 -> -10 | E6: =+E20+E28+E36+E44+E52+E60+E68+E76+E84 -> -17.2 | F6: =+F20+F28+F36+F44+F52+F60+F68+F76+F84 -> -25.696 | G6: =+G20+G28+G36+G44+G52+G60+G68+G76+G84 -> -46.813313 | H6: =+H20+H28+H36+H44+H52+H60+H68+H76+H84 -> -59.785758 | I6: =+I20+I28+I36+I44+I52+I60+I68+I76+I84 -> -64.539641 | J6: =+J20+J28+J36+J44+J52+J60+J68+J76+J84 -> -74.043829 | K6: =+K20+K28+K36+K44+K52+K60+K68+K76+K84 -> -84.38515
B7: Ending PP&E | D7: =+D21+D29+D37+D45+D53+D61+D69+D77+D85 -> 76 | E7: =+E21+E29+E37+E45+E53+E61+E69+E77+E85 -> 101.28 | F7: =+F21+F29+F37+F45+F53+F61+F69+F77+F85 -> 124.436 | G7: =+G21+G29+G37+G45+G53+G61+G69+G77+G85 -> 134.35725 | H7: =+H21+H29+H37+H45+H53+H61+H69+H77+H85 -> 139.43372 | I7: =+I21+I29+I37+I45+I53+I61+I69+I77+I85 -> 148.66349 | J7: =+J21+J29+J37+J45+J53+J61+J69+J77+J85 -> 158.1406 | K7: =+K21+K29+K37+K45+K53+K61+K69+K77+K85 -> 167.94206
B8: Check | D8: =+D4+D5+D6-D7 -> 0 | E8: =+E4+E5+E6-E7 -> 0 | F8: =+F4+F5+F6-F7 -> 0 | G8: =+G4+G5+G6-G7 -> 0 | H8: =+H4+H5+H6-H7 -> 0 | I8: =+I4+I5+I6-I7 -> 0 | J8: =+J4+J5+J6-J7 -> 0 | K8: =+K4+K5+K6-K7 -> 0
B10: Total Capex
B11: Total Revenue | D11: =+Assumptions!D3 -> 1200 | E11: =+Assumptions!E3 -> 1416 | F11: =+Assumptions!F3 -> 1628.4 | G11: =+Assumptions!G3 -> 1891.1522 | H11: =+Assumptions!H3 -> 2162.0742 | I11: =+Assumptions!I3 -> 2458.9805 | J11: =+Assumptions!J3 -> 2784.0314 | K11: =+Assumptions!K3 -> 3139.5535
B12: Maintenance Capex | D12: =+D5 -> 36 | E12: =+E5 -> 42.48 | F12: =+F5 -> 48.852 | G12: =+G11*G13 -> 56.734565 | H12: =+H11*H13 -> 64.862225 | I12: =+I11*I13 -> 73.769416 | J12: =+J11*J13 -> 83.520941 | K12: =+K11*K13 -> 94.186605
B13: % to Total Revenue | D13: =+D12/D11 -> 0.03 | E13: =+E12/E11 -> 0.03 | F13: =+F12/F11 -> 0.03 | G13: 0.03 | H13: 0.03 | I13: 0.03 | J13: 0.03 | K13: 0.03
B15: 2016 PP&E
B16: Capex | C16: 50
B17: Depreciation Period | C17: 5
B18: Beginning | D18: =+C16 -> 50 | E18: =+D21 -> 40 | F18: =+E21 -> 30 | G18: =+F21 -> 20 | H18: =+G21 -> 10
B19: Capex | D19: 0 | E19: 0 | F19: 0 | G19: 0 | H19: 0
B20: Depreciation | D20: =-$C$16/$C$17 -> -10 | E20: =-$C$16/$C$17 -> -10 | F20: =-$C$16/$C$17 -> -10 | G20: =-$C$16/$C$17 -> -10 | H20: =-$C$16/$C$17 -> -10
B21: Ending | C21: =+C16 -> 50 | D21: =+D18+D20+D19 -> 40 | E21: =+E18+E20+E19 -> 30 | F21: =+F18+F20+F19 -> 20 | G21: =+G18+G20+G19 -> 10 | H21: =+H18+H20+H19 -> 0
B23: 2017 PP&E
B24: Capex | C24: 36
B25: Depreciation Period | C25: 5
B26: Beginning | D26: 0 | E26: =+D29 -> 36 | F26: =+E29 -> 28.8 | G26: =+F29 -> 21.6 | H26: =+G29 -> 14.4 | I26: =+H29 -> 7.2
B27: Capex | D27: =+C24 -> 36 | E27: 0 | F27: 0 | G27: 0 | H27: 0 | I27: 0
B28: Depreciation | D28: 0 | E28: =-$C$24/$C$25 -> -7.2 | F28: =-$C$24/$C$25 -> -7.2 | G28: =-$C$24/$C$25 -> -7.2 | H28: =-$C$24/$C$25 -> -7.2 | I28: =-$C$24/$C$25 -> -7.2
B29: Ending | D29: =+D27+D28 -> 36 | E29: =+E26+E28+E27 -> 28.8 | F29: =+F26+F28+F27 -> 21.6 | G29: =+G26+G28+G27 -> 14.4 | H29: =+H26+H28+H27 -> 7.2 | I29: =+I26+I28+I27 -> 1.7763568e-15
B31: 2018 PP&E
B32: Capex | C32: 42.48
B33: Depreciation Period | C33: 5
B34: Beginning | F34: =+E37 -> 42.48 | G34: =+F37 -> 33.984 | H34: =+G37 -> 25.488 | I34: =+H37 -> 16.992 | J34: =+I37 -> 8.496
B35: Capex | E35: =+C32 -> 42.48 | F35: 0 | G35: 0 | H35: 0 | I35: 0 | J35: 0
B36: Depreciation | F36: =-$C$32/$C$33 -> -8.496 | G36: =-$C$32/$C$33 -> -8.496 | H36: =-$C$32/$C$33 -> -8.496 | I36: =-$C$32/$C$33 -> -8.496 | J36: =-$C$32/$C$33 -> -8.496
B37: Ending | E37: =+E34+E36+E35 -> 42.48 | F37: =+F34+F36+F35 -> 33.984 | G37: =+G34+G36+G35 -> 25.488 | H37: =+H34+H36+H35 -> 16.992 | I37: =+I34+I36+I35 -> 8.496 | J37: =+J34+J36+J35 -> 0
B39: 2019 PP&E
B40: Capex | C40: 48.852
B41: Depreciation Period | C41: 5
B42: Beginning | G42: =+F45 -> 48.852 | H42: =+G45 -> 39.0816 | I42: =+H45 -> 29.3112 | J42: =+I45 -> 19.5408 | K42: =+J45 -> 9.7704
B43: Capex | F43: =+C40 -> 48.852 | G43: 0 | H43: 0 | I43: 0 | J43: 0 | K43: 0
B44: Depreciation | G44: =-$C$40/$C$41 -> -9.7704 | H44: =-$C$40/$C$41 -> -9.7704 | I44: =-$C$40/$C$41 -> -9.7704 | J44: =-$C$40/$C$41 -> -9.7704 | K44: =-$C$40/$C$41 -> -9.7704
B45: Ending | F45: =+F42+F44+F43 -> 48.852 | G45: =+G42+G44+G43 -> 39.0816 | H45: =+H42+H44+H43 -> 29.3112 | I45: =+I42+I44+I43 -> 19.5408 | J45: =+J42+J44+J43 -> 9.7704 | K45: =+K42+K44+K43 -> 0
B47: 2020 PP&E
B48: Capex | C48: =+G12 -> 56.734565
...

Sheet Debt Schedule
B2: Debt Schedule | D2: 2017 | E2: =+D2+1 -> 2018 | F2: =+E2+1 -> 2019 | G2: =+F2+1 -> 2020 | H2: =+G2+1 -> 2021 | I2: =+H2+1 -> 2022 | J2: =+I2+1 -> 2023 | K2: =+J2+1 -> 2024
B4: Total Term Loan
B5: Beginning Balance | D5: =+D18+D31 -> 0 | E5: =+E18+E31 -> 74.034324 | F5: =+F18+F31 -> 57.110707 | G5: =+G18+G31 -> 39.171674 | H5: =+H18+H31+H44 -> 61.286478 | I5: =+I18+I31+I44 -> 71.728171 | J5: =+J18+J31+J44 -> 61.762041 | K5: =+K18+K31+K44 -> 51.197943
B6: Debt Issuance | D6: =+D19+D32 -> 90 | E6: =+E19+E32 -> 0 | F6: =+F19+F32 -> 0 | G6: =+G19+G32 -> 50 | H6: =+H19+H32+H45 -> 40 | I6: =+I19+I32+I45 -> 0 | J6: =+J19+J32+J45 -> 0 | K6: =+K19+K32+K45 -> 0
B7: Installment | D7: =+D20+D33 -> -21.365676 | E7: =+E20+E33 -> -21.365676 | F7: =+F20+F33 -> -21.365676 | G7: =+G20+G33 -> -33.235496 | H7: =+H20+H33+H46 -> -33.235496 | I7: =+I20+I33+I46 -> -11.86982 | J7: =+J20+J33+J46 -> -11.86982 | K7: =+K20+K33+K46 -> -11.86982
B8: Interest Expense | D8: =+D21+D34 -> -5.4 | E8: =+E21+E34 -> -4.4420594 | F8: =+F21+F34 -> -3.4266424 | G8: =+G21+G34 -> -5.3503004 | H8: =+H21+H34+H47 -> -6.4771887 | I8: =+I21+I34+I47 -> -4.7036902 | J8: =+J21+J34+J47 -> -4.1057225 | K8: =+K21+K34+K47 -> -3.4718766
B9: Principal Repayment | D9: =+D22+D35 -> -15.965676 | E9: =+E22+E35 -> -16.923617 | F9: =+F22+F35 -> -17.939034 | G9: =+G22+G35 -> -27.885196 | H9: =+H22+H35+H48 -> -29.558307 | I9: =+I22+I35+I48 -> -9.9661298 | J9: =+J22+J35+J48 -> -10.564098 | K9: =+K22+K35+K48 -> -51.197943
B10: Ending Balance | D10: =+D23+D36 -> 74.034324 | E10: =+E23+E36 -> 57.110707 | F10: =+F23+F36 -> 39.171674 | G10: =+G23+G36 -> 61.286478 | H10: =+H23+H36+H49 -> 71.728171 | I10: =+I23+I36+I49 -> 61.762041 | J10: =+J23+J36+J49 -> 51.197943 | K10: =+K23+K36+K49 -> 0
B12: 2017 Term Loan
B13: Debt Amount | C13: 90
B14: Tenor | C14: 5
B15: Interest Rate | C15: 0.06
B17: Period | D17: 1 | E17: =+D17+1 -> 2 | F17: =+E17+1 -> 3 | G17: =+F17+1 -> 4 | H17: =+G17+1 -> 5
B18: Beginning Balance | D18: 0 | E18: =+D23 -> 74.034324 | F18: =+E23 -> 57.110707 | G18: =+F23 -> 39.171674 | H18: =+G23 -> 20.156298
B19: Debt Issuance | D19: =+C13 -> 90 | E19: 0 | F19: 0 | G19: 0 | H19: 0
B20: Installment | D20: =-PMT($C$15,$C$14,-$C$13,) -> -21.365676 | E20: =-PMT($C$15,$C$14,-$C$13,) -> -21.365676 | F20: =-PMT($C$15,$C$14,-$C$13,) -> -21.365676 | G20: =-PMT($C$15,$C$14,-$C$13,) -> -21.365676 | H20: =-PMT($C$15,$C$14,-$C$13,) -> -21.365676
B21: Interest Expense | D21: =-$C$15*C13 -> -5.4 | E21: =-$C$15*D23 -> -4.4420594 | F21: =-$C$15*E23 -> -3.4266424 | G21: =-$C$15*F23 -> -2.3503004 | H21: =-$C$15*G23 -> -1.2093779
B22: Principal Repayment | D22: =+D20-D21 -> -15.965676 | E22: =+E20-E21 -> -16.923617 | F22: =+F20-F21 -> -17.939034 | G22: =+G20-G21 -> -19.015376 | H22: =+H20-H21 -> -20.156298
B23: Ending Balance | D23: =+D18+D19+D22 -> 74.034324 | E23: =+E18+E19+E22 -> 57.110707 | F23: =+F18+F19+F22 -> 39.171674 | G23: =+G18+G19+G22 -> 20.156298 | H23: =+H18+H19+H22 -> 0
B25: 2020 Term Loan
B26: Debt Amount | C26: 50
B27: Tenor | C27: 5
B28: Interest Rate | C28: 0.06
B30: Period | G30: 1 | H30: =+G30+1 -> 2 | I30: =+H30+1 -> 3 | J30: =+I30+1 -> 4 | K30: =+J30+1 -> 5
B31: Beginning Balance | G31: =+F36 -> 0 | H31: =+G36 -> 41.13018 | I31: =+H36 -> 31.728171 | J31: =+I36 -> 21.762041 | K31: =+J36 -> 11.197943
B32: Debt Issuance | G32: =+C26 -> 50 | H32: 0 | I32: 0 | J32: 0 | K32: 0
B33: Installment | G33: =-PMT($C$28,$C$27,-$C$26,) -> -11.86982 | H33: =-PMT($C$28,$C$27,-$C$26,) -> -11.86982 | I33: =-PMT($C$28,$C$27,-$C$26,) -> -11.86982 | J33: =-PMT($C$28,$C$27,-$C$26,) -> -11.86982 | K33: =-PMT($C$28,$C$27,-$C$26,) -> -11.86982
B34: Interest Expense | G34: =-$C$28*C26 -> -3 | H34: =-$C$28*G36 -> -2.4678108 | I34: =-$C$28*H36 -> -1.9036902 | J34: =-$C$28*I36 -> -1.3057225 | K34: =-$C$28*J36 -> -0.6718766
B35: Principal Repayment | G35: =+G33-G34 -> -8.86982 | H35: =+H33-H34 -> -9.4020092 | I35: =+I33-I34 -> -9.9661298 | J35: =+J33-J34 -> -10.564098 | K35: =+K33-K34 -> -11.197943
B36: Ending Balance | G36: =+G31+G32+G35 -> 41.13018 | H36: =+H31+H32+H35 -> 31.728171 | I36: =+I31+I32+I35 -> 21.762041 | J36: =+J31+J32+J35 -> 11.197943 | K36: =+K31+K32+K35 -> 0
B38: 2021 Unsecured Bond
B39: Debt Amount | C39: 40
B40: Tenor | C40: 4
B41: Interest Rate | C41: 0.07
B43: Period | H43: 1 | I43: =+H43+1 -> 2 | J43: =+I43+1 -> 3 | K43: =+J43+1 -> 4
B44: Beginning Balance | H44: =+G49 -> 0 | I44: =+H49 -> 40 | J44: =+I49 -> 40 | K44: =+J49 -> 40
B45: Debt Issuance | H45: =+C39 -> 40 | I45: 0 | J45: 0 | K45: 0
B46: Installment
B47: Interest Expense | H47: =IF($C$40<H43,0,-$C$41*$C$39) -> -2.8 | I47: =IF($C$40<I43,0,-$C$41*$C$39) -> -2.8 | J47: =IF($C$40<J43,0,-$C$41*$C$39) -> -2.8 | K47: =IF($C$40<K43,0,-$C$41*$C$39) -> -2.8
B48: Principal Repayment | H48: =IF($C$40=H43,-$C$39,0) -> 0 | I48: =IF($C$40=I43,-$C$39,0) -> 0 | J48: =IF($C$40=J43,-$C$39,0) -> 0 | K48: =IF($C$40=K43,-$C$39,0) -> -40
...

Sheet DCF
B2: Period | I2: 1 | J2: =+I2+1 -> 2 | K2: =+J2+1 -> 3 | L2: =+K2+1 -> 4 | M2: =+L2+1 -> 5
I3: 2020 | J3: =+I3+1 -> 2021 | K3: =+J3+1 -> 2022 | L3: =+K3+1 -> 2023 | M3: =+L3+1 -> 2024
A4: 1 | B4: FCFF Method
B5: EBIT | I5: =+FS!G10 -> 369.46325 | J5: =+FS!H10 -> 438.15034 | K5: =+FS!I10 -> 523.43018 | L5: =+FS!J10 -> 613.04961 | M5: =+FS!K10 -> 711.69356
B6: Tax Rate | I6: =+Assumptions!G25 -> 0.2 | J6: =+Assumptions!H25 -> 0.2 | K6: =+Assumptions!I25 -> 0.2 | L6: =+Assumptions!J25 -> 0.2 | M6: =+Assumptions!K25 -> 0.2
B7: EBIT*(1-Tax) | I7: =+I5*(1-I6) -> 295.5706 | J7: =+J5*(1-J6) -> 350.52028 | K7: =+K5*(1-K6) -> 418.74415 | L7: =+L5*(1-L6) -> 490.43969 | M7: =+M5*(1-M6) -> 569.35485
B8: DA | I8: =-FS!G9 -> 46.813313 | J8: =-FS!H9 -> 59.785758 | K8: =-FS!I9 -> 64.539641 | L8: =-FS!J9 -> 74.043829 | M8: =-FS!K9 -> 84.38515
B9: Change in NWC | I9: =+Assumptions!G52 -> -18.434134 | J9: =+Assumptions!H52 -> -27.23597 | K9: =+Assumptions!I52 -> -29.848197 | L9: =+Assumptions!J52 -> -32.677579 | M9: =+Assumptions!K52 -> -35.74088
B10: Capex | I10: =FS!G68 -> -56.734565 | J10: =FS!H68 -> -64.862225 | K10: =FS!I68 -> -73.769416 | L10: =FS!J68 -> -83.520941 | M10: =FS!K68 -> -94.186605
B11: FCFF | I11: =+I7+I8+I9+I10 -> 267.21521 | J11: =+J7+J8+J9+J10 -> 318.20784 | K11: =+K7+K8+K9+K10 -> 379.66618 | L11: =+L7+L8+L9+L10 -> 448.285 | M11: =+M7+M8+M9+M10 -> 523.81251
B12: Terminal Value | M12: =+M11*(1+C17)/(M31-C17) -> 3447.0243
B13: Total FCFF | I13: =+I11+I12 -> 267.21521 | J13: =+J11+J12 -> 318.20784 | K13: =+K11+K12 -> 379.66618 | L13: =+L11+L12 -> 448.285 | M13: =+M11+M12 -> 3970.8368
B14: Discount Rate | I14: =1/(1+I31)^I2 -> 0.85106383 | J14: =1/(1+J31)^J2 -> 0.72430964 | K14: =1/(1+K31)^K2 -> 0.61643374 | L14: =1/(1+L31)^L2 -> 0.52462446 | M14: =1/(1+M31)^M2 -> 0.4464889
B15: PV | I15: =+I13*I14 -> 227.4172 | J15: =+J13*J14 -> 230.48101 | K15: =+K13*K14 -> 234.03904 | L15: =+L13*L14 -> 235.18127 | M15: =+M13*M14 -> 1772.9345
B17: Terminal Growth Rate | C17: =IF('Sensitivity Analysis'!$C$7="",DCF!D17,'Sensitivity Analysis'!$C$7) -> 0.02 | D17: 0.02
B19: Enterprise Value | I19: =SUM(I15:M15) -> 2700.0531
B20: 2019 Debt | I20: =+FS!F42 -> 39.171674
B21: 2019 Cash | I21: =+FS!F29 -> 301.70616
B22: Equity Value | I22: =+I19-(I20-I21) -> 2962.5876
B23: Number of Shares | I23: 300
B24: Fair Price | I24: =+I22/I23 -> 9.8752919
B26: Market Price | I26: 11
B27: % Upside (Downside) | I27: =+I24/I26-1 -> -0.10224619
A30: 2 | B30: WACC and Ke Calculation
A31: 2.1 | B31: WACC | C31: 1 | D31: 1: Constant, 2: Moving | I31: =CHOOSE($C$31,I32,I33) -> 0.175 | J31: =CHOOSE($C$31,J32,J33) -> 0.175 | K31: =CHOOSE($C$31,K32,K33) -> 0.175 | L31: =CHOOSE($C$31,L32,L33) -> 0.175 | M31: =CHOOSE($C$31,M32,M33) -> 0.175
B32: Constant WACC | C32: =IF('Sensitivity Analysis'!$C$6="",DCF!D32,'Sensitivity Analysis'!$C$6) -> 0.175 | D32: =+($C$38*M36)+($C$58*(1-I6)*M35) -> 0.175 | I32: =+C32 -> 0.175 | J32: =+I32 -> 0.175 | K32: =+J32 -> 0.175 | L32: =+K32 -> 0.175 | M32: =+L32 -> 0.175
B33: Moving WACC | I33: =+(I35*I57*(1-I6))+(I36*$C$38) -> 0.16477428 | J33: =+(J35*J57*(1-J6))+(J36*$C$38) -> 0.16533842 | K33: =+(K35*K57*(1-K6))+(K36*$C$38) -> 0.16794046 | L33: =+(L35*L57*(1-L6))+(L36*$C$38) -> 0.17005452 | M33: =+(M35*M57*(1-M6))+(M36*$C$38) -> 0.175
B34: IBD/E | I34: =+FS!G53 -> 0.087568212 | J34: =+FS!H53 -> 0.085593791 | K34: =+FS!I53 -> 0.061516027 | L34: =+FS!J53 -> 0.042705479 | M34: =+FS!K53 -> 0
B35: Wd | I35: =+I34/(1+I34) -> 0.080517444 | J35: =+J34/(1+J34) -> 0.078845137 | K35: =+K34/(1+K34) -> 0.057951105 | L35: =+L34/(1+L34) -> 0.040956416 | M35: =+M34/(1+M34) -> 0
B36: We | I36: =1-I35 -> 0.91948256 | J36: =1-J35 -> 0.92115486 | K36: =1-K35 -> 0.94204889 | L36: =1-L35 -> 0.95904358 | M36: =1-M35 -> 1
A38: 2.2 | B38: Ke | C38: =+C40+(C39*C42) -> 0.175
B39: Risk Premium | C39: =+C41-C40 -> 0.11
B40: Rf | C40: 0.01
B41: Rm | C41: 0.12
B42: Beta | C42: 1.5
A44: 2.3 | B44: Kd
B45: Debt Balance | H45: =SUM(H46:H48) -> 0 | I45: =SUM(I46:I48) -> 61.286478 | J45: =SUM(J46:J48) -> 71.728171 | K45: =SUM(K46:K48) -> 61.762041 | L45: =SUM(L46:L48) -> 51.197943 | M45: =SUM(M46:M48) -> 0
B46: 2017 Ending Balance | I46: =+'Debt Schedule'!G23 -> 20.156298 | J46: =+'Debt Schedule'!H23 -> 0 | K46: =+'Debt Schedule'!I23 -> 0 | L46: =+'Debt Schedule'!J23 -> 0 | M46: =+'Debt Schedule'!K23 -> 0
B47: 2020 Ending Balance | I47: =+'Debt Schedule'!G36 -> 41.13018 | J47: =+'Debt Schedule'!H36 -> 31.728171 | K47: =+'Debt Schedule'!I36 -> 21.762041 | L47: =+'Debt Schedule'!J36 -> 11.197943 | M47: =+'Debt Schedule'!K36 -> 0
B48: 2021 Ending Balance | I48: =+'Debt Schedule'!G49 -> 0 | J48: =+'Debt Schedule'!H49 -> 40 | K48: =+'Debt Schedule'!I49 -> 40 | L48: =+'Debt Schedule'!J49 -> 40 | M48: =+'Debt Schedule'!K49 -> 0
...

Sheet Sensitivity Analysis
B2: Note: In order to run the sensitivity analysis,
B3: 1. In DCF sheet, please change the value in cell "C31" to "1" and keep in mind that the present value is now calculated based on the constant WACC
B4: 2. In DCF sheet, please make sure that the terminal growth rate in cell "M12" is linked from cell "C17"
B6: Dummy WACC | G6: WACC
B7: Dummy Terminal Growth Rate | F7: =+DCF!I24 -> 9.8752919 | G7: 0.1 | H7: =+G7+0.01 -> 0.11 | I7: =+H7+0.01 -> 0.12 | J7: =+DCF!D32 -> 0.175 | K7: =+I7+0.01 -> 0.13 | L7: =+K7+0.01 -> 0.14 | M7: =+L7+0.01 -> 0.15
E8: Terminal Growth Rate | F8: 0 | G8: 11.342664 | H8: 10.290906 | I8: 9.4177249 | J8: 6.4348982 | K8: 8.6817703 | L8: 8.0535142 | M8: 7.5113089
F9: =+F8+0.005 -> 0.005 | G9: 11.7681 | H9: 10.628391 | I9: 9.6902318 | J9: 6.5392477 | K9: 8.9051077 | L9: 8.2388876 | M9: 7.6668618
F10: =+F9+0.005 -> 0.01 | G10: 12.240807 | H10: 10.999625 | I10: 9.9875121 | J10: 6.6499214 | K10: 9.1470567 | L10: 8.4385206 | M10: 7.8335257
F11: =+F10+0.005 -> 0.015 | G11: 12.769126 | H11: 11.409936 | I11: 10.313105 | J11: 6.7675122 | K11: 9.4100446 | L11: 8.6541241 | M11: 8.0125349
F12: =+F11+0.005 -> 0.02 | G12: 13.363485 | H12: 11.865837 | I12: 10.671257 | J12: 6.8926895 | K12: 9.6969406 | L12: 8.8876947 | M12: 8.2053142
F13: =+F12+0.005 -> 0.025 | G13: 14.037093 | H13: 12.375374 | I13: 11.067109 | J13: 7.026212 | K13: 10.01116 | L13: 9.1415757 | M13: 8.4135158
F14: =+F13+0.005 -> 0.03 | G14: 14.806929 | H14: 12.948603 | I14: 11.506945 | J14: 7.1689429 | K14: 10.356801 | L14: 9.4185368 | M14: 8.6390675
F15: =+F14+0.005 -> 0.035 | G15: 15.695203 | H15: 13.598262 | I15: 11.998526 | J15: 7.3218688 | K15: 10.738826 | L15: 9.7218752 | M15: 8.8842324
F16: =+F15+0.005 -> 0.04 | G16: 16.731522 | H16: 14.34073 | I16: 12.551555 | J16: 7.4861227 | K16: 11.163298 | L16: 10.055547 | M16: 9.151685
F17: =+F16+0.005 -> 0.045 | G17: 17.956262 | H17: 15.197423 | I17: 13.178321 | J17: 7.6630114 | K17: 11.637707 | L17: 10.424343 | M17: 9.4446093
F18: =+F17+0.005 -> 0.05 | G18: 19.425951 | H18: 16.196899 | I18: 13.894625 | J18: 7.8540512 | K18: 12.171418 | L18: 10.834116 | M18: 9.766826
G22: WACC
F23: =+DCF!I27 -> -0.10224619 | G23: 0.1 | H23: =+G23+0.01 -> 0.11 | I23: =+H23+0.01 -> 0.12 | J23: =+J7 -> 0.175 | K23: =+I23+0.01 -> 0.13 | L23: =+K23+0.01 -> 0.14 | M23: =+L23+0.01 -> 0.15
E24: Terminal Growth Rate | F24: 0 | G24: 0.031151237 | H24: -0.064463077 | I24: -0.14384319 | J24: -0.41500925 | K24: -0.21074816 | L24: -0.26786235 | M24: -0.31715373
F25: =+F24+0.005 -> 0.005 | G25: 0.069827251 | H25: -0.033782596 | I25: -0.11906984 | J25: -0.40552294 | K25: -0.19044475 | L25: -0.25101022 | M25: -0.30301256
F26: =+F25+0.005 -> 0.01 | G26: 0.1128006 | H26: -3.4068066e-05 | I26: -0.092044355 | J26: -0.39546169 | K26: -0.16844939 | L26: -0.23286177 | M26: -0.2878613
F27: =+F26+0.005 -> 0.015 | G27: 0.16082964 | H27: 0.037266937 | I27: -0.062445018 | J27: -0.38477162 | K27: -0.1445414 | L27: -0.21326144 | M27: -0.27158773
F28: =+F27+0.005 -> 0.02 | G28: 0.2148623 | H28: 0.078712498 | I28: -0.029885748 | J28: -0.37339186 | K28: -0.11845995 | L28: -0.19202776 | M28: -0.25406235
F29: =+F28+0.005 -> 0.025 | G29: 0.27609933 | H29: 0.12503401 | I29: 0.0061008142 | J29: -0.36125346 | K29: -0.089894547 | L29: -0.16894766 | M29: -0.23513493
F30: =+F29+0.005 -> 0.03 | G30: 0.34608449 | H30: 0.17714571 | I30: 0.046085883 | J30: -0.34827792 | K30: -0.058472608 | L30: -0.14376938 | M30: -0.21463023
F31: =+F30+0.005 -> 0.035 | G31: 0.42683661 | H31: 0.23620563 | I31: 0.090775078 | J31: -0.33437556 | K31: -0.023743097 | L31: -0.11619316 | M31: -0.19234251
F32: =+F31+0.005 -> 0.04 | G32: 0.52104741 | H32: 0.30370269 | I32: 0.14105042 | J32: -0.3194434 | K32: 0.014845249 | L32: -0.085859326 | M32: -0.16802864
F33: =+F32+0.005 -> 0.045 | G33: 0.63238745 | H33: 0.38158391 | I33: 0.19802914 | J33: -0.3033626 | K33: 0.057973401 | L33: -0.052332453 | M33: -0.14139916
F34: =+F33+0.005 -> 0.05 | G34: 0.7659955 | H34: 0.47244533 | I34: 0.26314769 | J34: -0.28599535 | K34: 0.10649257 | L34: -0.015080373 | M34: -0.11210673
