Workbook
Name E: Sheet2!$B$93:$B$100
Name vc: Sheet2!$C$83:$J$90
Name w: Sheet2!$C$93:$C$100

Sheet Sheet1
A1: Period | B1: SET | C1: AGRO | D1: CONSUMP | E1: FINANCIAL | F1: INDUS | G1: PROPCON | H1: RESOURC | I1: SERVICE | J1: TECH
A2: 37987 | B2: 698.9 | C2: 92.05 | D2: 93 | E2: 88.79 | F2: 92.23 | G2: 92.11 | H2: 89.17 | I2: 94.77 | J2: 96.07
A3: 38018 | B3: 716.3 | C3: 92.46 | D3: 92.04 | E3: 89.39 | F3: 94.22 | G3: 93.15 | H3: 89.15 | I3: 100.26 | J3: 103.34
A4: 38047 | B4: 647.3 | C4: 85.79 | D4: 89.95 | E4: 83.31 | F4: 78.2 | G4: 84.25 | H4: 80.65 | I4: 93.38 | J4: 94.25
A5: 38078 | B5: 648.15 | C5: 85.64 | D5: 86.8 | E5: 85.44 | F5: 73.97 | G5: 78.71 | H5: 83.79 | I5: 91.24 | J5: 96.8
A6: 38108 | B6: 641.05 | C6: 82.51 | D6: 83.04 | E6: 83.85 | F6: 74.31 | G6: 75.24 | H6: 86.93 | I6: 90.89 | J6: 93.96
A7: 38139 | B7: 646.64 | C7: 84.94 | D7: 82.92 | E7: 84.39 | F7: 78.36 | G7: 76.16 | H7: 86.45 | I7: 92.06 | J7: 94.7
A8: 38169 | B8: 636.7 | C8: 83.59 | D8: 81.7 | E8: 78.1 | F8: 80.82 | G8: 74.82 | H8: 88.66 | I8: 90.55 | J8: 96.9
A9: 38200 | B9: 624.59 | C9: 87.16 | D9: 82.46 | E9: 76.55 | F9: 79.1 | G9: 72.37 | H9: 87.06 | I9: 90.67 | J9: 94.68
A10: 38231 | B10: 644.67 | C10: 85.13 | D10: 83.17 | E10: 76.67 | F10: 82.4 | G10: 74.03 | H10: 94.89 | I10: 90.72 | J10: 98.11
A11: 38261 | B11: 628.16 | C11: 84.67 | D11: 81.5 | E11: 75.43 | F11: 81.24 | G11: 69.96 | H11: 95.8 | I11: 87.12 | J11: 93.67
A12: 38292 | B12: 656.73 | C12: 83.2 | D12: 83.15 | E12: 83.48 | F12: 85.42 | G12: 73.91 | H12: 95.28 | I12: 90.6 | J12: 99.06
A13: 38322 | B13: 668.1 | C13: 85.94 | D13: 84.34 | E13: 83.03 | F13: 82.5 | G13: 75.61 | H13: 97.74 | I13: 91.05 | J13: 105.08
... A79: 40330 | B79: 799.09 | C79: 247.43 | D79: 109.16 | E79: 102.44 | F79: 91.19 | G79: 68.47 | H79: 145.63 | I79: 113.53 | J79: 77.55

Sheet Sheet2
A1: Period | B1: SET | C1: AGRO | D1: CONSUMP | E1: FINANCIAL | F1: INDUS | G1: PROPCON | H1: RESOURC | I1: SERVICE | J1: TECH
A2: 38018 | B2: =(Sheet1!B3-Sheet1!B2)/Sheet1!B2 -> 0.024896266 | C2: =(Sheet1!C3-Sheet1!C2)/Sheet1!C2 -> 0.004454101 | D2: =(Sheet1!D3-Sheet1!D2)/Sheet1!D2 -> -0.010322581 | E2: =(Sheet1!E3-Sheet1!E2)/Sheet1!E2 -> 0.0067575177 | F2: =(Sheet1!F3-Sheet1!F2)/Sheet1!F2 -> 0.021576494 | G2: =(Sheet1!G3-Sheet1!G2)/Sheet1!G2 -> 0.011290848 | H2: =(Sheet1!H3-Sheet1!H2)/Sheet1!H2 -> -0.00022429068 | I2: =(Sheet1!I3-Sheet1!I2)/Sheet1!I2 -> 0.057929725 | J2: =(Sheet1!J3-Sheet1!J2)/Sheet1!J2 -> 0.075673988
A3: 38047 | B3: =(Sheet1!B4-Sheet1!B3)/Sheet1!B3 -> -0.096328354 | C3: =(Sheet1!C4-Sheet1!C3)/Sheet1!C3 -> -0.072139303 | D3: =(Sheet1!D4-Sheet1!D3)/Sheet1!D3 -> -0.022707518 | E3: =(Sheet1!E4-Sheet1!E3)/Sheet1!E3 -> -0.068016557 | F3: =(Sheet1!F4-Sheet1!F3)/Sheet1!F3 -> -0.17002759 | G3: =(Sheet1!G4-Sheet1!G3)/Sheet1!G3 -> -0.09554482 | H3: =(Sheet1!H4-Sheet1!H3)/Sheet1!H3 -> -0.095344924 | I3: =(Sheet1!I4-Sheet1!I3)/Sheet1!I3 -> -0.068621584 | J3: =(Sheet1!J4-Sheet1!J3)/Sheet1!J3 -> -0.087962067
A4: 38078 | B4: =(Sheet1!B5-Sheet1!B4)/Sheet1!B4 -> 0.0013131469 | C4: =(Sheet1!C5-Sheet1!C4)/Sheet1!C4 -> -0.0017484555 | D4: =(Sheet1!D5-Sheet1!D4)/Sheet1!D4 -> -0.035019455 | E4: =(Sheet1!E5-Sheet1!E4)/Sheet1!E4 -> 0.025567159 | F4: =(Sheet1!F5-Sheet1!F4)/Sheet1!F4 -> -0.054092072 | G4: =(Sheet1!G5-Sheet1!G4)/Sheet1!G4 -> -0.065756677 | H4: =(Sheet1!H5-Sheet1!H4)/Sheet1!H4 -> 0.038933664 | I4: =(Sheet1!I5-Sheet1!I4)/Sheet1!I4 -> -0.022917113 | J4: =(Sheet1!J5-Sheet1!J4)/Sheet1!J4 -> 0.027055703
A5: 38108 | B5: =(Sheet1!B6-Sheet1!B5)/Sheet1!B5 -> -0.010954254 | C5: =(Sheet1!C6-Sheet1!C5)/Sheet1!C5 -> -0.036548342 | D5: =(Sheet1!D6-Sheet1!D5)/Sheet1!D5 -> -0.043317972 | E5: =(Sheet1!E6-Sheet1!E5)/Sheet1!E5 -> -0.018609551 | F5: =(Sheet1!F6-Sheet1!F5)/Sheet1!F5 -> 0.004596458 | G5: =(Sheet1!G6-Sheet1!G5)/Sheet1!G5 -> -0.044085885 | H5: =(Sheet1!H6-Sheet1!H5)/Sheet1!H5 -> 0.037474639 | I5: =(Sheet1!I6-Sheet1!I5)/Sheet1!I5 -> -0.0038360368 | J5: =(Sheet1!J6-Sheet1!J5)/Sheet1!J5 -> -0.029338843
A6: 38139 | B6: =(Sheet1!B7-Sheet1!B6)/Sheet1!B6 -> 0.0087200686 | C6: =(Sheet1!C7-Sheet1!C6)/Sheet1!C6 -> 0.029450976 | D6: =(Sheet1!D7-Sheet1!D6)/Sheet1!D6 -> -0.0014450867 | E6: =(Sheet1!E7-Sheet1!E6)/Sheet1!E6 -> 0.0064400716 | F6: =(Sheet1!F7-Sheet1!F6)/Sheet1!F6 -> 0.054501413 | G6: =(Sheet1!G7-Sheet1!G6)/Sheet1!G6 -> 0.012227539 | H6: =(Sheet1!H7-Sheet1!H6)/Sheet1!H6 -> -0.0055216841 | I6: =(Sheet1!I7-Sheet1!I6)/Sheet1!I6 -> 0.012872703 | J6: =(Sheet1!J7-Sheet1!J6)/Sheet1!J6 -> 0.0078756918
A7: 38169 | B7: =(Sheet1!B8-Sheet1!B7)/Sheet1!B7 -> -0.015371768 | C7: =(Sheet1!C8-Sheet1!C7)/Sheet1!C7 -> -0.015893572 | D7: =(Sheet1!D8-Sheet1!D7)/Sheet1!D7 -> -0.014712976 | E7: =(Sheet1!E8-Sheet1!E7)/Sheet1!E7 -> -0.074534897 | F7: =(Sheet1!F8-Sheet1!F7)/Sheet1!F7 -> 0.031393568 | G7: =(Sheet1!G8-Sheet1!G7)/Sheet1!G7 -> -0.017594538 | H7: =(Sheet1!H8-Sheet1!H7)/Sheet1!H7 -> 0.02556391 | I7: =(Sheet1!I8-Sheet1!I7)/Sheet1!I7 -> -0.016402346 | J7: =(Sheet1!J8-Sheet1!J7)/Sheet1!J7 -> 0.023231257
A8: 38200 | B8: =(Sheet1!B9-Sheet1!B8)/Sheet1!B8 -> -0.019019947 | C8: =(Sheet1!C9-Sheet1!C8)/Sheet1!C8 -> 0.042708458 | D8: =(Sheet1!D9-Sheet1!D8)/Sheet1!D8 -> 0.0093023256 | E8: =(Sheet1!E9-Sheet1!E8)/Sheet1!E8 -> -0.019846351 | F8: =(Sheet1!F9-Sheet1!F8)/Sheet1!F8 -> -0.021281861 | G8: =(Sheet1!G9-Sheet1!G8)/Sheet1!G8 -> -0.032745255 | H8: =(Sheet1!H9-Sheet1!H8)/Sheet1!H8 -> -0.01804647 | I8: =(Sheet1!I9-Sheet1!I8)/Sheet1!I8 -> 0.0013252347 | J8: =(Sheet1!J9-Sheet1!J8)/Sheet1!J8 -> -0.022910217
A9: 38231 | B9: =(Sheet1!B10-Sheet1!B9)/Sheet1!B9 -> 0.03214909 | C9: =(Sheet1!C10-Sheet1!C9)/Sheet1!C9 -> -0.0232905 | D9: =(Sheet1!D10-Sheet1!D9)/Sheet1!D9 -> 0.0086102353 | E9: =(Sheet1!E10-Sheet1!E9)/Sheet1!E9 -> 0.0015676029 | F9: =(Sheet1!F10-Sheet1!F9)/Sheet1!F9 -> 0.041719343 | G9: =(Sheet1!G10-Sheet1!G9)/Sheet1!G9 -> 0.022937681 | H9: =(Sheet1!H10-Sheet1!H9)/Sheet1!H9 -> 0.089937974 | I9: =(Sheet1!I10-Sheet1!I9)/Sheet1!I9 -> 0.00055145031 | J9: =(Sheet1!J10-Sheet1!J9)/Sheet1!J9 -> 0.036227292
A10: 38261 | B10: =(Sheet1!B11-Sheet1!B10)/Sheet1!B10 -> -0.025610002 | C10: =(Sheet1!C11-Sheet1!C10)/Sheet1!C10 -> -0.0054035005 | D10: =(Sheet1!D11-Sheet1!D10)/Sheet1!D10 -> -0.020079356 | E10: =(Sheet1!E11-Sheet1!E10)/Sheet1!E10 -> -0.01617321 | F10: =(Sheet1!F11-Sheet1!F10)/Sheet1!F10 -> -0.01407767 | G10: =(Sheet1!G11-Sheet1!G10)/Sheet1!G10 -> -0.054977712 | H10: =(Sheet1!H11-Sheet1!H10)/Sheet1!H10 -> 0.0095900516 | I10: =(Sheet1!I11-Sheet1!I10)/Sheet1!I10 -> -0.03968254 | J10: =(Sheet1!J11-Sheet1!J10)/Sheet1!J10 -> -0.045255326
A11: 38292 | B11: =(Sheet1!B12-Sheet1!B11)/Sheet1!B11 -> 0.045482043 | C11: =(Sheet1!C12-Sheet1!C11)/Sheet1!C11 -> -0.017361521 | D11: =(Sheet1!D12-Sheet1!D11)/Sheet1!D11 -> 0.020245399 | E11: =(Sheet1!E12-Sheet1!E11)/Sheet1!E11 -> 0.10672146 | F11: =(Sheet1!F12-Sheet1!F11)/Sheet1!F11 -> 0.051452486 | G11: =(Sheet1!G12-Sheet1!G11)/Sheet1!G11 -> 0.056460835 | H11: =(Sheet1!H12-Sheet1!H11)/Sheet1!H11 -> -0.0054279749 | I11: =(Sheet1!I12-Sheet1!I11)/Sheet1!I11 -> 0.039944904 | J11: =(Sheet1!J12-Sheet1!J11)/Sheet1!J11 -> 0.057542436
A12: 38322 | B12: =(Sheet1!B13-Sheet1!B12)/Sheet1!B12 -> 0.017313051 | C12: =(Sheet1!C13-Sheet1!C12)/Sheet1!C12 -> 0.032932692 | D12: =(Sheet1!D13-Sheet1!D12)/Sheet1!D12 -> 0.014311485 | E12: =(Sheet1!E13-Sheet1!E12)/Sheet1!E12 -> -0.0053905127 | F12: =(Sheet1!F13-Sheet1!F12)/Sheet1!F12 -> -0.034184032 | G12: =(Sheet1!G13-Sheet1!G12)/Sheet1!G12 -> 0.023000947 | H12: =(Sheet1!H13-Sheet1!H12)/Sheet1!H12 -> 0.02581864 | I12: =(Sheet1!I13-Sheet1!I12)/Sheet1!I12 -> 0.0049668874 | J12: =(Sheet1!J13-Sheet1!J12)/Sheet1!J12 -> 0.06077125
A13: 38353 | B13: =(Sheet1!B14-Sheet1!B13)/Sheet1!B13 -> 0.050606197 | C13: =(Sheet1!C14-Sheet1!C13)/Sheet1!C13 -> 0.038747964 | D13: =(Sheet1!D14-Sheet1!D13)/Sheet1!D13 -> -0.0028456249 | E13: =(Sheet1!E14-Sheet1!E13)/Sheet1!E13 -> 0.05407684 | F13: =(Sheet1!F14-Sheet1!F13)/Sheet1!F13 -> 0.064 | G13: =(Sheet1!G14-Sheet1!G13)/Sheet1!G13 -> 0.067054622 | H13: =(Sheet1!H14-Sheet1!H13)/Sheet1!H13 -> 0.045528954 | I13: =(Sheet1!I14-Sheet1!I13)/Sheet1!I13 -> 0.03261944 | J13: =(Sheet1!J14-Sheet1!J13)/Sheet1!J13 -> 0.043110011
... A78: 40330 | B78: =(Sheet1!B79-Sheet1!B78)/Sheet1!B78 -> 0.064842823 | C78: =(Sheet1!C79-Sheet1!C78)/Sheet1!C78 -> 0.12626883 | D78: =(Sheet1!D79-Sheet1!D78)/Sheet1!D78 -> 0.044693272 | E78: =(Sheet1!E79-Sheet1!E78)/Sheet1!E78 -> 0.058373799 | F78: =(Sheet1!F79-Sheet1!F78)/Sheet1!F78 -> 0.11958257 | G78: =(Sheet1!G79-Sheet1!G78)/Sheet1!G78 -> 0.10239897 | H78: =(Sheet1!H79-Sheet1!H78)/Sheet1!H78 -> 0.0070534541 | I78: =(Sheet1!I79-Sheet1!I78)/Sheet1!I78 -> 0.091005189 | J78: =(Sheet1!J79-Sheet1!J78)/Sheet1!J78 -> 0.11486486
A80: E | B80: =AVERAGE(B2:B78) -> 0.0040999915 | C80: =AVERAGE(C2:C78) -> 0.014520492 | D80: =AVERAGE(D2:D78) -> 0.0026000183 | E80: =AVERAGE(E2:E78) -> 0.0045069173 | F80: =AVERAGE(F2:F78) -> 0.0038796719 | G80: =AVERAGE(G2:G78) -> -0.00073621581 | H80: =AVERAGE(H2:H78) -> 0.010130202 | I80: =AVERAGE(I2:I78) -> 0.0042590256 | J80: =AVERAGE(J2:J78) -> -0.00076658472
C82: AGRO | D82: CONSUMP | E82: FINANCIAL | F82: INDUS | G82: PROPCON | H82: RESOURC | I82: SERVICE | J82: TECH
A83: AGRO | C83: 0.0031152432 | D83: 0.0013009751 | E83: 0.002944895 | F83: 0.0036500416 | G83: 0.0034851642 | H83: 0.0032319981 | I83: 0.0027186725 | J83: 0.0020211282
A84: CONSUMP | C84: 0.0013009751 | D84: 0.0010273401 | E84: 0.0011686097 | F84: 0.0015335043 | G84: 0.0015978901 | H84: 0.0013898874 | I84: 0.0012027941 | J84: 0.0008840394
A85: FINANCIAL | C85: 0.002944895 | D85: 0.0011686097 | E85: 0.0050565371 | F85: 0.0048900126 | G85: 0.0048855899 | H85: 0.0044993257 | I85: 0.0034707477 | J85: 0.0029934238
A86: INDUS | C86: 0.0036500416 | D86: 0.0015335043 | E86: 0.0048900126 | F86: 0.0074193184 | G86: 0.0058088843 | H86: 0.0058016328 | I86: 0.0042590176 | J86: 0.0032668278
A87: PROPCON | C87: 0.0034851642 | D87: 0.0015978901 | E87: 0.0048855899 | F87: 0.0058088843 | G87: 0.0059626544 | H87: 0.0050663365 | I87: 0.0040540859 | J87: 0.0033636547
A88: RESOURC | C88: 0.0032319981 | D88: 0.0013898874 | E88: 0.0044993257 | F88: 0.0058016328 | G88: 0.0050663365 | H88: 0.0071945303 | I88: 0.0038277463 | J88: 0.0034614344
A89: SERVICE | C89: 0.0027186725 | D89: 0.0012027941 | E89: 0.0034707477 | F89: 0.0042590176 | G89: 0.0040540859 | H89: 0.0038277463 | I89: 0.003468008 | J89: =I90 -> 0.0028234119
A90: TECH | C90: 0.0020211282 | D90: 0.0008840394 | E90: 0.0029934238 | F90: 0.0032668278 | G90: 0.0033636547 | H90: 0.0034614344 | I90: 0.0028234119 | J90: 0.0039410299
B92: E | C92: W
A93: AGRO | B93: 0.014520492 | C93: 0.05 | E93: E[Rp] | F93: {=MMULT(TRANSPOSE(w),E)} -> 0.0039659365
A94: CONSUMP | B94: 0.0026000183 | C94: =(1-$C$93)/7 -> 0.13571429 | E94: Port_V | F94: {=MMULT(MMULT(TRANSPOSE(w),vc),w)} -> 0.0034856758
A95: FINANCIAL | B95: 0.0045069173 | C95: =(1-$C$93)/7 -> 0.13571429 | E95: Port SD | F95: =SQRT(F94) -> 0.059039612 | G95: per month
A96: INDUS | B96: 0.0038796719 | C96: =(1-$C$93)/7 -> 0.13571429
A97: PROPCON | B97: -0.00073621581 | C97: =(1-$C$93)/7 -> 0.13571429
A98: RESOURC | B98: 0.010130202 | C98: =(1-$C$93)/7 -> 0.13571429
A99: SERVICE | B99: 0.0042590256 | C99: =(1-$C$93)/7 -> 0.13571429
A100: TECH | B100: -0.00076658472 | C100: =(1-$C$93)/7 -> 0.13571429
C102: =SUM(w) -> 1
B103: Port Risk | C103: Port Ret
B104: =F95 -> 0.059039612 | C104: =F93 -> 0.0039659365
A105: 0
A106: 0.1
A107: 0.2
A108: 0.3
...

Sheet Sheet3
A1: Prob | B1: Stock | C1: Bond | D1: S-E(S) | E1: [S-E(s)]^2 | F1: B-E(B) | G1: [B-E(B)]^2 | H1: [(S-E(S)(B-E(B))]
A2: =1/3 -> 0.33333333 | B2: -0.07 | C2: 0.17 | D2: =B2-$B$6 -> -0.18 | E2: =D2^2 -> 0.0324 | F2: =C2-$C$6 -> 0.1 | G2: =F2^2 -> 0.01 | H2: =D2*F2 -> -0.018
A3: =1/3 -> 0.33333333 | B3: 0.12 | C3: 0.07 | D3: =B3-$B$6 -> 0.01 | E3: =D3^2 -> 0.0001 | F3: =C3-$C$6 -> 0 | G3: =F3^2 -> 0 | H3: =D3*F3 -> 0
A4: =1/3 -> 0.33333333 | B4: 0.28 | C4: -0.03 | D4: =B4-$B$6 -> 0.17 | E4: =D4^2 -> 0.0289 | F4: =C4-$C$6 -> -0.1 | G4: =F4^2 -> 0.01 | H4: =D4*F4 -> -0.017
A6: E | B6: {=MMULT(TRANSPOSE(A2:A4),B2:B4)} -> 0.11 | C6: {=MMULT(TRANSPOSE(A2:A4),C2:C4)} -> 0.07
H7: Covariance
D8: Variance | E8: {=MMULT(TRANSPOSE(A2:A4),E2:E4)} -> 0.020466667 | G8: {=MMULT(TRANSPOSE(A2:A4),G2:G4)} -> 0.0066666667 | H8: {=MMULT(TRANSPOSE(A2:A4),H2:H4)} -> -0.011666667
C11: Stock | D11: Bond
B12: Stock | C12: 0.020466667 | D12: =C13 -> -0.011666667
B13: Bond | C13: -0.011666667 | D13: 0.0066666667
B15: W | C15: E
B16: 0.5 | C16: 0.11
B17: 0.5 | C17: 0.07
B18: =SUM(B16:B17) -> 1
B20: E(Rp) | C20: {=MMULT(TRANSPOSE(B16:B17),C16:C17)} -> 0.09
B21: Port_V | C21: {=MMULT(MMULT(TRANSPOSE(B16:B17),C12:D13),B16:B17)} -> 0.00095
B22: Port SD | C22: =SQRT(C21) -> 0.03082207
B24: W | C24: Port Ret | D24: Port SD
C25: =C20 -> 0.09 | D25: =C22 -> 0.03082207
B26: 0 | C26: 0.035 | D26: 0.040824829
B27: 0.05 | C27: 0.0405 | D27: 0.03368234
B28: 0.1 | C28: 0.046 | D28: 0.026545558
B29: 0.15 | C29: 0.0515 | D29: 0.019420779
B30: 0.2 | C30: 0.057 | D30: 0.012328828
B31: 0.25 | C31: 0.0625 | D31: 0.0054006172
B32: 0.3 | C32: 0.068 | D32: 0.0029439203
B33: 0.35 | C33: 0.0735 | D33: 0.0095131488
B34: 0.4 | C34: 0.079 | D34: 0.016573071
B35: 0.45 | C35: 0.0845 | D35: 0.023688957
B36: 0.5 | C36: 0.09 | D36: 0.03082207
B37: 0.55 | C37: 0.0955 | D37: 0.037962701
... B46: 1 | C46: 0.145 | D46: 0.10230673
