Workbook

Sheet Data
B1: Small value | C1: Small growth | D1: Large value | E1: Large growth | H1: % | I1: Factor (%)
A2: Date | B2: IJS | C2: IJT | D2: IVE | E2: IVW | F2: ARKK | G2: IVW return | H2: IVW excess return | I2: RMRF | J2: SMB | K2: HML | L2: MOM | M2: RF
A3: 202012 | B3: 81.309998 | C3: 113.92265 | D3: 127.23379 | E3: 63.672421 | F3: 122.52962 | G3: =(E3/E4-1)*100 -> 3.7554915 | H3: =G3-M3 -> 3.7454915 | I3: 4.63 | J3: 4.81 | K3: -1.36 | L3: -2.42 | M3: 0.01
A4: 202011 | B4: 75.639999 | C4: 104.913 | D4: 123.87454 | E4: 61.36776 | F4: 110.60048 | G4: =(E4/E5-1)*100 -> 9.5068553 | H4: =G4-M4 -> 9.4968553 | I4: 12.47 | J4: 5.48 | K4: 2.11 | L4: -12.25 | M4: 0.01
A5: 202010 | B5: 63.450001 | C5: 89.447937 | D5: 109.71205 | E5: 56.040108 | F5: 89.360306 | G5: =(E5/E6-1)*100 -> -2.536278 | H5: =G5-M5 -> -2.546278 | I5: -2.1 | J5: 4.44 | K5: 4.03 | L5: -3.03 | M5: 0.01
A6: 202009 | B6: 60.92524 | C6: 87.825661 | D6: 110.96503 | E6: 57.498428 | F6: 90.551247 | G6: =(E6/E7-1)*100 -> -5.0069826 | H6: =G6-M6 -> -5.0169826 | I6: -3.63 | J6: 0.06 | K6: -2.51 | L6: 3.05 | M6: 0.01
A7: 202008 | B7: 64.56324 | C7: 91.832664 | D7: 114.67539 | E7: 60.52911 | F7: 93.828812 | G7: =(E7/E8-1)*100 -> 9.4385492 | H7: =G7-M7 -> 9.4285492 | I7: 7.63 | J7: -0.25 | K7: -2.94 | L7: 0.51 | M7: 0.01
A8: 202007 | B8: 61.4478 | C8: 89.234337 | D8: 110.76768 | E8: 55.308765 | F8: 79.104393 | G8: =(E8/E9-1)*100 -> 7.3783379 | H8: =G8-M8 -> 7.3683379 | I8: 5.77 | J8: -2.18 | K8: -1.39 | L8: 7.61 | M8: 0.01
A9: 202006 | B9: 59.64064 | C9: 84.357704 | D9: 106.16688 | E9: 51.508308 | F9: 70.187057 | G9: =(E9/E10-1)*100 -> 3.8436518 | H9: =G9-M9 -> 3.8336518 | I9: 2.46 | J9: 2.71 | K9: -2.35 | L9: -0.75 | M9: 0.01
A10: 202005 | B10: 57.83215 | C10: 81.401543 | D10: 107.85442 | E10: 49.601788 | F10: 61.830753 | G10: =(E10/E11-1)*100 -> 5.9606529 | H10: =G10-M10 -> 5.9506529 | I10: 5.58 | J10: 2.49 | K10: -5.05 | L10: 0.67 | M10: 0.01
A11: 202004 | B11: 56.395264 | C11: 76.959831 | D11: 104.47936 | E11: 46.811516 | F11: 54.458702 | G11: =(E11/E12-1)*100 -> 14.615397 | H11: =G11-M11 -> 14.615397 | I11: 13.65 | J11: 2.75 | K11: -1.39 | L11: -5.49 | M11: 0
A12: 202003 | B12: 49.241924 | C12: 68.301872 | D12: 93.579803 | E12: 40.842258 | F12: 43.307117 | G12: =(E12/E13-1)*100 -> -10.571095 | H12: =G12-M12 -> -10.691095 | I12: -13.38 | J12: -5.03 | K12: -13.96 | L12: 8.55 | M12: 0.12
A13: 202002 | B13: 66.698814 | C13: 85.756348 | D13: 111.44988 | E13: 45.670086 | F13: 52.007912 | G13: =(E13/E14-1)*100 -> -6.797295 | H13: =G13-M13 -> -6.917295 | I13: -8.13 | J13: 1.02 | K13: -3.92 | L13: -0.23 | M13: 0.12
A14: 202001 | B14: 74.23243 | C14: 94.114502 | D14: 123.09753 | E14: 49.000816 | F14: 50.984287 | G14: =(E14/E15-1)*100 -> 2.9054946 | H14: =G14-M14 -> 2.7754946 | I14: -0.11 | J14: -3.08 | K14: -6.27 | L14: 5.43 | M14: 0.13
... A76: 201411 | B76: 52.504429 | C76: 56.045753 | D76: 80.563576 | E76: 25.910713 | F76: 18.890657 | G76: =(E76/E77-1)*100 -> 3.1059094 | H76: =G76-M76 -> 3.1059094 | I76: 2.55 | J76: -2.04 | K76: -3.07 | L76: 1.06 | M76: 0
A77: 201410 | B77: 52.254368 | C77: 56.553463 | D77: 78.700775 | E77: 25.130192 | G77: =(E77/E78-1)*100 -> 3.1356359 | H77: =G77-M77 -> 3.1356359 | I77: 2.52 | J77: 4.28 | K77: -1.8 | L77: -0.04 | M77: 0
A78: 201409 | B78: 48.605274 | C78: 52.82188 | D78: 76.891716 | E78: 24.366158 | G78: =(E78/E79-1)*100 -> -1.3392405 | H78: =G78-M78 -> -1.3392405 | I78: -1.97 | J78: -3.73 | K78: -1.38 | L78: 0.44 | M78: 0
A79: 201408 | B79: 51.858009 | C79: 55.402897 | D79: 78.667374 | E79: 24.696909 | G79: =(E79/E80-1)*100 -> 4.2461214 | H79: =G79-M79 -> 4.2461214 | I79: 4.24 | J79: 0.36 | K79: -0.42 | L79: 0.79 | M79: 0
A80: 201407 | B80: 49.642708 | C80: 53.291164 | D80: 75.961212 | E80: 23.690962 | G80: =(E80/E81-1)*100 -> -0.91154747 | H80: =G80-M80 -> -0.91154747 | I80: -2.04 | J80: -4.27 | K80: 0.02 | L80: -0.24 | M80: 0
A81: 201406 | B81: 52.113461 | C81: 56.58931 | D81: 76.681923 | E81: 23.908903 | G81: =(E81/E82-1)*100 -> 1.8493209 | H81: =G81-M81 -> 1.8493209 | I81: 2.61 | J81: 3.08 | K81: -0.67 | L81: 0.74 | M81: 0
A82: 201405 | B82: 50.357231 | C82: 53.708084 | D82: 75.594719 | E82: 23.474779 | G82: =(E82/E83-1)*100 -> 3.2800013 | H82: =G82-M82 -> 3.2800013 | I82: 2.06 | J82: -1.9 | K82: -0.12 | L82: 1.21 | M82: 0
A83: 201404 | B83: 50.045708 | C83: 53.801769 | D83: 74.685883 | E83: 22.729259 | G83: =(E83/E84-1)*100 -> 0.48656447 | H83: =G83-M83 -> 0.48656447 | I83: -0.19 | J83: -4.21 | K83: 1.12 | L83: -3.77 | M83: 0
A84: 201403 | B84: 51.050533 | C84: 55.661663 | D84: 73.409203 | E84: 22.619202 | G84: =(E84/E85-1)*100 -> -1.0014828 | H84: =G84-M84 -> -1.0014828 | I84: 0.43 | J84: -1.85 | K84: 4.9 | L84: -3.38 | M84: 0
A85: 201402 | B85: 50.542053 | C85: 55.624249 | D85: 71.922432 | E85: 22.848021 | G85: =(E85/E86-1)*100 -> 5.2164963 | H85: =G85-M85 -> 5.2164963 | I85: 4.65 | J85: 0.31 | K85: -0.36 | L85: 2.05 | M85: 0
A86: 201401 | B86: 48.305637 | C86: 53.317863 | D86: 69.30368 | E86: 21.715246 | G86: =(E86/E87-1)*100 -> -2.5228147 | H86: =G86-M86 -> -2.5228147 | I86: -3.32 | J86: 0.87 | K86: -2.02 | L86: 1.74 | M86: 0
A87: 201312 | B87: 49.862988 | C87: 55.344673 | D87: 71.771255 | E87: 22.27726 | G87: =(E87/E88-1)*100 -> 2.7468136 | H87: =G87-M87 -> 2.7468136 | I87: 2.81 | J87: -0.59 | K87: -0.05 | L87: 0.07 | M87: 0
A88: 201311 | B88: 49.423782 | C88: 54.948055 | D88: 70.587105 | E88: 21.681704 | G88: =(E88/E89-1)*100 -> 2.7035825 | H88: =G88-M88 -> 2.7035825 | I88: 3.13 | J88: 1.19 | K88: 0.29 | L88: 0.44 | M88: 0
... A246: 200009 | B246: 13.574963 | C246: 18.320873 | D246: 39.56007 | E246: 15.675978 | G246: =(E246/E247-1)*100 -> -9.4783454 | H246: =G246-M246 -> -9.9883454 | I246: -5.45 | J246: -1.89 | K246: 7.28 | L246: 2.2 | M246: 0.51
A247: 200008 | B247: 13.621931 | C247: 19.16189 | D247: 39.569862 | E247: 17.317379 | I247: 7.03 | J247: -0.65 | K247: -1.47 | L247: 5.7 | M247: 0.5

Sheet Evaluation
B1: Small value | C1: Small growth | D1: Large value | E1: Large growth | G1: Return
A2: Date | B2: IJS | C2: IJT | D2: IVE | E2: IVW | F2: ARKK | G2: Market | H2: IJS | I2: IJT | J2: IVE | K2: IVW | L2: ARKK | M2: Fitted value | N2: Squared error | P2: Rf | Q2: =AVERAGE(Data!M3:M62)/100 -> 0.00089333333 | R2: =_xlfn.FORMULATEXT(Q2) -> =AVERAGE(Data!M3:M62)/100
A3: 202012 | B3: 81.309998 | C3: 113.92265 | D3: 127.23379 | E3: 63.672421 | F3: 122.52962 | G3: =(Data!I3+Data!M3)/100 -> 0.0464 | H3: =B3/B4-1 -> 0.074960326 | I3: =C3/C4-1 -> 0.085877287 | J3: =D3/D4-1 -> 0.027118131 | K3: =E3/E4-1 -> 0.037554915 | L3: =F3/F4-1 -> 0.10785792 | M3: {=$Q$26+MMULT(H3:K3,$Q$27:$Q$30)} -> 0.073158256 | N3: =(L3-M3)^2 -> 0.0012040669
A4: 202011 | B4: 75.639999 | C4: 104.913 | D4: 123.87454 | E4: 61.36776 | F4: 110.60048 | G4: =(Data!I4+Data!M4)/100 -> 0.1248 | H4: =B4/B5-1 -> 0.19211974 | I4: =C4/C5-1 -> 0.1728946 | J4: =D4/D5-1 -> 0.12908783 | K4: =E4/E5-1 -> 0.095068553 | L4: =F4/F5-1 -> 0.23769136 | M4: {=$Q$26+MMULT(H4:K4,$Q$27:$Q$30)} -> 0.14148857 | N4: =(L4-M4)^2 -> 0.0092549782 | Q4: Market | R4: IJS | S4: IJT | T4: IVE | U4: IVW | V4: ARKK
A5: 202010 | B5: 63.450001 | C5: 89.447937 | D5: 109.71205 | E5: 56.040108 | F5: 89.360306 | G5: =(Data!I5+Data!M5)/100 -> -0.0209 | H5: =B5/B6-1 -> 0.041440313 | I5: =C5/C6-1 -> 0.018471549 | J5: =D5/D6-1 -> -0.011291692 | K5: =E5/E6-1 -> -0.02536278 | L5: =F5/F6-1 -> -0.013152121 | M5: {=$Q$26+MMULT(H5:K5,$Q$27:$Q$30)} -> 0.010834898 | N5: =(L5-M5)^2 -> 0.00057537712 | P5: Arithmetic return | Q5: =AVERAGE(G3:G62) -> 0.013773333 | R5: =AVERAGE(H3:H62) -> 0.010542178 | S5: =AVERAGE(I3:I62) -> 0.012833483 | T5: =AVERAGE(J3:J62) -> 0.0093600288 | U5: =AVERAGE(K3:K62) -> 0.015449693 | V5: =AVERAGE(L3:L62) -> 0.035909942 | W5: =_xlfn.FORMULATEXT(V5) -> =AVERAGE(L3:L62)
A6: 202009 | B6: 60.92524 | C6: 87.825661 | D6: 110.96503 | E6: 57.498428 | F6: 90.551247 | G6: =(Data!I6+Data!M6)/100 -> -0.0362 | H6: =B6/B7-1 -> -0.056347854 | I6: =C6/C7-1 -> -0.043633745 | J6: =D6/D7-1 -> -0.032355252 | K6: =E6/E7-1 -> -0.050069826 | L6: =F6/F7-1 -> -0.034931328 | M6: {=$Q$26+MMULT(H6:K6,$Q$27:$Q$30)} -> -0.027436155 | N6: =(L6-M6)^2 -> 5.6177619e-05
A7: 202008 | B7: 64.56324 | C7: 91.832664 | D7: 114.67539 | E7: 60.52911 | F7: 93.828812 | G7: =(Data!I7+Data!M7)/100 -> 0.0764 | H7: =B7/B8-1 -> 0.050700595 | I7: =C7/C8-1 -> 0.029118018 | J7: =D7/D8-1 -> 0.035278414 | K7: =E7/E8-1 -> 0.094385492 | L7: =F7/F8-1 -> 0.18613908 | M7: {=$Q$26+MMULT(H7:K7,$Q$27:$Q$30)} -> 0.096992716 | N7: =(L7-M7)^2 -> 0.0079470744 | P7: Total risk (variance) | Q7: =_xlfn.VAR.S(G3:G62) -> 0.0021842932 | R7: =_xlfn.VAR.S(H3:H62) -> 0.0046491303 | S7: =_xlfn.VAR.S(I3:I62) -> 0.0036138574 | T7: =_xlfn.VAR.S(J3:J62) -> 0.0022519001 | U7: =_xlfn.VAR.S(K3:K62) -> 0.0020255616 | V7: =_xlfn.VAR.S(L3:L62) -> 0.0086460066 | W7: =_xlfn.FORMULATEXT(V7) -> =VAR.S(L3:L62)
A8: 202007 | B8: 61.4478 | C8: 89.234337 | D8: 110.76768 | E8: 55.308765 | F8: 79.104393 | G8: =(Data!I8+Data!M8)/100 -> 0.0578 | H8: =B8/B9-1 -> 0.030300815 | I8: =C8/C9-1 -> 0.057808982 | J8: =D8/D9-1 -> 0.043335471 | K8: =E8/E9-1 -> 0.073783379 | L8: =F8/F9-1 -> 0.127051 | M8: {=$Q$26+MMULT(H8:K8,$Q$27:$Q$30)} -> 0.088672549 | N8: =(L8-M8)^2 -> 0.0014729057 | P8: Beta | Q8: =SLOPE(G3:G62,$G$3:$G$62) -> 1 | R8: =SLOPE(H3:H62,$G$3:$G$62) -> 1.3165973 | S8: =SLOPE(I3:I62,$G$3:$G$62) -> 1.1889885 | T8: =SLOPE(J3:J62,$G$3:$G$62) -> 0.97240697 | U8: =SLOPE(K3:K62,$G$3:$G$62) -> 0.92491571 | V8: =SLOPE(L3:L62,$G$3:$G$62) -> 1.6799876 | W8: =_xlfn.FORMULATEXT(V8) -> =SLOPE(L3:L62,$G$3:$G$62)
A9: 202006 | B9: 59.64064 | C9: 84.357704 | D9: 106.16688 | E9: 51.508308 | F9: 70.187057 | G9: =(Data!I9+Data!M9)/100 -> 0.0247 | H9: =B9/B10-1 -> 0.03127136 | I9: =C9/C10-1 -> 0.036315786 | J9: =D9/D10-1 -> -0.015646378 | K9: =E9/E10-1 -> 0.038436518 | L9: =F9/F10-1 -> 0.13514802 | M9: {=$Q$26+MMULT(H9:K9,$Q$27:$Q$30)} -> 0.058888555 | N9: =(L9-M9)^2 -> 0.0058155063 | P9: Alpha | Q9: =INTERCEPT(G3:G62,$G$3:$G$62) -> 0 | R9: =INTERCEPT(H3:H62,$G$3:$G$62) -> -0.0075917555 | S9: =INTERCEPT(I3:I62,$G$3:$G$62) -> -0.0035428528 | T9: =INTERCEPT(J3:J62,$G$3:$G$62) -> -0.0040332566 | U9: =INTERCEPT(K3:K62,$G$3:$G$62) -> 0.002710521 | V9: =INTERCEPT(L3:L62,$G$3:$G$62) -> 0.012770913 | W9: =_xlfn.FORMULATEXT(V9) -> =INTERCEPT(L3:L62,$G$3:$G$62)
A10: 202005 | B10: 57.83215 | C10: 81.401543 | D10: 107.85442 | E10: 49.601788 | F10: 61.830753 | G10: =(Data!I10+Data!M10)/100 -> 0.0559 | H10: =B10/B11-1 -> 0.025478842 | I10: =C10/C11-1 -> 0.05771468 | J10: =D10/D11-1 -> 0.032303547 | K10: =E10/E11-1 -> 0.059606529 | L10: =F10/F11-1 -> 0.13536957 | M10: {=$Q$26+MMULT(H10:K10,$Q$27:$Q$30)} -> 0.078545801 | N10: =(L10-M10)^2 -> 0.0032289406 | P10: Systematic risk | Q10: =Q8^2*$Q$7 -> 0.0021842932 | R10: =R8^2*$Q$7 -> 0.0037863158 | S10: =S8^2*$Q$7 -> 0.0030879215 | T10: =T8^2*$Q$7 -> 0.0020654137 | U10: =U8^2*$Q$7 -> 0.0018685953 | V10: =V8^2*$Q$7 -> 0.0061648583 | W10: =_xlfn.FORMULATEXT(V10) -> =V8^2*$Q$7
A11: 202004 | B11: 56.395264 | C11: 76.959831 | D11: 104.47936 | E11: 46.811516 | F11: 54.458702 | G11: =(Data!I11+Data!M11)/100 -> 0.1365 | H11: =B11/B12-1 -> 0.1452693 | I11: =C11/C12-1 -> 0.1267602 | J11: =D11/D12-1 -> 0.11647341 | K11: =E11/E12-1 -> 0.14615397 | L11: =F11/F12-1 -> 0.25750005 | M11: {=$Q$26+MMULT(H11:K11,$Q$27:$Q$30)} -> 0.162672 | N11: =(L11-M11)^2 -> 0.0089923601 | P11: Non-systematic risk | Q11: =Q7-Q10 -> 0 | R11: =R7-R10 -> 0.00086281452 | S11: =S7-S10 -> 0.00052593586 | T11: =T7-T10 -> 0.0001864864 | U11: =U7-U10 -> 0.00015696635 | V11: =V7-V10 -> 0.0024811483 | W11: =_xlfn.FORMULATEXT(V11) -> =V7-V10
A12: 202003 | B12: 49.241924 | C12: 68.301872 | D12: 93.579803 | E12: 40.842258 | F12: 43.307117 | G12: =(Data!I12+Data!M12)/100 -> -0.1326 | H12: =B12/B13-1 -> -0.26172714 | I12: =C12/C13-1 -> -0.20353567 | J12: =D12/D13-1 -> -0.16034179 | K12: =E12/E13-1 -> -0.10571095 | L12: =F12/F13-1 -> -0.16729753 | M12: {=$Q$26+MMULT(H12:K12,$Q$27:$Q$30)} -> -0.11774782 | N12: =(L12-M12)^2 -> 0.0024551738
A13: 202002 | B13: 66.698814 | C13: 85.756348 | D13: 111.44988 | E13: 45.670086 | F13: 52.007912 | G13: =(Data!I13+Data!M13)/100 -> -0.0801 | H13: =B13/B14-1 -> -0.10148686 | I13: =C13/C14-1 -> -0.088808354 | J13: =D13/D14-1 -> -0.094621384 | K13: =E13/E14-1 -> -0.06797295 | L13: =F13/F14-1 -> 0.020077264 | M13: {=$Q$26+MMULT(H13:K13,$Q$27:$Q$30)} -> -0.053713426 | N13: =(L13-M13)^2 -> 0.0054450659 | P13: Sharpe ratio | Q13: =(Q5-$Q$2)/SQRT(Q7) -> 0.27558806 | R13: =(R5-$Q$2)/SQRT(R7) -> 0.14151075 | S13: =(S5-$Q$2)/SQRT(S7) -> 0.19862058 | T13: =(T5-$Q$2)/SQRT(T7) -> 0.17841829 | U13: =(U5-$Q$2)/SQRT(U7) -> 0.32342982 | V13: =(V5-$Q$2)/SQRT(V7) -> 0.37658785 | W13: =_xlfn.FORMULATEXT(V13) -> =(V5-$Q$2)/SQRT(V7)
A14: 202001 | B14: 74.23243 | C14: 94.114502 | D14: 123.09753 | E14: 49.000816 | F14: 50.984287 | G14: =(Data!I14+Data!M14)/100 -> 0.0002 | H14: =B14/B15-1 -> -0.0571324 | I14: =C14/C15-1 -> -0.014455077 | J14: =D14/D15-1 -> -0.021129934 | K14: =E14/E15-1 -> 0.029054946 | L14: =F14/F15-1 -> 0.038797601 | M14: {=$Q$26+MMULT(H14:K14,$Q$27:$Q$30)} -> 0.034603629 | N14: =(L14-M14)^2 -> 1.7589397e-05 | Q14: ="("&RANK(Q13,$Q13:$V13)&")" -> (3) | R14: ="("&RANK(R13,$Q13:$V13)&")" -> (6) | S14: ="("&RANK(S13,$Q13:$V13)&")" -> (4) | T14: ="("&RANK(T13,$Q13:$V13)&")" -> (5) | U14: ="("&RANK(U13,$Q13:$V13)&")" -> (2) | V14: ="("&RANK(V13,$Q13:$V13)&")" -> (1) | W14: =_xlfn.FORMULATEXT(V14) -> ="("&RANK(V13,$Q13:$V13)&")"
A15: 201912 | B15: 78.730492 | C15: 95.494888 | D15: 125.75472 | E15: 47.617298 | F15: 49.080097 | G15: =(Data!I15+Data!M15)/100 -> 0.0291 | H15: =B15/B16-1 -> 0.021925626 | I15: =C15/C16-1 -> 0.027371889 | J15: =D15/D16-1 -> 0.024169284 | K15: =E15/E16-1 -> 0.02249448 | L15: =F15/F16-1 -> -0.0075352555 | M15: {=$Q$26+MMULT(H15:K15,$Q$27:$Q$30)} -> 0.045072547 | N15: =(L15-M15)^2 -> 0.0027675808
A16: 201911 | B16: 77.041313 | C16: 92.950653 | D16: 122.78705 | E16: 46.569736 | F16: 49.452736 | G16: =(Data!I16+Data!M16)/100 -> 0.0399 | H16: =B16/B17-1 -> 0.027088888 | I16: =C16/C17-1 -> 0.03282645 | J16: =D16/D17-1 -> 0.038763554 | K16: =E16/E17-1 -> 0.034185269 | L16: =F16/F17-1 -> 0.14017636 | M16: {=$Q$26+MMULT(H16:K16,$Q$27:$Q$30)} -> 0.054830968 | N16: =(L16-M16)^2 -> 0.0072838365 | P16: Treynor ratio | Q16: =(Q5-$Q$2)/Q8 -> 0.01288 | R16: =(R5-$Q$2)/R8 -> 0.0073286225 | S16: =(S5-$Q$2)/S8 -> 0.010042275 | T16: =(T5-$Q$2)/T8 -> 0.0087069464 | U16: =(U5-$Q$2)/U8 -> 0.01573804 | V16: =(V5-$Q$2)/V8 -> 0.020843373 | W16: =_xlfn.FORMULATEXT(V16) -> =(V5-$Q$2)/V8
A17: 201910 | B17: 75.009392 | C17: 89.996391 | D17: 118.205 | E17: 45.030361 | F17: 43.372883 | G17: =(Data!I17+Data!M17)/100 -> 0.0221 | H17: =B17/B18-1 -> 0.023948187 | I17: =C17/C18-1 -> 0.023881166 | J17: =D17/D18-1 -> 0.032510556 | K17: =E17/E18-1 -> 0.020647097 | L17: =F17/F18-1 -> 0.031242748 | M17: {=$Q$26+MMULT(H17:K17,$Q$27:$Q$30)} -> 0.043041404 | N17: =(L17-M17)^2 -> 0.00013920829 | Q17: ="("&RANK(Q16,$Q16:$V16)&")" -> (3) | R17: ="("&RANK(R16,$Q16:$V16)&")" -> (6) | S17: ="("&RANK(S16,$Q16:$V16)&")" -> (4) | T17: ="("&RANK(T16,$Q16:$V16)&")" -> (5) | U17: ="("&RANK(U16,$Q16:$V16)&")" -> (2) | V17: ="("&RANK(V16,$Q16:$V16)&")" -> (1) | W17: =_xlfn.FORMULATEXT(V17) -> ="("&RANK(V16,$Q16:$V16)&")"
A18: 201909 | B18: 73.255066 | C18: 87.897301 | D18: 114.48309 | E18: 44.119423 | F18: 42.058849 | G18: =(Data!I18+Data!M18)/100 -> 0.0161 | H18: =B18/B19-1 -> 0.051677012 | I18: =C18/C19-1 -> 0.0071707373 | J18: =D18/D19-1 -> 0.031961838 | K18: =E18/E19-1 -> 0.00027789135 | L18: =F18/F19-1 -> -0.032265398 | M18: {=$Q$26+MMULT(H18:K18,$Q$27:$Q$30)} -> 0.026383186 | N18: =(L18-M18)^2 -> 0.0034396565
A19: 201908 | B19: 69.655479 | C19: 87.2715 | D19: 110.93733 | E19: 44.107166 | F19: 43.46114 | G19: =(Data!I19+Data!M19)/100 -> -0.0242 | H19: =B19/B20-1 -> -0.051411366 | I19: =C19/C20-1 -> -0.039325107 | J19: =D19/D20-1 -> -0.026642012 | K19: =E19/E20-1 -> -0.0076640213 | L19: =F19/F20-1 -> -0.085431273 | M19: {=$Q$26+MMULT(H19:K19,$Q$27:$Q$30)} -> 0.0033049604 | N19: =(L19-M19)^2 -> 0.0078741191 | P19: Alpha | Q19: =Q9 -> 0 | R19: =R9 -> -0.0075917555 | S19: =S9 -> -0.0035428528 | T19: =T9 -> -0.0040332566 | U19: =U9 -> 0.002710521 | V19: =V9 -> 0.012770913 | W19: =_xlfn.FORMULATEXT(V19) -> =V9
A20: 201907 | B20: 73.430649 | C20: 90.843948 | D20: 113.97382 | E20: 44.447815 | F20: 47.520912 | G20: =(Data!I20+Data!M20)/100 -> 0.0138 | H20: =B20/B21-1 -> 0.016676011 | I20: =C20/C21-1 -> 0.012648855 | J20: =D20/D21-1 -> 0.023259836 | K20: =E20/E21-1 -> 0.016180167 | L20: =F20/F21-1 -> 0.010004098 | M20: {=$Q$26+MMULT(H20:K20,$Q$27:$Q$30)} -> 0.036727097 | N20: =(L20-M20)^2 -> 0.00071411868 | Q20: ="("&RANK(Q19,$Q19:$V19)&")" -> (3) | R20: ="("&RANK(R19,$Q19:$V19)&")" -> (6) | S20: ="("&RANK(S19,$Q19:$V19)&")" -> (4) | T20: ="("&RANK(T19,$Q19:$V19)&")" -> (5) | U20: ="("&RANK(U19,$Q19:$V19)&")" -> (2) | V20: ="("&RANK(V19,$Q19:$V19)&")" -> (1) | W20: =_xlfn.FORMULATEXT(V20) -> ="("&RANK(V19,$Q19:$V19)&")"
A21: 201906 | B21: 72.226204 | C21: 89.709229 | D21: 111.38307 | E21: 43.740093 | F21: 47.050217 | G21: =(Data!I21+Data!M21)/100 -> 0.0711 | H21: =B21/B22-1 -> 0.072681185 | I21: =C21/C22-1 -> 0.069072586 | J21: =D21/D22-1 -> 0.074377878 | K21: =E21/E22-1 -> 0.056030406 | L21: =F21/F22-1 -> 0.17800158 | M21: {=$Q$26+MMULT(H21:K21,$Q$27:$Q$30)} -> 0.081643385 | N21: =(L21-M21)^2 -> 0.0092849011
A22: 201905 | B22: 67.332405 | C22: 83.913132 | D22: 103.67216 | E22: 41.41935 | F22: 39.940708 | G22: =(Data!I22+Data!M22)/100 -> -0.0673 | H22: =B22/B23-1 -> -0.099798571 | I22: =C22/C23-1 -> -0.074951182 | J22: =D22/D23-1 -> -0.075494237 | K22: =E22/E23-1 -> -0.052634786 | L22: =F22/F23-1 -> -0.13744181 | M22: {=$Q$26+MMULT(H22:K22,$Q$27:$Q$30)} -> -0.039538601 | N22: =(L22-M22)^2 -> 0.0095850375 | P22: Information ratio | Q22: 0 | R22: =R9/SQRT(R11) -> -0.25845414 | S22: =S9/SQRT(S11) -> -0.15448514 | T22: =T9/SQRT(T11) -> -0.2953468 | U22: =U9/SQRT(U11) -> 0.21634631 | V22: =V9/SQRT(V11) -> 0.25638675 | W22: =_xlfn.FORMULATEXT(V22) -> =V9/SQRT(V11)
A23: 201904 | B23: 74.797043 | C23: 90.712112 | D23: 112.13792 | E23: 43.720573 | F23: 46.304943 | G23: =(Data!I23+Data!M23)/100 -> 0.0417 | H23: =B23/B24-1 -> 0.047122663 | I23: =C23/C24-1 -> 0.035941988 | J23: =D23/D24-1 -> 0.046856303 | K23: =E23/E24-1 -> 0.043016993 | L23: =F23/F24-1 -> 0.010485825 | M23: {=$Q$26+MMULT(H23:K23,$Q$27:$Q$30)} -> 0.062891979 | N23: =(L23-M23)^2 -> 0.002746405 | Q23: ="("&RANK(Q22,$Q22:$V22)&")" -> (3) | R23: ="("&RANK(R22,$Q22:$V22)&")" -> (5) | S23: ="("&RANK(S22,$Q22:$V22)&")" -> (4) | T23: ="("&RANK(T22,$Q22:$V22)&")" -> (6) | U23: ="("&RANK(U22,$Q22:$V22)&")" -> (2) | V23: ="("&RANK(V22,$Q22:$V22)&")" -> (1) | W23: =_xlfn.FORMULATEXT(V23) -> ="("&RANK(V22,$Q22:$V22)&")"
A24: 201903 | B24: 71.431023 | C24: 87.564857 | D24: 107.11874 | E24: 41.917412 | F24: 45.824436 | G24: =(Data!I24+Data!M24)/100 -> 0.0129 | H24: =B24/B25-1 -> -0.042756325 | I24: =C24/C25-1 -> -0.029633984 | J24: =D24/D25-1 -> 0.0044547889 | K24: =E24/E25-1 -> 0.023211567 | L24: =F24/F25-1 -> 0.0036512109 | M24: {=$Q$26+MMULT(H24:K24,$Q$27:$Q$30)} -> 0.027613588 | N24: =(L24-M24)^2 -> 0.00057419554
A25: 201902 | B25: 74.621567 | C25: 90.238998 | D25: 106.64366 | E25: 40.966515 | F25: 45.65773 | G25: =(Data!I25+Data!M25)/100 -> 0.0358 | H25: =B25/B26-1 -> 0.041348598 | I25: =C25/C26-1 -> 0.045299551 | J25: =D25/D26-1 -> 0.022408353 | K25: =E25/E26-1 -> 0.040971573 | L25: =F25/F26-1 -> 0.081533026 | M25: {=$Q$26+MMULT(H25:K25,$Q$27:$Q$30)} -> 0.063467942 | N25: =(L25-M25)^2 -> 0.00032634726 | P25: Factor/Style | Q25: Weight
A26: 201901 | B26: 71.658585 | C26: 86.328362 | D26: 104.30633 | E26: 39.354115 | F26: 42.215752 | G26: =(Data!I26+Data!M26)/100 -> 0.0862 | H26: =B26/B27-1 -> 0.12779622 | I26: =C26/C27-1 -> 0.094060288 | J26: =D26/D27-1 -> 0.093078428 | K26: =E26/E27-1 -> 0.077481196 | L26: =F26/F27-1 -> 0.19476238 | M26: {=$Q$26+MMULT(H26:K26,$Q$27:$Q$30)} -> 0.1059345 | N26: =(L26-M26)^2 -> 0.0078903925 | P26: Alpha | Q26: 0.021397087
A27: 201812 | B27: 63.538593 | C27: 78.906403 | D27: 95.424377 | E27: 36.524178 | F27: 35.334015 | G27: =(Data!I27+Data!M27)/100 -> -0.0936 | H27: =B27/B28-1 -> -0.12797605 | I27: =C27/C28-1 -> -0.1234923 | J27: =D27/D28-1 -> -0.10025805 | K27: =E27/E28-1 -> -0.087622624 | L27: =F27/F28-1 -> -0.16332966 | M27: {=$Q$26+MMULT(H27:K27,$Q$27:$Q$30)} -> -0.077503665 | N27: =(L27-M27)^2 -> 0.0073661014 | P27: Small value | Q27: 0.058219331
A28: 201811 | B28: 72.863358 | C28: 90.023628 | D28: 106.0575 | E28: 40.031876 | F28: 42.231705 | G28: =(Data!I28+Data!M28)/100 -> 0.0187 | H28: =B28/B29-1 -> 0.0057202916 | I28: =C28/C29-1 -> 0.026490495 | J28: =D28/D29-1 -> 0.025170998 | K28: =E28/E29-1 -> 0.013875283 | L28: =F28/F29-1 -> 0.043917309 | M28: {=$Q$26+MMULT(H28:K28,$Q$27:$Q$30)} -> 0.037937804 | N28: =(L28-M28)^2 -> 3.5754474e-05 | P28: Small growth | Q28: 0.24892273
A29: 201810 | B29: 72.448929 | C29: 87.700401 | D29: 103.45347 | E29: 39.484024 | F29: 40.455029 | G29: =(Data!I29+Data!M29)/100 -> -0.0749 | H29: =B29/B30-1 -> -0.096190708 | I29: =C29/C30-1 -> -0.10986867 | J29: =D29/D30-1 -> -0.047890575 | K29: =E29/E30-1 -> -0.078201108 | L29: =F29/F30-1 -> -0.10054919 | M29: {=$Q$26+MMULT(H29:K29,$Q$27:$Q$30)} -> -0.06573414 | N29: =(L29-M29)^2 -> 0.0012120877 | P29: Large value | Q29: 0
A30: 201809 | B30: 80.159531 | C30: 98.525238 | D30: 108.65712 | E30: 42.833664 | F30: 44.977478 | G30: =(Data!I30+Data!M30)/100 -> 0.0021 | H30: =B30/B31-1 -> -0.033969884 | I30: =C30/C31-1 -> -0.035060012 | J30: =D30/D31-1 -> -0.0018096057 | K30: =E30/E31-1 -> 0.0051626869 | L30: =F30/F31-1 -> -0.047484884 | M30: {=$Q$26+MMULT(H30:K30,$Q$27:$Q$30)} -> 0.014269158 | N30: =(L30-M30)^2 -> 0.0038135617 | P30: Large growth | Q30: 0.69285794
A31: 201808 | B31: 82.978294 | C31: 102.10504 | D31: 108.8541 | E31: 42.613663 | F31: 47.2197 | G31: =(Data!I31+Data!M31)/100 -> 0.036 | H31: =B31/B32-1 -> 0.031395245 | I31: =C31/C32-1 -> 0.066955765 | J31: =D31/D32-1 -> 0.01336023 | K31: =E31/E32-1 -> 0.04804395 | L31: =F31/F32-1 -> 0.11560042 | M31: {=$Q$26+MMULT(H31:K31,$Q$27:$Q$30)} -> 0.073179341 | N31: =(L31-M31)^2 -> 0.0017995481 | P31: Sum | Q31: =SUM(Q27:Q30) -> 1 | R31: =_xlfn.FORMULATEXT(Q31) -> =SUM(Q27:Q30)
A32: 201807 | B32: 80.452469 | C32: 95.69754 | D32: 107.41896 | E32: 40.660187 | F32: 42.326714 | G32: =(Data!I32+Data!M32)/100 -> 0.0335 | H32: =B32/B33-1 -> 0.029544275 | I32: =C32/C33-1 -> 0.038719825 | J32: =D32/D33-1 -> 0.046599785 | K32: =E32/E33-1 -> 0.037308996 | L32: =F32/F33-1 -> -0.0095597424 | M32: {=$Q$26+MMULT(H32:K32,$Q$27:$Q$30)} -> 0.058605213 | N32: =(L32-M32)^2 -> 0.0046464612
A33: 201806 | B33: 78.143768 | C33: 92.130272 | D33: 102.63614 | E33: 39.197758 | F33: 42.735252 | G33: =(Data!I33+Data!M33)/100 -> 0.0062 | H33: =B33/B34-1 -> 0.004676806 | I33: =C33/C34-1 -> 0.011292491 | J33: =D33/D34-1 -> -0.00027236395 | K33: =E33/E34-1 -> 0.0027750573 | L33: =F33/F34-1 -> 0.034498575 | M33: {=$Q$26+MMULT(H33:K33,$Q$27:$Q$30)} -> 0.026403045 | N33: =(L33-M33)^2 -> 6.55376e-05 | O33: Min | P33: Sum of squared error | Q33: =SUM(N3:N62) -> 0.19487538 | R33: =_xlfn.FORMULATEXT(Q33) -> =SUM(N3:N62)
A34: 201805 | B34: 77.780006 | C34: 91.101509 | D34: 102.6641 | E34: 39.089283 | F34: 41.310112 | G34: =(Data!I34+Data!M34)/100 -> 0.0279 | H34: =B34/B35-1 -> 0.058696884 | I34: =C34/C35-1 -> 0.07108046 | J34: =D34/D35-1 -> 0.0024570544 | K34: =E34/E35-1 -> 0.04316509 | L34: =F34/F35-1 -> 0.11230502 | M34: {=$Q$26+MMULT(H34:K34,$Q$27:$Q$30)} -> 0.072415197 | N34: =(L34-M34)^2 -> 0.0015911981
A35: 201804 | B35: 73.467682 | C35: 85.05571 | D35: 102.41247 | E35: 37.471809 | F35: 37.139194 | G35: =(Data!I35+Data!M35)/100 -> 0.0043 | H35: =B35/B36-1 -> 0.021107572 | I35: =C35/C36-1 -> 0.0053152252 | J35: =D35/D36-1 -> 0.01081333 | K35: =E35/E36-1 -> 0.0053715425 | L35: =F35/F36-1 -> 0.00051187773 | M35: {=$Q$26+MMULT(H35:K35,$Q$27:$Q$30)} -> 0.027670752 | N35: =(L35-M35)^2 -> 0.00073760443 | P35: Average return | Q35: =AVERAGE(L3:L62) -> 0.035909942 | R35: =_xlfn.FORMULATEXT(Q35) -> =AVERAGE(L3:L62)
A36: 201803 | B36: 71.949013 | C36: 84.60601 | D36: 101.3169 | E36: 37.271603 | F36: 37.120193 | G36: =(Data!I36+Data!M36)/100 -> -0.0223 | H36: =B36/B37-1 -> 0.010179463 | I36: =C36/C37-1 -> 0.023248861 | J36: =D36/D37-1 -> -0.025837603 | K36: =E36/E37-1 -> -0.032626343 | L36: =F36/F37-1 -> -0.044976854 | M36: {=$Q$26+MMULT(H36:K36,$Q$27:$Q$30)} -> 0.0051714773 | N36: =(L36-M36)^2 -> 0.0025148551 | P36: Factor/style component | Q36: =Q35-Q37 -> 0.014512856 | R36: =_xlfn.FORMULATEXT(Q36) -> =Q35-Q37
A37: 201802 | B37: 71.223991 | C37: 82.683708 | D37: 104.00411 | E37: 38.528652 | F37: 38.86837 | G37: =(Data!I37+Data!M37)/100 -> -0.0354 | H37: =B37/B38-1 -> -0.04042156 | I37: =C37/C38-1 -> -0.035864186 | J37: =D37/D38-1 -> -0.055536851 | K37: =E37/E38-1 -> -0.020590088 | L37: =F37/F38-1 -> -0.0080020103 | M37: {=$Q$26+MMULT(H37:K37,$Q$27:$Q$30)} -> -0.004149646 | N37: =(L37-M37)^2 -> 1.4840711e-05 | P37: Stock selection component | Q37: =Q26 -> 0.021397087 | R37: =_xlfn.FORMULATEXT(Q37) -> =Q26
A38: 201801 | B38: 74.224251 | C38: 85.759399 | D38: 110.11982 | E38: 39.338638 | F38: 39.181904 | G38: =(Data!I38+Data!M38)/100 -> 0.0569 | H38: =B38/B39-1 -> 0.017595525 | I38: =C38/C39-1 -> 0.038723939 | J38: =D38/D39-1 -> 0.045970796 | K38: =E38/E39-1 -> 0.07499932 | L38: =F38/F39-1 -> 0.12655895 | M38: {=$Q$26+MMULT(H38:K38,$Q$27:$Q$30)} -> 0.08402463 | N38: =(L38-M38)^2 -> 0.0018091686
A39: 201712 | B39: 72.940819 | C39: 82.562263 | D39: 105.28001 | E39: 36.594105 | F39: 34.780163 | G39: =(Data!I39+Data!M39)/100 -> 0.0115 | H39: =B39/B40-1 -> -0.0079453653 | I39: =C39/C40-1 -> -0.010180463 | J39: =D39/D40-1 -> 0.012676081 | K39: =E39/E40-1 -> 0.0036791039 | L39: =F39/F40-1 -> -0.0032257733 | M39: {=$Q$26+MMULT(H39:K39,$Q$27:$Q$30)} -> 0.020949461 | N39: =(L39-M39)^2 -> 0.00058444193
A40: 201711 | B40: 73.525002 | C40: 83.41143 | D40: 103.96218 | E40: 36.459965 | F40: 34.892719 | G40: =(Data!I40+Data!M40)/100 -> 0.032 | H40: =B40/B41-1 -> 0.037602795 | I40: =C40/C41-1 -> 0.032866573 | J40: =D40/D41-1 -> 0.033531899 | K40: =E40/E41-1 -> 0.027473849 | L40: =F40/F41-1 -> 0.047592417 | M40: {=$Q$26+MMULT(H40:K40,$Q$27:$Q$30)} -> 0.050803007 | N40: =(L40-M40)^2 -> 1.0307891e-05
...

Sheet IVW - CAPM
A1: SUMMARY OUTPUT
A3: Regression Statistics
A4: Multiple R | B4: 0.96171845
A5: R Square | B5: 0.92490238
A6: Adjusted R Square | B6: 0.92459206
A7: Standard Error | B7: 1.2395933
A8: Observations | B8: 244
A10: ANOVA
B11: df | C11: SS | D11: MS | E11: F | F11: Significance F
A12: Regression | B12: 1 | C12: 4579.7689 | D12: 4579.7689 | E12: 2980.4723 | F12: 4.7550777e-138
A13: Residual | B13: 242 | C13: 371.85518 | D13: 1.5365916
A14: Total | B14: 243 | C14: 4951.6241
B16: Coefficients | C16: Standard Error | D16: t Stat | E16: P-value | F16: Lower 95% | G16: Upper 95% | H16: Lower 95.0% | I16: Upper 95.0%
A17: Alpha | B17: -0.017327223 | C17: 0.07995806 | D17: -0.2167039 | E17: 0.82862168 | F17: -0.17482982 | G17: 0.14017537 | H17: -0.17482982 | I17: 0.14017537
A18: RMRF | B18: 0.95237614 | C18: 0.017444798 | D18: 54.593702 | E18: 4.7550777e-138 | F18: 0.91801311 | G18: 0.98673917 | H18: 0.91801311 | I18: 0.98673917

Sheet IVW - FF3
A1: SUMMARY OUTPUT
A3: Regression Statistics
A4: Multiple R | B4: 0.98281186
A5: R Square | B5: 0.96591914
A6: Adjusted R Square | B6: 0.96549313
A7: Standard Error | B7: 0.83853938
A8: Observations | B8: 244
A10: ANOVA
B11: df | C11: SS | D11: MS | E11: F | F11: Significance F
A12: Regression | B12: 3 | C12: 4782.8685 | D12: 1594.2895 | E12: 2267.3588 | F12: 9.7094268e-176
A13: Residual | B13: 240 | C13: 168.75559 | D13: 0.7031483
A14: Total | B14: 243 | C14: 4951.6241
B16: Coefficients | C16: Standard Error | D16: t Stat | E16: P-value | F16: Lower 95% | G16: Upper 95% | H16: Lower 95.0% | I16: Upper 95.0%
A17: Alpha | B17: 0.013961416 | C17: 0.054158008 | D17: 0.25779042 | E17: 0.79678956 | F17: -0.092724316 | G17: 0.12064715 | H17: -0.092724316 | I17: 0.12064715
A18: RMRF | B18: 0.99570994 | C18: 0.012596037 | D18: 79.049459 | E18: 7.6733108e-174 | F18: 0.97089704 | G18: 1.0205228 | H18: 0.97089704 | I18: 1.0205228
A19: SMB | B19: -0.1909519 | C19: 0.022367081 | D19: -8.5371847 | E19: 1.590238e-15 | F19: -0.23501276 | G19: -0.14689104 | H19: -0.23501276 | I19: -0.14689104
A20: HML | B20: -0.25493668 | C20: 0.017505677 | D20: -14.563086 | E20: 7.4617817e-35 | F20: -0.28942107 | G20: -0.22045229 | H20: -0.28942107 | I20: -0.22045229
