Workbook

Sheet Daily (13)
A1: Bank of Thailand
A2: FM_CM_001 : SET & External Stock Market Indexes
A4: Last Updated :
A5: Retrieved date :
C6: 22 SEP 2008 | D6: 24 SEP 2008 | E6: 25 SEP 2008 | F6: 26 SEP 2008 | G6: 29 SEP 2008 | H6: 06 OCT 2008 | I6: 08 OCT 2008 | J6: 14 OCT 2008 | K6: 15 OCT 2008 | L6: 16 OCT 2008 | M6: 17 OCT 2008 | N6: 20 OCT 2008 | O6: 21 OCT 2008 | P6: 22 OCT 2008 | Q6: 24 OCT 2008 | R6: 28 OCT 2008 | S6: 29 OCT 2008 | T6: 30 OCT 2008 | U6: 31 OCT 2008 | V6: 04 NOV 2008 | W6: 05 NOV 2008 | X6: 06 NOV 2008 | Y6: 07 NOV 2008 | Z6: 10 NOV 2008 | AA6: 11 NOV 2008 | AB6: 12 NOV 2008 | AC6: 13 NOV 2008 | AD6: 14 NOV 2008 | AE6: 17 NOV 2008 | AF6: 18 NOV 2008 | AG6: 19 NOV 2008 | AH6: 20 NOV 2008 | AI6: 21 NOV 2008 | AJ6: 25 NOV 2008 | AK6: 26 NOV 2008 | AL6: 28 NOV 2008 | AM6: 01 DEC 2008 | AN6: 02 DEC 2008 | AO6: 03 DEC 2008 | AP6: 04 DEC 2008 | AQ6: 09 DEC 2008 | AR6: 11 DEC 2008 | AS6: 12 DEC 2008 | AT6: 15 DEC 2008 | AU6: 16 DEC 2008 | AV6: 17 DEC 2008 | AW6: 18 DEC 2008 | AX6: 19 DEC 2008 | AY6: 22 DEC 2008 | AZ6: 24 DEC 2008 | BA6: 05 JAN 2009 | BB6: 06 JAN 2009 | BC6: 07 JAN 2009 | BD6: 08 JAN 2009 | BE6: 09 JAN 2009 | BF6: 13 JAN 2009 | BG6: 14 JAN 2009 | BH6: 15 JAN 2009 | BI6: 16 JAN 2009 | BJ6: 20 JAN 2009 | BK6: 21 JAN 2009 | BL6: 22 JAN 2009 | BM6: 23 JAN 2009 | BN6: 29 JAN 2009 | BO6: 30 JAN 2009 | BP6: 03 FEB 2009 | BQ6: 04 FEB 2009 | BR6: 05 FEB 2009 | BS6: 06 FEB 2009 | BT6: 10 FEB 2009 | BU6: 12 FEB 2009 | BV6: 13 FEB 2009 | BW6: 17 FEB 2009 | BX6: 18 FEB 2009 | BY6: 19 FEB 2009 | BZ6: 20 FEB 2009 | CA6: 23 FEB 2009 | CB6: 24 FEB 2009 | CC6: 25 FEB 2009 | CD6: 26 FEB 2009 | CE6: 27 FEB 2009 | CF6: 02 MAR 2009 | CG6: 03 MAR 2009 | CH6: 04 MAR 2009 | CI6: 05 MAR 2009 | CJ6: 06 MAR 2009 | CK6: 10 MAR 2009 | CL6: 11 MAR 2009 | CM6: 12 MAR 2009 | CN6: 13 MAR 2009 | CO6: 16 MAR 2009 | CP6: 17 MAR 2009 | CQ6: 18 MAR 2009 | CR6: 19 MAR 2009 | CS6: 23 MAR 2009 | CT6: 24 MAR 2009 | CU6: 25 MAR 2009 | CV6: 27 MAR 2009 | CW6: 30 MAR 2009 | CX6: 31 MAR 2009 | CY6: 01 APR 2009 | CZ6: 02 APR 2009 | DA6: 03 APR 2009 | DB6: 07 APR 2009 | DC6: 08 APR 2009 | DD6: 16 APR 2009 | DE6: 17 APR 2009 | DF6: 20 APR 2009 | DG6: 21 APR 2009 | DH6: 22 APR 2009 | DI6: 23 APR 2009 | DJ6: 24 APR 2009 | DK6: 27 APR 2009 | DL6: 28 APR 2009 | DM6: 30 APR 2009 | DN6: 07 MAY 2009 | DO6: 11 MAY 2009 | DP6: 12 MAY 2009 | DQ6: 13 MAY 2009 | DR6: 14 MAY 2009 | DS6: 15 MAY 2009 | DT6: 18 MAY 2009 | DU6: 19 MAY 2009 | DV6: 20 MAY 2009 | DW6: 22 MAY 2009 | DX6: 26 MAY 2009 | DY6: 27 MAY 2009 | DZ6: 29 MAY 2009 | EA6: 01 JUN 2009 | EB6: 02 JUN 2009 | EC6: 03 JUN 2009 | ED6: 04 JUN 2009 | EE6: 05 JUN 2009 | EF6: 09 JUN 2009 | EG6: 10 JUN 2009 | EH6: 11 JUN 2009 | EI6: 15 JUN 2009 | EJ6: 16 JUN 2009 | EK6: 17 JUN 2009 | EL6: 18 JUN 2009 | EM6: 19 JUN 2009 | EN6: 22 JUN 2009 | EO6: 23 JUN 2009 | EP6: 24 JUN 2009 | EQ6: 25 JUN 2009 | ER6: 26 JUN 2009 | ES6: 29 JUN 2009 | ET6: 30 JUN 2009 | EU6: 02 JUL 2009 | EV6: 09 JUL 2009 | EW6: 10 JUL 2009 | EX6: 13 JUL 2009 | EY6: 14 JUL 2009 | EZ6: 15 JUL 2009 | FA6: 16 JUL 2009 | FB6: 21 JUL 2009 | FC6: 22 JUL 2009 | FD6: 23 JUL 2009 | FE6: 24 JUL 2009 | FF6: 27 JUL 2009 | FG6: 28 JUL 2009 | FH6: 29 JUL 2009 | FI6: 30 JUL 2009 | FJ6: 31 JUL 2009 | FK6: 03 AUG 2009 | FL6: 04 AUG 2009 | FM6: 06 AUG 2009 | FN6: 07 AUG 2009 | FO6: 11 AUG 2009 | FP6: 13 AUG 2009 | FQ6: 14 AUG 2009 | FR6: 18 AUG 2009 | FS6: 19 AUG 2009 | FT6: 20 AUG 2009 | FU6: 24 AUG 2009 | FV6: 25 AUG 2009 | FW6: 26 AUG 2009 | FX6: 27 AUG 2009 | FY6: 28 AUG 2009 | FZ6: 01 SEP 2009 | GA6: 02 SEP 2009 | GB6: 03 SEP 2009 | GC6: 04 SEP 2009 | GD6: 08 SEP 2009 | GE6: 09 SEP 2009 | GF6: 10 SEP 2009
A7: 1 | B7: SET (Thailand) | C7: 614.49 | D7: 620.43 | E7: 621.14 | F7: 618.97 | G7: 601.29 | H7: 551.8 | I7: 492.34 | J7: 500.77 | K7: 481.5 | L7: 477.73 | M7: 471.31 | N7: 476.95 | O7: 478.79 | P7: 465.24 | Q7: 432.87 | R7: 398.04 | S7: 384.15 | T7: 408.31 | U7: 416.53 | V7: 457.62 | W7: 457.36 | X7: 462.93 | Y7: 463.81 | Z7: 456.44 | AA7: 442.31 | AB7: 435.7 | AC7: 433.47 | AD7: 429.97 | AE7: 434.21 | AF7: 419.97 | AG7: 408.51 | AH7: 393.85 | AI7: 397.51 | AJ7: 391.85 | AK7: 395.22 | AL7: 401.84 | AM7: 390.92 | AN7: 387.32 | AO7: 392.92 | AP7: 392.87 | AQ7: 423.79 | AR7: 424.61 | AS7: 424.79 | AT7: 437.06 | AU7: 445.31 | AV7: 445.94 | AW7: 451.72 | AX7: 447.01 | AY7: 434.08 | AZ7: 439.17 | BA7: 478.69 | BB7: 473.15 | BC7: 462.96 | BD7: 465.03 | BE7: 459.06 | BF7: 433.81 | BG7: 439.51 | BH7: 426.26 | BI7: 435.2 | BJ7: 433.19 | BK7: 431.23 | BL7: 438.27 | BM7: 433.52 | BN7: 435 | BO7: 437.69 | BP7: 430.69 | BQ7: 433.04 | BR7: 433.44 | BS7: 444.39 | BT7: 443.17 | BU7: 440.63 | BV7: 445.77 | BW7: 438.22 | BX7: 439.6 | BY7: 441.62 | BZ7: 434.67 | CA7: 434.99 | CB7: 431.32 | CC7: 434.24 | CD7: 431.94 | CE7: 431.52 | CF7: 416.52 | CG7: 413.09 | CH7: 417.86 | CI7: 417.11 | CJ7: 419.51 | CK7: 417.41 | CL7: 414.41 | CM7: 415.04 | CN7: 424.79 | CO7: 424.61 | CP7: 422.32 | CQ7: 426.2 | CR7: 427.72 | CS7: 438.17 | CT7: 438.16 | CU7: 436.92 | CV7: 440.81 | CW7: 429.6 | CX7: 431.5 | CY7: 430.09 | CZ7: 442.96 | DA7: 446.04 | DB7: 442.56 | DC7: 443.57 | DD7: 452.97 | DE7: 456.8 | DF7: 466.28 | DG7: 466.38 | DH7: 460.62 | DI7: 466.06 | DJ7: 474.07 | DK7: 474.99 | DL7: 472.72 | DM7: 491.69 | DN7: 527.72 | DO7: 535.18 | DP7: 544.54 | DQ7: 552.71 | DR7: 526.55 | DS7: 533.92 | DT7: 540.22 | DU7: 556.47 | DV7: 561.41 | DW7: 554.02 | DX7: 542.69 | DY7: 555.41 | DZ7: 560.41 | EA7: 579.98 | EB7: 574.3 | EC7: 582.25 | ED7: 593.6 | EE7: 604.57 | EF7: 607.73 | EG7: 624.55 | EH7: 627.07 | EI7: 611.92 | EJ7: 596.54 | EK7: 586.14 | EL7: 570.43 | EM7: 588.98 | EN7: 582.29 | EO7: 569.85 | EP7: 581.43 | EQ7: 590.6 | ER7: 595.8 | ES7: 601.6 | ET7: 597.48 | EU7: 586.42 | EV7: 581.99 | EW7: 566.03 | EX7: 562.55 | EY7: 577.75 | EZ7: 587.86 | FA7: 582.74 | FB7: 609.83 | FC7: 598.22 | FD7: 612.19 | FE7: 614.24 | FF7: 617.83 | FG7: 621.96 | FH7: 614.88 | FI7: 621.95 | FJ7: 624 | FK7: 641.43 | FL7: 641.23 | FM7: 649.21 | FN7: 644.2 | FO7: 643.02 | FP7: 655.68 | FQ7: 654.25 | FR7: 640.25 | FS7: 631.28 | FT7: 640.98 | FU7: 653.2 | FV7: 655.46 | FW7: 658.28 | FX7: 652.4 | FY7: 656.98 | FZ7: 654.12 | GA7: 654.12 | GB7: 665.54 | GC7: 668.41 | GD7: 691.73 | GE7: 695.59 | GF7: 703.09
A8: 2 | B8: Dow Jones (New York) | C8: 11015.69 | D8: 10825.17 | E8: 11022.06 | F8: 11143.13 | G8: 10365.45 | H8: 9955.5 | I8: 9258.1 | J8: 9310.99 | K8: 8577.91 | L8: 8979.26 | M8: 8852.22 | N8: 9265.43 | O8: 9033.66 | P8: 8519.21 | Q8: 8378.95 | R8: 9065.12 | S8: 8990.96 | T8: 9180.69 | U8: 9325.01 | V8: 9625.28 | W8: 9139.27 | X8: 8695.79 | Y8: 8943.81 | Z8: 8870.54 | AA8: 8693.96 | AB8: 8282.66 | AC8: 8835.25 | AD8: 8497.31 | AE8: 8273.58 | AF8: 8424.75 | AG8: 7997.28 | AH8: 7552.29 | AI8: 8046.42 | AJ8: 8479.47 | AK8: 8726.61 | AL8: 8829.04 | AM8: 8149.09 | AN8: 8419.09 | AO8: 8591.69 | AP8: 8376.24 | AQ8: 8691.33 | AR8: 8565.09 | AS8: 8629.68 | AT8: 8564.53 | AU8: 8924.14 | AV8: 8824.34 | AW8: 8604.99 | AX8: 8579.11 | AY8: 8519.77 | AZ8: 8468.48 | BA8: 8952.89 | BB8: 9015.1 | BC8: 8769.7 | BD8: 8742.46 | BE8: 8599.18 | BF8: 8448.56 | BG8: 8200.14 | BH8: 8212.49 | BI8: 8281.22 | BJ8: 7949.09 | BK8: 8228.1 | BL8: 8122.8 | BM8: 8077.56 | BN8: 8149.01 | BO8: 8000.86 | BP8: 8078.36 | BQ8: 7956.66 | BR8: 8063.07 | BS8: 8280.59 | BT8: 7888.88 | BU8: 7932.76 | BV8: 7850.41 | BW8: 7552.6 | BX8: 7555.63 | BY8: 7465.95 | BZ8: 7365.67 | CA8: 7114.78 | CB8: 7350.94 | CC8: 7270.89 | CD8: 7182.08 | CE8: 7062.93 | CF8: 6763.29 | CG8: 6726.02 | CH8: 6875.84 | CI8: 6594.44 | CJ8: 6626.94 | CK8: 6926.49 | CL8: 6930.4 | CM8: 7170.06 | CN8: 7223.98 | CO8: 7216.97 | CP8: 7395.7 | CQ8: 7486.58 | CR8: 7400.8 | CS8: 7775.86 | CT8: 7659.97 | CU8: 7749.81 | CV8: 7776.18 | CW8: 7522.02 | CX8: 7608.92 | CY8: 7761.6 | CZ8: 7978.08 | DA8: 8017.59 | DB8: 7789.56 | DC8: 7837.11 | DD8: 8125.43 | DE8: 8131.33 | DF8: 7841.73 | DG8: 7969.56 | DH8: 7886.57 | DI8: 7957.06 | DJ8: 8076.29 | DK8: 8025 | DL8: 8016.95 | DM8: 8168.12 | DN8: 8409.85 | DO8: 8418.77 | DP8: 8469.11 | DQ8: 8284.89 | DR8: 8331.32 | DS8: 8268.64 | DT8: 8504.08 | DU8: 8474.85 | DV8: 8422.04 | DW8: 8277.32 | DX8: 8473.49 | DY8: 8300.02 | DZ8: 8500.33 | EA8: 8721.44 | EB8: 8740.87 | EC8: 8675.28 | ED8: 8750.24 | EE8: 8763.13 | EF8: 8763.06 | EG8: 8739.02 | EH8: 8770.92 | EI8: 8612.13 | EJ8: 8504.67 | EK8: 8497.18 | EL8: 8555.6 | EM8: 8539.73 | EN8: 8339.01 | EO8: 8322.91 | EP8: 8299.86 | EQ8: 8472.4 | ER8: 8438.39 | ES8: 8529.38 | ET8: 8447 | EU8: 8280.74 | EV8: 8183.17 | EW8: 8146.52 | EX8: 8331.68 | EY8: 8359.49 | EZ8: 8616.21 | FA8: 8711.82 | FB8: 8915.94 | FC8: 8881.26 | FD8: 9069.29 | FE8: 9093.24 | FF8: 9108.51 | FG8: 9096.72 | FH8: 9070.72 | FI8: 9154.46 | FJ8: 9171.61 | FK8: 9286.56 | FL8: 9320.19 | FM8: 9256.26 | FN8: 9370.07 | FO8: 9241.45 | FP8: 9398.19 | FQ8: 9321.4 | FR8: 9217.94 | FS8: 9279.16 | FT8: 9350.05 | FU8: 9509.28 | FV8: 9539.29 | FW8: 9543.52 | FX8: 9580.63 | FY8: 9544.2 | FZ8: 9310.6 | GA8: 9280.67 | GB8: 9344.61 | GC8: 9441.27 | GD8: 9497.34 | GE8: 9547.22 | GF8: 9627.48
A9: 3 | B9: Nasdaq (New York) | C9: 2178.98 | D9: 2155.68 | E9: 2186.57 | F9: 2183.34 | G9: 1983.73 | H9: 1862.96 | I9: 1740.33 | J9: 1779.01 | K9: 1628.33 | L9: 1717.71 | M9: 1711.29 | N9: 1770.03 | O9: 1696.68 | P9: 1615.75 | Q9: 1552.03 | R9: 1649.47 | S9: 1657.21 | T9: 1698.52 | U9: 1720.95 | V9: 1780.12 | W9: 1681.64 | X9: 1608.7 | Y9: 1647.4 | Z9: 1616.74 | AA9: 1580.9 | AB9: 1499.21 | AC9: 1596.7 | AD9: 1516.85 | AE9: 1482.05 | AF9: 1483.27 | AG9: 1386.42 | AH9: 1316.12 | AI9: 1384.35 | AJ9: 1464.73 | AK9: 1532.1 | AL9: 1535.57 | AM9: 1398.07 | AN9: 1449.8 | AO9: 1492.38 | AP9: 1445.56 | AQ9: 1547.34 | AR9: 1507.88 | AS9: 1540.72 | AT9: 1508.34 | AU9: 1589.89 | AV9: 1579.31 | AW9: 1552.37 | AX9: 1564.32 | AY9: 1532.35 | AZ9: 1524.9 | BA9: 1628.03 | BB9: 1652.38 | BC9: 1599.06 | BD9: 1617.01 | BE9: 1571.59 | BF9: 1546.46 | BG9: 1489.64 | BH9: 1511.84 | BI9: 1529.33 | BJ9: 1440.86 | BK9: 1507.07 | BL9: 1465.49 | BM9: 1477.29 | BN9: 1507.84 | BO9: 1476.42 | BP9: 1516.3 | BQ9: 1515.05 | BR9: 1546.24 | BS9: 1591.71 | BT9: 1524.73 | BU9: 1541.71 | BV9: 1534.36 | BW9: 1470.66 | BX9: 1467.97 | BY9: 1442.82 | BZ9: 1441.23 | CA9: 1387.72 | CB9: 1441.83 | CC9: 1425.43 | CD9: 1391.47 | CE9: 1377.84 | CF9: 1322.85 | CG9: 1321.01 | CH9: 1353.74 | CI9: 1299.59 | CJ9: 1293.85 | CK9: 1358.28 | CL9: 1371.64 | CM9: 1426.1 | CN9: 1431.5 | CO9: 1404.02 | CP9: 1462.11 | CQ9: 1491.22 | CR9: 1483.48 | CS9: 1555.77 | CT9: 1516.52 | CU9: 1528.95 | CV9: 1545.2 | CW9: 1501.8 | CX9: 1528.59 | CY9: 1551.6 | CZ9: 1602.63 | DA9: 1621.87 | DB9: 1561.61 | DC9: 1590.66 | DD9: 1670.44 | DE9: 1673.07 | DF9: 1608.21 | DG9: 1643.85 | DH9: 1646.12 | DI9: 1652.21 | DJ9: 1694.29 | DK9: 1679.41 | DL9: 1673.81 | DM9: 1717.3 | DN9: 1716.24 | DO9: 1731.24 | DP9: 1715.92 | DQ9: 1664.19 | DR9: 1689.21 | DS9: 1680.14 | DT9: 1732.36 | DU9: 1734.54 | DV9: 1727.84 | DW9: 1692.01 | DX9: 1750.43 | DY9: 1731.08 | DZ9: 1774.33 | EA9: 1828.68 | EB9: 1836.8 | EC9: 1825.92 | ED9: 1850.02 | EE9: 1849.42 | EF9: 1860.13 | EG9: 1853.08 | EH9: 1862.37 | EI9: 1816.38 | EJ9: 1796.18 | EK9: 1808.06 | EL9: 1807.72 | EM9: 1827.47 | EN9: 1766.19 | EO9: 1764.92 | EP9: 1792.34 | EQ9: 1829.54 | ER9: 1838.22 | ES9: 1844.06 | ET9: 1855.68 | EU9: 1796.52 | EV9: 1752.55 | EW9: 1756.03 | EX9: 1793.21 | EY9: 1799.73 | EZ9: 1862.9 | FA9: 1885.03 | FB9: 1916.2 | FC9: 1926.38 | FD9: 1973.6 | FE9: 1965.96 | FF9: 1967.89 | FG9: 1975.51 | FH9: 1967.76 | FI9: 1984.3 | FJ9: 1978.5 | FK9: 2008.61 | FL9: 2011.31 | FM9: 1973.16 | FN9: 2000.25 | FO9: 1969.73 | FP9: 2009.35 | FQ9: 1985.52 | FR9: 1955.92 | FS9: 1969.24 | FT9: 1989.22 | FU9: 2017.98 | FV9: 2024.23 | FW9: 2024.43 | FX9: 2027.73 | FY9: 2028.77 | FZ9: 1968.89 | GA9: 1967.07 | GB9: 1983.2 | GC9: 2018.78 | GD9: 2037.77 | GE9: 2060.39 | GF9: 2084.02
A10: 4 | B10: Financial Times (London) | C10: 5236.26 | D10: 5095.57 | E10: 5197.02 | F10: 5088.47 | G10: 4818.77 | H10: 4589.19 | I10: 4366.69 | J10: 4394.21 | K10: 4079.59 | L10: 3861.39 | M10: 4063.01 | N10: 4282.67 | O10: 4229.73 | P10: 4040.89 | Q10: 3883.36 | R10: 3926.38 | S10: 4242.54 | T10: 4291.65 | U10: 4377.34 | V10: 4639.5 | W10: 4530.73 | X10: 4272.41 | Y10: 4364.96 | Z10: 4403.92 | AA10: 4246.69 | AB10: 4182.02 | AC10: 4169.21 | AD10: 4232.97 | AE10: 4132.16 | AF10: 4208.55 | AG10: 4005.68 | AH10: 3874.99 | AI10: 3780.96 | AJ10: 4171.25 | AK10: 4152.69 | AL10: 4288.01 | AM10: 4065.49 | AN10: 4122.86 | AO10: 4169.96 | AP10: 4163.61 | AQ10: 4381.26 | AR10: 4388.69 | AS10: 4280.35 | AT10: 4277.56 | AU10: 4309.08 | AV10: 4324.19 | AW10: 4330.66 | AX10: 4286.93 | AY10: 4249.16 | AZ10: 4216.59 | BA10: 4579.64 | BB10: 4638.92 | BC10: 4507.51 | BD10: 4505.37 | BE10: 4448.54 | BF10: 4399.15 | BG10: 4180.64 | BH10: 4121.11 | BI10: 4147.06 | BJ10: 4091.4 | BK10: 4059.88 | BL10: 4052.23 | BM10: 4052.47 | BN10: 4190.11 | BO10: 4149.64 | BP10: 4164.46 | BQ10: 4228.6 | BR10: 4228.93 | BS10: 4291.87 | BT10: 4213.08 | BU10: 4202.24 | BV10: 4189.59 | BW10: 4034.13 | BX10: 4006.83 | BY10: 4018.37 | BZ10: 3889.06 | CA10: 3850.73 | CB10: 3816.44 | CC10: 3848.98 | CD10: 3915.64 | CE10: 3830.09 | CF10: 3625.83 | CG10: 3512.09 | CH10: 3645.87 | CI10: 3529.86 | CJ10: 3530.73 | CK10: 3715.23 | CL10: 3693.81 | CM10: 3712.06 | CN10: 3753.68 | CO10: 3863.99 | CP10: 3857.1 | CQ10: 3804.99 | CR10: 3816.93 | CS10: 3952.81 | CT10: 3911.46 | CU10: 3900.25 | CV10: 3898.85 | CW10: 3762.91 | CX10: 3926.14 | CY10: 3955.61 | CZ10: 4124.97 | DA10: 4029.67 | DB10: 3930.52 | DC10: 3925.52 | DD10: 4052.98 | DE10: 4092.8 | DF10: 3990.86 | DG10: 3987.46 | DH10: 4030.66 | DI10: 4018.23 | DJ10: 4155.99 | DK10: 4167.01 | DL10: 4096.4 | DM10: 4243.71 | DN10: 4398.68 | DO10: 4435.5 | DP10: 4425.54 | DQ10: 4331.37 | DR10: 4362.58 | DS10: 4348.11 | DT10: 4446.45 | DU10: 4482.25 | DV10: 4468.41 | DW10: 4365.29 | DX10: 4411.72 | DY10: 4416.23 | DZ10: 4417.94 | EA10: 4506.19 | EB10: 4477.02 | EC10: 4383.42 | ED10: 4386.94 | EE10: 4438.56 | EF10: 4404.79 | EG10: 4436.75 | EH10: 4461.87 | EI10: 4326.01 | EJ10: 4328.57 | EK10: 4278.46 | EL10: 4280.86 | EM10: 4345.93 | EN10: 4234.05 | EO10: 4230.02 | EP10: 4279.98 | EQ10: 4252.57 | ER10: 4241.01 | ES10: 4294.03 | ET10: 4249.21 | EU10: 4234.27 | EV10: 4158.66 | EW10: 4127.17 | EX10: 4202.13 | EY10: 4237.68 | EZ10: 4346.46 | FA10: 4361.84 | FB10: 4481.17 | FC10: 4493.73 | FD10: 4559.8 | FE10: 4576.61 | FF10: 4586.13 | FG10: 4528.84 | FH10: 4547.53 | FI10: 4631.61 | FJ10: 4608.36 | FK10: 4682.46 | FL10: 4671.37 | FM10: 4690.53 | FN10: 4731.56 | FO10: 4671.34 | FP10: 4755.46 | FQ10: 4713.97 | FR10: 4685.78 | FS10: 4689.67 | FT10: 4756.58 | FU10: 4896.23 | FV10: 4916.8 | FW10: 4890.58 | FX10: 4869.35 | FY10: 4908.9 | FZ10: 4819.7 | GA10: 4817.55 | GB10: 4796.75 | GC10: 4851.7 | GD10: 4947.34 | GE10: 5004.3 | GF10: 4987.68
A11: 5 | B11: Nikkei (Japan) | C11: 12090.59 | D11: 12115.03 | E11: 12006.53 | F11: 11893.16 | G11: 11743.61 | H11: 10473.09 | I11: 9203.32 | J11: 9447.57 | K11: 9547.47 | L11: 8458.45 | M11: 8693.82 | N11: 9005.59 | O11: 9306.25 | P11: 8674.69 | Q11: 7649.08 | R11: 7621.92 | S11: 8211.9 | T11: 9029.76 | U11: 8576.98 | V11: 9114.6 | W11: 9521.24 | X11: 8899.14 | Y11: 8583 | Z11: 9081.43 | AA11: 8809.3 | AB11: 8695.51 | AC11: 8238.64 | AD11: 8462.39 | AE11: 8522.58 | AF11: 8328.41 | AG11: 8273.22 | AH11: 7703.04 | AI11: 7910.79 | AJ11: 8323.93 | AK11: 8213.22 | AL11: 8512.27 | AM11: 8397.22 | AN11: 7863.69 | AO11: 8004.1 | AP11: 7924.24 | AQ11: 8395.87 | AR11: 8720.55 | AS11: 8235.87 | AT11: 8664.66 | AU11: 8568.02 | AV11: 8612.52 | AW11: 8667.23 | AX11: 8588.52 | AY11: 8723.78 | AZ11: 8517.1 | BA11: 9043.12 | BB11: 9080.84 | BC11: 9239.24 | BD11: 8876.42 | BE11: 8836.8 | BF11: 8413.91 | BG11: 8438.45 | BH11: 8023.31 | BI11: 8230.15 | BJ11: 8065.79 | BK11: 7901.64 | BL11: 8051.74 | BM11: 7745.25 | BN11: 8251.24 | BO11: 7994.05 | BP11: 7825.51 | BQ11: 8038.94 | BR11: 7949.65 | BS11: 8076.62 | BT11: 7945.94 | BU11: 7705.36 | BV11: 7779.4 | BW11: 7645.51 | BX11: 7534.44 | BY11: 7557.65 | BZ11: 7416.38 | CA11: 7376.16 | CB11: 7268.56 | CC11: 7461.22 | CD11: 7457.93 | CE11: 7568.42 | CF11: 7280.15 | CG11: 7229.72 | CH11: 7290.96 | CI11: 7433.49 | CJ11: 7173.1 | CK11: 7054.98 | CL11: 7376.12 | CM11: 7198.25 | CN11: 7569.28 | CO11: 7704.15 | CP11: 7949.13 | CQ11: 7972.17 | CR11: 7945.96 | CS11: 8215.53 | CT11: 8488.3 | CU11: 8479.99 | CV11: 8626.97 | CW11: 8236.08 | CX11: 8109.53 | CY11: 8351.91 | CZ11: 8719.78 | DA11: 8749.84 | DB11: 8832.85 | DC11: 8595.01 | DD11: 8755.26 | DE11: 8907.58 | DF11: 8924.75 | DG11: 8711.33 | DH11: 8727.3 | DI11: 8847.01 | DJ11: 8707.99 | DK11: 8726.34 | DL11: 8493.77 | DM11: 8828.26 | DN11: 9385.7 | DO11: 9451.98 | DP11: 9298.61 | DQ11: 9340.49 | DR11: 9093.73 | DS11: 9265.02 | DT11: 9038.69 | DU11: 9290.29 | DV11: 9344.64 | DW11: 9225.81 | DX11: 9310.81 | DY11: 9438.77 | DZ11: 9522.5 | EA11: 9677.75 | EB11: 9704.31 | EC11: 9741.67 | ED11: 9668.96 | EE11: 9768.01 | EF11: 9786.82 | EG11: 9991.49 | EH11: 9981.33 | EI11: 10039.67 | EJ11: 9752.88 | EK11: 9840.85 | EL11: 9703.72 | EM11: 9786.26 | EN11: 9826.27 | EO11: 9549.61 | EP11: 9590.32 | EQ11: 9796.08 | ER11: 9877.39 | ES11: 9783.47 | ET11: 9958.44 | EU11: 9876.15 | EV11: 9291.06 | EW11: 9287.28 | EX11: 9050.33 | EY11: 9261.81 | EZ11: 9269.25 | FA11: 9344.16 | FB11: 9652.02 | FC11: 9723.16 | FD11: 9792.94 | FE11: 9944.55 | FF11: 10088.66 | FG11: 10087.26 | FH11: 10113.24 | FI11: 10165.21 | FJ11: 10356.83 | FK11: 10352.47 | FL11: 10375.01 | FM11: 10388.09 | FN11: 10412.09 | FO11: 10585.46 | FP11: 10517.19 | FQ11: 10597.33 | FR11: 10284.96 | FS11: 10204 | FT11: 10383.41 | FU11: 10581.05 | FV11: 10497.36 | FW11: 10639.71 | FX11: 10473.97 | FY11: 10534.14 | FZ11: 10530.06 | GA11: 10280.46 | GB11: 10214.64 | GC11: 10187.11 | GD11: 10393.23 | GE11: 10312.14 | GF11: 10513.67
A12: 6 | B12: Hang Seng (Hong Kong) | C12: 19632.2 | D12: 18961.99 | E12: 18934.43 | F12: 18682.09 | G12: 17880.68 | H12: 16803.76 | I12: 15431.73 | J12: 16832.88 | K12: 15998.3 | L12: 15230.52 | M12: 14554.21 | N12: 15323.01 | O12: 15041.17 | P12: 14266.6 | Q12: 12618.38 | R12: 12596.29 | S12: 12702.07 | T12: 14329.85 | U12: 13968.67 | V12: 14384.34 | W12: 14840.16 | X12: 13790.04 | Y12: 14243.43 | Z12: 14744.63 | AA12: 14040.9 | AB12: 13939.09 | AC12: 13221.35 | AD12: 13542.66 | AE12: 13529.53 | AF12: 12915.89 | AG12: 12815.8 | AH12: 12298.56 | AI12: 12659.2 | AJ12: 12878.6 | AK12: 13369.45 | AL12: 13888.24 | AM12: 14108.84 | AN12: 13405.85 | AO12: 13588.66 | AP12: 13509.78 | AQ12: 14753.22 | AR12: 15613.9 | AS12: 14758.39 | AT12: 15046.95 | AU12: 15130.21 | AV12: 15460.52 | AW12: 15497.81 | AX12: 15127.51 | AY12: 14622.39 | AZ12: 14184.14 | BA12: 15563.31 | BB12: 15509.51 | BC12: 14987.46 | BD12: 14415.91 | BE12: 14377.44 | BF12: 13668.05 | BG12: 13704.61 | BH12: 13242.96 | BI12: 13255.51 | BJ12: 12959.77 | BK12: 12583.63 | BL12: 12657.99 | BM12: 12578.6 | BN12: 13154.43 | BO12: 13278.21 | BP12: 12776.89 | BQ12: 13063.89 | BR12: 13178.9 | BS12: 13655.04 | BT12: 13880.64 | BU12: 13228.3 | BV12: 13554.67 | BW12: 12945.4 | BX12: 13016 | BY12: 13023.36 | BZ12: 12699.17 | CA12: 13175.1 | CB12: 12798.52 | CC12: 13005.08 | CD12: 12894.94 | CE12: 12811.57 | CF12: 12317.46 | CG12: 12033.88 | CH12: 12331.15 | CI12: 12211.24 | CJ12: 11921.52 | CK12: 11694.05 | CL12: 11930.66 | CM12: 12001.53 | CN12: 12525.8 | CO12: 12976.71 | CP12: 12878.09 | CQ12: 13117.17 | CR12: 13130.92 | CS12: 13447.42 | CT12: 13910.34 | CU12: 13622.11 | CV12: 14119.5 | CW12: 13456.33 | CX12: 13576.02 | CY12: 13519.54 | CZ12: 14521.97 | DA12: 14545.69 | DB12: 14928.97 | DC12: 14474.86 | DD12: 15582.99 | DE12: 15601.27 | DF12: 15750.91 | DG12: 15285.89 | DH12: 14878.45 | DI12: 15214.46 | DJ12: 15258.85 | DK12: 14840.42 | DL12: 14555.11 | DM12: 15520.99 | DN12: 17217.89 | DO12: 17087.95 | DP12: 17153.64 | DQ12: 17059.62 | DR12: 16541.69 | DS12: 16790.7 | DT12: 17022.91 | DU12: 17544.03 | DV12: 17475.84 | DW12: 17062.52 | DX12: 16991.56 | DY12: 17885.27 | DZ12: 18171 | EA12: 18888.59 | EB12: 18389.08 | EC12: 18576.47 | ED12: 18502.77 | EE12: 18679.53 | EF12: 18058.49 | EG12: 18785.66 | EH12: 18791.03 | EI12: 18498.96 | EJ12: 18165.5 | EK12: 18084.6 | EL12: 17776.66 | EM12: 17920.93 | EN12: 18059.55 | EO12: 17538.37 | EP12: 17892.15 | EQ12: 18275.03 | ER12: 18600.26 | ES12: 18528.51 | ET12: 18378.73 | EU12: 18178.05 | EV12: 17790.59 | EW12: 17708.42 | EX12: 17254.63 | EY12: 17885.73 | EZ12: 18258.66 | FA12: 18361.87 | FB12: 19501.73 | FC12: 19248.17 | FD12: 19817.7 | FE12: 19982.79 | FF12: 20251.62 | FG12: 20624.54 | FH12: 20135.5 | FI12: 20234.08 | FJ12: 20573.33 | FK12: 20807.26 | FL12: 20796.43 | FM12: 20899.24 | FN12: 20375.37 | FO12: 21074.21 | FP12: 20861.3 | FQ12: 20893.33 | FR12: 20306.27 | FS12: 19954.23 | FT12: 20328.86 | FU12: 20535.94 | FV12: 20435.24 | FW12: 20456.32 | FX12: 20242.75 | FY12: 20098.62 | FZ12: 19872.3 | GA12: 19522 | GB12: 19761.68 | GC12: 20318.62 | GD12: 21069.81 | GE12: 20851.04 | GF12: 21069.56
A13: 7 | B13: Straits Times (Singapore) | C13: 2544.13 | D13: 2477.6 | E13: 2444.24 | F13: 2411.46 | G13: 2361.34 | H13: 2168.32 | I13: 2033.61 | J13: 2128.31 | K13: 2059.39 | L13: 1951.2 | M13: 1878.51 | N13: 1939.22 | O13: 1920.79 | P13: 1821.13 | Q13: 1600.28 | R13: 1666.49 | S13: 1671.2 | T13: 1801.91 | U13: 1794.2 | V13: 1829.69 | W13: 1868.82 | X13: 1819.2 | Y13: 1863.49 | Z13: 1885.02 | AA13: 1806.96 | AB13: 1784.01 | AC13: 1755.47 | AD13: 1759.14 | AE13: 1749.67 | AF13: 1692.55 | AG13: 1665.59 | AH13: 1613.95 | AI13: 1662.1 | AJ13: 1653.25 | AK13: 1711.13 | AL13: 1732.57 | AM13: 1690.23 | AN13: 1639.18 | AO13: 1640.57 | AP13: 1643.68 | AQ13: 1754.58 | AR13: 1794.16 | AS13: 1740.34 | AT13: 1774.76 | AU13: 1782.09 | AV13: 1779.29 | AW13: 1798.95 | AX13: 1795.47 | AY13: 1745.63 | AZ13: 1736.99 | BA13: 1924.87 | BB13: 1913.66 | BC13: 1880.58 | BD13: 1827.61 | BE13: 1806.02 | BF13: 1761.82 | BG13: 1764.72 | BH13: 1704.06 | BI13: 1730.45 | BJ13: 1723.37 | BK13: 1704.52 | BL13: 1708.77 | BM13: 1685.23 | BN13: 1766.72 | BO13: 1746.47 | BP13: 1711.92 | BQ13: 1707.39 | BR13: 1704.6 | BS13: 1715.35 | BT13: 1703.29 | BU13: 1684.96 | BV13: 1705.64 | BW13: 1637.92 | BX13: 1651.06 | BY13: 1629.35 | BZ13: 1594.94 | CA13: 1630.69 | CB13: 1614.44 | CC13: 1616.79 | CD13: 1617.44 | CE13: 1594.87 | CF13: 1533.4 | CG13: 1528.51 | CH13: 1544.34 | CI13: 1518.64 | CJ13: 1513.12 | CK13: 1485.75 | CL13: 1505.51 | CM13: 1493.53 | CN13: 1577.52 | CO13: 1586.32 | CP13: 1559.03 | CQ13: 1575.94 | CR13: 1584.86 | CS13: 1664.08 | CT13: 1706.34 | CU13: 1691.68 | CV13: 1745.66 | CW13: 1673.14 | CX13: 1699.99 | CY13: 1702.26 | CZ13: 1803.34 | DA13: 1820.87 | DB13: 1802.39 | DC13: 1783.96 | DD13: 1891.75 | DE13: 1896.56 | DF13: 1874.85 | DG13: 1887.25 | DH13: 1843.41 | DI13: 1859.98 | DJ13: 1852.85 | DK13: 1818.61 | DL13: 1808.41 | DM13: 1920.28 | DN13: 2241.6 | DO13: 2166.1 | DP13: 2178.13 | DQ13: 2185.29 | DR13: 2122.11 | DS13: 2139.78 | DT13: 2172.92 | DU13: 2260.36 | DV13: 2269.24 | DW13: 2245.27 | DX13: 2238.79 | DY13: 2306.08 | DZ13: 2329.08 | EA13: 2380.07 | EB13: 2371.59 | EC13: 2383.82 | ED13: 2362.74 | EE13: 2396.35 | EF13: 2349.87 | EG13: 2391.22 | EH13: 2381.81 | EI13: 2316.56 | EJ13: 2288.16 | EK13: 2271.45 | EL13: 2237.2 | EM13: 2273.18 | EN13: 2266.92 | EO13: 2226.1 | EP13: 2278.96 | EQ13: 2302.46 | ER13: 2317.95 | ES13: 2317.17 | ET13: 2333.14 | EU13: 2320.82 | EV13: 2307.61 | EW13: 2307.98 | EX13: 2266.64 | EY13: 2310.55 | EZ13: 2389.42 | FA13: 2401.02 | FB13: 2454.33 | FC13: 2450.83 | FD13: 2484.9 | FE13: 2533.43 | FF13: 2576.66 | FG13: 2624.04 | FH13: 2604.06 | FI13: 2636.19 | FJ13: 2659.2 | FK13: 2681.64 | FL13: 2648.76 | FM13: 2601.5 | FN13: 2549.35 | FO13: 2597.3 | FP13: 2614.18 | FQ13: 2631.51 | FR13: 2567.72 | FS13: 2522.78 | FT13: 2559.57 | FU13: 2612.33 | FV13: 2618.76 | FW13: 2628.43 | FX13: 2642.23 | FY13: 2642.8 | FZ13: 2596.39 | GA13: 2569.93 | GB13: 2598.36 | GC13: 2622.69 | GD13: 2660.91 | GE13: 2650.48 | GF13: 2682.02
A14: 8 | B14: KLSE Composite (Malaysia) | C14: 1028.62 | D14: 1028.4 | E14: 1024.74 | F14: 1020.53 | G14: 1019.72 | H14: 996.84 | I14: 970.19 | J14: 966.06 | K14: 949.88 | L14: 920.02 | M14: 905.23 | N14: 909.51 | O14: 918.16 | P14: 904.28 | Q14: 859.11 | R14: 832.44 | S14: 829.41 | T14: 853.56 | U14: 863.61 | V14: 905.58 | W14: 915.24 | X14: 895.95 | Y14: 893.95 | Z14: 904.24 | AA14: 894.6 | AB14: 890.34 | AC14: 880.59 | AD14: 881.65 | AE14: 884.06 | AF14: 883.09 | AG14: 877.65 | AH14: 865.32 | AI14: 866.88 | AJ14: 860.18 | AK14: 856.37 | AL14: 866.14 | AM14: 848.43 | AN14: 845.75 | AO14: 847.53 | AP14: 846.86 | AQ14: 835.17 | AR14: 860.68 | AS14: 852.27 | AT14: 846.47 | AU14: 854.8 | AV14: 862.5 | AW14: 880.5 | AX14: 876.4 | AY14: 873.43 | AZ14: 869.62 | BA14: 920.66 | BB14: 922.23 | BC14: 927.62 | BD14: 910.52 | BE14: 919.07 | BF14: 913.7 | BG14: 913.46 | BH14: 897.45 | BI14: 896.47 | BJ14: 880.37 | BK14: 873.41 | BL14: 879.02 | BM14: 872.69 | BN14: 883.16 | BO14: 884.45 | BP14: 879.67 | BQ14: 876.8 | BR14: 879.95 | BS14: 896.64 | BT14: 903.52 | BU14: 894.6 | BV14: 909.84 | BW14: 898.53 | BX14: 895.23 | BY14: 899.59 | BZ14: 889.71 | CA14: 887.83 | CB14: 894.07 | CC14: 896.51 | CD14: 893.42 | CE14: 890.67 | CF14: 876.56 | CG14: 868.74 | CH14: 866.93 | CI14: 869.24 | CJ14: 858.22 | CK14: 855.25 | CL14: 850.37 | CM14: 838.39 | CN14: 843.45 | CO14: 840.88 | CP14: 841.87 | CQ14: 847.96 | CR14: 852.18 | CS14: 878.3 | CT14: 877.92 | CU14: 878.81 | CV14: 885.43 | CW14: 869.34 | CX14: 872.55 | CY14: 884.18 | CZ14: 905.07 | DA14: 907.01 | DB14: 919.84 | DC14: 907.87 | DD14: 961.28 | DE14: 965.17 | DF14: 968.37 | DG14: 966.6 | DH14: 968.58 | DI14: 978.64 | DJ14: 992.68 | DK14: 980.12 | DL14: 965.7 | DM14: 990.74 | DN14: 1023.47 | DO14: 1025.5 | DP14: 1023.02 | DQ14: 1022.84 | DR14: 1011.99 | DS14: 1014.21 | DT14: 1012.01 | DU14: 1023.49 | DV14: 1042.63 | DW14: 1045.26 | DX14: 1051.63 | DY14: 1047.68 | DZ14: 1044.11 | EA14: 1061.8 | EB14: 1063.62 | EC14: 1055.4 | ED14: 1063.97 | EE14: 1075.5 | EF14: 1071.79 | EG14: 1082.97 | EH14: 1088.96 | EI14: 1091.17 | EJ14: 1074.12 | EK14: 1070.9 | EL14: 1054.41 | EM14: 1059.5 | EN14: 1045.97 | EO14: 1044.48 | EP14: 1057.85 | EQ14: 1074.11 | ER14: 1075.77 | ES14: 1075.84 | ET14: 1075.24 | EU14: 1078.71 | EV14: 1065.68 | EW14: 1067.76 | EX14: 1063.66 | EY14: 1079.63 | EZ14: 1097.24 | FA14: 1108.88 | FB14: 1134.7 | FC14: 1148.7 | FD14: 1152.15 | FE14: 1155.88 | FF14: 1156.43 | FG14: 1172.38 | FH14: 1164.48 | FI14: 1160.66 | FJ14: 1174.9 | FK14: 1171.31 | FL14: 1179.88 | FM14: 1183.97 | FN14: 1184.88 | FO14: 1186.28 | FP14: 1186.19 | FQ14: 1188.57 | FR14: 1164.41 | FS14: 1155.53 | FT14: 1163.43 | FU14: 1174.49 | FV14: 1171.09 | FW14: 1172.56 | FX14: 1176.9 | FY14: 1174.27 | FZ14: 1171.28 | GA14: 1168.01 | GB14: 1173.66 | GC14: 1178.74 | GD14: 1202.07 | GE14: 1196.46 | GF14: 1201.28
A15: 9 | B15: JSX Composite (Indonesia) | C15: 1897.34 | D15: 1883.55 | E15: 1870.06 | F15: 1846.09 | G15: 1832.51 | H15: 1648.74 | I15: 1451.67 | J15: 1555.97 | K15: 1520.41 | L15: 1463.25 | M15: 1399.42 | N15: 1426.94 | O15: 1440.15 | P15: 1379.74 | Q15: 1244.86 | R15: 1111.39 | S15: 1113.62 | T15: 1173.86 | U15: 1256.7 | V15: 1369.79 | W15: 1366.28 | X15: 1307.9 | Y15: 1338.36 | Z15: 1340.68 | AA15: 1336.56 | AB15: 1326.62 | AC15: 1259.71 | AD15: 1264.38 | AE15: 1236.93 | AF15: 1189.86 | AG15: 1180.36 | AH15: 1154.97 | AI15: 1146.28 | AJ15: 1154.14 | AK15: 1193.15 | AL15: 1241.54 | AM15: 1223.13 | AN15: 1191.36 | AO15: 1192.53 | AP15: 1205.32 | AQ15: 1266.12 | AR15: 1316.69 | AS15: 1262.97 | AT15: 1359.28 | AU15: 1342.84 | AV15: 1363.98 | AW15: 1351.76 | AX15: 1348.29 | AY15: 1345.31 | AZ15: 1336.61 | BA15: 1437.34 | BB15: 1435.54 | BC15: 1421.47 | BD15: 1402.66 | BE15: 1416.67 | BF15: 1399.73 | BG15: 1386.91 | BH15: 1343.49 | BI15: 1363.88 | BJ15: 1344.15 | BK15: 1321.45 | BL15: 1327.32 | BM15: 1315.59 | BN15: 1324.65 | BO15: 1332.67 | BP15: 1304.33 | BQ15: 1320.36 | BR15: 1328.08 | BS15: 1350.64 | BT15: 1332.13 | BU15: 1325.42 | BV15: 1338.74 | BW15: 1318.04 | BX15: 1330.61 | BY15: 1323.7 | BZ15: 1296.94 | CA15: 1312.44 | CB15: 1295.87 | CC15: 1300.11 | CD15: 1290.32 | CE15: 1285.48 | CF15: 1256.11 | CG15: 1264.82 | CH15: 1289.38 | CI15: 1288.07 | CJ15: 1286.69 | CK15: 1300.22 | CL15: 1314.52 | CM15: 1310.41 | CN15: 1327.44 | CO15: 1324.85 | CP15: 1312.09 | CQ15: 1322.84 | CR15: 1341.6 | CS15: 1406.65 | CT15: 1436.12 | CU15: 1419.97 | CV15: 1462.75 | CW15: 1419.09 | CX15: 1434.07 | CY15: 1461.75 | CZ15: 1499.73 | DA15: 1500.36 | DB15: 1490.86 | DC15: 1465.75 | DD15: 1625.09 | DE15: 1634.79 | DF15: 1661.85 | DG15: 1628.85 | DH15: 1615.23 | DI15: 1592.7 | DJ15: 1591.34 | DK15: 1576.08 | DL15: 1595.92 | DM15: 1722.77 | DN15: 1828.85 | DO15: 1830.74 | DP15: 1842.02 | DQ15: 1851.33 | DR15: 1785 | DS15: 1750.91 | DT15: 1803.57 | DU15: 1886.02 | DV15: 1885.72 | DW15: 1881.71 | DX15: 1857.59 | DY15: 1892.84 | DZ15: 1916.83 | EA15: 1998.58 | EB15: 1998.64 | EC15: 2010.91 | ED15: 2032.72 | EE15: 2078.93 | EF15: 2093.29 | EG15: 2108.81 | EH15: 2089.59 | EI15: 2069.88 | EJ15: 2030.37 | EK15: 2024.97 | EL15: 1950.99 | EM15: 1990.47 | EN15: 1975.03 | EO15: 1914.39 | EP15: 1995.67 | EQ15: 2044.17 | ER15: 2040.19 | ES15: 2033.72 | ET15: 2026.78 | EU15: 2065.75 | EV15: 2083.97 | EW15: 2063.09 | EX15: 2020.13 | EY15: 2056.58 | EZ15: 2123.28 | FA15: 2117.95 | FB15: 2146.55 | FC15: 2125.62 | FD15: 2160.72 | FE15: 2185.65 | FF15: 2209.1 | FG15: 2237.11 | FH15: 2225.81 | FI15: 2298.14 | FJ15: 2323.24 | FK15: 2338.8 | FL15: 2360.09 | FM15: 2359.98 | FN15: 2349.13 | FO15: 2399.28 | FP15: 2396.49 | FQ15: 2386.87 | FR15: 2336.99 | FS15: 2277.75 | FT15: 2328.64 | FU15: 2375.87 | FV15: 2380.52 | FW15: 2380.09 | FX15: 2356.06 | FY15: 2377.25 | FZ15: 2326.91 | GA15: 2285.93 | GB15: 2322.24 | GC15: 2322.74 | GD15: 2371.3 | GE15: 2383.34 | GF15: 2411.86
A16: 10 | B16: PSE Composite (Philippines) | C16: 2520.13 | D16: 2510.32 | E16: 2566.37 | F16: 2597.23 | G16: 2607.58 | H16: 2499.53 | I16: 2307.74 | J16: 2273.65 | K16: 2238.41 | L16: 2122.37 | M16: 2098.26 | N16: 2062.88 | O16: 2116.74 | P16: 2093.01 | Q16: 1953.49 | R16: 1704.41 | S16: 1780.64 | T16: 1864.93 | U16: 1951.09 | V16: 2003.04 | W16: 2006.21 | X16: 1941.62 | Y16: 1921.34 | Z16: 1938.97 | AA16: 1948.22 | AB16: 1948.72 | AC16: 1918.97 | AD16: 1978.05 | AE16: 1940 | AF16: 1873.6 | AG16: 1908.18 | AH16: 1842.33 | AI16: 1765.9 | AJ16: 1908.18 | AK16: 1932.91 | AL16: 1971.57 | AM16: 1903.05 | AN16: 1879.87 | AO16: 1905.28 | AP16: 1890.89 | AQ16: 1935.07 | AR16: 1933.12 | AS16: 1893.74 | AT16: 1913.26 | AU16: 1889.32 | AV16: 1904.56 | AW16: 1901.46 | AX16: 1903.53 | AY16: 1840.94 | AZ16: 1872.85 | BA16: 1974.69 | BB16: 1969.58 | BC16: 2003.89 | BD16: 1970.72 | BE16: 1984.88 | BF16: 1996.04 | BG16: 1984.92 | BH16: 1954.97 | BI16: 1950.13 | BJ16: 1897.93 | BK16: 1840.12 | BL16: 1863.52 | BM16: 1857.34 | BN16: 1860.69 | BO16: 1825.09 | BP16: 1826.13 | BQ16: 1847.55 | BR16: 1892.07 | BS16: 1942.48 | BT16: 1917.57 | BU16: 1924.1 | BV16: 1919.66 | BW16: 1899.9 | BX16: 1892.23 | BY16: 1899.8 | BZ16: 1881.44 | CA16: 1891.04 | CB16: 1869.59 | CC16: 1887.1 | CD16: 1880.38 | CE16: 1872.22 | CF16: 1856.43 | CG16: 1859.98 | CH16: 1885.92 | CI16: 1924.3 | CJ16: 1920.16 | CK16: 1873.22 | CL16: 1901.42 | CM16: 1879.67 | CN16: 1856.1 | CO16: 1769.67 | CP16: 1759.33 | CQ16: 1770.28 | CR16: 1780.26 | CS16: 1879.09 | CT16: 1917.69 | CU16: 1939.54 | CV16: 2040.25 | CW16: 2023.11 | CX16: 1986.22 | CY16: 1967.28 | CZ16: 1982.88 | DA16: 2028.59 | DB16: 2051.69 | DC16: 2072.81 | DD16: 2064.66 | DE16: 2094.13 | DF16: 2086.72 | DG16: 2049.4 | DH16: 2073.31 | DI16: 2068.3 | DJ16: 2103.63 | DK16: 2085.63 | DL16: 2063.5 | DM16: 2103.5 | DN16: 2238.92 | DO16: 2265.55 | DP16: 2253.91 | DQ16: 2283.6 | DR16: 2264.23 | DS16: 2308.7 | DT16: 2279.37 | DU16: 2309.58 | DV16: 2333.76 | DW16: 2316.89 | DX16: 2309.68 | DY16: 2356.38 | DZ16: 2389.31 | EA16: 2458.65 | EB16: 2490.42 | EC16: 2471.19 | ED16: 2494.24 | EE16: 2528.68 | EF16: 2488.26 | EG16: 2530.72 | EH16: 2598.8 | EI16: 2612.85 | EJ16: 2514.17 | EK16: 2441.75 | EL16: 2434.26 | EM16: 2398.3 | EN16: 2411.88 | EO16: 2370.06 | EP16: 2415.83 | EQ16: 2467.56 | ER16: 2477.44 | ES16: 2468.05 | ET16: 2437.99 | EU16: 2438.04 | EV16: 2473.85 | EW16: 2487.22 | EX16: 2483.39 | EY16: 2492.3 | EZ16: 2515.95 | FA16: 2553.96 | FB16: 2593.51 | FC16: 2612.38 | FD16: 2612 | FE16: 2676.47 | FF16: 2732.62 | FG16: 2768.76 | FH16: 2803.39 | FI16: 2764.98 | FJ16: 2798.33 | FK16: 2835.11 | FL16: 2886.96 | FM16: 2841.21 | FN16: 2782.98 | FO16: 2860.54 | FP16: 2856.06 | FQ16: 2850.01 | FR16: 2731.55 | FS16: 2760.89 | FT16: 2720.18 | FU16: 2859.18 | FV16: 2858.15 | FW16: 2863.53 | FX16: 2881.4 | FY16: 2884.18 | FZ16: 2852.93 | GA16: 2808.21 | GB16: 2803.31 | GC16: 2830.99 | GD16: 2852.48 | GE16: 2829.41 | GF16: 2835.91
A17: 11 | B17: KSE Composite (South Korea) | C17: 1460.34 | D17: 1495.98 | E17: 1501.63 | F17: 1476.33 | G17: 1456.36 | H17: 1358.75 | I17: 1286.69 | J17: 1367.69 | K17: 1340.28 | L17: 1213.78 | M17: 1180.67 | N17: 1207.63 | O17: 1196.1 | P17: 1134.59 | Q17: 938.75 | R17: 999.16 | S17: 968.97 | T17: 1084.72 | U17: 1113.06 | V17: 1153.35 | W17: 1181.5 | X17: 1092.22 | Y17: 1134.49 | Z17: 1152.46 | AA17: 1128.73 | AB17: 1123.86 | AC17: 1088.44 | AD17: 1088.26 | AE17: 1078.32 | AF17: 1036.16 | AG17: 1016.82 | AH17: 948.69 | AI17: 1003.73 | AJ17: 983.32 | AK17: 1029.78 | AL17: 1076.07 | AM17: 1058.62 | AN17: 1023.2 | AO17: 1022.67 | AP17: 1006.54 | AQ17: 1105.84 | AR17: 1154.43 | AS17: 1103.82 | AT17: 1158.19 | AU17: 1161.56 | AV17: 1169.75 | AW17: 1175.91 | AX17: 1180.97 | AY17: 1179.61 | AZ17: 1128.51 | BA17: 1173.57 | BB17: 1194.28 | BC17: 1228.17 | BD17: 1205.7 | BE17: 1180.96 | BF17: 1167.71 | BG17: 1182.68 | BH17: 1111.34 | BI17: 1135.2 | BJ17: 1126.81 | BK17: 1103.61 | BL17: 1116.23 | BM17: 1093.4 | BN17: 1166.56 | BO17: 1162.11 | BP17: 1163.2 | BQ17: 1195.37 | BR17: 1177.88 | BS17: 1210.26 | BT17: 1198.87 | BU17: 1179.84 | BV17: 1192.44 | BW17: 1127.19 | BX17: 1113.19 | BY17: 1107.1 | BZ17: 1065.95 | CA17: 1099.55 | CB17: 1063.88 | CC17: 1067.08 | CD17: 1054.79 | CE17: 1063.03 | CF17: 1018.81 | CG17: 1025.57 | CH17: 1059.26 | CI17: 1058.18 | CJ17: 1055.03 | CK17: 1092.2 | CL17: 1127.51 | CM17: 1128.39 | CN17: 1126.03 | CO17: 1125.46 | CP17: 1163.88 | CQ17: 1169.95 | CR17: 1161.81 | CS17: 1199.5 | CT17: 1221.7 | CU17: 1229.02 | CV17: 1237.51 | CW17: 1197.46 | CX17: 1206.26 | CY17: 1233.36 | CZ17: 1276.97 | DA17: 1283.75 | DB17: 1300.1 | DC17: 1262.07 | DD17: 1336.72 | DE17: 1329 | DF17: 1336.39 | DG17: 1336.81 | DH17: 1356.02 | DI17: 1368.8 | DJ17: 1354.1 | DK17: 1339.83 | DL17: 1300.24 | DM17: 1369.36 | DN17: 1401.08 | DO17: 1415.16 | DP17: 1403.51 | DQ17: 1414.52 | DR17: 1380.95 | DS17: 1391.73 | DT17: 1386.68 | DU17: 1428.21 | DV17: 1435.7 | DW17: 1403.75 | DX17: 1372.04 | DY17: 1362.02 | DZ17: 1395.89 | EA17: 1415.1 | EB17: 1412.85 | EC17: 1414.89 | ED17: 1378.14 | EE17: 1394.71 | EF17: 1371.84 | EG17: 1414.88 | EH17: 1419.39 | EI17: 1412.42 | EJ17: 1399.15 | EK17: 1391.17 | EL17: 1375.76 | EM17: 1383.34 | EN17: 1399.71 | EO17: 1360.54 | EP17: 1363.79 | EQ17: 1392.73 | ER17: 1394.53 | ES17: 1388.45 | ET17: 1390.07 | EU17: 1411.48 | EV17: 1430.89 | EW17: 1428.62 | EX17: 1378.12 | EY17: 1385.56 | EZ17: 1420.86 | FA17: 1432.22 | FB17: 1488.99 | FC17: 1494.04 | FD17: 1496.49 | FE17: 1502.59 | FF17: 1524.05 | FG17: 1526.03 | FH17: 1524.32 | FI17: 1534.74 | FJ17: 1557.29 | FK17: 1564.98 | FL17: 1566.37 | FM17: 1565.04 | FN17: 1576 | FO17: 1579.21 | FP17: 1564.64 | FQ17: 1591.41 | FR17: 1550.24 | FS17: 1545.96 | FT17: 1576.39 | FU17: 1612.22 | FV17: 1601.38 | FW17: 1614.12 | FX17: 1599.33 | FY17: 1607.94 | FZ17: 1623.06 | GA17: 1613.16 | GB17: 1613.53 | GC17: 1608.9 | GD17: 1619.69 | GE17: 1607.77 | GF17: 1644.68
A18: 12 | B18: ALL Ordinaries (Australia) | C18: 5050.1 | D18: 5008.2 | E18: 4960.8 | F18: 4934.6 | G18: 4839.2 | H18: 4544.7 | I18: 4369.8 | J18: 4311.5 | K18: 4272.5 | L18: 3988.1 | M18: 3944.8 | N18: 4098.7 | O18: 4251.4 | P18: 4120.1 | Q18: 3831.6 | R18: 3755.4 | S18: 3805.8 | T18: 3957.3 | U18: 3982.7 | V18: 4169.8 | W18: 4287.3 | X18: 4106.5 | Y18: 4006.6 | Z18: 4060 | AA18: 3921.8 | AB18: 3883.6 | AC18: 3672.4 | AD18: 3726 | AE18: 3639.5 | AF18: 3513.1 | AG18: 3483.2 | AH18: 3332.6 | AI18: 3386.9 | AJ18: 3575.4 | AK18: 3479.6 | AL18: 3672.7 | AM18: 3619 | AN18: 3473.4 | AO18: 3476.5 | AP18: 3468.1 | AQ18: 3533.7 | AR18: 3534.2 | AS18: 3452.5 | AT18: 3535.7 | AU18: 3498.9 | AV18: 3515 | AW18: 3521.7 | AX18: 3547.2 | AY18: 3492.3 | AZ18: 3515 | BA18: 3638.9 | BB18: 3689.2 | BC18: 3728.2 | BD18: 3643.6 | BE18: 3680.4 | BF18: 3593.9 | BG18: 3624.3 | BH18: 3476.8 | BI18: 3494.9 | BJ18: 3425 | BK18: 3394.8 | BL18: 3431.9 | BM18: 3300.3 | BN18: 3461.3 | BO18: 3478.1 | BP18: 3449.1 | BQ18: 3382.3 | BR18: 3372.6 | BS18: 3407.5 | BT18: 3428.6 | BU18: 3458.5 | BV18: 3496.7 | BW18: 3412.2 | BX18: 3366.9 | BY18: 3398 | BZ18: 3353 | CA18: 3304.1 | CB18: 3285 | CC18: 3281.5 | CD18: 3297.4 | CE18: 3296.9 | CF18: 3203.8 | CG18: 3171.4 | CH18: 3125.9 | CI18: 3148.8 | CJ18: 3111.7 | CK18: 3143.2 | CL18: 3199.1 | CM18: 3190.4 | CN18: 3294.7 | CO18: 3297.3 | CP18: 3393.4 | CQ18: 3386.2 | CR18: 3416.8 | CS18: 3483.1 | CT18: 3517.3 | CU18: 3546.2 | CV18: 3615.6 | CW18: 3554.2 | CX18: 3532.3 | CY18: 3527.2 | CZ18: 3622.2 | DA18: 3674 | DB18: 3648.5 | DC18: 3567.5 | DD18: 3725.6 | DE18: 3728.1 | DF18: 3722.6 | DG18: 3633.1 | DH18: 3627.2 | DI18: 3695.8 | DJ18: 3668.2 | DK18: 3690 | DL18: 3671.7 | DM18: 3744.7 | DN18: 3912.1 | DO18: 3910.5 | DP18: 3863.6 | DQ18: 3842.5 | DR18: 3710.8 | DS18: 3758.9 | DT18: 3721.6 | DU18: 3800.6 | DV18: 3808.9 | DW18: 3755.4 | DX18: 3781.6 | DY18: 3795.3 | DZ18: 3813.3 | EA18: 3887.9 | EB18: 3948.1 | EC18: 4009.3 | ED18: 3932.5 | EE18: 3969 | EF18: 3933.6 | EG18: 4016.3 | EH18: 4047.3 | EI18: 4030.4 | EJ18: 3957.9 | EK18: 3904.2 | EL18: 3887.4 | EM18: 3894.4 | EN18: 3910.8 | EO18: 3793 | EP18: 3802.2 | EQ18: 3851.5 | ER18: 3899.5 | ES18: 3882.7 | ET18: 3947.8 | EU18: 3875.2 | EV18: 3761.4 | EW18: 3790.6 | EX18: 3738 | EY18: 3858.8 | EZ18: 3917.5 | FA18: 3987.8 | FB18: 4048.3 | FC18: 4068.9 | FD18: 4072.6 | FE18: 4097.3 | FF18: 4147.8 | FG18: 4174 | FH18: 4148.9 | FI18: 4195.9 | FJ18: 4249.5 | FK18: 4270.5 | FL18: 4313.9 | FM18: 4331 | FN18: 4303.1 | FO18: 4334.4 | FP18: 4436.7 | FQ18: 4465.1 | FR18: 4385.9 | FS18: 4387.5 | FT18: 4391.4 | FU18: 4434.2 | FV18: 4417.5 | FW18: 4464.4 | FX18: 4458.1 | FY18: 4495.9 | FZ18: 4511.3 | GA18: 4436.6 | GB18: 4432.9 | GC18: 4442.7 | GD18: 4527.8 | GE18: 4527.1 | GF18: 4573.5
A20: Source:
A21: 1. Stock Exchange of Thailand
A22: 2. Reuters
B25: SET (Thailand) | C25: =IF(C7="CLOSED",1,0) -> 0 | D25: =IF(D7="CLOSED",1,0) -> 0 | E25: =IF(E7="CLOSED",1,0) -> 0 | F25: =IF(F7="CLOSED",1,0) -> 0 | G25: =IF(G7="CLOSED",1,0) -> 0 | H25: =IF(H7="CLOSED",1,0) -> 0 | I25: =IF(I7="CLOSED",1,0) -> 0 | J25: =IF(J7="CLOSED",1,0) -> 0 | ... GF25: =IF(GF7="CLOSED",1,0) -> 0
B26: Dow Jones (New York) | C26: =IF(C8="CLOSED",1,0) -> 0 | D26: =IF(D8="CLOSED",1,0) -> 0 | E26: =IF(E8="CLOSED",1,0) -> 0 | F26: =IF(F8="CLOSED",1,0) -> 0 | G26: =IF(G8="CLOSED",1,0) -> 0 | H26: =IF(H8="CLOSED",1,0) -> 0 | I26: =IF(I8="CLOSED",1,0) -> 0 | J26: =IF(J8="CLOSED",1,0) -> 0 | ... GF26: =IF(GF8="CLOSED",1,0) -> 0
B27: Nasdaq (New York) | C27: =IF(C9="CLOSED",1,0) -> 0 | D27: =IF(D9="CLOSED",1,0) -> 0 | E27: =IF(E9="CLOSED",1,0) -> 0 | F27: =IF(F9="CLOSED",1,0) -> 0 | G27: =IF(G9="CLOSED",1,0) -> 0 | H27: =IF(H9="CLOSED",1,0) -> 0 | I27: =IF(I9="CLOSED",1,0) -> 0 | J27: =IF(J9="CLOSED",1,0) -> 0 | ... GF27: =IF(GF9="CLOSED",1,0) -> 0
B28: Financial Times (London) | C28: =IF(C10="CLOSED",1,0) -> 0 | D28: =IF(D10="CLOSED",1,0) -> 0 | E28: =IF(E10="CLOSED",1,0) -> 0 | F28: =IF(F10="CLOSED",1,0) -> 0 | G28: =IF(G10="CLOSED",1,0) -> 0 | H28: =IF(H10="CLOSED",1,0) -> 0 | I28: =IF(I10="CLOSED",1,0) -> 0 | J28: =IF(J10="CLOSED",1,0) -> 0 | ... GF28: =IF(GF10="CLOSED",1,0) -> 0
B29: Nikkei (Japan) | C29: =IF(C11="CLOSED",1,0) -> 0 | D29: =IF(D11="CLOSED",1,0) -> 0 | E29: =IF(E11="CLOSED",1,0) -> 0 | F29: =IF(F11="CLOSED",1,0) -> 0 | G29: =IF(G11="CLOSED",1,0) -> 0 | H29: =IF(H11="CLOSED",1,0) -> 0 | I29: =IF(I11="CLOSED",1,0) -> 0 | J29: =IF(J11="CLOSED",1,0) -> 0 | ... GF29: =IF(GF11="CLOSED",1,0) -> 0
B30: Hang Seng (Hong Kong) | C30: =IF(C12="CLOSED",1,0) -> 0 | D30: =IF(D12="CLOSED",1,0) -> 0 | E30: =IF(E12="CLOSED",1,0) -> 0 | F30: =IF(F12="CLOSED",1,0) -> 0 | G30: =IF(G12="CLOSED",1,0) -> 0 | H30: =IF(H12="CLOSED",1,0) -> 0 | I30: =IF(I12="CLOSED",1,0) -> 0 | J30: =IF(J12="CLOSED",1,0) -> 0 | ... GF30: =IF(GF12="CLOSED",1,0) -> 0
B31: Straits Times (Singapore) | C31: =IF(C13="CLOSED",1,0) -> 0 | D31: =IF(D13="CLOSED",1,0) -> 0 | E31: =IF(E13="CLOSED",1,0) -> 0 | F31: =IF(F13="CLOSED",1,0) -> 0 | G31: =IF(G13="CLOSED",1,0) -> 0 | H31: =IF(H13="CLOSED",1,0) -> 0 | I31: =IF(I13="CLOSED",1,0) -> 0 | J31: =IF(J13="CLOSED",1,0) -> 0 | ... GF31: =IF(GF13="CLOSED",1,0) -> 0
B32: KLSE Composite (Malaysia) | C32: =IF(C14="CLOSED",1,0) -> 0 | D32: =IF(D14="CLOSED",1,0) -> 0 | E32: =IF(E14="CLOSED",1,0) -> 0 | F32: =IF(F14="CLOSED",1,0) -> 0 | G32: =IF(G14="CLOSED",1,0) -> 0 | H32: =IF(H14="CLOSED",1,0) -> 0 | I32: =IF(I14="CLOSED",1,0) -> 0 | J32: =IF(J14="CLOSED",1,0) -> 0 | ... GF32: =IF(GF14="CLOSED",1,0) -> 0
B33: JSX Composite (Indonesia) | C33: =IF(C15="CLOSED",1,0) -> 0 | D33: =IF(D15="CLOSED",1,0) -> 0 | E33: =IF(E15="CLOSED",1,0) -> 0 | F33: =IF(F15="CLOSED",1,0) -> 0 | G33: =IF(G15="CLOSED",1,0) -> 0 | H33: =IF(H15="CLOSED",1,0) -> 0 | I33: =IF(I15="CLOSED",1,0) -> 0 | J33: =IF(J15="CLOSED",1,0) -> 0 | ... GF33: =IF(GF15="CLOSED",1,0) -> 0
B34: PSE Composite (Philippines) | C34: =IF(C16="CLOSED",1,0) -> 0 | D34: =IF(D16="CLOSED",1,0) -> 0 | E34: =IF(E16="CLOSED",1,0) -> 0 | F34: =IF(F16="CLOSED",1,0) -> 0 | G34: =IF(G16="CLOSED",1,0) -> 0 | H34: =IF(H16="CLOSED",1,0) -> 0 | I34: =IF(I16="CLOSED",1,0) -> 0 | J34: =IF(J16="CLOSED",1,0) -> 0 | ... GF34: =IF(GF16="CLOSED",1,0) -> 0
B35: KSE Composite (South Korea) | C35: =IF(C17="CLOSED",1,0) -> 0 | D35: =IF(D17="CLOSED",1,0) -> 0 | E35: =IF(E17="CLOSED",1,0) -> 0 | F35: =IF(F17="CLOSED",1,0) -> 0 | G35: =IF(G17="CLOSED",1,0) -> 0 | H35: =IF(H17="CLOSED",1,0) -> 0 | I35: =IF(I17="CLOSED",1,0) -> 0 | J35: =IF(J17="CLOSED",1,0) -> 0 | ... GF35: =IF(GF17="CLOSED",1,0) -> 0
B36: ALL Ordinaries (Australia) | C36: =IF(C18="CLOSED",1,0) -> 0 | D36: =IF(D18="CLOSED",1,0) -> 0 | E36: =IF(E18="CLOSED",1,0) -> 0 | F36: =IF(F18="CLOSED",1,0) -> 0 | G36: =IF(G18="CLOSED",1,0) -> 0 | H36: =IF(H18="CLOSED",1,0) -> 0 | I36: =IF(I18="CLOSED",1,0) -> 0 | J36: =IF(J18="CLOSED",1,0) -> 0 | ... GF36: =IF(GF18="CLOSED",1,0) -> 0
C37: =SUM(C25:C36) -> 0 | D37: =SUM(D25:D36) -> 0 | E37: =SUM(E25:E36) -> 0 | F37: =SUM(F25:F36) -> 0 | G37: =SUM(G25:G36) -> 0 | H37: =SUM(H25:H36) -> 0 | I37: =SUM(I25:I36) -> 0 | J37: =SUM(J25:J36) -> 0 | ... GF37: =SUM(GF25:GF36) -> 0

Sheet Sheet1
B1: SET (Thailand) | C1: Dow Jones (New York) | D1: Nasdaq (New York) | E1: Financial Times (London) | F1: Nikkei (Japan) | G1: Hang Seng (Hong Kong) | H1: Straits Times (Singapore) | I1: KLSE Composite (Malaysia) | J1: JSX Composite (Indonesia) | K1: PSE Composite (Philippines) | L1: KSE Composite (South Korea) | M1: ALL Ordinaries (Australia)
A2: 22 SEP 2008 | B2: 614.49 | C2: 11015.69 | D2: 2178.98 | E2: 5236.26 | F2: 12090.59 | G2: 19632.2 | H2: 2544.13 | I2: 1028.62 | J2: 1897.34 | K2: 2520.13 | L2: 1460.34 | M2: 5050.1
A3: 24 SEP 2008 | B3: 620.43 | C3: 10825.17 | D3: 2155.68 | E3: 5095.57 | F3: 12115.03 | G3: 18961.99 | H3: 2477.6 | I3: 1028.4 | J3: 1883.55 | K3: 2510.32 | L3: 1495.98 | M3: 5008.2
A4: 25 SEP 2008 | B4: 621.14 | C4: 11022.06 | D4: 2186.57 | E4: 5197.02 | F4: 12006.53 | G4: 18934.43 | H4: 2444.24 | I4: 1024.74 | J4: 1870.06 | K4: 2566.37 | L4: 1501.63 | M4: 4960.8
A5: 26 SEP 2008 | B5: 618.97 | C5: 11143.13 | D5: 2183.34 | E5: 5088.47 | F5: 11893.16 | G5: 18682.09 | H5: 2411.46 | I5: 1020.53 | J5: 1846.09 | K5: 2597.23 | L5: 1476.33 | M5: 4934.6
A6: 29 SEP 2008 | B6: 601.29 | C6: 10365.45 | D6: 1983.73 | E6: 4818.77 | F6: 11743.61 | G6: 17880.68 | H6: 2361.34 | I6: 1019.72 | J6: 1832.51 | K6: 2607.58 | L6: 1456.36 | M6: 4839.2
A7: 06 OCT 2008 | B7: 551.8 | C7: 9955.5 | D7: 1862.96 | E7: 4589.19 | F7: 10473.09 | G7: 16803.76 | H7: 2168.32 | I7: 996.84 | J7: 1648.74 | K7: 2499.53 | L7: 1358.75 | M7: 4544.7
A8: 08 OCT 2008 | B8: 492.34 | C8: 9258.1 | D8: 1740.33 | E8: 4366.69 | F8: 9203.32 | G8: 15431.73 | H8: 2033.61 | I8: 970.19 | J8: 1451.67 | K8: 2307.74 | L8: 1286.69 | M8: 4369.8
A9: 14 OCT 2008 | B9: 500.77 | C9: 9310.99 | D9: 1779.01 | E9: 4394.21 | F9: 9447.57 | G9: 16832.88 | H9: 2128.31 | I9: 966.06 | J9: 1555.97 | K9: 2273.65 | L9: 1367.69 | M9: 4311.5
A10: 15 OCT 2008 | B10: 481.5 | C10: 8577.91 | D10: 1628.33 | E10: 4079.59 | F10: 9547.47 | G10: 15998.3 | H10: 2059.39 | I10: 949.88 | J10: 1520.41 | K10: 2238.41 | L10: 1340.28 | M10: 4272.5
A11: 16 OCT 2008 | B11: 477.73 | C11: 8979.26 | D11: 1717.71 | E11: 3861.39 | F11: 8458.45 | G11: 15230.52 | H11: 1951.2 | I11: 920.02 | J11: 1463.25 | K11: 2122.37 | L11: 1213.78 | M11: 3988.1
A12: 17 OCT 2008 | B12: 471.31 | C12: 8852.22 | D12: 1711.29 | E12: 4063.01 | F12: 8693.82 | G12: 14554.21 | H12: 1878.51 | I12: 905.23 | J12: 1399.42 | K12: 2098.26 | L12: 1180.67 | M12: 3944.8
A13: 20 OCT 2008 | B13: 476.95 | C13: 9265.43 | D13: 1770.03 | E13: 4282.67 | F13: 9005.59 | G13: 15323.01 | H13: 1939.22 | I13: 909.51 | J13: 1426.94 | K13: 2062.88 | L13: 1207.63 | M13: 4098.7
... A187: 10 SEP 2009 | B187: 703.09 | C187: 9627.48 | D187: 2084.02 | E187: 4987.68 | F187: 10513.67 | G187: 21069.56 | H187: 2682.02 | I187: 1201.28 | J187: 2411.86 | K187: 2835.91 | L187: 1644.68 | M187: 4573.5

Sheet Sheet2
B1: SET (Thailand) | C1: Dow Jones (New York) | D1: Nasdaq (New York) | E1: Financial Times (London) | F1: Nikkei (Japan) | G1: Hang Seng (Hong Kong) | H1: Straits Times (Singapore) | I1: KLSE Composite (Malaysia) | J1: JSX Composite (Indonesia) | K1: PSE Composite (Philippines) | L1: KSE Composite (South Korea) | M1: ALL Ordinaries (Australia)
A2: 24 SEP 2008 | B2: =(Sheet1!B3-Sheet1!B2)/Sheet1!B2 -> 0.0096665528 | C2: =(Sheet1!C3-Sheet1!C2)/Sheet1!C2 -> -0.017295331 | D2: =(Sheet1!D3-Sheet1!D2)/Sheet1!D2 -> -0.010693077 | E2: =(Sheet1!E3-Sheet1!E2)/Sheet1!E2 -> -0.026868414 | F2: =(Sheet1!F3-Sheet1!F2)/Sheet1!F2 -> 0.0020214067 | G2: =(Sheet1!G3-Sheet1!G2)/Sheet1!G2 -> -0.034138303 | H2: =(Sheet1!H3-Sheet1!H2)/Sheet1!H2 -> -0.026150393 | I2: =(Sheet1!I3-Sheet1!I2)/Sheet1!I2 -> -0.00021387879 | ... M2: =(Sheet1!M3-Sheet1!M2)/Sheet1!M2 -> -0.0082968654
A3: 25 SEP 2008 | B3: =(Sheet1!B4-Sheet1!B3)/Sheet1!B3 -> 0.0011443676 | C3: =(Sheet1!C4-Sheet1!C3)/Sheet1!C3 -> 0.018188167 | D3: =(Sheet1!D4-Sheet1!D3)/Sheet1!D3 -> 0.014329585 | E3: =(Sheet1!E4-Sheet1!E3)/Sheet1!E3 -> 0.019909451 | F3: =(Sheet1!F4-Sheet1!F3)/Sheet1!F3 -> -0.0089558177 | G3: =(Sheet1!G4-Sheet1!G3)/Sheet1!G3 -> -0.0014534339 | H3: =(Sheet1!H4-Sheet1!H3)/Sheet1!H3 -> -0.013464643 | I3: =(Sheet1!I4-Sheet1!I3)/Sheet1!I3 -> -0.0035589265 | ... M3: =(Sheet1!M4-Sheet1!M3)/Sheet1!M3 -> -0.0094644783
A4: 26 SEP 2008 | B4: =(Sheet1!B5-Sheet1!B4)/Sheet1!B4 -> -0.0034935763 | C4: =(Sheet1!C5-Sheet1!C4)/Sheet1!C4 -> 0.010984335 | D4: =(Sheet1!D5-Sheet1!D4)/Sheet1!D4 -> -0.0014771994 | E4: =(Sheet1!E5-Sheet1!E4)/Sheet1!E4 -> -0.02088697 | F4: =(Sheet1!F5-Sheet1!F4)/Sheet1!F4 -> -0.0094423618 | G4: =(Sheet1!G5-Sheet1!G4)/Sheet1!G4 -> -0.013327045 | H4: =(Sheet1!H5-Sheet1!H4)/Sheet1!H4 -> -0.013411122 | I4: =(Sheet1!I5-Sheet1!I4)/Sheet1!I4 -> -0.0041083592 | ... M4: =(Sheet1!M5-Sheet1!M4)/Sheet1!M4 -> -0.0052814062
A5: 29 SEP 2008 | B5: =(Sheet1!B6-Sheet1!B5)/Sheet1!B5 -> -0.028563581 | C5: =(Sheet1!C6-Sheet1!C5)/Sheet1!C5 -> -0.069790086 | D5: =(Sheet1!D6-Sheet1!D5)/Sheet1!D5 -> -0.091424148 | E5: =(Sheet1!E6-Sheet1!E5)/Sheet1!E5 -> -0.053002179 | F5: =(Sheet1!F6-Sheet1!F5)/Sheet1!F5 -> -0.012574455 | G5: =(Sheet1!G6-Sheet1!G5)/Sheet1!G5 -> -0.042897235 | H5: =(Sheet1!H6-Sheet1!H5)/Sheet1!H5 -> -0.020784089 | I5: =(Sheet1!I6-Sheet1!I5)/Sheet1!I5 -> -0.00079370523 | ... M5: =(Sheet1!M6-Sheet1!M5)/Sheet1!M5 -> -0.019332874
A6: 06 OCT 2008 | B6: =(Sheet1!B7-Sheet1!B6)/Sheet1!B6 -> -0.082306375 | C6: =(Sheet1!C7-Sheet1!C6)/Sheet1!C6 -> -0.039549658 | D6: =(Sheet1!D7-Sheet1!D6)/Sheet1!D6 -> -0.060880261 | E6: =(Sheet1!E7-Sheet1!E6)/Sheet1!E6 -> -0.047642863 | F6: =(Sheet1!F7-Sheet1!F6)/Sheet1!F6 -> -0.1081882 | G6: =(Sheet1!G7-Sheet1!G6)/Sheet1!G6 -> -0.060228135 | H6: =(Sheet1!H7-Sheet1!H6)/Sheet1!H6 -> -0.081741723 | I6: =(Sheet1!I7-Sheet1!I6)/Sheet1!I6 -> -0.022437532 | ... M6: =(Sheet1!M7-Sheet1!M6)/Sheet1!M6 -> -0.060857166
A7: 08 OCT 2008 | B7: =(Sheet1!B8-Sheet1!B7)/Sheet1!B7 -> -0.10775643 | C7: =(Sheet1!C8-Sheet1!C7)/Sheet1!C7 -> -0.07005173 | D7: =(Sheet1!D8-Sheet1!D7)/Sheet1!D7 -> -0.065825353 | E7: =(Sheet1!E8-Sheet1!E7)/Sheet1!E7 -> -0.048483501 | F7: =(Sheet1!F8-Sheet1!F7)/Sheet1!F7 -> -0.1212412 | G7: =(Sheet1!G8-Sheet1!G7)/Sheet1!G7 -> -0.081650178 | H7: =(Sheet1!H8-Sheet1!H7)/Sheet1!H7 -> -0.062126439 | I7: =(Sheet1!I8-Sheet1!I7)/Sheet1!I7 -> -0.026734481 | ... M7: =(Sheet1!M8-Sheet1!M7)/Sheet1!M7 -> -0.038484388
A8: 14 OCT 2008 | B8: =(Sheet1!B9-Sheet1!B8)/Sheet1!B8 -> 0.017122314 | C8: =(Sheet1!C9-Sheet1!C8)/Sheet1!C8 -> 0.0057128352 | D8: =(Sheet1!D9-Sheet1!D8)/Sheet1!D8 -> 0.02222567 | E8: =(Sheet1!E9-Sheet1!E8)/Sheet1!E8 -> 0.0063022564 | F8: =(Sheet1!F9-Sheet1!F8)/Sheet1!F8 -> 0.026539336 | G8: =(Sheet1!G9-Sheet1!G8)/Sheet1!G8 -> 0.09079669 | H8: =(Sheet1!H9-Sheet1!H8)/Sheet1!H8 -> 0.046567434 | I8: =(Sheet1!I9-Sheet1!I8)/Sheet1!I8 -> -0.0042568981 | ... M8: =(Sheet1!M9-Sheet1!M8)/Sheet1!M8 -> -0.013341572
A9: 15 OCT 2008 | B9: =(Sheet1!B10-Sheet1!B9)/Sheet1!B9 -> -0.03848074 | C9: =(Sheet1!C10-Sheet1!C9)/Sheet1!C9 -> -0.078732766 | D9: =(Sheet1!D10-Sheet1!D9)/Sheet1!D9 -> -0.084698793 | E9: =(Sheet1!E10-Sheet1!E9)/Sheet1!E9 -> -0.071598763 | F9: =(Sheet1!F10-Sheet1!F9)/Sheet1!F9 -> 0.010574148 | G9: =(Sheet1!G10-Sheet1!G9)/Sheet1!G9 -> -0.049580345 | H9: =(Sheet1!H10-Sheet1!H9)/Sheet1!H9 -> -0.032382501 | I9: =(Sheet1!I10-Sheet1!I9)/Sheet1!I9 -> -0.016748442 | ... M9: =(Sheet1!M10-Sheet1!M9)/Sheet1!M9 -> -0.0090455758
A10: 16 OCT 2008 | B10: =(Sheet1!B11-Sheet1!B10)/Sheet1!B10 -> -0.0078296989 | C10: =(Sheet1!C11-Sheet1!C10)/Sheet1!C10 -> 0.046788787 | D10: =(Sheet1!D11-Sheet1!D10)/Sheet1!D10 -> 0.054890593 | E10: =(Sheet1!E11-Sheet1!E10)/Sheet1!E10 -> -0.053485767 | F10: =(Sheet1!F11-Sheet1!F10)/Sheet1!F10 -> -0.11406373 | G10: =(Sheet1!G11-Sheet1!G10)/Sheet1!G10 -> -0.047991349 | H10: =(Sheet1!H11-Sheet1!H10)/Sheet1!H10 -> -0.052534974 | I10: =(Sheet1!I11-Sheet1!I10)/Sheet1!I10 -> -0.03143555 | ... M10: =(Sheet1!M11-Sheet1!M10)/Sheet1!M10 -> -0.066565243
A11: 17 OCT 2008 | B11: =(Sheet1!B12-Sheet1!B11)/Sheet1!B11 -> -0.013438553 | C11: =(Sheet1!C12-Sheet1!C11)/Sheet1!C11 -> -0.014148159 | D11: =(Sheet1!D12-Sheet1!D11)/Sheet1!D11 -> -0.0037375343 | E11: =(Sheet1!E12-Sheet1!E11)/Sheet1!E11 -> 0.052214358 | F11: =(Sheet1!F12-Sheet1!F11)/Sheet1!F11 -> 0.027826611 | G11: =(Sheet1!G12-Sheet1!G11)/Sheet1!G11 -> -0.044404919 | H11: =(Sheet1!H12-Sheet1!H11)/Sheet1!H11 -> -0.037253998 | I11: =(Sheet1!I12-Sheet1!I11)/Sheet1!I11 -> -0.016075737 | ... M11: =(Sheet1!M12-Sheet1!M11)/Sheet1!M11 -> -0.0108573
A12: 20 OCT 2008 | B12: =(Sheet1!B13-Sheet1!B12)/Sheet1!B12 -> 0.011966646 | C12: =(Sheet1!C13-Sheet1!C12)/Sheet1!C12 -> 0.046678686 | D12: =(Sheet1!D13-Sheet1!D12)/Sheet1!D12 -> 0.034324983 | E12: =(Sheet1!E13-Sheet1!E12)/Sheet1!E12 -> 0.054063367 | F12: =(Sheet1!F13-Sheet1!F12)/Sheet1!F12 -> 0.035861106 | G12: =(Sheet1!G13-Sheet1!G12)/Sheet1!G12 -> 0.052823204 | H12: =(Sheet1!H13-Sheet1!H12)/Sheet1!H12 -> 0.032318167 | I12: =(Sheet1!I13-Sheet1!I12)/Sheet1!I12 -> 0.0047280802 | ... M12: =(Sheet1!M13-Sheet1!M12)/Sheet1!M12 -> 0.039013385
A13: 21 OCT 2008 | B13: =(Sheet1!B14-Sheet1!B13)/Sheet1!B13 -> 0.0038578467 | C13: =(Sheet1!C14-Sheet1!C13)/Sheet1!C13 -> -0.025014489 | D13: =(Sheet1!D14-Sheet1!D13)/Sheet1!D13 -> -0.041439976 | E13: =(Sheet1!E14-Sheet1!E13)/Sheet1!E13 -> -0.012361447 | F13: =(Sheet1!F14-Sheet1!F13)/Sheet1!F13 -> 0.03338593 | G13: =(Sheet1!G14-Sheet1!G13)/Sheet1!G13 -> -0.018393253 | H13: =(Sheet1!H14-Sheet1!H13)/Sheet1!H13 -> -0.0095038211 | I13: =(Sheet1!I14-Sheet1!I13)/Sheet1!I13 -> 0.0095106156 | ... M13: =(Sheet1!M14-Sheet1!M13)/Sheet1!M13 -> 0.037255715
... A186: 10 SEP 2009 | B186: =(Sheet1!B187-Sheet1!B186)/Sheet1!B186 -> 0.010782214 | C186: =(Sheet1!C187-Sheet1!C186)/Sheet1!C186 -> 0.0084066356 | D186: =(Sheet1!D187-Sheet1!D186)/Sheet1!D186 -> 0.011468703 | E186: =(Sheet1!E187-Sheet1!E186)/Sheet1!E186 -> -0.0033211438 | F186: =(Sheet1!F187-Sheet1!F186)/Sheet1!F186 -> 0.019542985 | G186: =(Sheet1!G187-Sheet1!G186)/Sheet1!G186 -> 0.010480053 | H186: =(Sheet1!H187-Sheet1!H186)/Sheet1!H186 -> 0.011899731 | I186: =(Sheet1!I187-Sheet1!I186)/Sheet1!I186 -> 0.0040285509 | ... M186: =(Sheet1!M187-Sheet1!M186)/Sheet1!M186 -> 0.010249387
